{"text_format":"1","workbook":"xlsx","n_sheets":9,"sheets":["Main","Energy Consumption","Relevant Variables","Raw Data","Customization","Model Results","Model Details","Emissions","Support"],"not_rendered":{"charts":0,"images":0,"macros":1,"external_links":0,"defined_names":11,"comments":0,"pivot_tables":0},"unopened":[],"bounds":{"document_bytes":16777216,"sheet_cells":100000,"rows_first":2000,"rows_last":500,"rows_between":2000,"halvings":0,"cell_chars":16384,"cell_head_chars":4096},"cells_cut":0,"cells_raw":0,"read":"whole","date_system":"1900"}

{"sheet":"Main","index":0,"n_rows":58,"n_cols":13,"rows_kept":58,"cut":false,"hidden":false,"merged":[[6,3,6,6],[0,6,0,8],[1,6,1,8],[2,0,2,5],[3,1,3,7],[4,1,4,7],[23,4,23,6],[7,3,7,6],[13,4,13,6],[14,4,14,6],[15,4,15,6],[16,4,16,6],[17,4,17,6],[18,4,18,6],[19,4,19,6],[20,4,20,6],[21,4,21,6],[22,4,22,6],[36,4,36,6],[24,4,24,6],[25,4,25,6],[26,4,26,6],[27,4,27,6],[28,4,28,6],[29,4,29,6],[30,4,30,6],[31,4,31,6],[32,4,32,6],[33,4,33,6],[35,4,35,6],[48,4,48,6],[37,4,37,6],[38,4,38,6],[39,4,39,6],[40,4,40,6],[41,4,41,6],[42,4,42,6],[43,4,43,6],[44,4,44,6],[45,4,45,6],[46,4,46,6],[47,4,47,6],[55,4,55,6],[49,4,49,6],[50,4,50,6],[51,4,51,6],[52,4,52,6],[53,4,53,6],[54,4,54,6]]}
["       DOE Advanced Manufacturing Office",null,null,null,null,null,"QUESTIONS, COMMENTS, or ISSUES"]
[{"$f":"\"   Energy Footprint LITE \"&\"[v.beta2\"&\"]\"","v":"   Energy Footprint LITE [v.beta2]"},null,null,null,null,null,"email: eGuidefeedback@ee.doe.gov"]
["               Developed for the DOE Advanced Manufacturing Office"]
[null,"Description"]
[null,"The Energy Footprint tracks energy consumption by source, factors affecting to energy consumption, and specific energy uses on a monthly basis for 1 or multiple years."]
[]
[null,null,"Plant Name "]
[null,null,"Additional Details "]
[]
[null,null,null,"First Month (3 letter)","Jan",{"$f":"IF(COUNTIF(Support!D3:D14,E10),\"\",\"Month Not Found, match month format Xxx\")","v":""},null,null,null,null,"Greater Than 2005","Less Than 2030","Rpt > Bas"]
[null,null,null,"Reporting Year",2021,{"$f":"K11&L11&M11","v":""},null,null,null,null,{"$f":"IF(AND(ReportingYear<=2005,M11=\"\"),\"Must be greater than 2005\",\"\")","v":""},{"$f":"IF(ReportingYear>2029,\"Must be less than 2030\",\"\")","v":""},{"$f":"IF(ReportingYear<=BaselineYear,\"Reporting Year must be greater than Baseline Year\",\"\")","v":""}]
[null,null,null,"Baseline Year",2020,{"$f":"K12&L12&M12","v":""},null,null,null,null,{"$f":"IF(BaselineYear<2005,\"Must be greater than 2004\",\"\")","v":""},{"$f":"IF(BaselineYear>2029,\"Must be less than 2030\",\"\")","v":""}]
[]
[null,null,"Energy Source","Units","Energy Source Notes (optional)",null,null,"Group (optional)",null,null,"Content","Show"]
[null,1,"Electricity","kWh site",null,null,null,null,null,{"$f":"IF(LEN(F15),F15,IF(E15<>\"custom->>>\",E15,0))","v":0},{"$f":"IF(LEN(C15&D15),TRUE,FALSE)","v":true},true]
[null,2,null,null,null,null,null,null,null,0,false,{"$f":"OR(K15:K16)","v":true}]
[null,3,null,null,null,null,null,null,null,0,false,{"$f":"OR(K16:K17)","v":false}]
[null,4,null,null,null,null,null,null,null,0,false,{"$f":"OR(K17:K18)","v":false}]
[null,5,null,null,null,null,null,null,null,0,false,{"$f":"OR(K18:K19)","v":false}]
[null,6,null,null,null,null,null,null,null,0,false,false]
[null,7,null,null,null,null,null,null,null,0,false,false]
[null,8,null,null,null,null,null,null,null,0,false,false]
[null,9,null,null,null,null,null,null,null,0,false,false]
[null,10,null,null,null,null,null,null,null,0,false,false]
[null,11,null,null,null,null,null,null,null,0,false,false]
[null,12,null,null,null,null,null,null,null,0,false,false]
[null,13,null,null,null,null,null,null,null,0,false,false]
[null,14,null,null,null,null,null,null,null,0,false,false]
[null,15,null,null,null,null,null,null,null,0,false,false]
[null,16,null,null,null,null,null,null,null,0,false,false]
[null,17,null,null,null,null,null,null,null,0,false,false]
[null,18,null,null,null,null,null,null,null,0,false,false]
[null,19,null,null,null,null,null,null,null,0,false,false]
[null,20,null,null,null,null,null,null,null,0,false,false]
[null,null,null,null,null,null,null,null,null,null,null,true]
[null,null,"Relevant Variable","Units","Relevant Variable Notes (optional)",null,null,null,null,null,null,1]
[null,1,"Heating Degree Days",null,null,null,null,null,null,null,{"$f":"IF(LEN(C37&D37),TRUE,FALSE)","v":true},true]
[null,2,null,null,null,null,null,null,null,null,false,{"$f":"OR(K37:K38)","v":true}]
[null,3,null,null,null,null,null,null,null,null,false,{"$f":"OR(K38:K39)","v":false}]
[null,4,null,null,null,null,null,null,null,null,false,false]
[null,5,null,null,null,null,null,null,null,null,false,false]
[null,6,null,null,null,null,null,null,null,null,false,false]
[null,7,null,null,null,null,null,null,null,null,false,false]
[null,8,null,null,null,null,null,null,null,null,false,false]
[null,9,null,null,null,null,null,null,null,null,false,false]
[null,10,null,null,null,null,null,null,null,null,false,false]
[null,11,null,null,null,null,null,null,null,null,false,false]
[null,12,null,null,null,null,null,null,null,null,false,false]
[null,13,null,null,null,null,null,null,null,null,false,false]
[null,14,null,null,null,null,null,null,null,null,false,false]
[null,15,null,null,null,null,null,null,null,null,false,false]
[null,16,null,null,null,null,null,null,null,null,false,false]
[null,17,null,null,null,null,null,null,null,null,false,false]
[null,18,null,null,null,null,null,null,null,null,false,false]
[null,19,null,null,null,null,null,null,null,null,false,false]
[null,20,null,null,null,null,null,null,null,null,false,false]
[]
[null,null,null,null,null,null,null,null,null,null,null,1]

{"sheet":"Energy Consumption","index":1,"n_rows":1667,"n_cols":39,"rows_kept":1667,"cut":false,"hidden":false,"merged":[[6,2,6,4],[6,6,6,16],[7,2,7,4],[7,6,7,16],[8,2,8,4],[8,6,8,16],[3,1,3,4],[3,6,3,16],[4,2,4,4],[4,6,4,16],[5,2,5,4],[5,6,5,16],[12,2,12,4],[12,6,12,16],[13,2,13,4],[13,6,13,16],[14,2,14,4],[14,6,14,16],[9,2,9,4],[9,6,9,16],[10,2,10,4],[10,6,10,16],[11,2,11,4],[11,6,11,16],[18,2,18,4],[18,6,18,16],[19,2,19,4],[19,6,19,16],[20,2,20,4],[20,6,20,16],[15,2,15,4],[15,6,15,16],[16,2,16,4],[16,6,16,16],[17,2,17,4],[17,6,17,16],[26,1,26,4],[27,2,27,4],[27,6,27,16],[30,1,31,1],[32,1,33,1],[34,1,35,1],[21,2,21,4],[21,6,21,16],[22,2,22,4],[22,6,22,16],[23,2,23,4],[23,6,23,16],[48,1,49,1],[50,1,51,1],[52,1,53,1],[54,1,55,1],[56,1,57,1],[58,1,59,1],[36,1,37,1],[38,1,39,1],[40,1,41,1],[42,1,43,1],[44,1,45,1],[46,1,47,1],[72,1,73,1],[74,1,75,1],[76,1,77,1],[78,1,79,1],[81,1,105,1],[108,1,108,4],[60,1,61,1],[62,1,63,1],[64,1,65,1],[66,1,67,1],[68,1,69,1],[70,1,71,1],[120,1,121,1],[122,1,123,1],[124,1,125,1],[126,1,127,1],[128,1,129,1],[130,1,131,1],[109,2,109,4],[109,6,109,16],[112,1,113,1],[114,1,115,1],[116,1,117,1],[118,1,119,1],[144,1,145,1],[146,1,147,1],[148,1,149,1],[150,1,151,1],[152,1,153,1],[154,1,155,1],[132,1,133,1],[134,1,135,1],[136,1,137,1],[138,1,139,1],[140,1,141,1],[142,1,143,1],[191,6,191,16],[194,1,195,1],[196,1,197,1],[198,1,199,1],[200,1,201,1],[202,1,203,1],[156,1,157,1],[158,1,159,1],[160,1,161,1],[163,1,187,1],[190,1,190,4],[191,2,191,4],[216,1,217,1],[218,1,219,1],[220,1,221,1],[222,1,223,1],[224,1,225,1],[226,1,227,1],[204,1,205,1],[206,1,207,1],[208,1,209,1],[210,1,211,1],[212,1,213,1],[214,1,215,1],[240,1,241,1],[242,1,243,1],[245,1,269,1],[272,1,272,4],[273,2,273,4],[273,6,273,16],[228,1,229,1],[230,1,231,1],[232,1,233,1],[234,1,235,1],[236,1,237,1],[238,1,239,1],[288,1,289,1],[290,1,291,1],[292,1,293,1],[294,1,295,1],[296,1,297,1],[298,1,299,1],[276,1,277,1],[278,1,279,1],[280,1,281,1],[282,1,283,1],[284,1,285,1],[286,1,287,1],[355,6,355,16],[358,1,359,1],[312,1,313,1],[314,1,315,1],[316,1,317,1],[318,1,319,1],[320,1,321,1],[322,1,323,1],[300,1,301,1],[302,1,303,1],[304,1,305,1],[306,1,307,1],[308,1,309,1],[310,1,311,1],[360,1,361,1],[362,1,363,1],[364,1,365,1],[366,1,367,1],[368,1,369,1],[370,1,371,1],[324,1,325,1],[327,1,351,1],[354,1,354,4],[355,2,355,4],[384,1,385,1],[386,1,387,1],[388,1,389,1],[390,1,391,1],[392,1,393,1],[394,1,395,1],[372,1,373,1],[374,1,375,1],[376,1,377,1],[378,1,379,1],[380,1,381,1],[382,1,383,1],[437,6,437,16],[440,1,441,1],[442,1,443,1],[396,1,397,1],[398,1,399,1],[400,1,401,1],[402,1,403,1],[404,1,405,1],[406,1,407,1],[444,1,445,1],[446,1,447,1],[448,1,449,1],[450,1,451,1],[452,1,453,1],[454,1,455,1],[409,1,433,1],[436,1,436,4],[437,2,437,4],[468,1,469,1],[470,1,471,1],[472,1,473,1],[474,1,475,1],[476,1,477,1],[478,1,479,1],[456,1,457,1],[458,1,459,1],[460,1,461,1],[462,1,463,1],[464,1,465,1],[466,1,467,1],[518,1,518,4],[519,2,519,4],[519,6,519,16],[522,1,523,1],[524,1,525,1],[526,1,527,1],[480,1,481,1],[482,1,483,1],[484,1,485,1],[486,1,487,1],[488,1,489,1],[491,1,515,1],[540,1,541,1],[542,1,543,1],[544,1,545,1],[546,1,547,1],[548,1,549,1],[550,1,551,1],[528,1,529,1],[530,1,531,1],[532,1,533,1],[534,1,535,1],[536,1,537,1],[538,1,539,1],[564,1,565,1],[566,1,567,1],[568,1,569,1],[570,1,571,1],[573,1,597,1],[600,1,600,4],[552,1,553,1],[554,1,555,1],[556,1,557,1],[558,1,559,1],[560,1,561,1],[562,1,563,1],[612,1,613,1],[614,1,615,1],[616,1,617,1],[618,1,619,1],[620,1,621,1],[622,1,623,1],[601,2,601,4],[601,6,601,16],[604,1,605,1],[606,1,607,1],[608,1,609,1],[610,1,611,1],[636,1,637,1],[638,1,639,1],[640,1,641,1],[642,1,643,1],[644,1,645,1],[646,1,647,1],[624,1,625,1],[626,1,627,1],[628,1,629,1],[630,1,631,1],[632,1,633,1],[634,1,635,1],[683,6,683,16],[686,1,687,1],[688,1,689,1],[690,1,691,1],[692,1,693,1],[694,1,695,1],[648,1,649,1],[650,1,651,1],[652,1,653,1],[655,1,679,1],[682,1,682,4],[683,2,683,4],[708,1,709,1],[710,1,711,1],[712,1,713,1],[714,1,715,1],[716,1,717,1],[718,1,719,1],[696,1,697,1],[698,1,699,1],[700,1,701,1],[702,1,703,1],[704,1,705,1],[706,1,707,1],[732,1,733,1],[734,1,735,1],[737,1,761,1],[764,1,764,4],[765,2,765,4],[765,6,765,16],[720,1,721,1],[722,1,723,1],[724,1,725,1],[726,1,727,1],[728,1,729,1],[730,1,731,1],[780,1,781,1],[782,1,783,1],[784,1,785,1],[786,1,787,1],[788,1,789,1],[790,1,791,1],[768,1,769,1],[770,1,771,1],[772,1,773,1],[774,1,775,1],[776,1,777,1],[778,1,779,1],[847,6,847,16],[850,1,851,1],[804,1,805,1],[806,1,807,1],[808,1,809,1],[810,1,811,1],[812,1,813,1],[814,1,815,1],[792,1,793,1],[794,1,795,1],[796,1,797,1],[798,1,799,1],[800,1,801,1],[802,1,803,1],[852,1,853,1],[854,1,855,1],[856,1,857,1],[858,1,859,1],[860,1,861,1],[862,1,863,1],[816,1,817,1],[819,1,843,1],[846,1,846,4],[847,2,847,4],[876,1,877,1],[878,1,879,1],[880,1,881,1],[882,1,883,1],[884,1,885,1],[886,1,887,1],[864,1,865,1],[866,1,867,1],[868,1,869,1],[870,1,871,1],[872,1,873,1],[874,1,875,1],[929,6,929,16],[932,1,933,1],[934,1,935,1],[888,1,889,1],[890,1,891,1],[892,1,893,1],[894,1,895,1],[896,1,897,1],[898,1,899,1],[936,1,937,1],[938,1,939,1],[940,1,941,1],[942,1,943,1],[944,1,945,1],[946,1,947,1],[901,1,925,1],[928,1,928,4],[929,2,929,4],[960,1,961,1],[962,1,963,1],[964,1,965,1],[966,1,967,1],[968,1,969,1],[970,1,971,1],[948,1,949,1],[950,1,951,1],[952,1,953,1],[954,1,955,1],[956,1,957,1],[958,1,959,1],[1010,1,1010,4],[1011,2,1011,4],[1011,6,1011,16],[1014,1,1015,1],[1016,1,1017,1],[1018,1,1019,1],[972,1,973,1],[974,1,975,1],[976,1,977,1],[978,1,979,1],[980,1,981,1],[983,1,1007,1],[1032,1,1033,1],[1034,1,1035,1],[1036,1,1037,1],[1038,1,1039,1],[1040,1,1041,1],[1042,1,1043,1],[1020,1,1021,1],[1022,1,1023,1],[1024,1,1025,1],[1026,1,1027,1],[1028,1,1029,1],[1030,1,1031,1],[1056,1,1057,1],[1058,1,1059,1],[1060,1,1061,1],[1062,1,1063,1],[1065,1,1089,1],[1092,1,1092,4],[1044,1,1045,1],[1046,1,1047,1],[1048,1,1049,1],[1050,1,1051,1],[1052,1,1053,1],[1054,1,1055,1],[1104,1,1105,1],[1106,1,1107,1],[1108,1,1109,1],[1110,1,1111,1],[1112,1,1113,1],[1114,1,1115,1],[1093,2,1093,4],[1093,6,1093,16],[1096,1,1097,1],[1098,1,1099,1],[1100,1,1101,1],[1102,1,1103,1],[1128,1,1129,1],[1130,1,1131,1],[1132,1,1133,1],[1134,1,1135,1],[1136,1,1137,1],[1138,1,1139,1],[1116,1,1117,1],[1118,1,1119,1],[1120,1,1121,1],[1122,1,1123,1],[1124,1,1125,1],[1126,1,1127,1],[1175,6,1175,16],[1178,1,1179,1],[1180,1,1181,1],[1182,1,1183,1],[1184,1,1185,1],[1186,1,1187,1],[1140,1,1141,1],[1142,1,1143,1],[1144,1,1145,1],[1147,1,1171,1],[1174,1,1174,4],[1175,2,1175,4],[1200,1,1201,1],[1202,1,1203,1],[1204,1,1205,1],[1206,1,1207,1],[1208,1,1209,1],[1210,1,1211,1],[1188,1,1189,1],[1190,1,1191,1],[1192,1,1193,1],[1194,1,1195,1],[1196,1,1197,1],[1198,1,1199,1],[1224,1,1225,1],[1226,1,1227,1],[1229,1,1253,1],[1256,1,1256,4],[1257,2,1257,4],[1257,6,1257,16],[1212,1,1213,1],[1214,1,1215,1],[1216,1,1217,1],[1218,1,1219,1],[1220,1,1221,1],[1222,1,1223,1],[1272,1,1273,1],[1274,1,1275,1],[1276,1,1277,1],[1278,1,1279,1],[1280,1,1281,1],[1282,1,1283,1],[1260,1,1261,1],[1262,1,1263,1],[1264,1,1265,1],[1266,1,1267,1],[1268,1,1269,1],[1270,1,1271,1],[1339,6,1339,16],[1342,1,1343,1],[1296,1,1297,1],[1298,1,1299,1],[1300,1,1301,1],[1302,1,1303,1],[1304,1,1305,1],[1306,1,1307,1],[1284,1,1285,1],[1286,1,1287,1],[1288,1,1289,1],[1290,1,1291,1],[1292,1,1293,1],[1294,1,1295,1],[1344,1,1345,1],[1346,1,1347,1],[1348,1,1349,1],[1350,1,1351,1],[1352,1,1353,1],[1354,1,1355,1],[1308,1,1309,1],[1311,1,1335,1],[1338,1,1338,4],[1339,2,1339,4],[1368,1,1369,1],[1370,1,1371,1],[1372,1,1373,1],[1374,1,1375,1],[1376,1,1377,1],[1378,1,1379,1],[1356,1,1357,1],[1358,1,1359,1],[1360,1,1361,1],[1362,1,1363,1],[1364,1,1365,1],[1366,1,1367,1],[1393,1,1417,1],[1420,1,1420,4],[1421,2,1421,4],[1421,6,1421,16],[1424,1,1425,1],[1426,1,1427,1],[1380,1,1381,1],[1382,1,1383,1],[1384,1,1385,1],[1386,1,1387,1],[1388,1,1389,1],[1390,1,1391,1],[1440,1,1441,1],[1442,1,1443,1],[1444,1,1445,1],[1446,1,1447,1],[1448,1,1449,1],[1450,1,1451,1],[1428,1,1429,1],[1430,1,1431,1],[1432,1,1433,1],[1434,1,1435,1],[1436,1,1437,1],[1438,1,1439,1],[1464,1,1465,1],[1466,1,1467,1],[1468,1,1469,1],[1470,1,1471,1],[1472,1,1473,1],[1475,1,1499,1],[1452,1,1453,1],[1454,1,1455,1],[1456,1,1457,1],[1458,1,1459,1],[1460,1,1461,1],[1462,1,1463,1],[1512,1,1513,1],[1514,1,1515,1],[1516,1,1517,1],[1518,1,1519,1],[1520,1,1521,1],[1522,1,1523,1],[1502,1,1502,4],[1503,2,1503,4],[1503,6,1503,16],[1506,1,1507,1],[1508,1,1509,1],[1510,1,1511,1],[1536,1,1537,1],[1538,1,1539,1],[1540,1,1541,1],[1542,1,1543,1],[1544,1,1545,1],[1546,1,1547,1],[1524,1,1525,1],[1526,1,1527,1],[1528,1,1529,1],[1530,1,1531,1],[1532,1,1533,1],[1534,1,1535,1],[1585,2,1585,4],[1585,6,1585,16],[1588,1,1589,1],[1590,1,1591,1],[1592,1,1593,1],[1594,1,1595,1],[1548,1,1549,1],[1550,1,1551,1],[1552,1,1553,1],[1554,1,1555,1],[1557,1,1581,1],[1584,1,1584,4],[1608,1,1609,1],[1610,1,1611,1],[1612,1,1613,1],[1614,1,1615,1],[1616,1,1617,1],[1618,1,1619,1],[1596,1,1597,1],[1598,1,1599,1],[1600,1,1601,1],[1602,1,1603,1],[1604,1,1605,1],[1606,1,1607,1],[1632,1,1633,1],[1634,1,1635,1],[1636,1,1637,1],[1639,1,1663,1],[1620,1,1621,1],[1622,1,1623,1],[1624,1,1625,1],[1626,1,1627,1],[1628,1,1629,1],[1630,1,1631,1]]}
["       DOE Advanced Manufacturing Office"]
["   Energy Footprint - ENERGY CONSUMPTION",null,null,null,null,null,null,null,null,null,null,null,null,null,null,null,null,null,null,"Source","Year","UnitCost","Visible"]
[null,null,null,null,null,null,null,null,null,null,null,null,null,null,null,null,null,null,null,null,null,null,true]
[null,"Tracked Energy Sources",null,null,null,"Units","Notes (edit notes on Main)",null,null,null,null,null,null,null,null,null,null,null,null,null,null,null,true]
[null,1,{"$f":"IF(Main!C15<>\"\",Main!C15,\"\")","v":"Electricity"},null,null,{"$f":"IF(Main!D15<>\"\",Main!D15,\"\")","v":"kWh site"},{"$f":"IF(Main!E15<>\"\",Main!E15,\"\")","v":""},{"$f":"INDIRECT(\"G\"&I5)","v":{"$error":"#REF!"}},{"$error":"#REF!"},{"$error":"#REF!"},{"$error":"#REF!"},{"$error":"#REF!"},{"$error":"#REF!"},{"$error":"#REF!"},{"$error":"#REF!"},{"$error":"#REF!"},{"$error":"#REF!"},null,28,1,{"$f":"W5","v":true},null,{"$f":"OR(C5<>\"\",F5<>\"\")","v":true},null,null,null,null,null,"TOTAL Energy",1,{"$f":"AC5","v":"TOTAL Energy"},"MMBtu",{"$f":"AE5&\" Consumption\"","v":"TOTAL Energy Consumption"},1,{"$f":"IFERROR(VLOOKUP(AH5,$AD$5:$AE$29,2,),)","v":"TOTAL Energy"},{"$f":"IFERROR(VLOOKUP(AH5,$AD$5:$AF$29,3,),)","v":"MMBtu"},1,"Units Costs Status"]
[null,2,{"$f":"IF(Main!C16<>\"\",Main!C16,\"\")","v":""},null,null,{"$f":"IF(Main!D16<>\"\",Main!D16,\"\")","v":""},{"$f":"IF(Main!E16<>\"\",Main!E16,\"\")","v":""},{"$error":"#REF!"},{"$error":"#REF!"},{"$error":"#REF!"},{"$error":"#REF!"},{"$error":"#REF!"},{"$error":"#REF!"},{"$error":"#REF!"},{"$error":"#REF!"},{"$error":"#REF!"},{"$error":"#REF!"},null,{"$f":"S5+82","v":110},2,false,null,false,null,null,null,null,{"$f":"COUNTIF(AB10:AB29,\"=Electricity*\")","v":1},"TOTAL Electricity",{"$f":"IF(AB6>1,AD5+1,AD5)","v":1},{"$f":"AC6","v":"TOTAL Electricity"},"kWh site",{"$f":"AE6&\" Consumption\"","v":"TOTAL Electricity Consumption"},2,"---------------------------",{"$f":"IFERROR(VLOOKUP(AH6,$AD$5:$AF$29,3,),)","v":0},2,"Show","SHOW Unit Costs"]
[null,3,{"$f":"IF(Main!C17<>\"\",Main!C17,\"\")","v":""},null,null,{"$f":"IF(Main!D17<>\"\",Main!D17,\"\")","v":""},{"$f":"IF(Main!E17<>\"\",Main!E17,\"\")","v":""},{"$error":"#REF!"},{"$error":"#REF!"},{"$error":"#REF!"},{"$error":"#REF!"},{"$error":"#REF!"},{"$error":"#REF!"},{"$error":"#REF!"},{"$error":"#REF!"},{"$error":"#REF!"},{"$error":"#REF!"},null,192,3,false,null,false,null,null,null,null,{"$f":"COUNTIF(AB10:AB29,\"=Natural Gas\")","v":0},"TOTAL Natural Gas",{"$f":"IF(AB7>1,AD6+1,AD6)","v":1},"TOTAL Natural Gas","Dtherm",{"$f":"AE7&\" Consumption\"","v":"TOTAL Natural Gas Consumption"},3,"1: Electricity","none",3,"Hide","HIDE Unit Costs"]
[null,4,{"$f":"IF(Main!C18<>\"\",Main!C18,\"\")","v":""},null,null,{"$f":"IF(Main!D18<>\"\",Main!D18,\"\")","v":""},{"$f":"IF(Main!E18<>\"\",Main!E18,\"\")","v":""},{"$error":"#REF!"},{"$error":"#REF!"},{"$error":"#REF!"},{"$error":"#REF!"},{"$error":"#REF!"},{"$error":"#REF!"},{"$error":"#REF!"},{"$error":"#REF!"},{"$error":"#REF!"},{"$error":"#REF!"},null,274,4,false,null,false,null,null,null,null,{"$f":"COUNTIF(AC10:AC29,\"<>0\")-SUM(AB6:AB7)","v":0},"TOTAL Other Energy",{"$f":"IF(AB8>1,AD7+1,AD7)","v":1},"TOTAL Other Energy","MMBtu",{"$f":"AE8&\" Consumption\"","v":"TOTAL Other Energy Consumption"},4,0,0,4]
[null,5,{"$f":"IF(Main!C19<>\"\",Main!C19,\"\")","v":""},null,null,{"$f":"IF(Main!D19<>\"\",Main!D19,\"\")","v":""},{"$f":"IF(Main!E19<>\"\",Main!E19,\"\")","v":""},{"$error":"#REF!"},{"$error":"#REF!"},{"$error":"#REF!"},{"$error":"#REF!"},{"$error":"#REF!"},{"$error":"#REF!"},{"$error":"#REF!"},{"$error":"#REF!"},{"$error":"#REF!"},{"$error":"#REF!"},null,356,5,{"$f":"W9","v":false},null,false,null,null,null,null,null,"---------------------------",{"$f":"AD8+1","v":2},{"$f":"AC9","v":"---------------------------"},null,null,5,0,0,5,false,{"$f":"IF(UnitCostStatus,AM7,AM6)","v":"SHOW Unit Costs"}]
[null,6,{"$f":"IF(Main!C20<>\"\",Main!C20,\"\")","v":""},null,null,{"$f":"IF(Main!D20<>\"\",Main!D20,\"\")","v":""},{"$f":"IF(Main!E20<>\"\",Main!E20,\"\")","v":""},{"$error":"#REF!"},{"$error":"#REF!"},{"$error":"#REF!"},{"$error":"#REF!"},{"$error":"#REF!"},{"$error":"#REF!"},{"$error":"#REF!"},{"$error":"#REF!"},{"$error":"#REF!"},{"$error":"#REF!"},null,438,6,false,null,false,null,null,null,null,{"$f":"IF(U5,C5,\"\")","v":"Electricity"},{"$f":"IF(U5,B5&\": \"&C5,0)","v":"1: Electricity"},{"$f":"IF(AC10<>0,AD9+1,AD9)","v":3},"1: Electricity",{"$f":"IFERROR(VLOOKUP(AB10,EnergyUnits,2,),\"none\")","v":"none"},{"$f":"AE10","v":"1: Electricity"},6,0,0,6]
[null,7,{"$f":"IF(Main!C21<>\"\",Main!C21,\"\")","v":""},null,null,{"$f":"IF(Main!D21<>\"\",Main!D21,\"\")","v":""},{"$f":"IF(Main!E21<>\"\",Main!E21,\"\")","v":""},{"$error":"#REF!"},{"$error":"#REF!"},{"$error":"#REF!"},{"$error":"#REF!"},{"$error":"#REF!"},{"$error":"#REF!"},{"$error":"#REF!"},{"$error":"#REF!"},{"$error":"#REF!"},{"$error":"#REF!"},null,520,7,false,null,false,null,null,null,null,"",0,3,0,"none",{"$f":"AE11","v":0},7,0,0,7]
[null,8,{"$f":"IF(Main!C22<>\"\",Main!C22,\"\")","v":""},null,null,{"$f":"IF(Main!D22<>\"\",Main!D22,\"\")","v":""},{"$f":"IF(Main!E22<>\"\",Main!E22,\"\")","v":""},{"$error":"#REF!"},{"$error":"#REF!"},{"$error":"#REF!"},{"$error":"#REF!"},{"$error":"#REF!"},{"$error":"#REF!"},{"$error":"#REF!"},{"$error":"#REF!"},{"$error":"#REF!"},{"$error":"#REF!"},null,602,8,false,null,false,null,null,null,null,"",0,3,0,"none",0,8,0,0,8]
[null,9,{"$f":"IF(Main!C23<>\"\",Main!C23,\"\")","v":""},null,null,{"$f":"IF(Main!D23<>\"\",Main!D23,\"\")","v":""},{"$f":"IF(Main!E23<>\"\",Main!E23,\"\")","v":""},{"$error":"#REF!"},{"$error":"#REF!"},{"$error":"#REF!"},{"$error":"#REF!"},{"$error":"#REF!"},{"$error":"#REF!"},{"$error":"#REF!"},{"$error":"#REF!"},{"$error":"#REF!"},{"$error":"#REF!"},null,684,9,false,null,false,null,null,null,null,"",0,3,0,"none",0,9,0,0,9]
[null,10,{"$f":"IF(Main!C24<>\"\",Main!C24,\"\")","v":""},null,null,{"$f":"IF(Main!D24<>\"\",Main!D24,\"\")","v":""},{"$f":"IF(Main!E24<>\"\",Main!E24,\"\")","v":""},{"$error":"#REF!"},{"$error":"#REF!"},{"$error":"#REF!"},{"$error":"#REF!"},{"$error":"#REF!"},{"$error":"#REF!"},{"$error":"#REF!"},{"$error":"#REF!"},{"$error":"#REF!"},{"$error":"#REF!"},null,766,10,false,null,false,null,null,null,null,"",0,3,0,"none",0,10,0,0,10]
[null,11,{"$f":"IF(Main!C25<>\"\",Main!C25,\"\")","v":""},null,null,{"$f":"IF(Main!D25<>\"\",Main!D25,\"\")","v":""},{"$f":"IF(Main!E25<>\"\",Main!E25,\"\")","v":""},{"$error":"#REF!"},{"$error":"#REF!"},{"$error":"#REF!"},{"$error":"#REF!"},{"$error":"#REF!"},{"$error":"#REF!"},{"$error":"#REF!"},{"$error":"#REF!"},{"$error":"#REF!"},{"$error":"#REF!"},null,848,11,false,null,false,null,null,null,null,"",0,3,0,"none",0,11,0,0,11]
[null,12,{"$f":"IF(Main!C26<>\"\",Main!C26,\"\")","v":""},null,null,{"$f":"IF(Main!D26<>\"\",Main!D26,\"\")","v":""},{"$f":"IF(Main!E26<>\"\",Main!E26,\"\")","v":""},{"$error":"#REF!"},{"$error":"#REF!"},{"$error":"#REF!"},{"$error":"#REF!"},{"$error":"#REF!"},{"$error":"#REF!"},{"$error":"#REF!"},{"$error":"#REF!"},{"$error":"#REF!"},{"$error":"#REF!"},null,930,12,false,null,false,null,null,null,null,"",0,3,0,"none",0,12,0,0,12]
[null,13,{"$f":"IF(Main!C27<>\"\",Main!C27,\"\")","v":""},null,null,{"$f":"IF(Main!D27<>\"\",Main!D27,\"\")","v":""},{"$f":"IF(Main!E27<>\"\",Main!E27,\"\")","v":""},{"$error":"#REF!"},{"$error":"#REF!"},{"$error":"#REF!"},{"$error":"#REF!"},{"$error":"#REF!"},{"$error":"#REF!"},{"$error":"#REF!"},{"$error":"#REF!"},{"$error":"#REF!"},{"$error":"#REF!"},null,1012,13,false,null,false,null,null,null,null,"",0,3,0,"none",0,13,0,0,13]
[null,14,{"$f":"IF(Main!C28<>\"\",Main!C28,\"\")","v":""},null,null,{"$f":"IF(Main!D28<>\"\",Main!D28,\"\")","v":""},{"$f":"IF(Main!E28<>\"\",Main!E28,\"\")","v":""},{"$error":"#REF!"},{"$error":"#REF!"},{"$error":"#REF!"},{"$error":"#REF!"},{"$error":"#REF!"},{"$error":"#REF!"},{"$error":"#REF!"},{"$error":"#REF!"},{"$error":"#REF!"},{"$error":"#REF!"},null,1094,14,false,null,false,null,null,null,null,"",0,3,0,"none",0,14,0,0,14]
[null,15,{"$f":"IF(Main!C29<>\"\",Main!C29,\"\")","v":""},null,null,{"$f":"IF(Main!D29<>\"\",Main!D29,\"\")","v":""},{"$f":"IF(Main!E29<>\"\",Main!E29,\"\")","v":""},{"$error":"#REF!"},{"$error":"#REF!"},{"$error":"#REF!"},{"$error":"#REF!"},{"$error":"#REF!"},{"$error":"#REF!"},{"$error":"#REF!"},{"$error":"#REF!"},{"$error":"#REF!"},{"$error":"#REF!"},null,1176,15,false,null,false,null,null,null,null,"",0,3,0,"none",0,15,0,0,15]
[null,16,{"$f":"IF(Main!C30<>\"\",Main!C30,\"\")","v":""},null,null,{"$f":"IF(Main!D30<>\"\",Main!D30,\"\")","v":""},{"$f":"IF(Main!E30<>\"\",Main!E30,\"\")","v":""},{"$error":"#REF!"},{"$error":"#REF!"},{"$error":"#REF!"},{"$error":"#REF!"},{"$error":"#REF!"},{"$error":"#REF!"},{"$error":"#REF!"},{"$error":"#REF!"},{"$error":"#REF!"},{"$error":"#REF!"},null,1258,16,false,null,false,null,null,null,null,"",0,3,0,"none",0,16,0,0,16]
[null,17,{"$f":"IF(Main!C31<>\"\",Main!C31,\"\")","v":""},null,null,{"$f":"IF(Main!D31<>\"\",Main!D31,\"\")","v":""},{"$f":"IF(Main!E31<>\"\",Main!E31,\"\")","v":""},{"$f":"INDIRECT(\"G\"&I21)","v":{"$error":"#REF!"}},{"$error":"#REF!"},{"$error":"#REF!"},{"$error":"#REF!"},{"$error":"#REF!"},{"$error":"#REF!"},{"$error":"#REF!"},{"$error":"#REF!"},{"$error":"#REF!"},{"$error":"#REF!"},null,1340,17,false,null,false,null,null,null,null,"",0,3,0,"none",0,17,0,0,17]
[null,18,{"$f":"IF(Main!C32<>\"\",Main!C32,\"\")","v":""},null,null,{"$f":"IF(Main!D32<>\"\",Main!D32,\"\")","v":""},{"$f":"IF(Main!E32<>\"\",Main!E32,\"\")","v":""},{"$error":"#REF!"},{"$error":"#REF!"},{"$error":"#REF!"},{"$error":"#REF!"},{"$error":"#REF!"},{"$error":"#REF!"},{"$error":"#REF!"},{"$error":"#REF!"},{"$error":"#REF!"},{"$error":"#REF!"},null,1422,18,false,null,false,null,null,null,null,"",0,3,0,"none",0,18,0,0,18]
[null,19,{"$f":"IF(Main!C33<>\"\",Main!C33,\"\")","v":""},null,null,{"$f":"IF(Main!D33<>\"\",Main!D33,\"\")","v":""},{"$f":"IF(Main!E33<>\"\",Main!E33,\"\")","v":""},{"$error":"#REF!"},{"$error":"#REF!"},{"$error":"#REF!"},{"$error":"#REF!"},{"$error":"#REF!"},{"$error":"#REF!"},{"$error":"#REF!"},{"$error":"#REF!"},{"$error":"#REF!"},{"$error":"#REF!"},null,1504,19,false,null,false,null,null,null,null,"",0,3,0,"none",0,19,0,0,19]
[null,20,{"$f":"IF(Main!C34<>\"\",Main!C34,\"\")","v":""},null,null,{"$f":"IF(Main!D34<>\"\",Main!D34,\"\")","v":""},{"$f":"IF(Main!E34<>\"\",Main!E34,\"\")","v":""},{"$error":"#REF!"},{"$error":"#REF!"},{"$error":"#REF!"},{"$error":"#REF!"},{"$error":"#REF!"},{"$error":"#REF!"},{"$error":"#REF!"},{"$error":"#REF!"},{"$error":"#REF!"},{"$error":"#REF!"},null,1586,20,false,null,false,null,null,null,null,"",0,3,0,"none",0,20,0,0,20]
[null,null,null,null,null,null,null,null,null,null,null,null,null,null,null,null,null,null,null,null,null,null,{"$f":"NOT(X25)","v":true},{"$f":"IF(NOT(W24),FALSE,C24<>\"\")","v":false},null,null,null,"",0,3,0,"none",0,21,0,0]
[null,null,null,null,null,null,null,null,null,null,null,null,null,null,null,null,null,null,null,null,null,null,{"$f":"NOT(W25)","v":false},null,null,null,null,"",0,3,0,"none",0,22,0,0]
[null,"Energy Source",null,null,null,"UNIT","Notes",null,null,null,null,null,null,null,null,null,null,null,null,{"$f":"VLOOKUP(B28,$T$5:$U$24,2,)","v":true},null,null,{"$f":"AND(S27:V27)","v":true},null,null,null,null,"",0,3,0,"none",0,23,0,0]
["back to top",1,{"$f":"VLOOKUP(B28,$B$5:$F$24,2,)","v":"Electricity"},null,null,{"$f":"VLOOKUP(B28,$B$5:$G$24,5,)","v":"kWh site"},{"$f":"VLOOKUP(B28,$B$5:$G$24,6,)","v":""},null,null,null,null,null,null,null,null,null,null,null,null,{"$f":"T27","v":true},null,null,true,null,null,null,null,"",0,3,0,"none",0,24,0,0]
[null,null,null,null,null,null,null,null,null,null,null,null,null,null,null,null,null,null,null,{"$f":"T28","v":true},null,null,true,null,null,null,null,"",0,3,0,"none",0,25,0,0]
[null,null,null,{"$f":"Support!H3","v":"Jan"},{"$f":"Support!I3","v":"Feb"},{"$f":"Support!J3","v":"Mar"},{"$f":"Support!K3","v":"Apr"},{"$f":"Support!L3","v":"May"},{"$f":"Support!M3","v":"Jun"},{"$f":"Support!N3","v":"Jul"},{"$f":"Support!O3","v":"Aug"},{"$f":"Support!P3","v":"Sep"},{"$f":"Support!Q3","v":"Oct"},{"$f":"Support!R3","v":"Nov"},{"$f":"Support!S3","v":"Dec"},null,"YEAR",null,null,{"$f":"T29","v":true},null,null,true]
[null,{"$f":"FinalYear","v":2029},"$$",null,null,null,null,null,null,null,null,null,null,null,null,null,{"$f":"SUM(D31:O31)","v":0},null,null,true,{"$f":"AND(B31<=ReportingYear,B31>=BaselineYear)","v":false},null,false]
[null,null,"Qty",null,null,null,null,null,null,null,null,null,null,null,null,null,0,null,{"$f":"IF(F28=\"none\",FALSE,TRUE)","v":true},true,{"$f":"U31","v":false},null,false]
[null,{"$f":"B31-1","v":2028},"$$",null,null,null,null,null,null,null,null,null,null,null,null,null,0,null,null,true,{"$f":"AND(B33<=ReportingYear,B33>=BaselineYear)","v":false},null,false]
[null,null,"Qty",null,null,null,null,null,null,null,null,null,null,null,null,null,0,null,{"$f":"S32","v":true},true,{"$f":"U33","v":false},null,false]
[null,{"$f":"B33-1","v":2027},"$$",null,null,null,null,null,null,null,null,null,null,null,null,null,0,null,null,true,{"$f":"AND(B35<=ReportingYear,B35>=BaselineYear)","v":false},null,false]
[null,null,"Qty",null,null,null,null,null,null,null,null,null,null,null,null,null,0,null,{"$f":"S34","v":true},true,{"$f":"U35","v":false},null,false]
[null,{"$f":"B35-1","v":2026},"$$",null,null,null,null,null,null,null,null,null,null,null,null,null,0,null,null,true,{"$f":"AND(B37<=ReportingYear,B37>=BaselineYear)","v":false},null,false]
[null,null,"Qty",null,null,null,null,null,null,null,null,null,null,null,null,null,0,null,{"$f":"S36","v":true},true,{"$f":"U37","v":false},null,false]
[null,{"$f":"B37-1","v":2025},"$$",null,null,null,null,null,null,null,null,null,null,null,null,null,0,null,null,true,{"$f":"AND(B39<=ReportingYear,B39>=BaselineYear)","v":false},null,false]
[null,null,"Qty",null,null,null,null,null,null,null,null,null,null,null,null,null,0,null,{"$f":"S38","v":true},true,{"$f":"U39","v":false},null,false]
[null,{"$f":"B39-1","v":2024},"$$",null,null,null,null,null,null,null,null,null,null,null,null,null,0,null,null,true,{"$f":"AND(B41<=ReportingYear,B41>=BaselineYear)","v":false},null,false]
[null,null,"Qty",null,null,null,null,null,null,null,null,null,null,null,null,null,0,null,{"$f":"S40","v":true},true,{"$f":"U41","v":false},null,false]
[null,{"$f":"B41-1","v":2023},"$$",null,null,null,null,null,null,null,null,null,null,null,null,null,0,null,null,true,{"$f":"AND(B43<=ReportingYear,B43>=BaselineYear)","v":false},null,false]
[null,null,"Qty",null,null,null,null,null,null,null,null,null,null,null,null,null,0,null,{"$f":"S42","v":true},true,{"$f":"U43","v":false},null,false]
[null,{"$f":"B43-1","v":2022},"$$",null,null,null,null,null,null,null,null,null,null,null,null,null,0,null,null,true,{"$f":"AND(B45<=ReportingYear,B45>=BaselineYear)","v":false},null,false]
[null,null,"Qty",null,null,null,null,null,null,null,null,null,null,null,null,null,0,null,{"$f":"S44","v":true},true,{"$f":"U45","v":false},null,false]
[null,{"$f":"B45-1","v":2021},"$$",null,null,null,null,null,null,null,null,null,null,null,null,null,0,null,null,true,{"$f":"AND(B47<=ReportingYear,B47>=BaselineYear)","v":true},null,true]
[null,null,"Qty",null,null,null,null,null,null,null,null,null,null,null,null,null,0,null,{"$f":"S46","v":true},true,{"$f":"U47","v":true},null,true]
[null,{"$f":"B47-1","v":2020},"$$",null,null,null,null,null,null,null,null,null,null,null,null,null,0,null,null,true,{"$f":"AND(B49<=ReportingYear,B49>=BaselineYear)","v":true},null,true]
[null,null,"Qty",null,null,null,null,null,null,null,null,null,null,null,null,null,0,null,{"$f":"S48","v":true},true,{"$f":"U49","v":true},null,true]
[null,{"$f":"B49-1","v":2019},"$$",null,null,null,null,null,null,null,null,null,null,null,null,null,0,null,null,true,{"$f":"AND(B51<=ReportingYear,B51>=BaselineYear)","v":false},null,false]
[null,null,"Qty",null,null,null,null,null,null,null,null,null,null,null,null,null,0,null,{"$f":"S50","v":true},true,{"$f":"U51","v":false},null,false]
[null,{"$f":"B51-1","v":2018},"$$",null,null,null,null,null,null,null,null,null,null,null,null,null,0,null,null,true,{"$f":"AND(B53<=ReportingYear,B53>=BaselineYear)","v":false},null,false]
[null,null,"Qty",null,null,null,null,null,null,null,null,null,null,null,null,null,0,null,{"$f":"S52","v":true},true,{"$f":"U53","v":false},null,false]
[null,{"$f":"B53-1","v":2017},"$$",null,null,null,null,null,null,null,null,null,null,null,null,null,0,null,null,true,{"$f":"AND(B55<=ReportingYear,B55>=BaselineYear)","v":false},null,false]
[null,null,"Qty",null,null,null,null,null,null,null,null,null,null,null,null,null,0,null,{"$f":"S54","v":true},true,{"$f":"U55","v":false},null,false]
[null,{"$f":"B55-1","v":2016},"$$",null,null,null,null,null,null,null,null,null,null,null,null,null,0,null,null,true,{"$f":"AND(B57<=ReportingYear,B57>=BaselineYear)","v":false},null,false]
[null,null,"Qty",null,null,null,null,null,null,null,null,null,null,null,null,null,0,null,{"$f":"S56","v":true},true,{"$f":"U57","v":false},null,false]
[null,{"$f":"B57-1","v":2015},"$$",null,null,null,null,null,null,null,null,null,null,null,null,null,0,null,null,true,{"$f":"AND(B59<=ReportingYear,B59>=BaselineYear)","v":false},null,false]
[null,null,"Qty",null,null,null,null,null,null,null,null,null,null,null,null,null,0,null,{"$f":"S58","v":true},true,{"$f":"U59","v":false},null,false]
[null,{"$f":"B59-1","v":2014},"$$",null,null,null,null,null,null,null,null,null,null,null,null,null,0,null,null,true,{"$f":"AND(B61<=ReportingYear,B61>=BaselineYear)","v":false},null,false]
[null,null,"Qty",null,null,null,null,null,null,null,null,null,null,null,null,null,0,null,{"$f":"S60","v":true},true,{"$f":"U61","v":false},null,false]
[null,{"$f":"B61-1","v":2013},"$$",null,null,null,null,null,null,null,null,null,null,null,null,null,0,null,null,true,{"$f":"AND(B63<=ReportingYear,B63>=BaselineYear)","v":false},null,false]
[null,null,"Qty",null,null,null,null,null,null,null,null,null,null,null,null,null,0,null,{"$f":"S62","v":true},true,{"$f":"U63","v":false},null,false]
[null,{"$f":"B63-1","v":2012},"$$",null,null,null,null,null,null,null,null,null,null,null,null,null,0,null,null,true,{"$f":"AND(B65<=ReportingYear,B65>=BaselineYear)","v":false},null,false]
[null,null,"Qty",null,null,null,null,null,null,null,null,null,null,null,null,null,0,null,{"$f":"S64","v":true},true,{"$f":"U65","v":false},null,false]
[null,{"$f":"B65-1","v":2011},"$$",null,null,null,null,null,null,null,null,null,null,null,null,null,0,null,null,true,{"$f":"AND(B67<=ReportingYear,B67>=BaselineYear)","v":false},null,false]
[null,null,"Qty",null,null,null,null,null,null,null,null,null,null,null,null,null,0,null,{"$f":"S66","v":true},true,{"$f":"U67","v":false},null,false]
[null,{"$f":"B67-1","v":2010},"$$",null,null,null,null,null,null,null,null,null,null,null,null,null,0,null,null,true,{"$f":"AND(B69<=ReportingYear,B69>=BaselineYear)","v":false},null,false]
[null,null,"Qty",null,null,null,null,null,null,null,null,null,null,null,null,null,0,null,{"$f":"S68","v":true},true,{"$f":"U69","v":false},null,false]
[null,{"$f":"B69-1","v":2009},"$$",null,null,null,null,null,null,null,null,null,null,null,null,null,0,null,null,true,{"$f":"AND(B71<=ReportingYear,B71>=BaselineYear)","v":false},null,false]
[null,null,"Qty",null,null,null,null,null,null,null,null,null,null,null,null,null,0,null,{"$f":"S70","v":true},true,{"$f":"U71","v":false},null,false]
[null,{"$f":"B71-1","v":2008},"$$",null,null,null,null,null,null,null,null,null,null,null,null,null,0,null,null,true,{"$f":"AND(B73<=ReportingYear,B73>=BaselineYear)","v":false},null,false]
[null,null,"Qty",null,null,null,null,null,null,null,null,null,null,null,null,null,0,null,{"$f":"S72","v":true},true,{"$f":"U73","v":false},null,false]
[null,{"$f":"B73-1","v":2007},"$$",null,null,null,null,null,null,null,null,null,null,null,null,null,0,null,null,true,{"$f":"AND(B75<=ReportingYear,B75>=BaselineYear)","v":false},null,false]
[null,null,"Qty",null,null,null,null,null,null,null,null,null,null,null,null,null,0,null,{"$f":"S74","v":true},true,{"$f":"U75","v":false},null,false]
[null,{"$f":"B75-1","v":2006},"$$",null,null,null,null,null,null,null,null,null,null,null,null,null,0,null,null,true,{"$f":"AND(B77<=ReportingYear,B77>=BaselineYear)","v":false},null,false]
[null,null,"Qty",null,null,null,null,null,null,null,null,null,null,null,null,null,0,null,{"$f":"S76","v":true},true,{"$f":"U77","v":false},null,false]
[null,{"$f":"B77-1","v":2005},"$$",null,null,null,null,null,null,null,null,null,null,null,null,null,{"$f":"SUM(D79:O79)","v":0},null,null,true,{"$f":"AND(B79<=ReportingYear,B79>=BaselineYear)","v":false},null,false]
[null,null,"Qty",null,null,null,null,null,null,null,null,null,null,null,null,null,{"$f":"SUM(D80:O80)","v":0},null,{"$f":"S78","v":true},true,{"$f":"U79","v":false},null,false]
[null,null,null,null,null,null,null,null,null,null,null,null,null,null,null,null,null,null,null,{"$f":"T52","v":true},null,null,true]
[null,"Per Unit Costs",{"$f":"B31","v":2029},{"$f":"IF(D32<>0,D31/D32,\"\")","v":""},"","","","","","","","","","","",null,{"$f":"IF(Q32<>0,Q31/Q32,\"\")","v":""},null,{"$f":"S60","v":true},{"$f":"T81","v":true},{"$f":"AND(C82<=ReportingYear,C82>=BaselineYear)","v":false},{"$f":"UnitCostStatus","v":false},false]
[null,null,{"$f":"C82-1","v":2028},{"$f":"IF(D34<>0,D33/D34,\"\")","v":""},"","","","","","","","","","","",null,{"$f":"IF(Q34<>0,Q33/Q34,\"\")","v":""},null,{"$f":"S82","v":true},true,false,{"$f":"V82","v":false},false]
[null,null,{"$f":"C83-1","v":2027},{"$f":"IF(D36<>0,D35/D36,\"\")","v":""},"","","","","","","","","","","",null,{"$f":"IF(Q36<>0,Q35/Q36,\"\")","v":""},null,true,true,false,{"$f":"V83","v":false},false]
[null,null,2026,{"$f":"IF(D38<>0,D37/D38,\"\")","v":""},"","","","","","","","","","","",null,{"$f":"IF(Q38<>0,Q37/Q38,\"\")","v":""},null,true,true,false,{"$f":"V84","v":false},false]
[null,null,2025,{"$f":"IF(D40<>0,D39/D40,\"\")","v":""},"","","","","","","","","","","",null,{"$f":"IF(Q40<>0,Q39/Q40,\"\")","v":""},null,true,true,false,false,false]
[null,null,2024,{"$f":"IF(D42<>0,D41/D42,\"\")","v":""},"","","","","","","","","","","",null,{"$f":"IF(Q42<>0,Q41/Q42,\"\")","v":""},null,true,true,false,false,false]
[null,null,2023,{"$f":"IF(D44<>0,D43/D44,\"\")","v":""},"","","","","","","","","","","",null,{"$f":"IF(Q44<>0,Q43/Q44,\"\")","v":""},null,true,true,false,false,false]
[null,null,2022,{"$f":"IF(D46<>0,D45/D46,\"\")","v":""},"","","","","","","","","","","",null,{"$f":"IF(Q46<>0,Q45/Q46,\"\")","v":""},null,true,true,false,false,false]
[null,null,2021,{"$f":"IF(D48<>0,D47/D48,\"\")","v":""},"","","","","","","","","","","",null,{"$f":"IF(Q48<>0,Q47/Q48,\"\")","v":""},null,true,true,true,false,false]
[null,null,2020,{"$f":"IF(D50<>0,D49/D50,\"\")","v":""},"","","","","","","","","","","",null,{"$f":"IF(Q50<>0,Q49/Q50,\"\")","v":""},null,true,true,true,false,{"$f":"AND(S91:V91)","v":false}]
[null,null,2019,{"$f":"IF(D52<>0,D51/D52,\"\")","v":""},"","","","","","","","","","","",null,{"$f":"IF(Q52<>0,Q51/Q52,\"\")","v":""},null,true,true,false,false,false]
[null,null,2018,{"$f":"IF(D54<>0,D53/D54,\"\")","v":""},"","","","","","","","","","","",null,{"$f":"IF(Q54<>0,Q53/Q54,\"\")","v":""},null,true,true,false,false,false]
[null,null,2017,{"$f":"IF(D56<>0,D55/D56,\"\")","v":""},"","","","","","","","","","","",null,{"$f":"IF(Q56<>0,Q55/Q56,\"\")","v":""},null,true,true,false,false,false]
[null,null,2016,{"$f":"IF(D58<>0,D57/D58,\"\")","v":""},"","","","","","","","","","","",null,{"$f":"IF(Q58<>0,Q57/Q58,\"\")","v":""},null,true,true,false,false,false]
[null,null,2015,{"$f":"IF(D60<>0,D59/D60,\"\")","v":""},{"$f":"IF(E60<>0,E59/E60,\"\")","v":""},"","","","","","","","","","",null,{"$f":"IF(Q60<>0,Q59/Q60,\"\")","v":""},null,true,true,false,false,false]
[null,null,2014,{"$f":"IF(D62<>0,D61/D62,\"\")","v":""},{"$f":"IF(E62<>0,E61/E62,\"\")","v":""},"","","","","","","","","","",null,{"$f":"IF(Q62<>0,Q61/Q62,\"\")","v":""},null,true,true,false,false,false]
[null,null,2013,{"$f":"IF(D64<>0,D63/D64,\"\")","v":""},{"$f":"IF(E64<>0,E63/E64,\"\")","v":""},"","","","","","","","","","",null,{"$f":"IF(Q64<>0,Q63/Q64,\"\")","v":""},null,true,true,false,false,false]
[null,null,2012,{"$f":"IF(D66<>0,D65/D66,\"\")","v":""},{"$f":"IF(E66<>0,E65/E66,\"\")","v":""},"","","","","","","","","","",null,{"$f":"IF(Q66<>0,Q65/Q66,\"\")","v":""},null,{"$f":"S98","v":true},true,false,false,false]
[null,null,2011,{"$f":"IF(D68<>0,D67/D68,\"\")","v":""},{"$f":"IF(E68<>0,E67/E68,\"\")","v":""},"","","","","","","","","","",null,{"$f":"IF(Q68<>0,Q67/Q68,\"\")","v":""},null,true,true,false,false,false]
[null,null,2010,{"$f":"IF(D70<>0,D69/D70,\"\")","v":""},{"$f":"IF(E70<>0,E69/E70,\"\")","v":""},"","","","","","","","","","",null,{"$f":"IF(Q70<>0,Q69/Q70,\"\")","v":""},null,true,true,false,false,false]
[null,null,2009,{"$f":"IF(D72<>0,D71/D72,\"\")","v":""},{"$f":"IF(E72<>0,E71/E72,\"\")","v":""},"","","","","","","","","","",null,{"$f":"IF(Q72<>0,Q71/Q72,\"\")","v":""},null,true,true,false,false,false]
[null,null,2008,{"$f":"IF(D74<>0,D73/D74,\"\")","v":""},{"$f":"IF(E74<>0,E73/E74,\"\")","v":""},"","","","","","","","","","",null,{"$f":"IF(Q74<>0,Q73/Q74,\"\")","v":""},null,true,true,false,false,false]
[null,null,2007,{"$f":"IF(D76<>0,D75/D76,\"\")","v":""},{"$f":"IF(E76<>0,E75/E76,\"\")","v":""},"","","","","","","","","","",null,{"$f":"IF(Q76<>0,Q75/Q76,\"\")","v":""},null,true,true,false,false,false]
[null,null,2006,{"$f":"IF(D78<>0,D77/D78,\"\")","v":""},{"$f":"IF(E78<>0,E77/E78,\"\")","v":""},"","","","","","","","","","",null,{"$f":"IF(Q78<>0,Q77/Q78,\"\")","v":""},null,true,true,false,false,false]
[null,null,2005,{"$f":"IF(D80<>0,D79/D80,\"\")","v":""},{"$f":"IF(E80<>0,E79/E80,\"\")","v":""},"","","","","","","","","","",null,{"$f":"IF(Q80<>0,Q79/Q80,\"\")","v":""},null,true,true,false,false,false]
[null,null,null,null,null,null,null,null,null,null,null,null,null,null,null,null,null,null,{"$f":"S92","v":true},{"$f":"T92","v":true},null,{"$f":"V92","v":false},false]
[null,null,null,null,null,null,null,null,null,null,null,null,null,null,null,null,null,null,null,{"$f":"T107","v":true},null,null,true]
[null,"Energy Source",null,null,null,"UNIT","Notes",null,null,null,null,null,null,null,null,null,null,null,null,{"$f":"VLOOKUP(B110,$T$5:$U$24,2,)","v":false},null,null,false]
["back to top",{"$f":"B28+1","v":2},{"$f":"VLOOKUP(B110,$B$5:$F$24,2,)","v":""},null,null,{"$f":"VLOOKUP(B110,$B$5:$G$24,5,)","v":""},{"$f":"VLOOKUP(B110,$B$5:$G$24,6,)","v":""},null,null,null,null,null,null,null,null,null,null,null,null,{"$f":"T109","v":false},null,null,false]
[null,null,null,null,null,null,null,null,null,null,null,null,null,null,null,null,null,null,null,{"$f":"T110","v":false},null,null,false]
[null,null,null,{"$f":"D30","v":"Jan"},{"$f":"E30","v":"Feb"},"Mar","Apr","May","Jun","Jul","Aug","Sep","Oct","Nov","Dec",null,"YEAR",null,null,{"$f":"T111","v":false},null,null,false]
[null,{"$f":"FinalYear","v":2029},"$$",null,null,null,null,null,null,null,null,null,null,null,null,null,{"$f":"SUM(D113:O113)","v":0},null,null,false,{"$f":"AND(B113<=ReportingYear,B113>=BaselineYear)","v":false},null,false]
[null,null,"Qty",null,null,null,null,null,null,null,null,null,null,null,null,null,0,null,{"$f":"IF(F110=\"none\",FALSE,TRUE)","v":true},false,{"$f":"U113","v":false},null,false]
[null,{"$f":"B113-1","v":2028},"$$",null,null,null,null,null,null,null,null,null,null,null,null,null,0,null,null,false,{"$f":"AND(B115<=ReportingYear,B115>=BaselineYear)","v":false},null,false]
[null,null,"Qty",null,null,null,null,null,null,null,null,null,null,null,null,null,0,null,{"$f":"S114","v":true},false,{"$f":"U115","v":false},null,false]
[null,{"$f":"B115-1","v":2027},"$$",null,null,null,null,null,null,null,null,null,null,null,null,null,0,null,null,false,{"$f":"AND(B117<=ReportingYear,B117>=BaselineYear)","v":false},null,false]
[null,null,"Qty",null,null,null,null,null,null,null,null,null,null,null,null,null,0,null,{"$f":"S116","v":true},false,{"$f":"U117","v":false},null,false]
[null,{"$f":"B117-1","v":2026},"$$",null,null,null,null,null,null,null,null,null,null,null,null,null,0,null,null,false,{"$f":"AND(B119<=ReportingYear,B119>=BaselineYear)","v":false},null,false]
[null,null,"Qty",null,null,null,null,null,null,null,null,null,null,null,null,null,0,null,{"$f":"S118","v":true},false,{"$f":"U119","v":false},null,false]
[null,{"$f":"B119-1","v":2025},"$$",null,null,null,null,null,null,null,null,null,null,null,null,null,0,null,null,false,{"$f":"AND(B121<=ReportingYear,B121>=BaselineYear)","v":false},null,false]
[null,null,"Qty",null,null,null,null,null,null,null,null,null,null,null,null,null,0,null,{"$f":"S120","v":true},false,{"$f":"U121","v":false},null,false]
[null,{"$f":"B121-1","v":2024},"$$",null,null,null,null,null,null,null,null,null,null,null,null,null,0,null,null,false,{"$f":"AND(B123<=ReportingYear,B123>=BaselineYear)","v":false},null,false]
[null,null,"Qty",null,null,null,null,null,null,null,null,null,null,null,null,null,0,null,{"$f":"S122","v":true},false,{"$f":"U123","v":false},null,false]
[null,{"$f":"B123-1","v":2023},"$$",null,null,null,null,null,null,null,null,null,null,null,null,null,0,null,null,false,{"$f":"AND(B125<=ReportingYear,B125>=BaselineYear)","v":false},null,false]
[null,null,"Qty",null,null,null,null,null,null,null,null,null,null,null,null,null,0,null,{"$f":"S124","v":true},false,{"$f":"U125","v":false},null,false]
[null,{"$f":"B125-1","v":2022},"$$",null,null,null,null,null,null,null,null,null,null,null,null,null,0,null,null,false,{"$f":"AND(B127<=ReportingYear,B127>=BaselineYear)","v":false},null,false]
[null,null,"Qty",null,null,null,null,null,null,null,null,null,null,null,null,null,0,null,{"$f":"S126","v":true},false,{"$f":"U127","v":false},null,false]
[null,{"$f":"B127-1","v":2021},"$$",null,null,null,null,null,null,null,null,null,null,null,null,null,0,null,null,false,{"$f":"AND(B129<=ReportingYear,B129>=BaselineYear)","v":true},null,false]
[null,null,"Qty",null,null,null,null,null,null,null,null,null,null,null,null,null,0,null,{"$f":"S128","v":true},false,{"$f":"U129","v":true},null,false]
[null,{"$f":"B129-1","v":2020},"$$",null,null,null,null,null,null,null,null,null,null,null,null,null,0,null,null,false,{"$f":"AND(B131<=ReportingYear,B131>=BaselineYear)","v":true},null,false]
[null,null,"Qty",null,null,null,null,null,null,null,null,null,null,null,null,null,0,null,{"$f":"S130","v":true},false,{"$f":"U131","v":true},null,false]
[null,{"$f":"B131-1","v":2019},"$$",null,null,null,null,null,null,null,null,null,null,null,null,null,0,null,null,false,{"$f":"AND(B133<=ReportingYear,B133>=BaselineYear)","v":false},null,false]
[null,null,"Qty",null,null,null,null,null,null,null,null,null,null,null,null,null,0,null,{"$f":"S132","v":true},false,{"$f":"U133","v":false},null,false]
[null,{"$f":"B133-1","v":2018},"$$",null,null,null,null,null,null,null,null,null,null,null,null,null,0,null,null,false,{"$f":"AND(B135<=ReportingYear,B135>=BaselineYear)","v":false},null,false]
[null,null,"Qty",null,null,null,null,null,null,null,null,null,null,null,null,null,0,null,{"$f":"S134","v":true},false,{"$f":"U135","v":false},null,false]
[null,{"$f":"B135-1","v":2017},"$$",null,null,null,null,null,null,null,null,null,null,null,null,null,0,null,null,false,{"$f":"AND(B137<=ReportingYear,B137>=BaselineYear)","v":false},null,false]
[null,null,"Qty",null,null,null,null,null,null,null,null,null,null,null,null,null,0,null,{"$f":"S136","v":true},false,{"$f":"U137","v":false},null,false]
[null,{"$f":"B137-1","v":2016},"$$",null,null,null,null,null,null,null,null,null,null,null,null,null,0,null,null,false,{"$f":"AND(B139<=ReportingYear,B139>=BaselineYear)","v":false},null,false]
[null,null,"Qty",null,null,null,null,null,null,null,null,null,null,null,null,null,0,null,{"$f":"S138","v":true},false,{"$f":"U139","v":false},null,false]
[null,{"$f":"B139-1","v":2015},"$$",null,null,null,null,null,null,null,null,null,null,null,null,null,0,null,null,false,{"$f":"AND(B141<=ReportingYear,B141>=BaselineYear)","v":false},null,false]
[null,null,"Qty",null,null,null,null,null,null,null,null,null,null,null,null,null,0,null,{"$f":"S140","v":true},false,{"$f":"U141","v":false},null,false]
[null,{"$f":"B141-1","v":2014},"$$",null,null,null,null,null,null,null,null,null,null,null,null,null,0,null,null,false,{"$f":"AND(B143<=ReportingYear,B143>=BaselineYear)","v":false},null,false]
[null,null,"Qty",null,null,null,null,null,null,null,null,null,null,null,null,null,0,null,{"$f":"S142","v":true},false,{"$f":"U143","v":false},null,false]
[null,{"$f":"B143-1","v":2013},"$$",null,null,null,null,null,null,null,null,null,null,null,null,null,0,null,null,false,{"$f":"AND(B145<=ReportingYear,B145>=BaselineYear)","v":false},null,false]
[null,null,"Qty",null,null,null,null,null,null,null,null,null,null,null,null,null,0,null,{"$f":"S144","v":true},false,{"$f":"U145","v":false},null,false]
[null,{"$f":"B145-1","v":2012},"$$",null,null,null,null,null,null,null,null,null,null,null,null,null,0,null,null,false,{"$f":"AND(B147<=ReportingYear,B147>=BaselineYear)","v":false},null,false]
[null,null,"Qty",null,null,null,null,null,null,null,null,null,null,null,null,null,0,null,{"$f":"S146","v":true},false,{"$f":"U147","v":false},null,false]
[null,{"$f":"B147-1","v":2011},"$$",null,null,null,null,null,null,null,null,null,null,null,null,null,0,null,null,false,{"$f":"AND(B149<=ReportingYear,B149>=BaselineYear)","v":false},null,false]
[null,null,"Qty",null,null,null,null,null,null,null,null,null,null,null,null,null,0,null,{"$f":"S148","v":true},false,{"$f":"U149","v":false},null,false]
[null,{"$f":"B149-1","v":2010},"$$",null,null,null,null,null,null,null,null,null,null,null,null,null,0,null,null,false,{"$f":"AND(B151<=ReportingYear,B151>=BaselineYear)","v":false},null,false]
[null,null,"Qty",null,null,null,null,null,null,null,null,null,null,null,null,null,0,null,{"$f":"S150","v":true},false,{"$f":"U151","v":false},null,false]
[null,{"$f":"B151-1","v":2009},"$$",null,null,null,null,null,null,null,null,null,null,null,null,null,0,null,null,false,{"$f":"AND(B153<=ReportingYear,B153>=BaselineYear)","v":false},null,false]
[null,null,"Qty",null,null,null,null,null,null,null,null,null,null,null,null,null,0,null,{"$f":"S152","v":true},false,{"$f":"U153","v":false},null,false]
[null,{"$f":"B153-1","v":2008},"$$",null,null,null,null,null,null,null,null,null,null,null,null,null,0,null,null,false,{"$f":"AND(B155<=ReportingYear,B155>=BaselineYear)","v":false},null,{"$f":"AND(S155:V155)","v":false}]
[null,null,"Qty",null,null,null,null,null,null,null,null,null,null,null,null,null,0,null,{"$f":"S154","v":true},false,{"$f":"U155","v":false},null,false]
[null,{"$f":"B155-1","v":2007},"$$",null,null,null,null,null,null,null,null,null,null,null,null,null,0,null,null,false,{"$f":"AND(B157<=ReportingYear,B157>=BaselineYear)","v":false},null,false]
[null,null,"Qty",null,null,null,null,null,null,null,null,null,null,null,null,null,0,null,{"$f":"S156","v":true},false,{"$f":"U157","v":false},null,false]
[null,{"$f":"B157-1","v":2006},"$$",null,null,null,null,null,null,null,null,null,null,null,null,null,0,null,null,false,{"$f":"AND(B159<=ReportingYear,B159>=BaselineYear)","v":false},null,false]
[null,null,"Qty",null,null,null,null,null,null,null,null,null,null,null,null,null,0,null,{"$f":"S158","v":true},false,{"$f":"U159","v":false},null,false]
[null,{"$f":"B159-1","v":2005},"$$",null,null,null,null,null,null,null,null,null,null,null,null,null,0,null,null,false,{"$f":"AND(B161<=ReportingYear,B161>=BaselineYear)","v":false},null,false]
[null,null,"Qty",null,null,null,null,null,null,null,null,null,null,null,null,null,0,null,{"$f":"S160","v":true},false,{"$f":"U161","v":false},null,false]
[null,null,null,null,null,null,null,null,null,null,null,null,null,null,null,null,null,null,null,{"$f":"T134","v":false},null,null,false]
[null,"Per Unit Costs",{"$f":"B113","v":2029},{"$f":"IF(D114<>0,D113/D114,\"\")","v":""},"","","","","","","","","","","",null,{"$f":"IF(Q114<>0,Q113/Q114,\"\")","v":""},null,{"$f":"S142","v":true},{"$f":"T163","v":false},{"$f":"AND(C164<=ReportingYear,C164>=BaselineYear)","v":false},{"$f":"UnitCostStatus","v":false},false]
[null,null,{"$f":"C164-1","v":2028},{"$f":"IF(D116<>0,D115/D116,\"\")","v":""},"","","","","","","","","","","",null,{"$f":"IF(Q116<>0,Q115/Q116,\"\")","v":""},null,{"$f":"S164","v":true},false,false,{"$f":"V164","v":false},false]
[null,null,{"$f":"C165-1","v":2027},{"$f":"IF(D118<>0,D117/D118,\"\")","v":""},"","","","","","","","","","","",null,{"$f":"IF(Q118<>0,Q117/Q118,\"\")","v":""},null,true,false,false,{"$f":"V165","v":false},false]
[null,null,2026,{"$f":"IF(D120<>0,D119/D120,\"\")","v":""},"","","","","","","","","","","",null,{"$f":"IF(Q120<>0,Q119/Q120,\"\")","v":""},null,true,false,false,{"$f":"V166","v":false},false]
[null,null,2025,{"$f":"IF(D122<>0,D121/D122,\"\")","v":""},"","","","","","","","","","","",null,{"$f":"IF(Q122<>0,Q121/Q122,\"\")","v":""},null,true,false,false,false,false]
[null,null,2024,{"$f":"IF(D124<>0,D123/D124,\"\")","v":""},"","","","","","","","","","","",null,{"$f":"IF(Q124<>0,Q123/Q124,\"\")","v":""},null,true,false,false,false,false]
[null,null,2023,{"$f":"IF(D126<>0,D125/D126,\"\")","v":""},"","","","","","","","","","","",null,{"$f":"IF(Q126<>0,Q125/Q126,\"\")","v":""},null,true,false,false,false,false]
[null,null,2022,{"$f":"IF(D128<>0,D127/D128,\"\")","v":""},"","","","","","","","","","","",null,{"$f":"IF(Q128<>0,Q127/Q128,\"\")","v":""},null,true,false,false,false,false]
[null,null,2021,{"$f":"IF(D130<>0,D129/D130,\"\")","v":""},"","","","","","","","","","","",null,{"$f":"IF(Q130<>0,Q129/Q130,\"\")","v":""},null,true,false,true,false,false]
[null,null,2020,{"$f":"IF(D132<>0,D131/D132,\"\")","v":""},"","","","","","","","","","","",null,{"$f":"IF(Q132<>0,Q131/Q132,\"\")","v":""},null,true,false,true,false,false]
[null,null,2019,{"$f":"IF(D134<>0,D133/D134,\"\")","v":""},"","","","","","","","","","","",null,{"$f":"IF(Q134<>0,Q133/Q134,\"\")","v":""},null,true,false,false,false,false]
[null,null,2018,{"$f":"IF(D136<>0,D135/D136,\"\")","v":""},"","","","","","","","","","","",null,{"$f":"IF(Q136<>0,Q135/Q136,\"\")","v":""},null,true,false,false,false,false]
[null,null,2017,{"$f":"IF(D138<>0,D137/D138,\"\")","v":""},"","","","","","","","","","","",null,{"$f":"IF(Q138<>0,Q137/Q138,\"\")","v":""},null,true,false,false,false,false]
[null,null,2016,{"$f":"IF(D140<>0,D139/D140,\"\")","v":""},"","","","","","","","","","","",null,{"$f":"IF(Q140<>0,Q139/Q140,\"\")","v":""},null,true,false,false,false,false]
[null,null,2015,{"$f":"IF(D142<>0,D141/D142,\"\")","v":""},"","","","","","","","","","","",null,{"$f":"IF(Q142<>0,Q141/Q142,\"\")","v":""},null,true,false,false,false,false]
[null,null,2014,{"$f":"IF(D144<>0,D143/D144,\"\")","v":""},{"$f":"IF(E144<>0,E143/E144,\"\")","v":""},"","","","","","","","","","",null,{"$f":"IF(Q144<>0,Q143/Q144,\"\")","v":""},null,true,false,false,false,false]
[null,null,2013,{"$f":"IF(D146<>0,D145/D146,\"\")","v":""},{"$f":"IF(E146<>0,E145/E146,\"\")","v":""},"","","","","","","","","","",null,{"$f":"IF(Q146<>0,Q145/Q146,\"\")","v":""},null,true,false,false,false,false]
[null,null,2012,{"$f":"IF(D148<>0,D147/D148,\"\")","v":""},{"$f":"IF(E148<>0,E147/E148,\"\")","v":""},"","","","","","","","","","",null,{"$f":"IF(Q148<>0,Q147/Q148,\"\")","v":""},null,{"$f":"S180","v":true},false,false,false,false]
[null,null,2011,{"$f":"IF(D150<>0,D149/D150,\"\")","v":""},{"$f":"IF(E150<>0,E149/E150,\"\")","v":""},"","","","","","","","","","",null,{"$f":"IF(Q150<>0,Q149/Q150,\"\")","v":""},null,true,false,false,false,false]
[null,null,2010,{"$f":"IF(D152<>0,D151/D152,\"\")","v":""},{"$f":"IF(E152<>0,E151/E152,\"\")","v":""},"","","","","","","","","","",null,{"$f":"IF(Q152<>0,Q151/Q152,\"\")","v":""},null,true,false,false,false,false]
[null,null,2009,{"$f":"IF(D154<>0,D153/D154,\"\")","v":""},{"$f":"IF(E154<>0,E153/E154,\"\")","v":""},"","","","","","","","","","",null,{"$f":"IF(Q154<>0,Q153/Q154,\"\")","v":""},null,true,false,false,false,false]
[null,null,2008,{"$f":"IF(D156<>0,D155/D156,\"\")","v":""},{"$f":"IF(E156<>0,E155/E156,\"\")","v":""},"","","","","","","","","","",null,{"$f":"IF(Q156<>0,Q155/Q156,\"\")","v":""},null,true,false,false,false,false]
[null,null,2007,{"$f":"IF(D158<>0,D157/D158,\"\")","v":""},{"$f":"IF(E158<>0,E157/E158,\"\")","v":""},"","","","","","","","","","",null,{"$f":"IF(Q158<>0,Q157/Q158,\"\")","v":""},null,true,false,false,false,false]
[null,null,2006,{"$f":"IF(D160<>0,D159/D160,\"\")","v":""},{"$f":"IF(E160<>0,E159/E160,\"\")","v":""},"","","","","","","","","","",null,{"$f":"IF(Q160<>0,Q159/Q160,\"\")","v":""},null,true,false,false,false,false]
[null,null,2005,{"$f":"IF(D162<>0,D161/D162,\"\")","v":""},{"$f":"IF(E162<>0,E161/E162,\"\")","v":""},"","","","","","","","","","",null,{"$f":"IF(Q162<>0,Q161/Q162,\"\")","v":""},null,true,false,false,false,false]
[null,null,null,null,null,null,null,null,null,null,null,null,null,null,null,null,null,null,{"$f":"S174","v":true},{"$f":"T174","v":false},null,{"$f":"V174","v":false},false]
[null,null,null,null,null,null,null,null,null,null,null,null,null,null,null,null,null,null,null,{"$f":"T189","v":false},null,null,false]
[null,"Energy Source",null,null,null,"UNIT","Notes",null,null,null,null,null,null,null,null,null,null,null,null,{"$f":"VLOOKUP(B192,$T$5:$U$24,2,)","v":false},null,null,{"$f":"AND(S191:V191)","v":false}]
["back to top",{"$f":"B110+1","v":3},{"$f":"VLOOKUP(B192,$B$5:$F$24,2,)","v":""},null,null,{"$f":"VLOOKUP(B192,$B$5:$G$24,5,)","v":""},{"$f":"VLOOKUP(B192,$B$5:$G$24,6,)","v":""},null,null,null,null,null,null,null,null,null,null,null,null,{"$f":"T191","v":false},null,null,{"$f":"AND(S192:V192)","v":false}]
[null,null,null,null,null,null,null,null,null,null,null,null,null,null,null,null,null,null,null,{"$f":"T192","v":false},null,null,false]
[null,null,null,{"$f":"D112","v":"Jan"},{"$f":"E112","v":"Feb"},"Mar","Apr","May","Jun","Jul","Aug","Sep","Oct","Nov","Dec",null,"YEAR",null,null,{"$f":"T193","v":false},null,null,false]
[null,{"$f":"FinalYear","v":2029},"$$",null,null,null,null,null,null,null,null,null,null,null,null,null,{"$f":"SUM(D195:O195)","v":0},null,null,false,{"$f":"AND(B195<=ReportingYear,B195>=BaselineYear)","v":false},null,false]
[null,null,"Qty",null,null,null,null,null,null,null,null,null,null,null,null,null,0,null,{"$f":"IF(F192=\"none\",FALSE,TRUE)","v":true},false,{"$f":"U195","v":false},null,false]
[null,{"$f":"B195-1","v":2028},"$$",null,null,null,null,null,null,null,null,null,null,null,null,null,0,null,null,false,{"$f":"AND(B197<=ReportingYear,B197>=BaselineYear)","v":false},null,false]
[null,null,"Qty",null,null,null,null,null,null,null,null,null,null,null,null,null,0,null,{"$f":"S196","v":true},false,{"$f":"U197","v":false},null,false]
[null,{"$f":"B197-1","v":2027},"$$",null,null,null,null,null,null,null,null,null,null,null,null,null,0,null,null,false,{"$f":"AND(B199<=ReportingYear,B199>=BaselineYear)","v":false},null,false]
[null,null,"Qty",null,null,null,null,null,null,null,null,null,null,null,null,null,0,null,{"$f":"S198","v":true},false,{"$f":"U199","v":false},null,false]
[null,{"$f":"B199-1","v":2026},"$$",null,null,null,null,null,null,null,null,null,null,null,null,null,0,null,null,false,{"$f":"AND(B201<=ReportingYear,B201>=BaselineYear)","v":false},null,false]
[null,null,"Qty",null,null,null,null,null,null,null,null,null,null,null,null,null,0,null,{"$f":"S200","v":true},false,{"$f":"U201","v":false},null,false]
[null,{"$f":"B201-1","v":2025},"$$",null,null,null,null,null,null,null,null,null,null,null,null,null,0,null,null,false,{"$f":"AND(B203<=ReportingYear,B203>=BaselineYear)","v":false},null,false]
[null,null,"Qty",null,null,null,null,null,null,null,null,null,null,null,null,null,0,null,{"$f":"S202","v":true},false,{"$f":"U203","v":false},null,false]
[null,{"$f":"B203-1","v":2024},"$$",null,null,null,null,null,null,null,null,null,null,null,null,null,0,null,null,false,{"$f":"AND(B205<=ReportingYear,B205>=BaselineYear)","v":false},null,false]
[null,null,"Qty",null,null,null,null,null,null,null,null,null,null,null,null,null,0,null,{"$f":"S204","v":true},false,{"$f":"U205","v":false},null,false]
[null,{"$f":"B205-1","v":2023},"$$",null,null,null,null,null,null,null,null,null,null,null,null,null,0,null,null,false,{"$f":"AND(B207<=ReportingYear,B207>=BaselineYear)","v":false},null,false]
[null,null,"Qty",null,null,null,null,null,null,null,null,null,null,null,null,null,0,null,{"$f":"S206","v":true},false,{"$f":"U207","v":false},null,false]
[null,{"$f":"B207-1","v":2022},"$$",null,null,null,null,null,null,null,null,null,null,null,null,null,0,null,null,false,{"$f":"AND(B209<=ReportingYear,B209>=BaselineYear)","v":false},null,false]
[null,null,"Qty",null,null,null,null,null,null,null,null,null,null,null,null,null,0,null,{"$f":"S208","v":true},false,{"$f":"U209","v":false},null,false]
[null,{"$f":"B209-1","v":2021},"$$",null,null,null,null,null,null,null,null,null,null,null,null,null,0,null,null,false,{"$f":"AND(B211<=ReportingYear,B211>=BaselineYear)","v":true},null,false]
[null,null,"Qty",null,null,null,null,null,null,null,null,null,null,null,null,null,0,null,{"$f":"S210","v":true},false,{"$f":"U211","v":true},null,false]
[null,{"$f":"B211-1","v":2020},"$$",null,null,null,null,null,null,null,null,null,null,null,null,null,0,null,null,false,{"$f":"AND(B213<=ReportingYear,B213>=BaselineYear)","v":true},null,false]
[null,null,"Qty",null,null,null,null,null,null,null,null,null,null,null,null,null,0,null,{"$f":"S212","v":true},false,{"$f":"U213","v":true},null,false]
[null,{"$f":"B213-1","v":2019},"$$",null,null,null,null,null,null,null,null,null,null,null,null,null,0,null,null,false,{"$f":"AND(B215<=ReportingYear,B215>=BaselineYear)","v":false},null,false]
[null,null,"Qty",null,null,null,null,null,null,null,null,null,null,null,null,null,0,null,{"$f":"S214","v":true},false,{"$f":"U215","v":false},null,false]
[null,{"$f":"B215-1","v":2018},"$$",null,null,null,null,null,null,null,null,null,null,null,null,null,0,null,null,false,{"$f":"AND(B217<=ReportingYear,B217>=BaselineYear)","v":false},null,false]
[null,null,"Qty",null,null,null,null,null,null,null,null,null,null,null,null,null,0,null,{"$f":"S216","v":true},false,{"$f":"U217","v":false},null,false]
[null,{"$f":"B217-1","v":2017},"$$",null,null,null,null,null,null,null,null,null,null,null,null,null,0,null,null,false,{"$f":"AND(B219<=ReportingYear,B219>=BaselineYear)","v":false},null,false]
[null,null,"Qty",null,null,null,null,null,null,null,null,null,null,null,null,null,0,null,{"$f":"S218","v":true},false,{"$f":"U219","v":false},null,false]
[null,{"$f":"B219-1","v":2016},"$$",null,null,null,null,null,null,null,null,null,null,null,null,null,0,null,null,false,{"$f":"AND(B221<=ReportingYear,B221>=BaselineYear)","v":false},null,false]
[null,null,"Qty",null,null,null,null,null,null,null,null,null,null,null,null,null,0,null,{"$f":"S220","v":true},false,{"$f":"U221","v":false},null,false]
[null,{"$f":"B221-1","v":2015},"$$",null,null,null,null,null,null,null,null,null,null,null,null,null,0,null,null,false,{"$f":"AND(B223<=ReportingYear,B223>=BaselineYear)","v":false},null,false]
[null,null,"Qty",null,null,null,null,null,null,null,null,null,null,null,null,null,0,null,{"$f":"S222","v":true},false,{"$f":"U223","v":false},null,false]
[null,{"$f":"B223-1","v":2014},"$$",null,null,null,null,null,null,null,null,null,null,null,null,null,0,null,null,false,{"$f":"AND(B225<=ReportingYear,B225>=BaselineYear)","v":false},null,false]
[null,null,"Qty",null,null,null,null,null,null,null,null,null,null,null,null,null,0,null,{"$f":"S224","v":true},false,{"$f":"U225","v":false},null,false]
[null,{"$f":"B225-1","v":2013},"$$",null,null,null,null,null,null,null,null,null,null,null,null,null,0,null,null,false,{"$f":"AND(B227<=ReportingYear,B227>=BaselineYear)","v":false},null,false]
[null,null,"Qty",null,null,null,null,null,null,null,null,null,null,null,null,null,0,null,{"$f":"S226","v":true},false,{"$f":"U227","v":false},null,false]
[null,{"$f":"B227-1","v":2012},"$$",null,null,null,null,null,null,null,null,null,null,null,null,null,0,null,null,false,{"$f":"AND(B229<=ReportingYear,B229>=BaselineYear)","v":false},null,false]
[null,null,"Qty",null,null,null,null,null,null,null,null,null,null,null,null,null,0,null,{"$f":"S228","v":true},false,{"$f":"U229","v":false},null,false]
[null,{"$f":"B229-1","v":2011},"$$",null,null,null,null,null,null,null,null,null,null,null,null,null,0,null,null,false,{"$f":"AND(B231<=ReportingYear,B231>=BaselineYear)","v":false},null,false]
[null,null,"Qty",null,null,null,null,null,null,null,null,null,null,null,null,null,0,null,{"$f":"S230","v":true},false,{"$f":"U231","v":false},null,false]
[null,{"$f":"B231-1","v":2010},"$$",null,null,null,null,null,null,null,null,null,null,null,null,null,0,null,null,false,{"$f":"AND(B233<=ReportingYear,B233>=BaselineYear)","v":false},null,false]
[null,null,"Qty",null,null,null,null,null,null,null,null,null,null,null,null,null,0,null,{"$f":"S232","v":true},false,{"$f":"U233","v":false},null,false]
[null,{"$f":"B233-1","v":2009},"$$",null,null,null,null,null,null,null,null,null,null,null,null,null,0,null,null,false,{"$f":"AND(B235<=ReportingYear,B235>=BaselineYear)","v":false},null,false]
[null,null,"Qty",null,null,null,null,null,null,null,null,null,null,null,null,null,0,null,{"$f":"S234","v":true},false,{"$f":"U235","v":false},null,false]
[null,{"$f":"B235-1","v":2008},"$$",null,null,null,null,null,null,null,null,null,null,null,null,null,0,null,null,false,{"$f":"AND(B237<=ReportingYear,B237>=BaselineYear)","v":false},null,false]
[null,null,"Qty",null,null,null,null,null,null,null,null,null,null,null,null,null,0,null,{"$f":"S236","v":true},false,{"$f":"U237","v":false},null,false]
[null,{"$f":"B237-1","v":2007},"$$",null,null,null,null,null,null,null,null,null,null,null,null,null,0,null,null,false,{"$f":"AND(B239<=ReportingYear,B239>=BaselineYear)","v":false},null,false]
[null,null,"Qty",null,null,null,null,null,null,null,null,null,null,null,null,null,0,null,{"$f":"S238","v":true},false,{"$f":"U239","v":false},null,false]
[null,{"$f":"B239-1","v":2006},"$$",null,null,null,null,null,null,null,null,null,null,null,null,null,0,null,null,false,{"$f":"AND(B241<=ReportingYear,B241>=BaselineYear)","v":false},null,false]
[null,null,"Qty",null,null,null,null,null,null,null,null,null,null,null,null,null,0,null,{"$f":"S240","v":true},false,{"$f":"U241","v":false},null,false]
[null,{"$f":"B241-1","v":2005},"$$",null,null,null,null,null,null,null,null,null,null,null,null,null,0,null,null,false,{"$f":"AND(B243<=ReportingYear,B243>=BaselineYear)","v":false},null,false]
[null,null,"Qty",null,null,null,null,null,null,null,null,null,null,null,null,null,0,null,{"$f":"S242","v":true},false,{"$f":"U243","v":false},null,false]
[null,null,null,null,null,null,null,null,null,null,null,null,null,null,null,null,null,null,null,{"$f":"T216","v":false},null,null,false]
[null,"Per Unit Costs",{"$f":"B195","v":2029},{"$f":"IF(D196<>0,D195/D196,\"\")","v":""},"","","","","","","","","","","",null,{"$f":"IF(Q196<>0,Q195/Q196,\"\")","v":""},null,{"$f":"S224","v":true},{"$f":"T245","v":false},{"$f":"AND(C246<=ReportingYear,C246>=BaselineYear)","v":false},{"$f":"UnitCostStatus","v":false},false]
[null,null,{"$f":"C246-1","v":2028},{"$f":"IF(D198<>0,D197/D198,\"\")","v":""},"","","","","","","","","","","",null,{"$f":"IF(Q198<>0,Q197/Q198,\"\")","v":""},null,{"$f":"S246","v":true},false,false,{"$f":"V246","v":false},false]
[null,null,{"$f":"C247-1","v":2027},{"$f":"IF(D200<>0,D199/D200,\"\")","v":""},"","","","","","","","","","","",null,{"$f":"IF(Q200<>0,Q199/Q200,\"\")","v":""},null,true,false,false,{"$f":"V247","v":false},false]
[null,null,2026,{"$f":"IF(D202<>0,D201/D202,\"\")","v":""},"","","","","","","","","","","",null,{"$f":"IF(Q202<>0,Q201/Q202,\"\")","v":""},null,true,false,false,{"$f":"V248","v":false},false]
[null,null,2025,{"$f":"IF(D204<>0,D203/D204,\"\")","v":""},"","","","","","","","","","","",null,{"$f":"IF(Q204<>0,Q203/Q204,\"\")","v":""},null,true,false,false,false,false]
[null,null,2024,{"$f":"IF(D206<>0,D205/D206,\"\")","v":""},"","","","","","","","","","","",null,{"$f":"IF(Q206<>0,Q205/Q206,\"\")","v":""},null,true,false,false,false,false]
[null,null,2023,{"$f":"IF(D208<>0,D207/D208,\"\")","v":""},"","","","","","","","","","","",null,{"$f":"IF(Q208<>0,Q207/Q208,\"\")","v":""},null,true,false,false,false,false]
[null,null,2022,{"$f":"IF(D210<>0,D209/D210,\"\")","v":""},"","","","","","","","","","","",null,{"$f":"IF(Q210<>0,Q209/Q210,\"\")","v":""},null,true,false,false,false,false]
[null,null,2021,{"$f":"IF(D212<>0,D211/D212,\"\")","v":""},"","","","","","","","","","","",null,{"$f":"IF(Q212<>0,Q211/Q212,\"\")","v":""},null,true,false,true,false,false]
[null,null,2020,{"$f":"IF(D214<>0,D213/D214,\"\")","v":""},"","","","","","","","","","","",null,{"$f":"IF(Q214<>0,Q213/Q214,\"\")","v":""},null,true,false,true,false,false]
[null,null,2019,{"$f":"IF(D216<>0,D215/D216,\"\")","v":""},"","","","","","","","","","","",null,{"$f":"IF(Q216<>0,Q215/Q216,\"\")","v":""},null,true,false,false,false,false]
[null,null,2018,{"$f":"IF(D218<>0,D217/D218,\"\")","v":""},"","","","","","","","","","","",null,{"$f":"IF(Q218<>0,Q217/Q218,\"\")","v":""},null,true,false,false,false,false]
[null,null,2017,{"$f":"IF(D220<>0,D219/D220,\"\")","v":""},"","","","","","","","","","","",null,{"$f":"IF(Q220<>0,Q219/Q220,\"\")","v":""},null,true,false,false,false,false]
[null,null,2016,{"$f":"IF(D222<>0,D221/D222,\"\")","v":""},"","","","","","","","","","","",null,{"$f":"IF(Q222<>0,Q221/Q222,\"\")","v":""},null,true,false,false,false,false]
[null,null,2015,{"$f":"IF(D224<>0,D223/D224,\"\")","v":""},"","","","","","","","","","","",null,{"$f":"IF(Q224<>0,Q223/Q224,\"\")","v":""},null,true,false,false,false,false]
[null,null,2014,{"$f":"IF(D226<>0,D225/D226,\"\")","v":""},{"$f":"IF(E226<>0,E225/E226,\"\")","v":""},"","","","","","","","","","",null,{"$f":"IF(Q226<>0,Q225/Q226,\"\")","v":""},null,true,false,false,false,false]
[null,null,2013,{"$f":"IF(D228<>0,D227/D228,\"\")","v":""},{"$f":"IF(E228<>0,E227/E228,\"\")","v":""},"","","","","","","","","","",null,{"$f":"IF(Q228<>0,Q227/Q228,\"\")","v":""},null,true,false,false,false,false]
[null,null,2012,{"$f":"IF(D230<>0,D229/D230,\"\")","v":""},{"$f":"IF(E230<>0,E229/E230,\"\")","v":""},"","","","","","","","","","",null,{"$f":"IF(Q230<>0,Q229/Q230,\"\")","v":""},null,{"$f":"S262","v":true},false,false,false,false]
[null,null,2011,{"$f":"IF(D232<>0,D231/D232,\"\")","v":""},{"$f":"IF(E232<>0,E231/E232,\"\")","v":""},"","","","","","","","","","",null,{"$f":"IF(Q232<>0,Q231/Q232,\"\")","v":""},null,true,false,false,false,false]
[null,null,2010,{"$f":"IF(D234<>0,D233/D234,\"\")","v":""},{"$f":"IF(E234<>0,E233/E234,\"\")","v":""},"","","","","","","","","","",null,{"$f":"IF(Q234<>0,Q233/Q234,\"\")","v":""},null,true,false,false,false,false]
[null,null,2009,{"$f":"IF(D236<>0,D235/D236,\"\")","v":""},{"$f":"IF(E236<>0,E235/E236,\"\")","v":""},"","","","","","","","","","",null,{"$f":"IF(Q236<>0,Q235/Q236,\"\")","v":""},null,true,false,false,false,false]
[null,null,2008,{"$f":"IF(D238<>0,D237/D238,\"\")","v":""},{"$f":"IF(E238<>0,E237/E238,\"\")","v":""},"","","","","","","","","","",null,{"$f":"IF(Q238<>0,Q237/Q238,\"\")","v":""},null,true,false,false,false,false]
[null,null,2007,{"$f":"IF(D240<>0,D239/D240,\"\")","v":""},{"$f":"IF(E240<>0,E239/E240,\"\")","v":""},"","","","","","","","","","",null,{"$f":"IF(Q240<>0,Q239/Q240,\"\")","v":""},null,true,false,false,false,false]
[null,null,2006,{"$f":"IF(D242<>0,D241/D242,\"\")","v":""},{"$f":"IF(E242<>0,E241/E242,\"\")","v":""},"","","","","","","","","","",null,{"$f":"IF(Q242<>0,Q241/Q242,\"\")","v":""},null,true,false,false,false,false]
[null,null,2005,{"$f":"IF(D244<>0,D243/D244,\"\")","v":""},{"$f":"IF(E244<>0,E243/E244,\"\")","v":""},"","","","","","","","","","",null,{"$f":"IF(Q244<>0,Q243/Q244,\"\")","v":""},null,true,false,false,false,false]
[null,null,null,null,null,null,null,null,null,null,null,null,null,null,null,null,null,null,{"$f":"S256","v":true},{"$f":"T256","v":false},null,{"$f":"V256","v":false},false]
[null,null,null,null,null,null,null,null,null,null,null,null,null,null,null,null,null,null,null,{"$f":"T271","v":false},null,null,false]
[null,"Energy Source",null,null,null,"UNIT","Notes",null,null,null,null,null,null,null,null,null,null,null,null,{"$f":"VLOOKUP(B274,$T$5:$U$24,2,)","v":false},null,null,{"$f":"AND(S273:V273)","v":false}]
["back to top",{"$f":"B192+1","v":4},{"$f":"VLOOKUP(B274,$B$5:$F$24,2,)","v":""},null,null,{"$f":"VLOOKUP(B274,$B$5:$G$24,5,)","v":""},{"$f":"VLOOKUP(B274,$B$5:$G$24,6,)","v":""},null,null,null,null,null,null,null,null,null,null,null,null,{"$f":"T273","v":false},null,null,{"$f":"AND(S274:V274)","v":false}]
[null,null,null,null,null,null,null,null,null,null,null,null,null,null,null,null,null,null,null,{"$f":"T274","v":false},null,null,false]
[null,null,null,{"$f":"D194","v":"Jan"},{"$f":"E194","v":"Feb"},"Mar","Apr","May","Jun","Jul","Aug","Sep","Oct","Nov","Dec",null,"YEAR",null,null,{"$f":"T275","v":false},null,null,false]
[null,{"$f":"FinalYear","v":2029},"$$",null,null,null,null,null,null,null,null,null,null,null,null,null,{"$f":"SUM(D277:O277)","v":0},null,null,false,{"$f":"AND(B277<=ReportingYear,B277>=BaselineYear)","v":false},null,false]
[null,null,"Qty",null,null,null,null,null,null,null,null,null,null,null,null,null,0,null,{"$f":"IF(F274=\"none\",FALSE,TRUE)","v":true},false,{"$f":"U277","v":false},null,false]
[null,{"$f":"B277-1","v":2028},"$$",null,null,null,null,null,null,null,null,null,null,null,null,null,0,null,null,false,{"$f":"AND(B279<=ReportingYear,B279>=BaselineYear)","v":false},null,false]
[null,null,"Qty",null,null,null,null,null,null,null,null,null,null,null,null,null,0,null,{"$f":"S278","v":true},false,{"$f":"U279","v":false},null,false]
[null,{"$f":"B279-1","v":2027},"$$",null,null,null,null,null,null,null,null,null,null,null,null,null,0,null,null,false,{"$f":"AND(B281<=ReportingYear,B281>=BaselineYear)","v":false},null,false]
[null,null,"Qty",null,null,null,null,null,null,null,null,null,null,null,null,null,0,null,{"$f":"S280","v":true},false,{"$f":"U281","v":false},null,false]
[null,{"$f":"B281-1","v":2026},"$$",null,null,null,null,null,null,null,null,null,null,null,null,null,0,null,null,false,{"$f":"AND(B283<=ReportingYear,B283>=BaselineYear)","v":false},null,false]
[null,null,"Qty",null,null,null,null,null,null,null,null,null,null,null,null,null,0,null,{"$f":"S282","v":true},false,{"$f":"U283","v":false},null,false]
[null,{"$f":"B283-1","v":2025},"$$",null,null,null,null,null,null,null,null,null,null,null,null,null,0,null,null,false,{"$f":"AND(B285<=ReportingYear,B285>=BaselineYear)","v":false},null,false]
[null,null,"Qty",null,null,null,null,null,null,null,null,null,null,null,null,null,0,null,{"$f":"S284","v":true},false,{"$f":"U285","v":false},null,false]
[null,{"$f":"B285-1","v":2024},"$$",null,null,null,null,null,null,null,null,null,null,null,null,null,0,null,null,false,{"$f":"AND(B287<=ReportingYear,B287>=BaselineYear)","v":false},null,false]
[null,null,"Qty",null,null,null,null,null,null,null,null,null,null,null,null,null,0,null,{"$f":"S286","v":true},false,{"$f":"U287","v":false},null,false]
[null,{"$f":"B287-1","v":2023},"$$",null,null,null,null,null,null,null,null,null,null,null,null,null,0,null,null,false,{"$f":"AND(B289<=ReportingYear,B289>=BaselineYear)","v":false},null,false]
[null,null,"Qty",null,null,null,null,null,null,null,null,null,null,null,null,null,0,null,{"$f":"S288","v":true},false,{"$f":"U289","v":false},null,false]
[null,{"$f":"B289-1","v":2022},"$$",null,null,null,null,null,null,null,null,null,null,null,null,null,0,null,null,false,{"$f":"AND(B291<=ReportingYear,B291>=BaselineYear)","v":false},null,false]
[null,null,"Qty",null,null,null,null,null,null,null,null,null,null,null,null,null,0,null,{"$f":"S290","v":true},false,{"$f":"U291","v":false},null,false]
[null,{"$f":"B291-1","v":2021},"$$",null,null,null,null,null,null,null,null,null,null,null,null,null,0,null,null,false,{"$f":"AND(B293<=ReportingYear,B293>=BaselineYear)","v":true},null,false]
[null,null,"Qty",null,null,null,null,null,null,null,null,null,null,null,null,null,0,null,{"$f":"S292","v":true},false,{"$f":"U293","v":true},null,false]
[null,{"$f":"B293-1","v":2020},"$$",null,null,null,null,null,null,null,null,null,null,null,null,null,0,null,null,false,{"$f":"AND(B295<=ReportingYear,B295>=BaselineYear)","v":true},null,false]
[null,null,"Qty",null,null,null,null,null,null,null,null,null,null,null,null,null,0,null,{"$f":"S294","v":true},false,{"$f":"U295","v":true},null,false]
[null,{"$f":"B295-1","v":2019},"$$",null,null,null,null,null,null,null,null,null,null,null,null,null,0,null,null,false,{"$f":"AND(B297<=ReportingYear,B297>=BaselineYear)","v":false},null,false]
[null,null,"Qty",null,null,null,null,null,null,null,null,null,null,null,null,null,0,null,{"$f":"S296","v":true},false,{"$f":"U297","v":false},null,false]
[null,{"$f":"B297-1","v":2018},"$$",null,null,null,null,null,null,null,null,null,null,null,null,null,0,null,null,false,{"$f":"AND(B299<=ReportingYear,B299>=BaselineYear)","v":false},null,false]
[null,null,"Qty",null,null,null,null,null,null,null,null,null,null,null,null,null,0,null,{"$f":"S298","v":true},false,{"$f":"U299","v":false},null,false]
[null,{"$f":"B299-1","v":2017},"$$",null,null,null,null,null,null,null,null,null,null,null,null,null,0,null,null,false,{"$f":"AND(B301<=ReportingYear,B301>=BaselineYear)","v":false},null,false]
[null,null,"Qty",null,null,null,null,null,null,null,null,null,null,null,null,null,0,null,{"$f":"S300","v":true},false,{"$f":"U301","v":false},null,false]
[null,{"$f":"B301-1","v":2016},"$$",null,null,null,null,null,null,null,null,null,null,null,null,null,0,null,null,false,{"$f":"AND(B303<=ReportingYear,B303>=BaselineYear)","v":false},null,false]
[null,null,"Qty",null,null,null,null,null,null,null,null,null,null,null,null,null,0,null,{"$f":"S302","v":true},false,{"$f":"U303","v":false},null,false]
[null,{"$f":"B303-1","v":2015},"$$",null,null,null,null,null,null,null,null,null,null,null,null,null,0,null,null,false,{"$f":"AND(B305<=ReportingYear,B305>=BaselineYear)","v":false},null,false]
[null,null,"Qty",null,null,null,null,null,null,null,null,null,null,null,null,null,0,null,{"$f":"S304","v":true},false,{"$f":"U305","v":false},null,false]
[null,{"$f":"B305-1","v":2014},"$$",null,null,null,null,null,null,null,null,null,null,null,null,null,0,null,null,false,{"$f":"AND(B307<=ReportingYear,B307>=BaselineYear)","v":false},null,false]
[null,null,"Qty",null,null,null,null,null,null,null,null,null,null,null,null,null,0,null,{"$f":"S306","v":true},false,{"$f":"U307","v":false},null,false]
[null,{"$f":"B307-1","v":2013},"$$",null,null,null,null,null,null,null,null,null,null,null,null,null,0,null,null,false,{"$f":"AND(B309<=ReportingYear,B309>=BaselineYear)","v":false},null,false]
[null,null,"Qty",null,null,null,null,null,null,null,null,null,null,null,null,null,0,null,{"$f":"S308","v":true},false,{"$f":"U309","v":false},null,false]
[null,{"$f":"B309-1","v":2012},"$$",null,null,null,null,null,null,null,null,null,null,null,null,null,0,null,null,false,{"$f":"AND(B311<=ReportingYear,B311>=BaselineYear)","v":false},null,false]
[null,null,"Qty",null,null,null,null,null,null,null,null,null,null,null,null,null,0,null,{"$f":"S310","v":true},false,{"$f":"U311","v":false},null,false]
[null,{"$f":"B311-1","v":2011},"$$",null,null,null,null,null,null,null,null,null,null,null,null,null,0,null,null,false,{"$f":"AND(B313<=ReportingYear,B313>=BaselineYear)","v":false},null,false]
[null,null,"Qty",null,null,null,null,null,null,null,null,null,null,null,null,null,0,null,{"$f":"S312","v":true},false,{"$f":"U313","v":false},null,false]
[null,{"$f":"B313-1","v":2010},"$$",null,null,null,null,null,null,null,null,null,null,null,null,null,0,null,null,false,{"$f":"AND(B315<=ReportingYear,B315>=BaselineYear)","v":false},null,false]
[null,null,"Qty",null,null,null,null,null,null,null,null,null,null,null,null,null,0,null,{"$f":"S314","v":true},false,{"$f":"U315","v":false},null,false]
[null,{"$f":"B315-1","v":2009},"$$",null,null,null,null,null,null,null,null,null,null,null,null,null,0,null,null,false,{"$f":"AND(B317<=ReportingYear,B317>=BaselineYear)","v":false},null,false]
[null,null,"Qty",null,null,null,null,null,null,null,null,null,null,null,null,null,0,null,{"$f":"S316","v":true},false,{"$f":"U317","v":false},null,false]
[null,{"$f":"B317-1","v":2008},"$$",null,null,null,null,null,null,null,null,null,null,null,null,null,0,null,null,false,{"$f":"AND(B319<=ReportingYear,B319>=BaselineYear)","v":false},null,false]
[null,null,"Qty",null,null,null,null,null,null,null,null,null,null,null,null,null,0,null,{"$f":"S318","v":true},false,{"$f":"U319","v":false},null,false]
[null,{"$f":"B319-1","v":2007},"$$",null,null,null,null,null,null,null,null,null,null,null,null,null,0,null,null,false,{"$f":"AND(B321<=ReportingYear,B321>=BaselineYear)","v":false},null,false]
[null,null,"Qty",null,null,null,null,null,null,null,null,null,null,null,null,null,0,null,{"$f":"S320","v":true},false,{"$f":"U321","v":false},null,false]
[null,{"$f":"B321-1","v":2006},"$$",null,null,null,null,null,null,null,null,null,null,null,null,null,0,null,null,false,{"$f":"AND(B323<=ReportingYear,B323>=BaselineYear)","v":false},null,false]
[null,null,"Qty",null,null,null,null,null,null,null,null,null,null,null,null,null,0,null,{"$f":"S322","v":true},false,{"$f":"U323","v":false},null,false]
[null,{"$f":"B323-1","v":2005},"$$",null,null,null,null,null,null,null,null,null,null,null,null,null,0,null,null,false,{"$f":"AND(B325<=ReportingYear,B325>=BaselineYear)","v":false},null,false]
[null,null,"Qty",null,null,null,null,null,null,null,null,null,null,null,null,null,0,null,{"$f":"S324","v":true},false,{"$f":"U325","v":false},null,false]
[null,null,null,null,null,null,null,null,null,null,null,null,null,null,null,null,null,null,null,{"$f":"T298","v":false},null,null,false]
[null,"Per Unit Costs",{"$f":"B277","v":2029},{"$f":"IF(D278<>0,D277/D278,\"\")","v":""},"","","","","","","","","","","",null,{"$f":"IF(Q278<>0,Q277/Q278,\"\")","v":""},null,{"$f":"S306","v":true},{"$f":"T327","v":false},{"$f":"AND(C328<=ReportingYear,C328>=BaselineYear)","v":false},{"$f":"UnitCostStatus","v":false},false]
[null,null,{"$f":"C328-1","v":2028},{"$f":"IF(D280<>0,D279/D280,\"\")","v":""},"","","","","","","","","","","",null,{"$f":"IF(Q280<>0,Q279/Q280,\"\")","v":""},null,{"$f":"S328","v":true},false,false,{"$f":"V328","v":false},false]
[null,null,{"$f":"C329-1","v":2027},{"$f":"IF(D282<>0,D281/D282,\"\")","v":""},"","","","","","","","","","","",null,{"$f":"IF(Q282<>0,Q281/Q282,\"\")","v":""},null,true,false,false,{"$f":"V329","v":false},false]
[null,null,2026,{"$f":"IF(D284<>0,D283/D284,\"\")","v":""},"","","","","","","","","","","",null,{"$f":"IF(Q284<>0,Q283/Q284,\"\")","v":""},null,true,false,false,{"$f":"V330","v":false},false]
[null,null,2025,{"$f":"IF(D286<>0,D285/D286,\"\")","v":""},"","","","","","","","","","","",null,{"$f":"IF(Q286<>0,Q285/Q286,\"\")","v":""},null,true,false,false,false,false]
[null,null,2024,{"$f":"IF(D288<>0,D287/D288,\"\")","v":""},"","","","","","","","","","","",null,{"$f":"IF(Q288<>0,Q287/Q288,\"\")","v":""},null,true,false,false,false,false]
[null,null,2023,{"$f":"IF(D290<>0,D289/D290,\"\")","v":""},"","","","","","","","","","","",null,{"$f":"IF(Q290<>0,Q289/Q290,\"\")","v":""},null,true,false,false,false,false]
[null,null,2022,{"$f":"IF(D292<>0,D291/D292,\"\")","v":""},"","","","","","","","","","","",null,{"$f":"IF(Q292<>0,Q291/Q292,\"\")","v":""},null,true,false,false,false,false]
[null,null,2021,{"$f":"IF(D294<>0,D293/D294,\"\")","v":""},"","","","","","","","","","","",null,{"$f":"IF(Q294<>0,Q293/Q294,\"\")","v":""},null,true,false,true,false,false]
[null,null,2020,{"$f":"IF(D296<>0,D295/D296,\"\")","v":""},"","","","","","","","","","","",null,{"$f":"IF(Q296<>0,Q295/Q296,\"\")","v":""},null,true,false,true,false,false]
[null,null,2019,{"$f":"IF(D298<>0,D297/D298,\"\")","v":""},"","","","","","","","","","","",null,{"$f":"IF(Q298<>0,Q297/Q298,\"\")","v":""},null,true,false,false,false,false]
[null,null,2018,{"$f":"IF(D300<>0,D299/D300,\"\")","v":""},"","","","","","","","","","","",null,{"$f":"IF(Q300<>0,Q299/Q300,\"\")","v":""},null,true,false,false,false,false]
[null,null,2017,{"$f":"IF(D302<>0,D301/D302,\"\")","v":""},"","","","","","","","","","","",null,{"$f":"IF(Q302<>0,Q301/Q302,\"\")","v":""},null,true,false,false,false,false]
[null,null,2016,{"$f":"IF(D304<>0,D303/D304,\"\")","v":""},"","","","","","","","","","","",null,{"$f":"IF(Q304<>0,Q303/Q304,\"\")","v":""},null,true,false,false,false,false]
[null,null,2015,{"$f":"IF(D306<>0,D305/D306,\"\")","v":""},"","","","","","","","","","","",null,{"$f":"IF(Q306<>0,Q305/Q306,\"\")","v":""},null,true,false,false,false,false]
[null,null,2014,{"$f":"IF(D308<>0,D307/D308,\"\")","v":""},{"$f":"IF(E308<>0,E307/E308,\"\")","v":""},"","","","","","","","","","",null,{"$f":"IF(Q308<>0,Q307/Q308,\"\")","v":""},null,true,false,false,false,false]
[null,null,2013,{"$f":"IF(D310<>0,D309/D310,\"\")","v":""},{"$f":"IF(E310<>0,E309/E310,\"\")","v":""},"","","","","","","","","","",null,{"$f":"IF(Q310<>0,Q309/Q310,\"\")","v":""},null,true,false,false,false,false]
[null,null,2012,{"$f":"IF(D312<>0,D311/D312,\"\")","v":""},{"$f":"IF(E312<>0,E311/E312,\"\")","v":""},"","","","","","","","","","",null,{"$f":"IF(Q312<>0,Q311/Q312,\"\")","v":""},null,{"$f":"S344","v":true},false,false,false,false]
[null,null,2011,{"$f":"IF(D314<>0,D313/D314,\"\")","v":""},{"$f":"IF(E314<>0,E313/E314,\"\")","v":""},"","","","","","","","","","",null,{"$f":"IF(Q314<>0,Q313/Q314,\"\")","v":""},null,true,false,false,false,false]
[null,null,2010,{"$f":"IF(D316<>0,D315/D316,\"\")","v":""},{"$f":"IF(E316<>0,E315/E316,\"\")","v":""},"","","","","","","","","","",null,{"$f":"IF(Q316<>0,Q315/Q316,\"\")","v":""},null,true,false,false,false,false]
[null,null,2009,{"$f":"IF(D318<>0,D317/D318,\"\")","v":""},{"$f":"IF(E318<>0,E317/E318,\"\")","v":""},"","","","","","","","","","",null,{"$f":"IF(Q318<>0,Q317/Q318,\"\")","v":""},null,true,false,false,false,false]
[null,null,2008,{"$f":"IF(D320<>0,D319/D320,\"\")","v":""},{"$f":"IF(E320<>0,E319/E320,\"\")","v":""},"","","","","","","","","","",null,{"$f":"IF(Q320<>0,Q319/Q320,\"\")","v":""},null,true,false,false,false,false]
[null,null,2007,{"$f":"IF(D322<>0,D321/D322,\"\")","v":""},{"$f":"IF(E322<>0,E321/E322,\"\")","v":""},"","","","","","","","","","",null,{"$f":"IF(Q322<>0,Q321/Q322,\"\")","v":""},null,true,false,false,false,false]
[null,null,2006,{"$f":"IF(D324<>0,D323/D324,\"\")","v":""},{"$f":"IF(E324<>0,E323/E324,\"\")","v":""},"","","","","","","","","","",null,{"$f":"IF(Q324<>0,Q323/Q324,\"\")","v":""},null,true,false,false,false,false]
[null,null,2005,{"$f":"IF(D326<>0,D325/D326,\"\")","v":""},{"$f":"IF(E326<>0,E325/E326,\"\")","v":""},"","","","","","","","","","",null,{"$f":"IF(Q326<>0,Q325/Q326,\"\")","v":""},null,true,false,false,false,false]
[null,null,null,null,null,null,null,null,null,null,null,null,null,null,null,null,null,null,{"$f":"S338","v":true},{"$f":"T338","v":false},null,{"$f":"V338","v":false},false]
[null,null,null,null,null,null,null,null,null,null,null,null,null,null,null,null,null,null,null,{"$f":"T353","v":false},null,null,false]
[null,"Energy Source",null,null,null,"UNIT","Notes",null,null,null,null,null,null,null,null,null,null,null,null,{"$f":"VLOOKUP(B356,$T$5:$U$24,2,)","v":false},null,null,{"$f":"AND(S355:V355)","v":false}]
["back to top",{"$f":"B274+1","v":5},{"$f":"VLOOKUP(B356,$B$5:$F$24,2,)","v":""},null,null,{"$f":"VLOOKUP(B356,$B$5:$G$24,5,)","v":""},{"$f":"VLOOKUP(B356,$B$5:$G$24,6,)","v":""},null,null,null,null,null,null,null,null,null,null,null,null,{"$f":"T355","v":false},null,null,{"$f":"AND(S356:V356)","v":false}]
[null,null,null,null,null,null,null,null,null,null,null,null,null,null,null,null,null,null,null,{"$f":"T356","v":false},null,null,false]
[null,null,null,{"$f":"D276","v":"Jan"},{"$f":"E276","v":"Feb"},"Mar","Apr","May","Jun","Jul","Aug","Sep","Oct","Nov","Dec",null,"YEAR",null,null,{"$f":"T357","v":false},null,null,false]
[null,{"$f":"FinalYear","v":2029},"$$",null,null,null,null,null,null,null,null,null,null,null,null,null,{"$f":"SUM(D359:O359)","v":0},null,null,false,{"$f":"AND(B359<=ReportingYear,B359>=BaselineYear)","v":false},null,false]
[null,null,"Qty",null,null,null,null,null,null,null,null,null,null,null,null,null,0,null,{"$f":"IF(F356=\"none\",FALSE,TRUE)","v":true},false,{"$f":"U359","v":false},null,false]
[null,{"$f":"B359-1","v":2028},"$$",null,null,null,null,null,null,null,null,null,null,null,null,null,0,null,null,false,{"$f":"AND(B361<=ReportingYear,B361>=BaselineYear)","v":false},null,false]
[null,null,"Qty",null,null,null,null,null,null,null,null,null,null,null,null,null,0,null,{"$f":"S360","v":true},false,{"$f":"U361","v":false},null,false]
[null,{"$f":"B361-1","v":2027},"$$",null,null,null,null,null,null,null,null,null,null,null,null,null,0,null,null,false,{"$f":"AND(B363<=ReportingYear,B363>=BaselineYear)","v":false},null,false]
[null,null,"Qty",null,null,null,null,null,null,null,null,null,null,null,null,null,0,null,{"$f":"S362","v":true},false,{"$f":"U363","v":false},null,false]
[null,{"$f":"B363-1","v":2026},"$$",null,null,null,null,null,null,null,null,null,null,null,null,null,0,null,null,false,{"$f":"AND(B365<=ReportingYear,B365>=BaselineYear)","v":false},null,false]
[null,null,"Qty",null,null,null,null,null,null,null,null,null,null,null,null,null,0,null,{"$f":"S364","v":true},false,{"$f":"U365","v":false},null,false]
[null,{"$f":"B365-1","v":2025},"$$",null,null,null,null,null,null,null,null,null,null,null,null,null,0,null,null,false,{"$f":"AND(B367<=ReportingYear,B367>=BaselineYear)","v":false},null,false]
[null,null,"Qty",null,null,null,null,null,null,null,null,null,null,null,null,null,0,null,{"$f":"S366","v":true},false,{"$f":"U367","v":false},null,false]
[null,{"$f":"B367-1","v":2024},"$$",null,null,null,null,null,null,null,null,null,null,null,null,null,0,null,null,false,{"$f":"AND(B369<=ReportingYear,B369>=BaselineYear)","v":false},null,false]
[null,null,"Qty",null,null,null,null,null,null,null,null,null,null,null,null,null,0,null,{"$f":"S368","v":true},false,{"$f":"U369","v":false},null,false]
[null,{"$f":"B369-1","v":2023},"$$",null,null,null,null,null,null,null,null,null,null,null,null,null,0,null,null,false,{"$f":"AND(B371<=ReportingYear,B371>=BaselineYear)","v":false},null,false]
[null,null,"Qty",null,null,null,null,null,null,null,null,null,null,null,null,null,0,null,{"$f":"S370","v":true},false,{"$f":"U371","v":false},null,false]
[null,{"$f":"B371-1","v":2022},"$$",null,null,null,null,null,null,null,null,null,null,null,null,null,0,null,null,false,{"$f":"AND(B373<=ReportingYear,B373>=BaselineYear)","v":false},null,false]
[null,null,"Qty",null,null,null,null,null,null,null,null,null,null,null,null,null,0,null,{"$f":"S372","v":true},false,{"$f":"U373","v":false},null,false]
[null,{"$f":"B373-1","v":2021},"$$",null,null,null,null,null,null,null,null,null,null,null,null,null,0,null,null,false,{"$f":"AND(B375<=ReportingYear,B375>=BaselineYear)","v":true},null,false]
[null,null,"Qty",null,null,null,null,null,null,null,null,null,null,null,null,null,0,null,{"$f":"S374","v":true},false,{"$f":"U375","v":true},null,false]
[null,{"$f":"B375-1","v":2020},"$$",null,null,null,null,null,null,null,null,null,null,null,null,null,0,null,null,false,{"$f":"AND(B377<=ReportingYear,B377>=BaselineYear)","v":true},null,false]
[null,null,"Qty",null,null,null,null,null,null,null,null,null,null,null,null,null,0,null,{"$f":"S376","v":true},false,{"$f":"U377","v":true},null,false]
[null,{"$f":"B377-1","v":2019},"$$",null,null,null,null,null,null,null,null,null,null,null,null,null,0,null,null,false,{"$f":"AND(B379<=ReportingYear,B379>=BaselineYear)","v":false},null,false]
[null,null,"Qty",null,null,null,null,null,null,null,null,null,null,null,null,null,0,null,{"$f":"S378","v":true},false,{"$f":"U379","v":false},null,false]
[null,{"$f":"B379-1","v":2018},"$$",null,null,null,null,null,null,null,null,null,null,null,null,null,0,null,null,false,{"$f":"AND(B381<=ReportingYear,B381>=BaselineYear)","v":false},null,false]
[null,null,"Qty",null,null,null,null,null,null,null,null,null,null,null,null,null,0,null,{"$f":"S380","v":true},false,{"$f":"U381","v":false},null,false]
[null,{"$f":"B381-1","v":2017},"$$",null,null,null,null,null,null,null,null,null,null,null,null,null,0,null,null,false,{"$f":"AND(B383<=ReportingYear,B383>=BaselineYear)","v":false},null,false]
[null,null,"Qty",null,null,null,null,null,null,null,null,null,null,null,null,null,0,null,{"$f":"S382","v":true},false,{"$f":"U383","v":false},null,false]
[null,{"$f":"B383-1","v":2016},"$$",null,null,null,null,null,null,null,null,null,null,null,null,null,0,null,null,false,{"$f":"AND(B385<=ReportingYear,B385>=BaselineYear)","v":false},null,false]
[null,null,"Qty",null,null,null,null,null,null,null,null,null,null,null,null,null,0,null,{"$f":"S384","v":true},false,{"$f":"U385","v":false},null,false]
[null,{"$f":"B385-1","v":2015},"$$",null,null,null,null,null,null,null,null,null,null,null,null,null,0,null,null,false,{"$f":"AND(B387<=ReportingYear,B387>=BaselineYear)","v":false},null,false]
[null,null,"Qty",null,null,null,null,null,null,null,null,null,null,null,null,null,0,null,{"$f":"S386","v":true},false,{"$f":"U387","v":false},null,false]
[null,{"$f":"B387-1","v":2014},"$$",null,null,null,null,null,null,null,null,null,null,null,null,null,0,null,null,false,{"$f":"AND(B389<=ReportingYear,B389>=BaselineYear)","v":false},null,false]
[null,null,"Qty",null,null,null,null,null,null,null,null,null,null,null,null,null,0,null,{"$f":"S388","v":true},false,{"$f":"U389","v":false},null,false]
[null,{"$f":"B389-1","v":2013},"$$",null,null,null,null,null,null,null,null,null,null,null,null,null,0,null,null,false,{"$f":"AND(B391<=ReportingYear,B391>=BaselineYear)","v":false},null,false]
[null,null,"Qty",null,null,null,null,null,null,null,null,null,null,null,null,null,0,null,{"$f":"S390","v":true},false,{"$f":"U391","v":false},null,false]
[null,{"$f":"B391-1","v":2012},"$$",null,null,null,null,null,null,null,null,null,null,null,null,null,0,null,null,false,{"$f":"AND(B393<=ReportingYear,B393>=BaselineYear)","v":false},null,false]
[null,null,"Qty",null,null,null,null,null,null,null,null,null,null,null,null,null,0,null,{"$f":"S392","v":true},false,{"$f":"U393","v":false},null,false]
[null,{"$f":"B393-1","v":2011},"$$",null,null,null,null,null,null,null,null,null,null,null,null,null,0,null,null,false,{"$f":"AND(B395<=ReportingYear,B395>=BaselineYear)","v":false},null,false]
[null,null,"Qty",null,null,null,null,null,null,null,null,null,null,null,null,null,0,null,{"$f":"S394","v":true},false,{"$f":"U395","v":false},null,false]
[null,{"$f":"B395-1","v":2010},"$$",null,null,null,null,null,null,null,null,null,null,null,null,null,0,null,null,false,{"$f":"AND(B397<=ReportingYear,B397>=BaselineYear)","v":false},null,false]
[null,null,"Qty",null,null,null,null,null,null,null,null,null,null,null,null,null,0,null,{"$f":"S396","v":true},false,{"$f":"U397","v":false},null,false]
[null,{"$f":"B397-1","v":2009},"$$",null,null,null,null,null,null,null,null,null,null,null,null,null,0,null,null,false,{"$f":"AND(B399<=ReportingYear,B399>=BaselineYear)","v":false},null,false]
[null,null,"Qty",null,null,null,null,null,null,null,null,null,null,null,null,null,0,null,{"$f":"S398","v":true},false,{"$f":"U399","v":false},null,false]
[null,{"$f":"B399-1","v":2008},"$$",null,null,null,null,null,null,null,null,null,null,null,null,null,0,null,null,false,{"$f":"AND(B401<=ReportingYear,B401>=BaselineYear)","v":false},null,false]
[null,null,"Qty",null,null,null,null,null,null,null,null,null,null,null,null,null,0,null,{"$f":"S400","v":true},false,{"$f":"U401","v":false},null,false]
[null,{"$f":"B401-1","v":2007},"$$",null,null,null,null,null,null,null,null,null,null,null,null,null,0,null,null,false,{"$f":"AND(B403<=ReportingYear,B403>=BaselineYear)","v":false},null,false]
[null,null,"Qty",null,null,null,null,null,null,null,null,null,null,null,null,null,0,null,{"$f":"S402","v":true},false,{"$f":"U403","v":false},null,false]
[null,{"$f":"B403-1","v":2006},"$$",null,null,null,null,null,null,null,null,null,null,null,null,null,0,null,null,false,{"$f":"AND(B405<=ReportingYear,B405>=BaselineYear)","v":false},null,false]
[null,null,"Qty",null,null,null,null,null,null,null,null,null,null,null,null,null,0,null,{"$f":"S404","v":true},false,{"$f":"U405","v":false},null,false]
[null,{"$f":"B405-1","v":2005},"$$",null,null,null,null,null,null,null,null,null,null,null,null,null,0,null,null,false,{"$f":"AND(B407<=ReportingYear,B407>=BaselineYear)","v":false},null,false]
[null,null,"Qty",null,null,null,null,null,null,null,null,null,null,null,null,null,0,null,{"$f":"S406","v":true},false,{"$f":"U407","v":false},null,false]
[null,null,null,null,null,null,null,null,null,null,null,null,null,null,null,null,null,null,null,{"$f":"T380","v":false},null,null,false]
[null,"Per Unit Costs",{"$f":"B359","v":2029},{"$f":"IF(D360<>0,D359/D360,\"\")","v":""},"","","","","","","","","","","",null,{"$f":"IF(Q360<>0,Q359/Q360,\"\")","v":""},null,{"$f":"S388","v":true},{"$f":"T409","v":false},{"$f":"AND(C410<=ReportingYear,C410>=BaselineYear)","v":false},{"$f":"UnitCostStatus","v":false},false]
[null,null,{"$f":"C410-1","v":2028},{"$f":"IF(D362<>0,D361/D362,\"\")","v":""},"","","","","","","","","","","",null,{"$f":"IF(Q362<>0,Q361/Q362,\"\")","v":""},null,{"$f":"S410","v":true},false,false,{"$f":"V410","v":false},false]
[null,null,{"$f":"C411-1","v":2027},{"$f":"IF(D364<>0,D363/D364,\"\")","v":""},"","","","","","","","","","","",null,{"$f":"IF(Q364<>0,Q363/Q364,\"\")","v":""},null,true,false,false,{"$f":"V411","v":false},false]
[null,null,2026,{"$f":"IF(D366<>0,D365/D366,\"\")","v":""},"","","","","","","","","","","",null,{"$f":"IF(Q366<>0,Q365/Q366,\"\")","v":""},null,true,false,false,{"$f":"V412","v":false},false]
[null,null,2025,{"$f":"IF(D368<>0,D367/D368,\"\")","v":""},"","","","","","","","","","","",null,{"$f":"IF(Q368<>0,Q367/Q368,\"\")","v":""},null,true,false,false,false,false]
[null,null,2024,{"$f":"IF(D370<>0,D369/D370,\"\")","v":""},"","","","","","","","","","","",null,{"$f":"IF(Q370<>0,Q369/Q370,\"\")","v":""},null,true,false,false,false,false]
[null,null,2023,{"$f":"IF(D372<>0,D371/D372,\"\")","v":""},"","","","","","","","","","","",null,{"$f":"IF(Q372<>0,Q371/Q372,\"\")","v":""},null,true,false,false,false,false]
[null,null,2022,{"$f":"IF(D374<>0,D373/D374,\"\")","v":""},"","","","","","","","","","","",null,{"$f":"IF(Q374<>0,Q373/Q374,\"\")","v":""},null,true,false,false,false,false]
[null,null,2021,{"$f":"IF(D376<>0,D375/D376,\"\")","v":""},"","","","","","","","","","","",null,{"$f":"IF(Q376<>0,Q375/Q376,\"\")","v":""},null,true,false,true,false,false]
[null,null,2020,{"$f":"IF(D378<>0,D377/D378,\"\")","v":""},"","","","","","","","","","","",null,{"$f":"IF(Q378<>0,Q377/Q378,\"\")","v":""},null,true,false,true,false,false]
[null,null,2019,{"$f":"IF(D380<>0,D379/D380,\"\")","v":""},"","","","","","","","","","","",null,{"$f":"IF(Q380<>0,Q379/Q380,\"\")","v":""},null,true,false,false,false,false]
[null,null,2018,{"$f":"IF(D382<>0,D381/D382,\"\")","v":""},"","","","","","","","","","","",null,{"$f":"IF(Q382<>0,Q381/Q382,\"\")","v":""},null,true,false,false,false,false]
[null,null,2017,{"$f":"IF(D384<>0,D383/D384,\"\")","v":""},"","","","","","","","","","","",null,{"$f":"IF(Q384<>0,Q383/Q384,\"\")","v":""},null,true,false,false,false,false]
[null,null,2016,{"$f":"IF(D386<>0,D385/D386,\"\")","v":""},"","","","","","","","","","","",null,{"$f":"IF(Q386<>0,Q385/Q386,\"\")","v":""},null,true,false,false,false,false]
[null,null,2015,{"$f":"IF(D388<>0,D387/D388,\"\")","v":""},"","","","","","","","","","","",null,{"$f":"IF(Q388<>0,Q387/Q388,\"\")","v":""},null,true,false,false,false,false]
[null,null,2014,{"$f":"IF(D390<>0,D389/D390,\"\")","v":""},{"$f":"IF(E390<>0,E389/E390,\"\")","v":""},"","","","","","","","","","",null,{"$f":"IF(Q390<>0,Q389/Q390,\"\")","v":""},null,true,false,false,false,false]
[null,null,2013,{"$f":"IF(D392<>0,D391/D392,\"\")","v":""},{"$f":"IF(E392<>0,E391/E392,\"\")","v":""},"","","","","","","","","","",null,{"$f":"IF(Q392<>0,Q391/Q392,\"\")","v":""},null,true,false,false,false,false]
[null,null,2012,{"$f":"IF(D394<>0,D393/D394,\"\")","v":""},{"$f":"IF(E394<>0,E393/E394,\"\")","v":""},"","","","","","","","","","",null,{"$f":"IF(Q394<>0,Q393/Q394,\"\")","v":""},null,{"$f":"S426","v":true},false,false,false,false]
[null,null,2011,{"$f":"IF(D396<>0,D395/D396,\"\")","v":""},{"$f":"IF(E396<>0,E395/E396,\"\")","v":""},"","","","","","","","","","",null,{"$f":"IF(Q396<>0,Q395/Q396,\"\")","v":""},null,true,false,false,false,false]
[null,null,2010,{"$f":"IF(D398<>0,D397/D398,\"\")","v":""},{"$f":"IF(E398<>0,E397/E398,\"\")","v":""},"","","","","","","","","","",null,{"$f":"IF(Q398<>0,Q397/Q398,\"\")","v":""},null,true,false,false,false,false]
[null,null,2009,{"$f":"IF(D400<>0,D399/D400,\"\")","v":""},{"$f":"IF(E400<>0,E399/E400,\"\")","v":""},"","","","","","","","","","",null,{"$f":"IF(Q400<>0,Q399/Q400,\"\")","v":""},null,true,false,false,false,false]
[null,null,2008,{"$f":"IF(D402<>0,D401/D402,\"\")","v":""},{"$f":"IF(E402<>0,E401/E402,\"\")","v":""},"","","","","","","","","","",null,{"$f":"IF(Q402<>0,Q401/Q402,\"\")","v":""},null,true,false,false,false,false]
[null,null,2007,{"$f":"IF(D404<>0,D403/D404,\"\")","v":""},{"$f":"IF(E404<>0,E403/E404,\"\")","v":""},"","","","","","","","","","",null,{"$f":"IF(Q404<>0,Q403/Q404,\"\")","v":""},null,true,false,false,false,false]
[null,null,2006,{"$f":"IF(D406<>0,D405/D406,\"\")","v":""},{"$f":"IF(E406<>0,E405/E406,\"\")","v":""},"","","","","","","","","","",null,{"$f":"IF(Q406<>0,Q405/Q406,\"\")","v":""},null,true,false,false,false,false]
[null,null,2005,{"$f":"IF(D408<>0,D407/D408,\"\")","v":""},{"$f":"IF(E408<>0,E407/E408,\"\")","v":""},"","","","","","","","","","",null,{"$f":"IF(Q408<>0,Q407/Q408,\"\")","v":""},null,true,false,false,false,false]
[null,null,null,null,null,null,null,null,null,null,null,null,null,null,null,null,null,null,{"$f":"S420","v":true},{"$f":"T420","v":false},null,{"$f":"V420","v":false},false]
[null,null,null,null,null,null,null,null,null,null,null,null,null,null,null,null,null,null,null,{"$f":"T435","v":false},null,null,false]
[null,"Energy Source",null,null,null,"UNIT","Notes",null,null,null,null,null,null,null,null,null,null,null,null,{"$f":"VLOOKUP(B438,$T$5:$U$24,2,)","v":false},null,null,{"$f":"AND(S437:V437)","v":false}]
["back to top",{"$f":"B356+1","v":6},{"$f":"VLOOKUP(B438,$B$5:$F$24,2,)","v":""},null,null,{"$f":"VLOOKUP(B438,$B$5:$G$24,5,)","v":""},{"$f":"VLOOKUP(B438,$B$5:$G$24,6,)","v":""},null,null,null,null,null,null,null,null,null,null,null,null,{"$f":"T437","v":false},null,null,{"$f":"AND(S438:V438)","v":false}]
[null,null,null,null,null,null,null,null,null,null,null,null,null,null,null,null,null,null,null,{"$f":"T438","v":false},null,null,false]
[null,null,null,{"$f":"D358","v":"Jan"},{"$f":"E358","v":"Feb"},"Mar","Apr","May","Jun","Jul","Aug","Sep","Oct","Nov","Dec",null,"YEAR",null,null,{"$f":"T439","v":false},null,null,false]
[null,{"$f":"FinalYear","v":2029},"$$",null,null,null,null,null,null,null,null,null,null,null,null,null,{"$f":"SUM(D441:O441)","v":0},null,null,false,{"$f":"AND(B441<=ReportingYear,B441>=BaselineYear)","v":false},null,false]
[null,null,"Qty",null,null,null,null,null,null,null,null,null,null,null,null,null,0,null,{"$f":"IF(F438=\"none\",FALSE,TRUE)","v":true},false,{"$f":"U441","v":false},null,false]
[null,{"$f":"B441-1","v":2028},"$$",null,null,null,null,null,null,null,null,null,null,null,null,null,0,null,null,false,{"$f":"AND(B443<=ReportingYear,B443>=BaselineYear)","v":false},null,false]
[null,null,"Qty",null,null,null,null,null,null,null,null,null,null,null,null,null,0,null,{"$f":"S442","v":true},false,{"$f":"U443","v":false},null,false]
[null,{"$f":"B443-1","v":2027},"$$",null,null,null,null,null,null,null,null,null,null,null,null,null,0,null,null,false,{"$f":"AND(B445<=ReportingYear,B445>=BaselineYear)","v":false},null,false]
[null,null,"Qty",null,null,null,null,null,null,null,null,null,null,null,null,null,0,null,{"$f":"S444","v":true},false,{"$f":"U445","v":false},null,false]
[null,{"$f":"B445-1","v":2026},"$$",null,null,null,null,null,null,null,null,null,null,null,null,null,0,null,null,false,{"$f":"AND(B447<=ReportingYear,B447>=BaselineYear)","v":false},null,false]
[null,null,"Qty",null,null,null,null,null,null,null,null,null,null,null,null,null,0,null,{"$f":"S446","v":true},false,{"$f":"U447","v":false},null,false]
[null,{"$f":"B447-1","v":2025},"$$",null,null,null,null,null,null,null,null,null,null,null,null,null,0,null,null,false,{"$f":"AND(B449<=ReportingYear,B449>=BaselineYear)","v":false},null,false]
[null,null,"Qty",null,null,null,null,null,null,null,null,null,null,null,null,null,0,null,{"$f":"S448","v":true},false,{"$f":"U449","v":false},null,false]
[null,{"$f":"B449-1","v":2024},"$$",null,null,null,null,null,null,null,null,null,null,null,null,null,0,null,null,false,{"$f":"AND(B451<=ReportingYear,B451>=BaselineYear)","v":false},null,false]
[null,null,"Qty",null,null,null,null,null,null,null,null,null,null,null,null,null,0,null,{"$f":"S450","v":true},false,{"$f":"U451","v":false},null,false]
[null,{"$f":"B451-1","v":2023},"$$",null,null,null,null,null,null,null,null,null,null,null,null,null,0,null,null,false,{"$f":"AND(B453<=ReportingYear,B453>=BaselineYear)","v":false},null,false]
[null,null,"Qty",null,null,null,null,null,null,null,null,null,null,null,null,null,0,null,{"$f":"S452","v":true},false,{"$f":"U453","v":false},null,false]
[null,{"$f":"B453-1","v":2022},"$$",null,null,null,null,null,null,null,null,null,null,null,null,null,0,null,null,false,{"$f":"AND(B455<=ReportingYear,B455>=BaselineYear)","v":false},null,false]
[null,null,"Qty",null,null,null,null,null,null,null,null,null,null,null,null,null,0,null,{"$f":"S454","v":true},false,{"$f":"U455","v":false},null,false]
[null,{"$f":"B455-1","v":2021},"$$",null,null,null,null,null,null,null,null,null,null,null,null,null,0,null,null,false,{"$f":"AND(B457<=ReportingYear,B457>=BaselineYear)","v":true},null,false]
[null,null,"Qty",null,null,null,null,null,null,null,null,null,null,null,null,null,0,null,{"$f":"S456","v":true},false,{"$f":"U457","v":true},null,false]
[null,{"$f":"B457-1","v":2020},"$$",null,null,null,null,null,null,null,null,null,null,null,null,null,0,null,null,false,{"$f":"AND(B459<=ReportingYear,B459>=BaselineYear)","v":true},null,false]
[null,null,"Qty",null,null,null,null,null,null,null,null,null,null,null,null,null,0,null,{"$f":"S458","v":true},false,{"$f":"U459","v":true},null,false]
[null,{"$f":"B459-1","v":2019},"$$",null,null,null,null,null,null,null,null,null,null,null,null,null,0,null,null,false,{"$f":"AND(B461<=ReportingYear,B461>=BaselineYear)","v":false},null,false]
[null,null,"Qty",null,null,null,null,null,null,null,null,null,null,null,null,null,0,null,{"$f":"S460","v":true},false,{"$f":"U461","v":false},null,false]
[null,{"$f":"B461-1","v":2018},"$$",null,null,null,null,null,null,null,null,null,null,null,null,null,0,null,null,false,{"$f":"AND(B463<=ReportingYear,B463>=BaselineYear)","v":false},null,false]
[null,null,"Qty",null,null,null,null,null,null,null,null,null,null,null,null,null,0,null,{"$f":"S462","v":true},false,{"$f":"U463","v":false},null,false]
[null,{"$f":"B463-1","v":2017},"$$",null,null,null,null,null,null,null,null,null,null,null,null,null,0,null,null,false,{"$f":"AND(B465<=ReportingYear,B465>=BaselineYear)","v":false},null,false]
[null,null,"Qty",null,null,null,null,null,null,null,null,null,null,null,null,null,0,null,{"$f":"S464","v":true},false,{"$f":"U465","v":false},null,false]
[null,{"$f":"B465-1","v":2016},"$$",null,null,null,null,null,null,null,null,null,null,null,null,null,0,null,null,false,{"$f":"AND(B467<=ReportingYear,B467>=BaselineYear)","v":false},null,false]
[null,null,"Qty",null,null,null,null,null,null,null,null,null,null,null,null,null,0,null,{"$f":"S466","v":true},false,{"$f":"U467","v":false},null,false]
[null,{"$f":"B467-1","v":2015},"$$",null,null,null,null,null,null,null,null,null,null,null,null,null,0,null,null,false,{"$f":"AND(B469<=ReportingYear,B469>=BaselineYear)","v":false},null,false]
[null,null,"Qty",null,null,null,null,null,null,null,null,null,null,null,null,null,0,null,{"$f":"S468","v":true},false,{"$f":"U469","v":false},null,false]
[null,{"$f":"B469-1","v":2014},"$$",null,null,null,null,null,null,null,null,null,null,null,null,null,0,null,null,false,{"$f":"AND(B471<=ReportingYear,B471>=BaselineYear)","v":false},null,false]
[null,null,"Qty",null,null,null,null,null,null,null,null,null,null,null,null,null,0,null,{"$f":"S470","v":true},false,{"$f":"U471","v":false},null,false]
[null,{"$f":"B471-1","v":2013},"$$",null,null,null,null,null,null,null,null,null,null,null,null,null,0,null,null,false,{"$f":"AND(B473<=ReportingYear,B473>=BaselineYear)","v":false},null,false]
[null,null,"Qty",null,null,null,null,null,null,null,null,null,null,null,null,null,0,null,{"$f":"S472","v":true},false,{"$f":"U473","v":false},null,false]
[null,{"$f":"B473-1","v":2012},"$$",null,null,null,null,null,null,null,null,null,null,null,null,null,0,null,null,false,{"$f":"AND(B475<=ReportingYear,B475>=BaselineYear)","v":false},null,false]
[null,null,"Qty",null,null,null,null,null,null,null,null,null,null,null,null,null,0,null,{"$f":"S474","v":true},false,{"$f":"U475","v":false},null,false]
[null,{"$f":"B475-1","v":2011},"$$",null,null,null,null,null,null,null,null,null,null,null,null,null,0,null,null,false,{"$f":"AND(B477<=ReportingYear,B477>=BaselineYear)","v":false},null,false]
[null,null,"Qty",null,null,null,null,null,null,null,null,null,null,null,null,null,0,null,{"$f":"S476","v":true},false,{"$f":"U477","v":false},null,false]
[null,{"$f":"B477-1","v":2010},"$$",null,null,null,null,null,null,null,null,null,null,null,null,null,0,null,null,false,{"$f":"AND(B479<=ReportingYear,B479>=BaselineYear)","v":false},null,false]
[null,null,"Qty",null,null,null,null,null,null,null,null,null,null,null,null,null,0,null,{"$f":"S478","v":true},false,{"$f":"U479","v":false},null,false]
[null,{"$f":"B479-1","v":2009},"$$",null,null,null,null,null,null,null,null,null,null,null,null,null,0,null,null,false,{"$f":"AND(B481<=ReportingYear,B481>=BaselineYear)","v":false},null,false]
[null,null,"Qty",null,null,null,null,null,null,null,null,null,null,null,null,null,0,null,{"$f":"S480","v":true},false,{"$f":"U481","v":false},null,false]
[null,{"$f":"B481-1","v":2008},"$$",null,null,null,null,null,null,null,null,null,null,null,null,null,0,null,null,false,{"$f":"AND(B483<=ReportingYear,B483>=BaselineYear)","v":false},null,false]
[null,null,"Qty",null,null,null,null,null,null,null,null,null,null,null,null,null,0,null,{"$f":"S482","v":true},false,{"$f":"U483","v":false},null,false]
[null,{"$f":"B483-1","v":2007},"$$",null,null,null,null,null,null,null,null,null,null,null,null,null,0,null,null,false,{"$f":"AND(B485<=ReportingYear,B485>=BaselineYear)","v":false},null,false]
[null,null,"Qty",null,null,null,null,null,null,null,null,null,null,null,null,null,0,null,{"$f":"S484","v":true},false,{"$f":"U485","v":false},null,false]
[null,{"$f":"B485-1","v":2006},"$$",null,null,null,null,null,null,null,null,null,null,null,null,null,0,null,null,false,{"$f":"AND(B487<=ReportingYear,B487>=BaselineYear)","v":false},null,false]
[null,null,"Qty",null,null,null,null,null,null,null,null,null,null,null,null,null,0,null,{"$f":"S486","v":true},false,{"$f":"U487","v":false},null,false]
[null,{"$f":"B487-1","v":2005},"$$",null,null,null,null,null,null,null,null,null,null,null,null,null,0,null,null,false,{"$f":"AND(B489<=ReportingYear,B489>=BaselineYear)","v":false},null,false]
[null,null,"Qty",null,null,null,null,null,null,null,null,null,null,null,null,null,0,null,{"$f":"S488","v":true},false,{"$f":"U489","v":false},null,false]
[null,null,null,null,null,null,null,null,null,null,null,null,null,null,null,null,null,null,null,{"$f":"T462","v":false},null,null,false]
[null,"Per Unit Costs",{"$f":"B441","v":2029},{"$f":"IF(D442<>0,D441/D442,\"\")","v":""},"","","","","","","","","","","",null,{"$f":"IF(Q442<>0,Q441/Q442,\"\")","v":""},null,{"$f":"S470","v":true},{"$f":"T491","v":false},{"$f":"AND(C492<=ReportingYear,C492>=BaselineYear)","v":false},{"$f":"UnitCostStatus","v":false},false]
[null,null,{"$f":"C492-1","v":2028},{"$f":"IF(D444<>0,D443/D444,\"\")","v":""},"","","","","","","","","","","",null,{"$f":"IF(Q444<>0,Q443/Q444,\"\")","v":""},null,{"$f":"S492","v":true},false,false,{"$f":"V492","v":false},false]
[null,null,{"$f":"C493-1","v":2027},{"$f":"IF(D446<>0,D445/D446,\"\")","v":""},"","","","","","","","","","","",null,{"$f":"IF(Q446<>0,Q445/Q446,\"\")","v":""},null,true,false,false,{"$f":"V493","v":false},false]
[null,null,2026,{"$f":"IF(D448<>0,D447/D448,\"\")","v":""},"","","","","","","","","","","",null,{"$f":"IF(Q448<>0,Q447/Q448,\"\")","v":""},null,true,false,false,{"$f":"V494","v":false},false]
[null,null,2025,{"$f":"IF(D450<>0,D449/D450,\"\")","v":""},"","","","","","","","","","","",null,{"$f":"IF(Q450<>0,Q449/Q450,\"\")","v":""},null,true,false,false,false,false]
[null,null,2024,{"$f":"IF(D452<>0,D451/D452,\"\")","v":""},"","","","","","","","","","","",null,{"$f":"IF(Q452<>0,Q451/Q452,\"\")","v":""},null,true,false,false,false,false]
[null,null,2023,{"$f":"IF(D454<>0,D453/D454,\"\")","v":""},"","","","","","","","","","","",null,{"$f":"IF(Q454<>0,Q453/Q454,\"\")","v":""},null,true,false,false,false,false]
[null,null,2022,{"$f":"IF(D456<>0,D455/D456,\"\")","v":""},"","","","","","","","","","","",null,{"$f":"IF(Q456<>0,Q455/Q456,\"\")","v":""},null,true,false,false,false,false]
[null,null,2021,{"$f":"IF(D458<>0,D457/D458,\"\")","v":""},"","","","","","","","","","","",null,{"$f":"IF(Q458<>0,Q457/Q458,\"\")","v":""},null,true,false,true,false,false]
[null,null,2020,{"$f":"IF(D460<>0,D459/D460,\"\")","v":""},"","","","","","","","","","","",null,{"$f":"IF(Q460<>0,Q459/Q460,\"\")","v":""},null,true,false,true,false,false]
[null,null,2019,{"$f":"IF(D462<>0,D461/D462,\"\")","v":""},"","","","","","","","","","","",null,{"$f":"IF(Q462<>0,Q461/Q462,\"\")","v":""},null,true,false,false,false,false]
[null,null,2018,{"$f":"IF(D464<>0,D463/D464,\"\")","v":""},"","","","","","","","","","","",null,{"$f":"IF(Q464<>0,Q463/Q464,\"\")","v":""},null,true,false,false,false,false]
[null,null,2017,{"$f":"IF(D466<>0,D465/D466,\"\")","v":""},"","","","","","","","","","","",null,{"$f":"IF(Q466<>0,Q465/Q466,\"\")","v":""},null,true,false,false,false,false]
[null,null,2016,{"$f":"IF(D468<>0,D467/D468,\"\")","v":""},"","","","","","","","","","","",null,{"$f":"IF(Q468<>0,Q467/Q468,\"\")","v":""},null,true,false,false,false,false]
[null,null,2015,{"$f":"IF(D470<>0,D469/D470,\"\")","v":""},"","","","","","","","","","","",null,{"$f":"IF(Q470<>0,Q469/Q470,\"\")","v":""},null,true,false,false,false,false]
[null,null,2014,{"$f":"IF(D472<>0,D471/D472,\"\")","v":""},{"$f":"IF(E472<>0,E471/E472,\"\")","v":""},"","","","","","","","","","",null,{"$f":"IF(Q472<>0,Q471/Q472,\"\")","v":""},null,true,false,false,false,false]
[null,null,2013,{"$f":"IF(D474<>0,D473/D474,\"\")","v":""},{"$f":"IF(E474<>0,E473/E474,\"\")","v":""},"","","","","","","","","","",null,{"$f":"IF(Q474<>0,Q473/Q474,\"\")","v":""},null,true,false,false,false,false]
[null,null,2012,{"$f":"IF(D476<>0,D475/D476,\"\")","v":""},{"$f":"IF(E476<>0,E475/E476,\"\")","v":""},"","","","","","","","","","",null,{"$f":"IF(Q476<>0,Q475/Q476,\"\")","v":""},null,{"$f":"S508","v":true},false,false,false,false]
[null,null,2011,{"$f":"IF(D478<>0,D477/D478,\"\")","v":""},{"$f":"IF(E478<>0,E477/E478,\"\")","v":""},"","","","","","","","","","",null,{"$f":"IF(Q478<>0,Q477/Q478,\"\")","v":""},null,true,false,false,false,false]
[null,null,2010,{"$f":"IF(D480<>0,D479/D480,\"\")","v":""},{"$f":"IF(E480<>0,E479/E480,\"\")","v":""},"","","","","","","","","","",null,{"$f":"IF(Q480<>0,Q479/Q480,\"\")","v":""},null,true,false,false,false,false]
[null,null,2009,{"$f":"IF(D482<>0,D481/D482,\"\")","v":""},{"$f":"IF(E482<>0,E481/E482,\"\")","v":""},"","","","","","","","","","",null,{"$f":"IF(Q482<>0,Q481/Q482,\"\")","v":""},null,true,false,false,false,false]
[null,null,2008,{"$f":"IF(D484<>0,D483/D484,\"\")","v":""},{"$f":"IF(E484<>0,E483/E484,\"\")","v":""},"","","","","","","","","","",null,{"$f":"IF(Q484<>0,Q483/Q484,\"\")","v":""},null,true,false,false,false,false]
[null,null,2007,{"$f":"IF(D486<>0,D485/D486,\"\")","v":""},{"$f":"IF(E486<>0,E485/E486,\"\")","v":""},"","","","","","","","","","",null,{"$f":"IF(Q486<>0,Q485/Q486,\"\")","v":""},null,true,false,false,false,false]
[null,null,2006,{"$f":"IF(D488<>0,D487/D488,\"\")","v":""},{"$f":"IF(E488<>0,E487/E488,\"\")","v":""},"","","","","","","","","","",null,{"$f":"IF(Q488<>0,Q487/Q488,\"\")","v":""},null,true,false,false,false,false]
[null,null,2005,{"$f":"IF(D490<>0,D489/D490,\"\")","v":""},{"$f":"IF(E490<>0,E489/E490,\"\")","v":""},"","","","","","","","","","",null,{"$f":"IF(Q490<>0,Q489/Q490,\"\")","v":""},null,true,false,false,false,false]
[null,null,null,null,null,null,null,null,null,null,null,null,null,null,null,null,null,null,{"$f":"S502","v":true},{"$f":"T502","v":false},null,{"$f":"V502","v":false},false]
[null,null,null,null,null,null,null,null,null,null,null,null,null,null,null,null,null,null,null,{"$f":"T517","v":false},null,null,false]
[null,"Energy Source",null,null,null,"UNIT","Notes",null,null,null,null,null,null,null,null,null,null,null,null,{"$f":"VLOOKUP(B520,$T$5:$U$24,2,)","v":false},null,null,{"$f":"AND(S519:V519)","v":false}]
["back to top",{"$f":"B438+1","v":7},{"$f":"VLOOKUP(B520,$B$5:$F$24,2,)","v":""},null,null,{"$f":"VLOOKUP(B520,$B$5:$G$24,5,)","v":""},{"$f":"VLOOKUP(B520,$B$5:$G$24,6,)","v":""},null,null,null,null,null,null,null,null,null,null,null,null,{"$f":"T519","v":false},null,null,{"$f":"AND(S520:V520)","v":false}]
[null,null,null,null,null,null,null,null,null,null,null,null,null,null,null,null,null,null,null,{"$f":"T520","v":false},null,null,false]
[null,null,null,{"$f":"D440","v":"Jan"},{"$f":"E440","v":"Feb"},"Mar","Apr","May","Jun","Jul","Aug","Sep","Oct","Nov","Dec",null,"YEAR",null,null,{"$f":"T521","v":false},null,null,false]
[null,{"$f":"FinalYear","v":2029},"$$",null,null,null,null,null,null,null,null,null,null,null,null,null,{"$f":"SUM(D523:O523)","v":0},null,null,false,{"$f":"AND(B523<=ReportingYear,B523>=BaselineYear)","v":false},null,false]
[null,null,"Qty",null,null,null,null,null,null,null,null,null,null,null,null,null,0,null,{"$f":"IF(F520=\"none\",FALSE,TRUE)","v":true},false,{"$f":"U523","v":false},null,false]
[null,{"$f":"B523-1","v":2028},"$$",null,null,null,null,null,null,null,null,null,null,null,null,null,0,null,null,false,{"$f":"AND(B525<=ReportingYear,B525>=BaselineYear)","v":false},null,false]
[null,null,"Qty",null,null,null,null,null,null,null,null,null,null,null,null,null,0,null,{"$f":"S524","v":true},false,{"$f":"U525","v":false},null,false]
[null,{"$f":"B525-1","v":2027},"$$",null,null,null,null,null,null,null,null,null,null,null,null,null,0,null,null,false,{"$f":"AND(B527<=ReportingYear,B527>=BaselineYear)","v":false},null,false]
[null,null,"Qty",null,null,null,null,null,null,null,null,null,null,null,null,null,0,null,{"$f":"S526","v":true},false,{"$f":"U527","v":false},null,false]
[null,{"$f":"B527-1","v":2026},"$$",null,null,null,null,null,null,null,null,null,null,null,null,null,0,null,null,false,{"$f":"AND(B529<=ReportingYear,B529>=BaselineYear)","v":false},null,false]
[null,null,"Qty",null,null,null,null,null,null,null,null,null,null,null,null,null,0,null,{"$f":"S528","v":true},false,{"$f":"U529","v":false},null,false]
[null,{"$f":"B529-1","v":2025},"$$",null,null,null,null,null,null,null,null,null,null,null,null,null,0,null,null,false,{"$f":"AND(B531<=ReportingYear,B531>=BaselineYear)","v":false},null,false]
[null,null,"Qty",null,null,null,null,null,null,null,null,null,null,null,null,null,0,null,{"$f":"S530","v":true},false,{"$f":"U531","v":false},null,false]
[null,{"$f":"B531-1","v":2024},"$$",null,null,null,null,null,null,null,null,null,null,null,null,null,0,null,null,false,{"$f":"AND(B533<=ReportingYear,B533>=BaselineYear)","v":false},null,false]
[null,null,"Qty",null,null,null,null,null,null,null,null,null,null,null,null,null,0,null,{"$f":"S532","v":true},false,{"$f":"U533","v":false},null,false]
[null,{"$f":"B533-1","v":2023},"$$",null,null,null,null,null,null,null,null,null,null,null,null,null,0,null,null,false,{"$f":"AND(B535<=ReportingYear,B535>=BaselineYear)","v":false},null,false]
[null,null,"Qty",null,null,null,null,null,null,null,null,null,null,null,null,null,0,null,{"$f":"S534","v":true},false,{"$f":"U535","v":false},null,false]
[null,{"$f":"B535-1","v":2022},"$$",null,null,null,null,null,null,null,null,null,null,null,null,null,0,null,null,false,{"$f":"AND(B537<=ReportingYear,B537>=BaselineYear)","v":false},null,false]
[null,null,"Qty",null,null,null,null,null,null,null,null,null,null,null,null,null,0,null,{"$f":"S536","v":true},false,{"$f":"U537","v":false},null,false]
[null,{"$f":"B537-1","v":2021},"$$",null,null,null,null,null,null,null,null,null,null,null,null,null,0,null,null,false,{"$f":"AND(B539<=ReportingYear,B539>=BaselineYear)","v":true},null,false]
[null,null,"Qty",null,null,null,null,null,null,null,null,null,null,null,null,null,0,null,{"$f":"S538","v":true},false,{"$f":"U539","v":true},null,false]
[null,{"$f":"B539-1","v":2020},"$$",null,null,null,null,null,null,null,null,null,null,null,null,null,0,null,null,false,{"$f":"AND(B541<=ReportingYear,B541>=BaselineYear)","v":true},null,false]
[null,null,"Qty",null,null,null,null,null,null,null,null,null,null,null,null,null,0,null,{"$f":"S540","v":true},false,{"$f":"U541","v":true},null,false]
[null,{"$f":"B541-1","v":2019},"$$",null,null,null,null,null,null,null,null,null,null,null,null,null,0,null,null,false,{"$f":"AND(B543<=ReportingYear,B543>=BaselineYear)","v":false},null,false]
[null,null,"Qty",null,null,null,null,null,null,null,null,null,null,null,null,null,0,null,{"$f":"S542","v":true},false,{"$f":"U543","v":false},null,false]
[null,{"$f":"B543-1","v":2018},"$$",null,null,null,null,null,null,null,null,null,null,null,null,null,0,null,null,false,{"$f":"AND(B545<=ReportingYear,B545>=BaselineYear)","v":false},null,false]
[null,null,"Qty",null,null,null,null,null,null,null,null,null,null,null,null,null,0,null,{"$f":"S544","v":true},false,{"$f":"U545","v":false},null,false]
[null,{"$f":"B545-1","v":2017},"$$",null,null,null,null,null,null,null,null,null,null,null,null,null,0,null,null,false,{"$f":"AND(B547<=ReportingYear,B547>=BaselineYear)","v":false},null,false]
[null,null,"Qty",null,null,null,null,null,null,null,null,null,null,null,null,null,0,null,{"$f":"S546","v":true},false,{"$f":"U547","v":false},null,false]
[null,{"$f":"B547-1","v":2016},"$$",null,null,null,null,null,null,null,null,null,null,null,null,null,0,null,null,false,{"$f":"AND(B549<=ReportingYear,B549>=BaselineYear)","v":false},null,false]
[null,null,"Qty",null,null,null,null,null,null,null,null,null,null,null,null,null,0,null,{"$f":"S548","v":true},false,{"$f":"U549","v":false},null,false]
[null,{"$f":"B549-1","v":2015},"$$",null,null,null,null,null,null,null,null,null,null,null,null,null,0,null,null,false,{"$f":"AND(B551<=ReportingYear,B551>=BaselineYear)","v":false},null,false]
[null,null,"Qty",null,null,null,null,null,null,null,null,null,null,null,null,null,0,null,{"$f":"S550","v":true},false,{"$f":"U551","v":false},null,false]
[null,{"$f":"B551-1","v":2014},"$$",null,null,null,null,null,null,null,null,null,null,null,null,null,0,null,null,false,{"$f":"AND(B553<=ReportingYear,B553>=BaselineYear)","v":false},null,false]
[null,null,"Qty",null,null,null,null,null,null,null,null,null,null,null,null,null,0,null,{"$f":"S552","v":true},false,{"$f":"U553","v":false},null,false]
[null,{"$f":"B553-1","v":2013},"$$",null,null,null,null,null,null,null,null,null,null,null,null,null,0,null,null,false,{"$f":"AND(B555<=ReportingYear,B555>=BaselineYear)","v":false},null,false]
[null,null,"Qty",null,null,null,null,null,null,null,null,null,null,null,null,null,0,null,{"$f":"S554","v":true},false,{"$f":"U555","v":false},null,false]
[null,{"$f":"B555-1","v":2012},"$$",null,null,null,null,null,null,null,null,null,null,null,null,null,0,null,null,false,{"$f":"AND(B557<=ReportingYear,B557>=BaselineYear)","v":false},null,false]
[null,null,"Qty",null,null,null,null,null,null,null,null,null,null,null,null,null,0,null,{"$f":"S556","v":true},false,{"$f":"U557","v":false},null,false]
[null,{"$f":"B557-1","v":2011},"$$",null,null,null,null,null,null,null,null,null,null,null,null,null,0,null,null,false,{"$f":"AND(B559<=ReportingYear,B559>=BaselineYear)","v":false},null,false]
[null,null,"Qty",null,null,null,null,null,null,null,null,null,null,null,null,null,0,null,{"$f":"S558","v":true},false,{"$f":"U559","v":false},null,false]
[null,{"$f":"B559-1","v":2010},"$$",null,null,null,null,null,null,null,null,null,null,null,null,null,0,null,null,false,{"$f":"AND(B561<=ReportingYear,B561>=BaselineYear)","v":false},null,false]
[null,null,"Qty",null,null,null,null,null,null,null,null,null,null,null,null,null,0,null,{"$f":"S560","v":true},false,{"$f":"U561","v":false},null,false]
[null,{"$f":"B561-1","v":2009},"$$",null,null,null,null,null,null,null,null,null,null,null,null,null,0,null,null,false,{"$f":"AND(B563<=ReportingYear,B563>=BaselineYear)","v":false},null,false]
[null,null,"Qty",null,null,null,null,null,null,null,null,null,null,null,null,null,0,null,{"$f":"S562","v":true},false,{"$f":"U563","v":false},null,false]
[null,{"$f":"B563-1","v":2008},"$$",null,null,null,null,null,null,null,null,null,null,null,null,null,0,null,null,false,{"$f":"AND(B565<=ReportingYear,B565>=BaselineYear)","v":false},null,false]
[null,null,"Qty",null,null,null,null,null,null,null,null,null,null,null,null,null,0,null,{"$f":"S564","v":true},false,{"$f":"U565","v":false},null,false]
[null,{"$f":"B565-1","v":2007},"$$",null,null,null,null,null,null,null,null,null,null,null,null,null,0,null,null,false,{"$f":"AND(B567<=ReportingYear,B567>=BaselineYear)","v":false},null,false]
[null,null,"Qty",null,null,null,null,null,null,null,null,null,null,null,null,null,0,null,{"$f":"S566","v":true},false,{"$f":"U567","v":false},null,false]
[null,{"$f":"B567-1","v":2006},"$$",null,null,null,null,null,null,null,null,null,null,null,null,null,0,null,null,false,{"$f":"AND(B569<=ReportingYear,B569>=BaselineYear)","v":false},null,false]
[null,null,"Qty",null,null,null,null,null,null,null,null,null,null,null,null,null,0,null,{"$f":"S568","v":true},false,{"$f":"U569","v":false},null,false]
[null,{"$f":"B569-1","v":2005},"$$",null,null,null,null,null,null,null,null,null,null,null,null,null,0,null,null,false,{"$f":"AND(B571<=ReportingYear,B571>=BaselineYear)","v":false},null,false]
[null,null,"Qty",null,null,null,null,null,null,null,null,null,null,null,null,null,0,null,{"$f":"S570","v":true},false,{"$f":"U571","v":false},null,false]
[null,null,null,null,null,null,null,null,null,null,null,null,null,null,null,null,null,null,null,{"$f":"T544","v":false},null,null,false]
[null,"Per Unit Costs",{"$f":"B523","v":2029},{"$f":"IF(D524<>0,D523/D524,\"\")","v":""},"","","","","","","","","","","",null,{"$f":"IF(Q524<>0,Q523/Q524,\"\")","v":""},null,{"$f":"S552","v":true},{"$f":"T573","v":false},{"$f":"AND(C574<=ReportingYear,C574>=BaselineYear)","v":false},{"$f":"UnitCostStatus","v":false},false]
[null,null,{"$f":"C574-1","v":2028},{"$f":"IF(D526<>0,D525/D526,\"\")","v":""},"","","","","","","","","","","",null,{"$f":"IF(Q526<>0,Q525/Q526,\"\")","v":""},null,{"$f":"S574","v":true},false,false,{"$f":"V574","v":false},false]
[null,null,{"$f":"C575-1","v":2027},{"$f":"IF(D528<>0,D527/D528,\"\")","v":""},"","","","","","","","","","","",null,{"$f":"IF(Q528<>0,Q527/Q528,\"\")","v":""},null,true,false,false,{"$f":"V575","v":false},false]
[null,null,2026,{"$f":"IF(D530<>0,D529/D530,\"\")","v":""},"","","","","","","","","","","",null,{"$f":"IF(Q530<>0,Q529/Q530,\"\")","v":""},null,true,false,false,{"$f":"V576","v":false},false]
[null,null,2025,{"$f":"IF(D532<>0,D531/D532,\"\")","v":""},"","","","","","","","","","","",null,{"$f":"IF(Q532<>0,Q531/Q532,\"\")","v":""},null,true,false,false,false,false]
[null,null,2024,{"$f":"IF(D534<>0,D533/D534,\"\")","v":""},"","","","","","","","","","","",null,{"$f":"IF(Q534<>0,Q533/Q534,\"\")","v":""},null,true,false,false,false,false]
[null,null,2023,{"$f":"IF(D536<>0,D535/D536,\"\")","v":""},"","","","","","","","","","","",null,{"$f":"IF(Q536<>0,Q535/Q536,\"\")","v":""},null,true,false,false,false,false]
[null,null,2022,{"$f":"IF(D538<>0,D537/D538,\"\")","v":""},"","","","","","","","","","","",null,{"$f":"IF(Q538<>0,Q537/Q538,\"\")","v":""},null,true,false,false,false,false]
[null,null,2021,{"$f":"IF(D540<>0,D539/D540,\"\")","v":""},"","","","","","","","","","","",null,{"$f":"IF(Q540<>0,Q539/Q540,\"\")","v":""},null,true,false,true,false,false]
[null,null,2020,{"$f":"IF(D542<>0,D541/D542,\"\")","v":""},"","","","","","","","","","","",null,{"$f":"IF(Q542<>0,Q541/Q542,\"\")","v":""},null,true,false,true,false,false]
[null,null,2019,{"$f":"IF(D544<>0,D543/D544,\"\")","v":""},"","","","","","","","","","","",null,{"$f":"IF(Q544<>0,Q543/Q544,\"\")","v":""},null,true,false,false,false,false]
[null,null,2018,{"$f":"IF(D546<>0,D545/D546,\"\")","v":""},"","","","","","","","","","","",null,{"$f":"IF(Q546<>0,Q545/Q546,\"\")","v":""},null,true,false,false,false,false]
[null,null,2017,{"$f":"IF(D548<>0,D547/D548,\"\")","v":""},"","","","","","","","","","","",null,{"$f":"IF(Q548<>0,Q547/Q548,\"\")","v":""},null,true,false,false,false,false]
[null,null,2016,{"$f":"IF(D550<>0,D549/D550,\"\")","v":""},"","","","","","","","","","","",null,{"$f":"IF(Q550<>0,Q549/Q550,\"\")","v":""},null,true,false,false,false,false]
[null,null,2015,{"$f":"IF(D552<>0,D551/D552,\"\")","v":""},"","","","","","","","","","","",null,{"$f":"IF(Q552<>0,Q551/Q552,\"\")","v":""},null,true,false,false,false,false]
[null,null,2014,{"$f":"IF(D554<>0,D553/D554,\"\")","v":""},{"$f":"IF(E554<>0,E553/E554,\"\")","v":""},"","","","","","","","","","",null,{"$f":"IF(Q554<>0,Q553/Q554,\"\")","v":""},null,true,false,false,false,false]
[null,null,2013,{"$f":"IF(D556<>0,D555/D556,\"\")","v":""},{"$f":"IF(E556<>0,E555/E556,\"\")","v":""},"","","","","","","","","","",null,{"$f":"IF(Q556<>0,Q555/Q556,\"\")","v":""},null,true,false,false,false,false]
[null,null,2012,{"$f":"IF(D558<>0,D557/D558,\"\")","v":""},{"$f":"IF(E558<>0,E557/E558,\"\")","v":""},"","","","","","","","","","",null,{"$f":"IF(Q558<>0,Q557/Q558,\"\")","v":""},null,{"$f":"S590","v":true},false,false,false,false]
[null,null,2011,{"$f":"IF(D560<>0,D559/D560,\"\")","v":""},{"$f":"IF(E560<>0,E559/E560,\"\")","v":""},"","","","","","","","","","",null,{"$f":"IF(Q560<>0,Q559/Q560,\"\")","v":""},null,true,false,false,false,false]
[null,null,2010,{"$f":"IF(D562<>0,D561/D562,\"\")","v":""},{"$f":"IF(E562<>0,E561/E562,\"\")","v":""},"","","","","","","","","","",null,{"$f":"IF(Q562<>0,Q561/Q562,\"\")","v":""},null,true,false,false,false,false]
[null,null,2009,{"$f":"IF(D564<>0,D563/D564,\"\")","v":""},{"$f":"IF(E564<>0,E563/E564,\"\")","v":""},"","","","","","","","","","",null,{"$f":"IF(Q564<>0,Q563/Q564,\"\")","v":""},null,true,false,false,false,false]
[null,null,2008,{"$f":"IF(D566<>0,D565/D566,\"\")","v":""},{"$f":"IF(E566<>0,E565/E566,\"\")","v":""},"","","","","","","","","","",null,{"$f":"IF(Q566<>0,Q565/Q566,\"\")","v":""},null,true,false,false,false,false]
[null,null,2007,{"$f":"IF(D568<>0,D567/D568,\"\")","v":""},{"$f":"IF(E568<>0,E567/E568,\"\")","v":""},"","","","","","","","","","",null,{"$f":"IF(Q568<>0,Q567/Q568,\"\")","v":""},null,true,false,false,false,false]
[null,null,2006,{"$f":"IF(D570<>0,D569/D570,\"\")","v":""},{"$f":"IF(E570<>0,E569/E570,\"\")","v":""},"","","","","","","","","","",null,{"$f":"IF(Q570<>0,Q569/Q570,\"\")","v":""},null,true,false,false,false,false]
[null,null,2005,{"$f":"IF(D572<>0,D571/D572,\"\")","v":""},{"$f":"IF(E572<>0,E571/E572,\"\")","v":""},"","","","","","","","","","",null,{"$f":"IF(Q572<>0,Q571/Q572,\"\")","v":""},null,true,false,false,false,false]
[null,null,null,null,null,null,null,null,null,null,null,null,null,null,null,null,null,null,{"$f":"S584","v":true},{"$f":"T584","v":false},null,{"$f":"V584","v":false},false]
[null,null,null,null,null,null,null,null,null,null,null,null,null,null,null,null,null,null,null,{"$f":"T599","v":false},null,null,false]
[null,"Energy Source",null,null,null,"UNIT","Notes",null,null,null,null,null,null,null,null,null,null,null,null,{"$f":"VLOOKUP(B602,$T$5:$U$24,2,)","v":false},null,null,{"$f":"AND(S601:V601)","v":false}]
["back to top",{"$f":"B520+1","v":8},{"$f":"VLOOKUP(B602,$B$5:$F$24,2,)","v":""},null,null,{"$f":"VLOOKUP(B602,$B$5:$G$24,5,)","v":""},{"$f":"VLOOKUP(B602,$B$5:$G$24,6,)","v":""},null,null,null,null,null,null,null,null,null,null,null,null,{"$f":"T601","v":false},null,null,{"$f":"AND(S602:V602)","v":false}]
[null,null,null,null,null,null,null,null,null,null,null,null,null,null,null,null,null,null,null,{"$f":"T602","v":false},null,null,false]
[null,null,null,{"$f":"D522","v":"Jan"},{"$f":"E522","v":"Feb"},"Mar","Apr","May","Jun","Jul","Aug","Sep","Oct","Nov","Dec",null,"YEAR",null,null,{"$f":"T603","v":false},null,null,false]
[null,{"$f":"FinalYear","v":2029},"$$",null,null,null,null,null,null,null,null,null,null,null,null,null,{"$f":"SUM(D605:O605)","v":0},null,null,false,{"$f":"AND(B605<=ReportingYear,B605>=BaselineYear)","v":false},null,false]
[null,null,"Qty",null,null,null,null,null,null,null,null,null,null,null,null,null,0,null,{"$f":"IF(F602=\"none\",FALSE,TRUE)","v":true},false,{"$f":"U605","v":false},null,false]
[null,{"$f":"B605-1","v":2028},"$$",null,null,null,null,null,null,null,null,null,null,null,null,null,0,null,null,false,{"$f":"AND(B607<=ReportingYear,B607>=BaselineYear)","v":false},null,false]
[null,null,"Qty",null,null,null,null,null,null,null,null,null,null,null,null,null,0,null,{"$f":"S606","v":true},false,{"$f":"U607","v":false},null,false]
[null,{"$f":"B607-1","v":2027},"$$",null,null,null,null,null,null,null,null,null,null,null,null,null,0,null,null,false,{"$f":"AND(B609<=ReportingYear,B609>=BaselineYear)","v":false},null,false]
[null,null,"Qty",null,null,null,null,null,null,null,null,null,null,null,null,null,0,null,{"$f":"S608","v":true},false,{"$f":"U609","v":false},null,false]
[null,{"$f":"B609-1","v":2026},"$$",null,null,null,null,null,null,null,null,null,null,null,null,null,0,null,null,false,{"$f":"AND(B611<=ReportingYear,B611>=BaselineYear)","v":false},null,false]
[null,null,"Qty",null,null,null,null,null,null,null,null,null,null,null,null,null,0,null,{"$f":"S610","v":true},false,{"$f":"U611","v":false},null,false]
[null,{"$f":"B611-1","v":2025},"$$",null,null,null,null,null,null,null,null,null,null,null,null,null,0,null,null,false,{"$f":"AND(B613<=ReportingYear,B613>=BaselineYear)","v":false},null,false]
[null,null,"Qty",null,null,null,null,null,null,null,null,null,null,null,null,null,0,null,{"$f":"S612","v":true},false,{"$f":"U613","v":false},null,false]
[null,{"$f":"B613-1","v":2024},"$$",null,null,null,null,null,null,null,null,null,null,null,null,null,0,null,null,false,{"$f":"AND(B615<=ReportingYear,B615>=BaselineYear)","v":false},null,false]
[null,null,"Qty",null,null,null,null,null,null,null,null,null,null,null,null,null,0,null,{"$f":"S614","v":true},false,{"$f":"U615","v":false},null,false]
[null,{"$f":"B615-1","v":2023},"$$",null,null,null,null,null,null,null,null,null,null,null,null,null,0,null,null,false,{"$f":"AND(B617<=ReportingYear,B617>=BaselineYear)","v":false},null,false]
[null,null,"Qty",null,null,null,null,null,null,null,null,null,null,null,null,null,0,null,{"$f":"S616","v":true},false,{"$f":"U617","v":false},null,false]
[null,{"$f":"B617-1","v":2022},"$$",null,null,null,null,null,null,null,null,null,null,null,null,null,0,null,null,false,{"$f":"AND(B619<=ReportingYear,B619>=BaselineYear)","v":false},null,false]
[null,null,"Qty",null,null,null,null,null,null,null,null,null,null,null,null,null,0,null,{"$f":"S618","v":true},false,{"$f":"U619","v":false},null,false]
[null,{"$f":"B619-1","v":2021},"$$",null,null,null,null,null,null,null,null,null,null,null,null,null,0,null,null,false,{"$f":"AND(B621<=ReportingYear,B621>=BaselineYear)","v":true},null,false]
[null,null,"Qty",null,null,null,null,null,null,null,null,null,null,null,null,null,0,null,{"$f":"S620","v":true},false,{"$f":"U621","v":true},null,false]
[null,{"$f":"B621-1","v":2020},"$$",null,null,null,null,null,null,null,null,null,null,null,null,null,0,null,null,false,{"$f":"AND(B623<=ReportingYear,B623>=BaselineYear)","v":true},null,false]
[null,null,"Qty",null,null,null,null,null,null,null,null,null,null,null,null,null,0,null,{"$f":"S622","v":true},false,{"$f":"U623","v":true},null,false]
[null,{"$f":"B623-1","v":2019},"$$",null,null,null,null,null,null,null,null,null,null,null,null,null,0,null,null,false,{"$f":"AND(B625<=ReportingYear,B625>=BaselineYear)","v":false},null,false]
[null,null,"Qty",null,null,null,null,null,null,null,null,null,null,null,null,null,0,null,{"$f":"S624","v":true},false,{"$f":"U625","v":false},null,false]
[null,{"$f":"B625-1","v":2018},"$$",null,null,null,null,null,null,null,null,null,null,null,null,null,0,null,null,false,{"$f":"AND(B627<=ReportingYear,B627>=BaselineYear)","v":false},null,false]
[null,null,"Qty",null,null,null,null,null,null,null,null,null,null,null,null,null,0,null,{"$f":"S626","v":true},false,{"$f":"U627","v":false},null,false]
[null,{"$f":"B627-1","v":2017},"$$",null,null,null,null,null,null,null,null,null,null,null,null,null,0,null,null,false,{"$f":"AND(B629<=ReportingYear,B629>=BaselineYear)","v":false},null,false]
[null,null,"Qty",null,null,null,null,null,null,null,null,null,null,null,null,null,0,null,{"$f":"S628","v":true},false,{"$f":"U629","v":false},null,false]
[null,{"$f":"B629-1","v":2016},"$$",null,null,null,null,null,null,null,null,null,null,null,null,null,0,null,null,false,{"$f":"AND(B631<=ReportingYear,B631>=BaselineYear)","v":false},null,false]
[null,null,"Qty",null,null,null,null,null,null,null,null,null,null,null,null,null,0,null,{"$f":"S630","v":true},false,{"$f":"U631","v":false},null,false]
[null,{"$f":"B631-1","v":2015},"$$",null,null,null,null,null,null,null,null,null,null,null,null,null,0,null,null,false,{"$f":"AND(B633<=ReportingYear,B633>=BaselineYear)","v":false},null,false]
[null,null,"Qty",null,null,null,null,null,null,null,null,null,null,null,null,null,0,null,{"$f":"S632","v":true},false,{"$f":"U633","v":false},null,false]
[null,{"$f":"B633-1","v":2014},"$$",null,null,null,null,null,null,null,null,null,null,null,null,null,0,null,null,false,{"$f":"AND(B635<=ReportingYear,B635>=BaselineYear)","v":false},null,false]
[null,null,"Qty",null,null,null,null,null,null,null,null,null,null,null,null,null,0,null,{"$f":"S634","v":true},false,{"$f":"U635","v":false},null,false]
[null,{"$f":"B635-1","v":2013},"$$",null,null,null,null,null,null,null,null,null,null,null,null,null,0,null,null,false,{"$f":"AND(B637<=ReportingYear,B637>=BaselineYear)","v":false},null,false]
[null,null,"Qty",null,null,null,null,null,null,null,null,null,null,null,null,null,0,null,{"$f":"S636","v":true},false,{"$f":"U637","v":false},null,false]
[null,{"$f":"B637-1","v":2012},"$$",null,null,null,null,null,null,null,null,null,null,null,null,null,0,null,null,false,{"$f":"AND(B639<=ReportingYear,B639>=BaselineYear)","v":false},null,false]
[null,null,"Qty",null,null,null,null,null,null,null,null,null,null,null,null,null,0,null,{"$f":"S638","v":true},false,{"$f":"U639","v":false},null,false]
[null,{"$f":"B639-1","v":2011},"$$",null,null,null,null,null,null,null,null,null,null,null,null,null,0,null,null,false,{"$f":"AND(B641<=ReportingYear,B641>=BaselineYear)","v":false},null,false]
[null,null,"Qty",null,null,null,null,null,null,null,null,null,null,null,null,null,0,null,{"$f":"S640","v":true},false,{"$f":"U641","v":false},null,false]
[null,{"$f":"B641-1","v":2010},"$$",null,null,null,null,null,null,null,null,null,null,null,null,null,0,null,null,false,{"$f":"AND(B643<=ReportingYear,B643>=BaselineYear)","v":false},null,false]
[null,null,"Qty",null,null,null,null,null,null,null,null,null,null,null,null,null,0,null,{"$f":"S642","v":true},false,{"$f":"U643","v":false},null,false]
[null,{"$f":"B643-1","v":2009},"$$",null,null,null,null,null,null,null,null,null,null,null,null,null,0,null,null,false,{"$f":"AND(B645<=ReportingYear,B645>=BaselineYear)","v":false},null,false]
[null,null,"Qty",null,null,null,null,null,null,null,null,null,null,null,null,null,0,null,{"$f":"S644","v":true},false,{"$f":"U645","v":false},null,false]
[null,{"$f":"B645-1","v":2008},"$$",null,null,null,null,null,null,null,null,null,null,null,null,null,0,null,null,false,{"$f":"AND(B647<=ReportingYear,B647>=BaselineYear)","v":false},null,false]
[null,null,"Qty",null,null,null,null,null,null,null,null,null,null,null,null,null,0,null,{"$f":"S646","v":true},false,{"$f":"U647","v":false},null,false]
[null,{"$f":"B647-1","v":2007},"$$",null,null,null,null,null,null,null,null,null,null,null,null,null,0,null,null,false,{"$f":"AND(B649<=ReportingYear,B649>=BaselineYear)","v":false},null,false]
[null,null,"Qty",null,null,null,null,null,null,null,null,null,null,null,null,null,0,null,{"$f":"S648","v":true},false,{"$f":"U649","v":false},null,false]
[null,{"$f":"B649-1","v":2006},"$$",null,null,null,null,null,null,null,null,null,null,null,null,null,0,null,null,false,{"$f":"AND(B651<=ReportingYear,B651>=BaselineYear)","v":false},null,false]
[null,null,"Qty",null,null,null,null,null,null,null,null,null,null,null,null,null,0,null,{"$f":"S650","v":true},false,{"$f":"U651","v":false},null,false]
[null,{"$f":"B651-1","v":2005},"$$",null,null,null,null,null,null,null,null,null,null,null,null,null,0,null,null,false,{"$f":"AND(B653<=ReportingYear,B653>=BaselineYear)","v":false},null,false]
[null,null,"Qty",null,null,null,null,null,null,null,null,null,null,null,null,null,0,null,{"$f":"S652","v":true},false,{"$f":"U653","v":false},null,false]
[null,null,null,null,null,null,null,null,null,null,null,null,null,null,null,null,null,null,null,{"$f":"T626","v":false},null,null,false]
[null,"Per Unit Costs",{"$f":"B605","v":2029},{"$f":"IF(D606<>0,D605/D606,\"\")","v":""},"","","","","","","","","","","",null,{"$f":"IF(Q606<>0,Q605/Q606,\"\")","v":""},null,{"$f":"S634","v":true},{"$f":"T655","v":false},{"$f":"AND(C656<=ReportingYear,C656>=BaselineYear)","v":false},{"$f":"UnitCostStatus","v":false},false]
[null,null,{"$f":"C656-1","v":2028},{"$f":"IF(D608<>0,D607/D608,\"\")","v":""},"","","","","","","","","","","",null,{"$f":"IF(Q608<>0,Q607/Q608,\"\")","v":""},null,{"$f":"S656","v":true},false,false,{"$f":"V656","v":false},false]
[null,null,{"$f":"C657-1","v":2027},{"$f":"IF(D610<>0,D609/D610,\"\")","v":""},"","","","","","","","","","","",null,{"$f":"IF(Q610<>0,Q609/Q610,\"\")","v":""},null,true,false,false,{"$f":"V657","v":false},false]
[null,null,2026,{"$f":"IF(D612<>0,D611/D612,\"\")","v":""},"","","","","","","","","","","",null,{"$f":"IF(Q612<>0,Q611/Q612,\"\")","v":""},null,true,false,false,{"$f":"V658","v":false},false]
[null,null,2025,{"$f":"IF(D614<>0,D613/D614,\"\")","v":""},"","","","","","","","","","","",null,{"$f":"IF(Q614<>0,Q613/Q614,\"\")","v":""},null,true,false,false,false,false]
[null,null,2024,{"$f":"IF(D616<>0,D615/D616,\"\")","v":""},"","","","","","","","","","","",null,{"$f":"IF(Q616<>0,Q615/Q616,\"\")","v":""},null,true,false,false,false,false]
[null,null,2023,{"$f":"IF(D618<>0,D617/D618,\"\")","v":""},"","","","","","","","","","","",null,{"$f":"IF(Q618<>0,Q617/Q618,\"\")","v":""},null,true,false,false,false,false]
[null,null,2022,{"$f":"IF(D620<>0,D619/D620,\"\")","v":""},"","","","","","","","","","","",null,{"$f":"IF(Q620<>0,Q619/Q620,\"\")","v":""},null,true,false,false,false,false]
[null,null,2021,{"$f":"IF(D622<>0,D621/D622,\"\")","v":""},"","","","","","","","","","","",null,{"$f":"IF(Q622<>0,Q621/Q622,\"\")","v":""},null,true,false,true,false,false]
[null,null,2020,{"$f":"IF(D624<>0,D623/D624,\"\")","v":""},"","","","","","","","","","","",null,{"$f":"IF(Q624<>0,Q623/Q624,\"\")","v":""},null,true,false,true,false,false]
[null,null,2019,{"$f":"IF(D626<>0,D625/D626,\"\")","v":""},"","","","","","","","","","","",null,{"$f":"IF(Q626<>0,Q625/Q626,\"\")","v":""},null,true,false,false,false,false]
[null,null,2018,{"$f":"IF(D628<>0,D627/D628,\"\")","v":""},"","","","","","","","","","","",null,{"$f":"IF(Q628<>0,Q627/Q628,\"\")","v":""},null,true,false,false,false,false]
[null,null,2017,{"$f":"IF(D630<>0,D629/D630,\"\")","v":""},"","","","","","","","","","","",null,{"$f":"IF(Q630<>0,Q629/Q630,\"\")","v":""},null,true,false,false,false,false]
[null,null,2016,{"$f":"IF(D632<>0,D631/D632,\"\")","v":""},"","","","","","","","","","","",null,{"$f":"IF(Q632<>0,Q631/Q632,\"\")","v":""},null,true,false,false,false,false]
[null,null,2015,{"$f":"IF(D634<>0,D633/D634,\"\")","v":""},"","","","","","","","","","","",null,{"$f":"IF(Q634<>0,Q633/Q634,\"\")","v":""},null,true,false,false,false,false]
[null,null,2014,{"$f":"IF(D636<>0,D635/D636,\"\")","v":""},{"$f":"IF(E636<>0,E635/E636,\"\")","v":""},"","","","","","","","","","",null,{"$f":"IF(Q636<>0,Q635/Q636,\"\")","v":""},null,true,false,false,false,false]
[null,null,2013,{"$f":"IF(D638<>0,D637/D638,\"\")","v":""},{"$f":"IF(E638<>0,E637/E638,\"\")","v":""},"","","","","","","","","","",null,{"$f":"IF(Q638<>0,Q637/Q638,\"\")","v":""},null,true,false,false,false,false]
[null,null,2012,{"$f":"IF(D640<>0,D639/D640,\"\")","v":""},{"$f":"IF(E640<>0,E639/E640,\"\")","v":""},"","","","","","","","","","",null,{"$f":"IF(Q640<>0,Q639/Q640,\"\")","v":""},null,{"$f":"S672","v":true},false,false,false,false]
[null,null,2011,{"$f":"IF(D642<>0,D641/D642,\"\")","v":""},{"$f":"IF(E642<>0,E641/E642,\"\")","v":""},"","","","","","","","","","",null,{"$f":"IF(Q642<>0,Q641/Q642,\"\")","v":""},null,true,false,false,false,false]
[null,null,2010,{"$f":"IF(D644<>0,D643/D644,\"\")","v":""},{"$f":"IF(E644<>0,E643/E644,\"\")","v":""},"","","","","","","","","","",null,{"$f":"IF(Q644<>0,Q643/Q644,\"\")","v":""},null,true,false,false,false,false]
[null,null,2009,{"$f":"IF(D646<>0,D645/D646,\"\")","v":""},{"$f":"IF(E646<>0,E645/E646,\"\")","v":""},"","","","","","","","","","",null,{"$f":"IF(Q646<>0,Q645/Q646,\"\")","v":""},null,true,false,false,false,false]
[null,null,2008,{"$f":"IF(D648<>0,D647/D648,\"\")","v":""},{"$f":"IF(E648<>0,E647/E648,\"\")","v":""},"","","","","","","","","","",null,{"$f":"IF(Q648<>0,Q647/Q648,\"\")","v":""},null,true,false,false,false,false]
[null,null,2007,{"$f":"IF(D650<>0,D649/D650,\"\")","v":""},{"$f":"IF(E650<>0,E649/E650,\"\")","v":""},"","","","","","","","","","",null,{"$f":"IF(Q650<>0,Q649/Q650,\"\")","v":""},null,true,false,false,false,false]
[null,null,2006,{"$f":"IF(D652<>0,D651/D652,\"\")","v":""},{"$f":"IF(E652<>0,E651/E652,\"\")","v":""},"","","","","","","","","","",null,{"$f":"IF(Q652<>0,Q651/Q652,\"\")","v":""},null,true,false,false,false,false]
[null,null,2005,{"$f":"IF(D654<>0,D653/D654,\"\")","v":""},{"$f":"IF(E654<>0,E653/E654,\"\")","v":""},"","","","","","","","","","",null,{"$f":"IF(Q654<>0,Q653/Q654,\"\")","v":""},null,true,false,false,false,false]
[null,null,null,null,null,null,null,null,null,null,null,null,null,null,null,null,null,null,{"$f":"S666","v":true},{"$f":"T666","v":false},null,{"$f":"V666","v":false},false]
[null,null,null,null,null,null,null,null,null,null,null,null,null,null,null,null,null,null,null,{"$f":"T681","v":false},null,null,false]
[null,"Energy Source",null,null,null,"UNIT","Notes",null,null,null,null,null,null,null,null,null,null,null,null,{"$f":"VLOOKUP(B684,$T$5:$U$24,2,)","v":false},null,null,{"$f":"AND(S683:V683)","v":false}]
["back to top",{"$f":"B602+1","v":9},{"$f":"VLOOKUP(B684,$B$5:$F$24,2,)","v":""},null,null,{"$f":"VLOOKUP(B684,$B$5:$G$24,5,)","v":""},{"$f":"VLOOKUP(B684,$B$5:$G$24,6,)","v":""},null,null,null,null,null,null,null,null,null,null,null,null,{"$f":"T683","v":false},null,null,{"$f":"AND(S684:V684)","v":false}]
[null,null,null,null,null,null,null,null,null,null,null,null,null,null,null,null,null,null,null,{"$f":"T684","v":false},null,null,false]
[null,null,null,{"$f":"D604","v":"Jan"},{"$f":"E604","v":"Feb"},"Mar","Apr","May","Jun","Jul","Aug","Sep","Oct","Nov","Dec",null,"YEAR",null,null,{"$f":"T685","v":false},null,null,false]
[null,{"$f":"FinalYear","v":2029},"$$",null,null,null,null,null,null,null,null,null,null,null,null,null,{"$f":"SUM(D687:O687)","v":0},null,null,false,{"$f":"AND(B687<=ReportingYear,B687>=BaselineYear)","v":false},null,false]
[null,null,"Qty",null,null,null,null,null,null,null,null,null,null,null,null,null,0,null,{"$f":"IF(F684=\"none\",FALSE,TRUE)","v":true},false,{"$f":"U687","v":false},null,false]
[null,{"$f":"B687-1","v":2028},"$$",null,null,null,null,null,null,null,null,null,null,null,null,null,0,null,null,false,{"$f":"AND(B689<=ReportingYear,B689>=BaselineYear)","v":false},null,false]
[null,null,"Qty",null,null,null,null,null,null,null,null,null,null,null,null,null,0,null,{"$f":"S688","v":true},false,{"$f":"U689","v":false},null,false]
[null,{"$f":"B689-1","v":2027},"$$",null,null,null,null,null,null,null,null,null,null,null,null,null,0,null,null,false,{"$f":"AND(B691<=ReportingYear,B691>=BaselineYear)","v":false},null,false]
[null,null,"Qty",null,null,null,null,null,null,null,null,null,null,null,null,null,0,null,{"$f":"S690","v":true},false,{"$f":"U691","v":false},null,false]
[null,{"$f":"B691-1","v":2026},"$$",null,null,null,null,null,null,null,null,null,null,null,null,null,0,null,null,false,{"$f":"AND(B693<=ReportingYear,B693>=BaselineYear)","v":false},null,false]
[null,null,"Qty",null,null,null,null,null,null,null,null,null,null,null,null,null,0,null,{"$f":"S692","v":true},false,{"$f":"U693","v":false},null,false]
[null,{"$f":"B693-1","v":2025},"$$",null,null,null,null,null,null,null,null,null,null,null,null,null,0,null,null,false,{"$f":"AND(B695<=ReportingYear,B695>=BaselineYear)","v":false},null,false]
[null,null,"Qty",null,null,null,null,null,null,null,null,null,null,null,null,null,0,null,{"$f":"S694","v":true},false,{"$f":"U695","v":false},null,false]
[null,{"$f":"B695-1","v":2024},"$$",null,null,null,null,null,null,null,null,null,null,null,null,null,0,null,null,false,{"$f":"AND(B697<=ReportingYear,B697>=BaselineYear)","v":false},null,false]
[null,null,"Qty",null,null,null,null,null,null,null,null,null,null,null,null,null,0,null,{"$f":"S696","v":true},false,{"$f":"U697","v":false},null,false]
[null,{"$f":"B697-1","v":2023},"$$",null,null,null,null,null,null,null,null,null,null,null,null,null,0,null,null,false,{"$f":"AND(B699<=ReportingYear,B699>=BaselineYear)","v":false},null,false]
[null,null,"Qty",null,null,null,null,null,null,null,null,null,null,null,null,null,0,null,{"$f":"S698","v":true},false,{"$f":"U699","v":false},null,false]
[null,{"$f":"B699-1","v":2022},"$$",null,null,null,null,null,null,null,null,null,null,null,null,null,0,null,null,false,{"$f":"AND(B701<=ReportingYear,B701>=BaselineYear)","v":false},null,false]
[null,null,"Qty",null,null,null,null,null,null,null,null,null,null,null,null,null,0,null,{"$f":"S700","v":true},false,{"$f":"U701","v":false},null,false]
[null,{"$f":"B701-1","v":2021},"$$",null,null,null,null,null,null,null,null,null,null,null,null,null,0,null,null,false,{"$f":"AND(B703<=ReportingYear,B703>=BaselineYear)","v":true},null,false]
[null,null,"Qty",null,null,null,null,null,null,null,null,null,null,null,null,null,0,null,{"$f":"S702","v":true},false,{"$f":"U703","v":true},null,false]
[null,{"$f":"B703-1","v":2020},"$$",null,null,null,null,null,null,null,null,null,null,null,null,null,0,null,null,false,{"$f":"AND(B705<=ReportingYear,B705>=BaselineYear)","v":true},null,false]
[null,null,"Qty",null,null,null,null,null,null,null,null,null,null,null,null,null,0,null,{"$f":"S704","v":true},false,{"$f":"U705","v":true},null,false]
[null,{"$f":"B705-1","v":2019},"$$",null,null,null,null,null,null,null,null,null,null,null,null,null,0,null,null,false,{"$f":"AND(B707<=ReportingYear,B707>=BaselineYear)","v":false},null,false]
[null,null,"Qty",null,null,null,null,null,null,null,null,null,null,null,null,null,0,null,{"$f":"S706","v":true},false,{"$f":"U707","v":false},null,false]
[null,{"$f":"B707-1","v":2018},"$$",null,null,null,null,null,null,null,null,null,null,null,null,null,0,null,null,false,{"$f":"AND(B709<=ReportingYear,B709>=BaselineYear)","v":false},null,false]
[null,null,"Qty",null,null,null,null,null,null,null,null,null,null,null,null,null,0,null,{"$f":"S708","v":true},false,{"$f":"U709","v":false},null,false]
[null,{"$f":"B709-1","v":2017},"$$",null,null,null,null,null,null,null,null,null,null,null,null,null,0,null,null,false,{"$f":"AND(B711<=ReportingYear,B711>=BaselineYear)","v":false},null,false]
[null,null,"Qty",null,null,null,null,null,null,null,null,null,null,null,null,null,0,null,{"$f":"S710","v":true},false,{"$f":"U711","v":false},null,false]
[null,{"$f":"B711-1","v":2016},"$$",null,null,null,null,null,null,null,null,null,null,null,null,null,0,null,null,false,{"$f":"AND(B713<=ReportingYear,B713>=BaselineYear)","v":false},null,false]
[null,null,"Qty",null,null,null,null,null,null,null,null,null,null,null,null,null,0,null,{"$f":"S712","v":true},false,{"$f":"U713","v":false},null,false]
[null,{"$f":"B713-1","v":2015},"$$",null,null,null,null,null,null,null,null,null,null,null,null,null,0,null,null,false,{"$f":"AND(B715<=ReportingYear,B715>=BaselineYear)","v":false},null,false]
[null,null,"Qty",null,null,null,null,null,null,null,null,null,null,null,null,null,0,null,{"$f":"S714","v":true},false,{"$f":"U715","v":false},null,false]
[null,{"$f":"B715-1","v":2014},"$$",null,null,null,null,null,null,null,null,null,null,null,null,null,0,null,null,false,{"$f":"AND(B717<=ReportingYear,B717>=BaselineYear)","v":false},null,false]
[null,null,"Qty",null,null,null,null,null,null,null,null,null,null,null,null,null,0,null,{"$f":"S716","v":true},false,{"$f":"U717","v":false},null,false]
[null,{"$f":"B717-1","v":2013},"$$",null,null,null,null,null,null,null,null,null,null,null,null,null,0,null,null,false,{"$f":"AND(B719<=ReportingYear,B719>=BaselineYear)","v":false},null,false]
[null,null,"Qty",null,null,null,null,null,null,null,null,null,null,null,null,null,0,null,{"$f":"S718","v":true},false,{"$f":"U719","v":false},null,false]
[null,{"$f":"B719-1","v":2012},"$$",null,null,null,null,null,null,null,null,null,null,null,null,null,0,null,null,false,{"$f":"AND(B721<=ReportingYear,B721>=BaselineYear)","v":false},null,false]
[null,null,"Qty",null,null,null,null,null,null,null,null,null,null,null,null,null,0,null,{"$f":"S720","v":true},false,{"$f":"U721","v":false},null,false]
[null,{"$f":"B721-1","v":2011},"$$",null,null,null,null,null,null,null,null,null,null,null,null,null,0,null,null,false,{"$f":"AND(B723<=ReportingYear,B723>=BaselineYear)","v":false},null,false]
[null,null,"Qty",null,null,null,null,null,null,null,null,null,null,null,null,null,0,null,{"$f":"S722","v":true},false,{"$f":"U723","v":false},null,false]
[null,{"$f":"B723-1","v":2010},"$$",null,null,null,null,null,null,null,null,null,null,null,null,null,0,null,null,false,{"$f":"AND(B725<=ReportingYear,B725>=BaselineYear)","v":false},null,false]
[null,null,"Qty",null,null,null,null,null,null,null,null,null,null,null,null,null,0,null,{"$f":"S724","v":true},false,{"$f":"U725","v":false},null,false]
[null,{"$f":"B725-1","v":2009},"$$",null,null,null,null,null,null,null,null,null,null,null,null,null,0,null,null,false,{"$f":"AND(B727<=ReportingYear,B727>=BaselineYear)","v":false},null,false]
[null,null,"Qty",null,null,null,null,null,null,null,null,null,null,null,null,null,0,null,{"$f":"S726","v":true},false,{"$f":"U727","v":false},null,false]
[null,{"$f":"B727-1","v":2008},"$$",null,null,null,null,null,null,null,null,null,null,null,null,null,0,null,null,false,{"$f":"AND(B729<=ReportingYear,B729>=BaselineYear)","v":false},null,false]
[null,null,"Qty",null,null,null,null,null,null,null,null,null,null,null,null,null,0,null,{"$f":"S728","v":true},false,{"$f":"U729","v":false},null,false]
[null,{"$f":"B729-1","v":2007},"$$",null,null,null,null,null,null,null,null,null,null,null,null,null,0,null,null,false,{"$f":"AND(B731<=ReportingYear,B731>=BaselineYear)","v":false},null,false]
[null,null,"Qty",null,null,null,null,null,null,null,null,null,null,null,null,null,0,null,{"$f":"S730","v":true},false,{"$f":"U731","v":false},null,false]
[null,{"$f":"B731-1","v":2006},"$$",null,null,null,null,null,null,null,null,null,null,null,null,null,0,null,null,false,{"$f":"AND(B733<=ReportingYear,B733>=BaselineYear)","v":false},null,false]
[null,null,"Qty",null,null,null,null,null,null,null,null,null,null,null,null,null,0,null,{"$f":"S732","v":true},false,{"$f":"U733","v":false},null,false]
[null,{"$f":"B733-1","v":2005},"$$",null,null,null,null,null,null,null,null,null,null,null,null,null,0,null,null,false,{"$f":"AND(B735<=ReportingYear,B735>=BaselineYear)","v":false},null,false]
[null,null,"Qty",null,null,null,null,null,null,null,null,null,null,null,null,null,0,null,{"$f":"S734","v":true},false,{"$f":"U735","v":false},null,false]
[null,null,null,null,null,null,null,null,null,null,null,null,null,null,null,null,null,null,null,{"$f":"T708","v":false},null,null,false]
[null,"Per Unit Costs",{"$f":"B687","v":2029},{"$f":"IF(D688<>0,D687/D688,\"\")","v":""},"","","","","","","","","","","",null,{"$f":"IF(Q688<>0,Q687/Q688,\"\")","v":""},null,{"$f":"S716","v":true},{"$f":"T737","v":false},{"$f":"AND(C738<=ReportingYear,C738>=BaselineYear)","v":false},{"$f":"UnitCostStatus","v":false},false]
[null,null,{"$f":"C738-1","v":2028},{"$f":"IF(D690<>0,D689/D690,\"\")","v":""},"","","","","","","","","","","",null,{"$f":"IF(Q690<>0,Q689/Q690,\"\")","v":""},null,{"$f":"S738","v":true},false,false,{"$f":"V738","v":false},false]
[null,null,{"$f":"C739-1","v":2027},{"$f":"IF(D692<>0,D691/D692,\"\")","v":""},"","","","","","","","","","","",null,{"$f":"IF(Q692<>0,Q691/Q692,\"\")","v":""},null,true,false,false,{"$f":"V739","v":false},false]
[null,null,2026,{"$f":"IF(D694<>0,D693/D694,\"\")","v":""},"","","","","","","","","","","",null,{"$f":"IF(Q694<>0,Q693/Q694,\"\")","v":""},null,true,false,false,{"$f":"V740","v":false},false]
[null,null,2025,{"$f":"IF(D696<>0,D695/D696,\"\")","v":""},"","","","","","","","","","","",null,{"$f":"IF(Q696<>0,Q695/Q696,\"\")","v":""},null,true,false,false,false,false]
[null,null,2024,{"$f":"IF(D698<>0,D697/D698,\"\")","v":""},"","","","","","","","","","","",null,{"$f":"IF(Q698<>0,Q697/Q698,\"\")","v":""},null,true,false,false,false,false]
[null,null,2023,{"$f":"IF(D700<>0,D699/D700,\"\")","v":""},"","","","","","","","","","","",null,{"$f":"IF(Q700<>0,Q699/Q700,\"\")","v":""},null,true,false,false,false,false]
[null,null,2022,{"$f":"IF(D702<>0,D701/D702,\"\")","v":""},"","","","","","","","","","","",null,{"$f":"IF(Q702<>0,Q701/Q702,\"\")","v":""},null,true,false,false,false,false]
[null,null,2021,{"$f":"IF(D704<>0,D703/D704,\"\")","v":""},"","","","","","","","","","","",null,{"$f":"IF(Q704<>0,Q703/Q704,\"\")","v":""},null,true,false,true,false,false]
[null,null,2020,{"$f":"IF(D706<>0,D705/D706,\"\")","v":""},"","","","","","","","","","","",null,{"$f":"IF(Q706<>0,Q705/Q706,\"\")","v":""},null,true,false,true,false,false]
[null,null,2019,{"$f":"IF(D708<>0,D707/D708,\"\")","v":""},"","","","","","","","","","","",null,{"$f":"IF(Q708<>0,Q707/Q708,\"\")","v":""},null,true,false,false,false,false]
[null,null,2018,{"$f":"IF(D710<>0,D709/D710,\"\")","v":""},"","","","","","","","","","","",null,{"$f":"IF(Q710<>0,Q709/Q710,\"\")","v":""},null,true,false,false,false,false]
[null,null,2017,{"$f":"IF(D712<>0,D711/D712,\"\")","v":""},"","","","","","","","","","","",null,{"$f":"IF(Q712<>0,Q711/Q712,\"\")","v":""},null,true,false,false,false,false]
[null,null,2016,{"$f":"IF(D714<>0,D713/D714,\"\")","v":""},"","","","","","","","","","","",null,{"$f":"IF(Q714<>0,Q713/Q714,\"\")","v":""},null,true,false,false,false,false]
[null,null,2015,{"$f":"IF(D716<>0,D715/D716,\"\")","v":""},"","","","","","","","","","","",null,{"$f":"IF(Q716<>0,Q715/Q716,\"\")","v":""},null,true,false,false,false,false]
[null,null,2014,{"$f":"IF(D718<>0,D717/D718,\"\")","v":""},{"$f":"IF(E718<>0,E717/E718,\"\")","v":""},"","","","","","","","","","",null,{"$f":"IF(Q718<>0,Q717/Q718,\"\")","v":""},null,true,false,false,false,false]
[null,null,2013,{"$f":"IF(D720<>0,D719/D720,\"\")","v":""},{"$f":"IF(E720<>0,E719/E720,\"\")","v":""},"","","","","","","","","","",null,{"$f":"IF(Q720<>0,Q719/Q720,\"\")","v":""},null,true,false,false,false,false]
[null,null,2012,{"$f":"IF(D722<>0,D721/D722,\"\")","v":""},{"$f":"IF(E722<>0,E721/E722,\"\")","v":""},"","","","","","","","","","",null,{"$f":"IF(Q722<>0,Q721/Q722,\"\")","v":""},null,{"$f":"S754","v":true},false,false,false,false]
[null,null,2011,{"$f":"IF(D724<>0,D723/D724,\"\")","v":""},{"$f":"IF(E724<>0,E723/E724,\"\")","v":""},"","","","","","","","","","",null,{"$f":"IF(Q724<>0,Q723/Q724,\"\")","v":""},null,true,false,false,false,false]
[null,null,2010,{"$f":"IF(D726<>0,D725/D726,\"\")","v":""},{"$f":"IF(E726<>0,E725/E726,\"\")","v":""},"","","","","","","","","","",null,{"$f":"IF(Q726<>0,Q725/Q726,\"\")","v":""},null,true,false,false,false,false]
[null,null,2009,{"$f":"IF(D728<>0,D727/D728,\"\")","v":""},{"$f":"IF(E728<>0,E727/E728,\"\")","v":""},"","","","","","","","","","",null,{"$f":"IF(Q728<>0,Q727/Q728,\"\")","v":""},null,true,false,false,false,false]
[null,null,2008,{"$f":"IF(D730<>0,D729/D730,\"\")","v":""},{"$f":"IF(E730<>0,E729/E730,\"\")","v":""},"","","","","","","","","","",null,{"$f":"IF(Q730<>0,Q729/Q730,\"\")","v":""},null,true,false,false,false,false]
[null,null,2007,{"$f":"IF(D732<>0,D731/D732,\"\")","v":""},{"$f":"IF(E732<>0,E731/E732,\"\")","v":""},"","","","","","","","","","",null,{"$f":"IF(Q732<>0,Q731/Q732,\"\")","v":""},null,true,false,false,false,false]
[null,null,2006,{"$f":"IF(D734<>0,D733/D734,\"\")","v":""},{"$f":"IF(E734<>0,E733/E734,\"\")","v":""},"","","","","","","","","","",null,{"$f":"IF(Q734<>0,Q733/Q734,\"\")","v":""},null,true,false,false,false,false]
[null,null,2005,{"$f":"IF(D736<>0,D735/D736,\"\")","v":""},{"$f":"IF(E736<>0,E735/E736,\"\")","v":""},"","","","","","","","","","",null,{"$f":"IF(Q736<>0,Q735/Q736,\"\")","v":""},null,true,false,false,false,false]
[null,null,null,null,null,null,null,null,null,null,null,null,null,null,null,null,null,null,{"$f":"S748","v":true},{"$f":"T748","v":false},null,{"$f":"V748","v":false},false]
[null,null,null,null,null,null,null,null,null,null,null,null,null,null,null,null,null,null,null,{"$f":"T763","v":false},null,null,false]
[null,"Energy Source",null,null,null,"UNIT","Notes",null,null,null,null,null,null,null,null,null,null,null,null,{"$f":"VLOOKUP(B766,$T$5:$U$24,2,)","v":false},null,null,{"$f":"AND(S765:V765)","v":false}]
["back to top",{"$f":"B684+1","v":10},{"$f":"VLOOKUP(B766,$B$5:$F$24,2,)","v":""},null,null,{"$f":"VLOOKUP(B766,$B$5:$G$24,5,)","v":""},{"$f":"VLOOKUP(B766,$B$5:$G$24,6,)","v":""},null,null,null,null,null,null,null,null,null,null,null,null,{"$f":"T765","v":false},null,null,{"$f":"AND(S766:V766)","v":false}]
[null,null,null,null,null,null,null,null,null,null,null,null,null,null,null,null,null,null,null,{"$f":"T766","v":false},null,null,false]
[null,null,null,{"$f":"D686","v":"Jan"},{"$f":"E686","v":"Feb"},"Mar","Apr","May","Jun","Jul","Aug","Sep","Oct","Nov","Dec",null,"YEAR",null,null,{"$f":"T767","v":false},null,null,false]
[null,{"$f":"FinalYear","v":2029},"$$",null,null,null,null,null,null,null,null,null,null,null,null,null,{"$f":"SUM(D769:O769)","v":0},null,null,false,{"$f":"AND(B769<=ReportingYear,B769>=BaselineYear)","v":false},null,false]
[null,null,"Qty",null,null,null,null,null,null,null,null,null,null,null,null,null,0,null,{"$f":"IF(F766=\"none\",FALSE,TRUE)","v":true},false,{"$f":"U769","v":false},null,false]
[null,{"$f":"B769-1","v":2028},"$$",null,null,null,null,null,null,null,null,null,null,null,null,null,0,null,null,false,{"$f":"AND(B771<=ReportingYear,B771>=BaselineYear)","v":false},null,false]
[null,null,"Qty",null,null,null,null,null,null,null,null,null,null,null,null,null,0,null,{"$f":"S770","v":true},false,{"$f":"U771","v":false},null,false]
[null,{"$f":"B771-1","v":2027},"$$",null,null,null,null,null,null,null,null,null,null,null,null,null,0,null,null,false,{"$f":"AND(B773<=ReportingYear,B773>=BaselineYear)","v":false},null,false]
[null,null,"Qty",null,null,null,null,null,null,null,null,null,null,null,null,null,0,null,{"$f":"S772","v":true},false,{"$f":"U773","v":false},null,false]
[null,{"$f":"B773-1","v":2026},"$$",null,null,null,null,null,null,null,null,null,null,null,null,null,0,null,null,false,{"$f":"AND(B775<=ReportingYear,B775>=BaselineYear)","v":false},null,false]
[null,null,"Qty",null,null,null,null,null,null,null,null,null,null,null,null,null,0,null,{"$f":"S774","v":true},false,{"$f":"U775","v":false},null,false]
[null,{"$f":"B775-1","v":2025},"$$",null,null,null,null,null,null,null,null,null,null,null,null,null,0,null,null,false,{"$f":"AND(B777<=ReportingYear,B777>=BaselineYear)","v":false},null,false]
[null,null,"Qty",null,null,null,null,null,null,null,null,null,null,null,null,null,0,null,{"$f":"S776","v":true},false,{"$f":"U777","v":false},null,false]
[null,{"$f":"B777-1","v":2024},"$$",null,null,null,null,null,null,null,null,null,null,null,null,null,0,null,null,false,{"$f":"AND(B779<=ReportingYear,B779>=BaselineYear)","v":false},null,false]
[null,null,"Qty",null,null,null,null,null,null,null,null,null,null,null,null,null,0,null,{"$f":"S778","v":true},false,{"$f":"U779","v":false},null,false]
[null,{"$f":"B779-1","v":2023},"$$",null,null,null,null,null,null,null,null,null,null,null,null,null,0,null,null,false,{"$f":"AND(B781<=ReportingYear,B781>=BaselineYear)","v":false},null,false]
[null,null,"Qty",null,null,null,null,null,null,null,null,null,null,null,null,null,0,null,{"$f":"S780","v":true},false,{"$f":"U781","v":false},null,false]
[null,{"$f":"B781-1","v":2022},"$$",null,null,null,null,null,null,null,null,null,null,null,null,null,0,null,null,false,{"$f":"AND(B783<=ReportingYear,B783>=BaselineYear)","v":false},null,false]
[null,null,"Qty",null,null,null,null,null,null,null,null,null,null,null,null,null,0,null,{"$f":"S782","v":true},false,{"$f":"U783","v":false},null,false]
[null,{"$f":"B783-1","v":2021},"$$",null,null,null,null,null,null,null,null,null,null,null,null,null,0,null,null,false,{"$f":"AND(B785<=ReportingYear,B785>=BaselineYear)","v":true},null,false]
[null,null,"Qty",null,null,null,null,null,null,null,null,null,null,null,null,null,0,null,{"$f":"S784","v":true},false,{"$f":"U785","v":true},null,false]
[null,{"$f":"B785-1","v":2020},"$$",null,null,null,null,null,null,null,null,null,null,null,null,null,0,null,null,false,{"$f":"AND(B787<=ReportingYear,B787>=BaselineYear)","v":true},null,false]
[null,null,"Qty",null,null,null,null,null,null,null,null,null,null,null,null,null,0,null,{"$f":"S786","v":true},false,{"$f":"U787","v":true},null,false]
[null,{"$f":"B787-1","v":2019},"$$",null,null,null,null,null,null,null,null,null,null,null,null,null,0,null,null,false,{"$f":"AND(B789<=ReportingYear,B789>=BaselineYear)","v":false},null,false]
[null,null,"Qty",null,null,null,null,null,null,null,null,null,null,null,null,null,0,null,{"$f":"S788","v":true},false,{"$f":"U789","v":false},null,false]
[null,{"$f":"B789-1","v":2018},"$$",null,null,null,null,null,null,null,null,null,null,null,null,null,0,null,null,false,{"$f":"AND(B791<=ReportingYear,B791>=BaselineYear)","v":false},null,false]
[null,null,"Qty",null,null,null,null,null,null,null,null,null,null,null,null,null,0,null,{"$f":"S790","v":true},false,{"$f":"U791","v":false},null,false]
[null,{"$f":"B791-1","v":2017},"$$",null,null,null,null,null,null,null,null,null,null,null,null,null,0,null,null,false,{"$f":"AND(B793<=ReportingYear,B793>=BaselineYear)","v":false},null,false]
[null,null,"Qty",null,null,null,null,null,null,null,null,null,null,null,null,null,0,null,{"$f":"S792","v":true},false,{"$f":"U793","v":false},null,false]
[null,{"$f":"B793-1","v":2016},"$$",null,null,null,null,null,null,null,null,null,null,null,null,null,0,null,null,false,{"$f":"AND(B795<=ReportingYear,B795>=BaselineYear)","v":false},null,false]
[null,null,"Qty",null,null,null,null,null,null,null,null,null,null,null,null,null,0,null,{"$f":"S794","v":true},false,{"$f":"U795","v":false},null,false]
[null,{"$f":"B795-1","v":2015},"$$",null,null,null,null,null,null,null,null,null,null,null,null,null,0,null,null,false,{"$f":"AND(B797<=ReportingYear,B797>=BaselineYear)","v":false},null,false]
[null,null,"Qty",null,null,null,null,null,null,null,null,null,null,null,null,null,0,null,{"$f":"S796","v":true},false,{"$f":"U797","v":false},null,false]
[null,{"$f":"B797-1","v":2014},"$$",null,null,null,null,null,null,null,null,null,null,null,null,null,0,null,null,false,{"$f":"AND(B799<=ReportingYear,B799>=BaselineYear)","v":false},null,false]
[null,null,"Qty",null,null,null,null,null,null,null,null,null,null,null,null,null,0,null,{"$f":"S798","v":true},false,{"$f":"U799","v":false},null,false]
[null,{"$f":"B799-1","v":2013},"$$",null,null,null,null,null,null,null,null,null,null,null,null,null,0,null,null,false,{"$f":"AND(B801<=ReportingYear,B801>=BaselineYear)","v":false},null,false]
[null,null,"Qty",null,null,null,null,null,null,null,null,null,null,null,null,null,0,null,{"$f":"S800","v":true},false,{"$f":"U801","v":false},null,false]
[null,{"$f":"B801-1","v":2012},"$$",null,null,null,null,null,null,null,null,null,null,null,null,null,0,null,null,false,{"$f":"AND(B803<=ReportingYear,B803>=BaselineYear)","v":false},null,false]
[null,null,"Qty",null,null,null,null,null,null,null,null,null,null,null,null,null,0,null,{"$f":"S802","v":true},false,{"$f":"U803","v":false},null,false]
[null,{"$f":"B803-1","v":2011},"$$",null,null,null,null,null,null,null,null,null,null,null,null,null,0,null,null,false,{"$f":"AND(B805<=ReportingYear,B805>=BaselineYear)","v":false},null,false]
[null,null,"Qty",null,null,null,null,null,null,null,null,null,null,null,null,null,0,null,{"$f":"S804","v":true},false,{"$f":"U805","v":false},null,false]
[null,{"$f":"B805-1","v":2010},"$$",null,null,null,null,null,null,null,null,null,null,null,null,null,0,null,null,false,{"$f":"AND(B807<=ReportingYear,B807>=BaselineYear)","v":false},null,false]
[null,null,"Qty",null,null,null,null,null,null,null,null,null,null,null,null,null,0,null,{"$f":"S806","v":true},false,{"$f":"U807","v":false},null,false]
[null,{"$f":"B807-1","v":2009},"$$",null,null,null,null,null,null,null,null,null,null,null,null,null,0,null,null,false,{"$f":"AND(B809<=ReportingYear,B809>=BaselineYear)","v":false},null,false]
[null,null,"Qty",null,null,null,null,null,null,null,null,null,null,null,null,null,0,null,{"$f":"S808","v":true},false,{"$f":"U809","v":false},null,false]
[null,{"$f":"B809-1","v":2008},"$$",null,null,null,null,null,null,null,null,null,null,null,null,null,0,null,null,false,{"$f":"AND(B811<=ReportingYear,B811>=BaselineYear)","v":false},null,false]
[null,null,"Qty",null,null,null,null,null,null,null,null,null,null,null,null,null,0,null,{"$f":"S810","v":true},false,{"$f":"U811","v":false},null,false]
[null,{"$f":"B811-1","v":2007},"$$",null,null,null,null,null,null,null,null,null,null,null,null,null,0,null,null,false,{"$f":"AND(B813<=ReportingYear,B813>=BaselineYear)","v":false},null,false]
[null,null,"Qty",null,null,null,null,null,null,null,null,null,null,null,null,null,0,null,{"$f":"S812","v":true},false,{"$f":"U813","v":false},null,false]
[null,{"$f":"B813-1","v":2006},"$$",null,null,null,null,null,null,null,null,null,null,null,null,null,0,null,null,false,{"$f":"AND(B815<=ReportingYear,B815>=BaselineYear)","v":false},null,false]
[null,null,"Qty",null,null,null,null,null,null,null,null,null,null,null,null,null,0,null,{"$f":"S814","v":true},false,{"$f":"U815","v":false},null,false]
[null,{"$f":"B815-1","v":2005},"$$",null,null,null,null,null,null,null,null,null,null,null,null,null,0,null,null,false,{"$f":"AND(B817<=ReportingYear,B817>=BaselineYear)","v":false},null,false]
[null,null,"Qty",null,null,null,null,null,null,null,null,null,null,null,null,null,0,null,{"$f":"S816","v":true},false,{"$f":"U817","v":false},null,false]
[null,null,null,null,null,null,null,null,null,null,null,null,null,null,null,null,null,null,null,{"$f":"T790","v":false},null,null,false]
[null,"Per Unit Costs",{"$f":"B769","v":2029},{"$f":"IF(D770<>0,D769/D770,\"\")","v":""},"","","","","","","","","","","",null,{"$f":"IF(Q770<>0,Q769/Q770,\"\")","v":""},null,{"$f":"S798","v":true},{"$f":"T819","v":false},{"$f":"AND(C820<=ReportingYear,C820>=BaselineYear)","v":false},{"$f":"UnitCostStatus","v":false},false]
[null,null,{"$f":"C820-1","v":2028},{"$f":"IF(D772<>0,D771/D772,\"\")","v":""},"","","","","","","","","","","",null,{"$f":"IF(Q772<>0,Q771/Q772,\"\")","v":""},null,{"$f":"S820","v":true},false,false,{"$f":"V820","v":false},false]
[null,null,{"$f":"C821-1","v":2027},{"$f":"IF(D774<>0,D773/D774,\"\")","v":""},"","","","","","","","","","","",null,{"$f":"IF(Q774<>0,Q773/Q774,\"\")","v":""},null,true,false,false,{"$f":"V821","v":false},false]
[null,null,2026,{"$f":"IF(D776<>0,D775/D776,\"\")","v":""},"","","","","","","","","","","",null,{"$f":"IF(Q776<>0,Q775/Q776,\"\")","v":""},null,true,false,false,{"$f":"V822","v":false},false]
[null,null,2025,{"$f":"IF(D778<>0,D777/D778,\"\")","v":""},"","","","","","","","","","","",null,{"$f":"IF(Q778<>0,Q777/Q778,\"\")","v":""},null,true,false,false,false,false]
[null,null,2024,{"$f":"IF(D780<>0,D779/D780,\"\")","v":""},"","","","","","","","","","","",null,{"$f":"IF(Q780<>0,Q779/Q780,\"\")","v":""},null,true,false,false,false,false]
[null,null,2023,{"$f":"IF(D782<>0,D781/D782,\"\")","v":""},"","","","","","","","","","","",null,{"$f":"IF(Q782<>0,Q781/Q782,\"\")","v":""},null,true,false,false,false,false]
[null,null,2022,{"$f":"IF(D784<>0,D783/D784,\"\")","v":""},"","","","","","","","","","","",null,{"$f":"IF(Q784<>0,Q783/Q784,\"\")","v":""},null,true,false,false,false,false]
[null,null,2021,{"$f":"IF(D786<>0,D785/D786,\"\")","v":""},"","","","","","","","","","","",null,{"$f":"IF(Q786<>0,Q785/Q786,\"\")","v":""},null,true,false,true,false,false]
[null,null,2020,{"$f":"IF(D788<>0,D787/D788,\"\")","v":""},"","","","","","","","","","","",null,{"$f":"IF(Q788<>0,Q787/Q788,\"\")","v":""},null,true,false,true,false,false]
[null,null,2019,{"$f":"IF(D790<>0,D789/D790,\"\")","v":""},"","","","","","","","","","","",null,{"$f":"IF(Q790<>0,Q789/Q790,\"\")","v":""},null,true,false,false,false,false]
[null,null,2018,{"$f":"IF(D792<>0,D791/D792,\"\")","v":""},"","","","","","","","","","","",null,{"$f":"IF(Q792<>0,Q791/Q792,\"\")","v":""},null,true,false,false,false,false]
[null,null,2017,{"$f":"IF(D794<>0,D793/D794,\"\")","v":""},"","","","","","","","","","","",null,{"$f":"IF(Q794<>0,Q793/Q794,\"\")","v":""},null,true,false,false,false,false]
[null,null,2016,{"$f":"IF(D796<>0,D795/D796,\"\")","v":""},"","","","","","","","","","","",null,{"$f":"IF(Q796<>0,Q795/Q796,\"\")","v":""},null,true,false,false,false,false]
[null,null,2015,{"$f":"IF(D798<>0,D797/D798,\"\")","v":""},"","","","","","","","","","","",null,{"$f":"IF(Q798<>0,Q797/Q798,\"\")","v":""},null,true,false,false,false,false]
[null,null,2014,{"$f":"IF(D800<>0,D799/D800,\"\")","v":""},{"$f":"IF(E800<>0,E799/E800,\"\")","v":""},"","","","","","","","","","",null,{"$f":"IF(Q800<>0,Q799/Q800,\"\")","v":""},null,true,false,false,false,false]
[null,null,2013,{"$f":"IF(D802<>0,D801/D802,\"\")","v":""},{"$f":"IF(E802<>0,E801/E802,\"\")","v":""},"","","","","","","","","","",null,{"$f":"IF(Q802<>0,Q801/Q802,\"\")","v":""},null,true,false,false,false,false]
[null,null,2012,{"$f":"IF(D804<>0,D803/D804,\"\")","v":""},{"$f":"IF(E804<>0,E803/E804,\"\")","v":""},"","","","","","","","","","",null,{"$f":"IF(Q804<>0,Q803/Q804,\"\")","v":""},null,{"$f":"S836","v":true},false,false,false,false]
[null,null,2011,{"$f":"IF(D806<>0,D805/D806,\"\")","v":""},{"$f":"IF(E806<>0,E805/E806,\"\")","v":""},"","","","","","","","","","",null,{"$f":"IF(Q806<>0,Q805/Q806,\"\")","v":""},null,true,false,false,false,false]
[null,null,2010,{"$f":"IF(D808<>0,D807/D808,\"\")","v":""},{"$f":"IF(E808<>0,E807/E808,\"\")","v":""},"","","","","","","","","","",null,{"$f":"IF(Q808<>0,Q807/Q808,\"\")","v":""},null,true,false,false,false,false]
[null,null,2009,{"$f":"IF(D810<>0,D809/D810,\"\")","v":""},{"$f":"IF(E810<>0,E809/E810,\"\")","v":""},"","","","","","","","","","",null,{"$f":"IF(Q810<>0,Q809/Q810,\"\")","v":""},null,true,false,false,false,false]
[null,null,2008,{"$f":"IF(D812<>0,D811/D812,\"\")","v":""},{"$f":"IF(E812<>0,E811/E812,\"\")","v":""},"","","","","","","","","","",null,{"$f":"IF(Q812<>0,Q811/Q812,\"\")","v":""},null,true,false,false,false,false]
[null,null,2007,{"$f":"IF(D814<>0,D813/D814,\"\")","v":""},{"$f":"IF(E814<>0,E813/E814,\"\")","v":""},"","","","","","","","","","",null,{"$f":"IF(Q814<>0,Q813/Q814,\"\")","v":""},null,true,false,false,false,false]
[null,null,2006,{"$f":"IF(D816<>0,D815/D816,\"\")","v":""},{"$f":"IF(E816<>0,E815/E816,\"\")","v":""},"","","","","","","","","","",null,{"$f":"IF(Q816<>0,Q815/Q816,\"\")","v":""},null,true,false,false,false,false]
[null,null,2005,{"$f":"IF(D818<>0,D817/D818,\"\")","v":""},{"$f":"IF(E818<>0,E817/E818,\"\")","v":""},"","","","","","","","","","",null,{"$f":"IF(Q818<>0,Q817/Q818,\"\")","v":""},null,true,false,false,false,false]
[null,null,null,null,null,null,null,null,null,null,null,null,null,null,null,null,null,null,{"$f":"S830","v":true},{"$f":"T830","v":false},null,{"$f":"V830","v":false},false]
[null,null,null,null,null,null,null,null,null,null,null,null,null,null,null,null,null,null,null,{"$f":"T845","v":false},null,null,false]
[null,"Energy Source",null,null,null,"UNIT","Notes",null,null,null,null,null,null,null,null,null,null,null,null,{"$f":"VLOOKUP(B848,$T$5:$U$24,2,)","v":false},null,null,{"$f":"AND(S847:V847)","v":false}]
["back to top",{"$f":"B766+1","v":11},{"$f":"VLOOKUP(B848,$B$5:$F$24,2,)","v":""},null,null,{"$f":"VLOOKUP(B848,$B$5:$G$24,5,)","v":""},{"$f":"VLOOKUP(B848,$B$5:$G$24,6,)","v":""},null,null,null,null,null,null,null,null,null,null,null,null,{"$f":"T847","v":false},null,null,{"$f":"AND(S848:V848)","v":false}]
[null,null,null,null,null,null,null,null,null,null,null,null,null,null,null,null,null,null,null,{"$f":"T848","v":false},null,null,false]
[null,null,null,{"$f":"D768","v":"Jan"},{"$f":"E768","v":"Feb"},"Mar","Apr","May","Jun","Jul","Aug","Sep","Oct","Nov","Dec",null,"YEAR",null,null,{"$f":"T849","v":false},null,null,false]
[null,{"$f":"FinalYear","v":2029},"$$",null,null,null,null,null,null,null,null,null,null,null,null,null,{"$f":"SUM(D851:O851)","v":0},null,null,false,{"$f":"AND(B851<=ReportingYear,B851>=BaselineYear)","v":false},null,false]
[null,null,"Qty",null,null,null,null,null,null,null,null,null,null,null,null,null,0,null,{"$f":"IF(F848=\"none\",FALSE,TRUE)","v":true},false,{"$f":"U851","v":false},null,false]
[null,{"$f":"B851-1","v":2028},"$$",null,null,null,null,null,null,null,null,null,null,null,null,null,0,null,null,false,{"$f":"AND(B853<=ReportingYear,B853>=BaselineYear)","v":false},null,false]
[null,null,"Qty",null,null,null,null,null,null,null,null,null,null,null,null,null,0,null,{"$f":"S852","v":true},false,{"$f":"U853","v":false},null,false]
[null,{"$f":"B853-1","v":2027},"$$",null,null,null,null,null,null,null,null,null,null,null,null,null,0,null,null,false,{"$f":"AND(B855<=ReportingYear,B855>=BaselineYear)","v":false},null,false]
[null,null,"Qty",null,null,null,null,null,null,null,null,null,null,null,null,null,0,null,{"$f":"S854","v":true},false,{"$f":"U855","v":false},null,false]
[null,{"$f":"B855-1","v":2026},"$$",null,null,null,null,null,null,null,null,null,null,null,null,null,0,null,null,false,{"$f":"AND(B857<=ReportingYear,B857>=BaselineYear)","v":false},null,false]
[null,null,"Qty",null,null,null,null,null,null,null,null,null,null,null,null,null,0,null,{"$f":"S856","v":true},false,{"$f":"U857","v":false},null,false]
[null,{"$f":"B857-1","v":2025},"$$",null,null,null,null,null,null,null,null,null,null,null,null,null,0,null,null,false,{"$f":"AND(B859<=ReportingYear,B859>=BaselineYear)","v":false},null,false]
[null,null,"Qty",null,null,null,null,null,null,null,null,null,null,null,null,null,0,null,{"$f":"S858","v":true},false,{"$f":"U859","v":false},null,false]
[null,{"$f":"B859-1","v":2024},"$$",null,null,null,null,null,null,null,null,null,null,null,null,null,0,null,null,false,{"$f":"AND(B861<=ReportingYear,B861>=BaselineYear)","v":false},null,false]
[null,null,"Qty",null,null,null,null,null,null,null,null,null,null,null,null,null,0,null,{"$f":"S860","v":true},false,{"$f":"U861","v":false},null,false]
[null,{"$f":"B861-1","v":2023},"$$",null,null,null,null,null,null,null,null,null,null,null,null,null,0,null,null,false,{"$f":"AND(B863<=ReportingYear,B863>=BaselineYear)","v":false},null,false]
[null,null,"Qty",null,null,null,null,null,null,null,null,null,null,null,null,null,0,null,{"$f":"S862","v":true},false,{"$f":"U863","v":false},null,false]
[null,{"$f":"B863-1","v":2022},"$$",null,null,null,null,null,null,null,null,null,null,null,null,null,0,null,null,false,{"$f":"AND(B865<=ReportingYear,B865>=BaselineYear)","v":false},null,false]
[null,null,"Qty",null,null,null,null,null,null,null,null,null,null,null,null,null,0,null,{"$f":"S864","v":true},false,{"$f":"U865","v":false},null,false]
[null,{"$f":"B865-1","v":2021},"$$",null,null,null,null,null,null,null,null,null,null,null,null,null,0,null,null,false,{"$f":"AND(B867<=ReportingYear,B867>=BaselineYear)","v":true},null,false]
[null,null,"Qty",null,null,null,null,null,null,null,null,null,null,null,null,null,0,null,{"$f":"S866","v":true},false,{"$f":"U867","v":true},null,false]
[null,{"$f":"B867-1","v":2020},"$$",null,null,null,null,null,null,null,null,null,null,null,null,null,0,null,null,false,{"$f":"AND(B869<=ReportingYear,B869>=BaselineYear)","v":true},null,false]
[null,null,"Qty",null,null,null,null,null,null,null,null,null,null,null,null,null,0,null,{"$f":"S868","v":true},false,{"$f":"U869","v":true},null,false]
[null,{"$f":"B869-1","v":2019},"$$",null,null,null,null,null,null,null,null,null,null,null,null,null,0,null,null,false,{"$f":"AND(B871<=ReportingYear,B871>=BaselineYear)","v":false},null,false]
[null,null,"Qty",null,null,null,null,null,null,null,null,null,null,null,null,null,0,null,{"$f":"S870","v":true},false,{"$f":"U871","v":false},null,false]
[null,{"$f":"B871-1","v":2018},"$$",null,null,null,null,null,null,null,null,null,null,null,null,null,0,null,null,false,{"$f":"AND(B873<=ReportingYear,B873>=BaselineYear)","v":false},null,false]
[null,null,"Qty",null,null,null,null,null,null,null,null,null,null,null,null,null,0,null,{"$f":"S872","v":true},false,{"$f":"U873","v":false},null,false]
[null,{"$f":"B873-1","v":2017},"$$",null,null,null,null,null,null,null,null,null,null,null,null,null,0,null,null,false,{"$f":"AND(B875<=ReportingYear,B875>=BaselineYear)","v":false},null,false]
[null,null,"Qty",null,null,null,null,null,null,null,null,null,null,null,null,null,0,null,{"$f":"S874","v":true},false,{"$f":"U875","v":false},null,false]
[null,{"$f":"B875-1","v":2016},"$$",null,null,null,null,null,null,null,null,null,null,null,null,null,0,null,null,false,{"$f":"AND(B877<=ReportingYear,B877>=BaselineYear)","v":false},null,false]
[null,null,"Qty",null,null,null,null,null,null,null,null,null,null,null,null,null,0,null,{"$f":"S876","v":true},false,{"$f":"U877","v":false},null,false]
[null,{"$f":"B877-1","v":2015},"$$",null,null,null,null,null,null,null,null,null,null,null,null,null,0,null,null,false,{"$f":"AND(B879<=ReportingYear,B879>=BaselineYear)","v":false},null,false]
[null,null,"Qty",null,null,null,null,null,null,null,null,null,null,null,null,null,0,null,{"$f":"S878","v":true},false,{"$f":"U879","v":false},null,false]
[null,{"$f":"B879-1","v":2014},"$$",null,null,null,null,null,null,null,null,null,null,null,null,null,0,null,null,false,{"$f":"AND(B881<=ReportingYear,B881>=BaselineYear)","v":false},null,false]
[null,null,"Qty",null,null,null,null,null,null,null,null,null,null,null,null,null,0,null,{"$f":"S880","v":true},false,{"$f":"U881","v":false},null,false]
[null,{"$f":"B881-1","v":2013},"$$",null,null,null,null,null,null,null,null,null,null,null,null,null,0,null,null,false,{"$f":"AND(B883<=ReportingYear,B883>=BaselineYear)","v":false},null,false]
[null,null,"Qty",null,null,null,null,null,null,null,null,null,null,null,null,null,0,null,{"$f":"S882","v":true},false,{"$f":"U883","v":false},null,false]
[null,{"$f":"B883-1","v":2012},"$$",null,null,null,null,null,null,null,null,null,null,null,null,null,0,null,null,false,{"$f":"AND(B885<=ReportingYear,B885>=BaselineYear)","v":false},null,false]
[null,null,"Qty",null,null,null,null,null,null,null,null,null,null,null,null,null,0,null,{"$f":"S884","v":true},false,{"$f":"U885","v":false},null,false]
[null,{"$f":"B885-1","v":2011},"$$",null,null,null,null,null,null,null,null,null,null,null,null,null,0,null,null,false,{"$f":"AND(B887<=ReportingYear,B887>=BaselineYear)","v":false},null,false]
[null,null,"Qty",null,null,null,null,null,null,null,null,null,null,null,null,null,0,null,{"$f":"S886","v":true},false,{"$f":"U887","v":false},null,false]
[null,{"$f":"B887-1","v":2010},"$$",null,null,null,null,null,null,null,null,null,null,null,null,null,0,null,null,false,{"$f":"AND(B889<=ReportingYear,B889>=BaselineYear)","v":false},null,false]
[null,null,"Qty",null,null,null,null,null,null,null,null,null,null,null,null,null,0,null,{"$f":"S888","v":true},false,{"$f":"U889","v":false},null,false]
[null,{"$f":"B889-1","v":2009},"$$",null,null,null,null,null,null,null,null,null,null,null,null,null,0,null,null,false,{"$f":"AND(B891<=ReportingYear,B891>=BaselineYear)","v":false},null,false]
[null,null,"Qty",null,null,null,null,null,null,null,null,null,null,null,null,null,0,null,{"$f":"S890","v":true},false,{"$f":"U891","v":false},null,false]
[null,{"$f":"B891-1","v":2008},"$$",null,null,null,null,null,null,null,null,null,null,null,null,null,0,null,null,false,{"$f":"AND(B893<=ReportingYear,B893>=BaselineYear)","v":false},null,false]
[null,null,"Qty",null,null,null,null,null,null,null,null,null,null,null,null,null,0,null,{"$f":"S892","v":true},false,{"$f":"U893","v":false},null,false]
[null,{"$f":"B893-1","v":2007},"$$",null,null,null,null,null,null,null,null,null,null,null,null,null,0,null,null,false,{"$f":"AND(B895<=ReportingYear,B895>=BaselineYear)","v":false},null,false]
[null,null,"Qty",null,null,null,null,null,null,null,null,null,null,null,null,null,0,null,{"$f":"S894","v":true},false,{"$f":"U895","v":false},null,false]
[null,{"$f":"B895-1","v":2006},"$$",null,null,null,null,null,null,null,null,null,null,null,null,null,0,null,null,false,{"$f":"AND(B897<=ReportingYear,B897>=BaselineYear)","v":false},null,false]
[null,null,"Qty",null,null,null,null,null,null,null,null,null,null,null,null,null,0,null,{"$f":"S896","v":true},false,{"$f":"U897","v":false},null,false]
[null,{"$f":"B897-1","v":2005},"$$",null,null,null,null,null,null,null,null,null,null,null,null,null,0,null,null,false,{"$f":"AND(B899<=ReportingYear,B899>=BaselineYear)","v":false},null,false]
[null,null,"Qty",null,null,null,null,null,null,null,null,null,null,null,null,null,0,null,{"$f":"S898","v":true},false,{"$f":"U899","v":false},null,false]
[null,null,null,null,null,null,null,null,null,null,null,null,null,null,null,null,null,null,null,{"$f":"T872","v":false},null,null,false]
[null,"Per Unit Costs",{"$f":"B851","v":2029},{"$f":"IF(D852<>0,D851/D852,\"\")","v":""},"","","","","","","","","","","",null,{"$f":"IF(Q852<>0,Q851/Q852,\"\")","v":""},null,{"$f":"S880","v":true},{"$f":"T901","v":false},{"$f":"AND(C902<=ReportingYear,C902>=BaselineYear)","v":false},{"$f":"UnitCostStatus","v":false},false]
[null,null,{"$f":"C902-1","v":2028},{"$f":"IF(D854<>0,D853/D854,\"\")","v":""},"","","","","","","","","","","",null,{"$f":"IF(Q854<>0,Q853/Q854,\"\")","v":""},null,{"$f":"S902","v":true},false,false,{"$f":"V902","v":false},false]
[null,null,{"$f":"C903-1","v":2027},{"$f":"IF(D856<>0,D855/D856,\"\")","v":""},"","","","","","","","","","","",null,{"$f":"IF(Q856<>0,Q855/Q856,\"\")","v":""},null,true,false,false,{"$f":"V903","v":false},false]
[null,null,2026,{"$f":"IF(D858<>0,D857/D858,\"\")","v":""},"","","","","","","","","","","",null,{"$f":"IF(Q858<>0,Q857/Q858,\"\")","v":""},null,true,false,false,{"$f":"V904","v":false},false]
[null,null,2025,{"$f":"IF(D860<>0,D859/D860,\"\")","v":""},"","","","","","","","","","","",null,{"$f":"IF(Q860<>0,Q859/Q860,\"\")","v":""},null,true,false,false,false,false]
[null,null,2024,{"$f":"IF(D862<>0,D861/D862,\"\")","v":""},"","","","","","","","","","","",null,{"$f":"IF(Q862<>0,Q861/Q862,\"\")","v":""},null,true,false,false,false,false]
[null,null,2023,{"$f":"IF(D864<>0,D863/D864,\"\")","v":""},"","","","","","","","","","","",null,{"$f":"IF(Q864<>0,Q863/Q864,\"\")","v":""},null,true,false,false,false,false]
[null,null,2022,{"$f":"IF(D866<>0,D865/D866,\"\")","v":""},"","","","","","","","","","","",null,{"$f":"IF(Q866<>0,Q865/Q866,\"\")","v":""},null,true,false,false,false,false]
[null,null,2021,{"$f":"IF(D868<>0,D867/D868,\"\")","v":""},"","","","","","","","","","","",null,{"$f":"IF(Q868<>0,Q867/Q868,\"\")","v":""},null,true,false,true,false,false]
[null,null,2020,{"$f":"IF(D870<>0,D869/D870,\"\")","v":""},"","","","","","","","","","","",null,{"$f":"IF(Q870<>0,Q869/Q870,\"\")","v":""},null,true,false,true,false,false]
[null,null,2019,{"$f":"IF(D872<>0,D871/D872,\"\")","v":""},"","","","","","","","","","","",null,{"$f":"IF(Q872<>0,Q871/Q872,\"\")","v":""},null,true,false,false,false,false]
[null,null,2018,{"$f":"IF(D874<>0,D873/D874,\"\")","v":""},"","","","","","","","","","","",null,{"$f":"IF(Q874<>0,Q873/Q874,\"\")","v":""},null,true,false,false,false,false]
[null,null,2017,{"$f":"IF(D876<>0,D875/D876,\"\")","v":""},"","","","","","","","","","","",null,{"$f":"IF(Q876<>0,Q875/Q876,\"\")","v":""},null,true,false,false,false,false]
[null,null,2016,{"$f":"IF(D878<>0,D877/D878,\"\")","v":""},"","","","","","","","","","","",null,{"$f":"IF(Q878<>0,Q877/Q878,\"\")","v":""},null,true,false,false,false,false]
[null,null,2015,{"$f":"IF(D880<>0,D879/D880,\"\")","v":""},"","","","","","","","","","","",null,{"$f":"IF(Q880<>0,Q879/Q880,\"\")","v":""},null,true,false,false,false,false]
[null,null,2014,{"$f":"IF(D882<>0,D881/D882,\"\")","v":""},{"$f":"IF(E882<>0,E881/E882,\"\")","v":""},"","","","","","","","","","",null,{"$f":"IF(Q882<>0,Q881/Q882,\"\")","v":""},null,true,false,false,false,false]
[null,null,2013,{"$f":"IF(D884<>0,D883/D884,\"\")","v":""},{"$f":"IF(E884<>0,E883/E884,\"\")","v":""},"","","","","","","","","","",null,{"$f":"IF(Q884<>0,Q883/Q884,\"\")","v":""},null,true,false,false,false,false]
[null,null,2012,{"$f":"IF(D886<>0,D885/D886,\"\")","v":""},{"$f":"IF(E886<>0,E885/E886,\"\")","v":""},"","","","","","","","","","",null,{"$f":"IF(Q886<>0,Q885/Q886,\"\")","v":""},null,{"$f":"S918","v":true},false,false,false,false]
[null,null,2011,{"$f":"IF(D888<>0,D887/D888,\"\")","v":""},{"$f":"IF(E888<>0,E887/E888,\"\")","v":""},"","","","","","","","","","",null,{"$f":"IF(Q888<>0,Q887/Q888,\"\")","v":""},null,true,false,false,false,false]
[null,null,2010,{"$f":"IF(D890<>0,D889/D890,\"\")","v":""},{"$f":"IF(E890<>0,E889/E890,\"\")","v":""},"","","","","","","","","","",null,{"$f":"IF(Q890<>0,Q889/Q890,\"\")","v":""},null,true,false,false,false,false]
[null,null,2009,{"$f":"IF(D892<>0,D891/D892,\"\")","v":""},{"$f":"IF(E892<>0,E891/E892,\"\")","v":""},"","","","","","","","","","",null,{"$f":"IF(Q892<>0,Q891/Q892,\"\")","v":""},null,true,false,false,false,false]
[null,null,2008,{"$f":"IF(D894<>0,D893/D894,\"\")","v":""},{"$f":"IF(E894<>0,E893/E894,\"\")","v":""},"","","","","","","","","","",null,{"$f":"IF(Q894<>0,Q893/Q894,\"\")","v":""},null,true,false,false,false,false]
[null,null,2007,{"$f":"IF(D896<>0,D895/D896,\"\")","v":""},{"$f":"IF(E896<>0,E895/E896,\"\")","v":""},"","","","","","","","","","",null,{"$f":"IF(Q896<>0,Q895/Q896,\"\")","v":""},null,true,false,false,false,false]
[null,null,2006,{"$f":"IF(D898<>0,D897/D898,\"\")","v":""},{"$f":"IF(E898<>0,E897/E898,\"\")","v":""},"","","","","","","","","","",null,{"$f":"IF(Q898<>0,Q897/Q898,\"\")","v":""},null,true,false,false,false,false]
[null,null,2005,{"$f":"IF(D900<>0,D899/D900,\"\")","v":""},{"$f":"IF(E900<>0,E899/E900,\"\")","v":""},"","","","","","","","","","",null,{"$f":"IF(Q900<>0,Q899/Q900,\"\")","v":""},null,true,false,false,false,false]
[null,null,null,null,null,null,null,null,null,null,null,null,null,null,null,null,null,null,{"$f":"S912","v":true},{"$f":"T912","v":false},null,{"$f":"V912","v":false},false]
[null,null,null,null,null,null,null,null,null,null,null,null,null,null,null,null,null,null,null,{"$f":"T927","v":false},null,null,false]
[null,"Energy Source",null,null,null,"UNIT","Notes",null,null,null,null,null,null,null,null,null,null,null,null,{"$f":"VLOOKUP(B930,$T$5:$U$24,2,)","v":false},null,null,{"$f":"AND(S929:V929)","v":false}]
["back to top",{"$f":"B848+1","v":12},{"$f":"VLOOKUP(B930,$B$5:$F$24,2,)","v":""},null,null,{"$f":"VLOOKUP(B930,$B$5:$G$24,5,)","v":""},{"$f":"VLOOKUP(B930,$B$5:$G$24,6,)","v":""},null,null,null,null,null,null,null,null,null,null,null,null,{"$f":"T929","v":false},null,null,{"$f":"AND(S930:V930)","v":false}]
[null,null,null,null,null,null,null,null,null,null,null,null,null,null,null,null,null,null,null,{"$f":"T930","v":false},null,null,false]
[null,null,null,{"$f":"D850","v":"Jan"},{"$f":"E850","v":"Feb"},"Mar","Apr","May","Jun","Jul","Aug","Sep","Oct","Nov","Dec",null,"YEAR",null,null,{"$f":"T931","v":false},null,null,false]
[null,{"$f":"FinalYear","v":2029},"$$",null,null,null,null,null,null,null,null,null,null,null,null,null,{"$f":"SUM(D933:O933)","v":0},null,null,false,{"$f":"AND(B933<=ReportingYear,B933>=BaselineYear)","v":false},null,false]
[null,null,"Qty",null,null,null,null,null,null,null,null,null,null,null,null,null,0,null,{"$f":"IF(F930=\"none\",FALSE,TRUE)","v":true},false,{"$f":"U933","v":false},null,false]
[null,{"$f":"B933-1","v":2028},"$$",null,null,null,null,null,null,null,null,null,null,null,null,null,0,null,null,false,{"$f":"AND(B935<=ReportingYear,B935>=BaselineYear)","v":false},null,false]
[null,null,"Qty",null,null,null,null,null,null,null,null,null,null,null,null,null,0,null,{"$f":"S934","v":true},false,{"$f":"U935","v":false},null,false]
[null,{"$f":"B935-1","v":2027},"$$",null,null,null,null,null,null,null,null,null,null,null,null,null,0,null,null,false,{"$f":"AND(B937<=ReportingYear,B937>=BaselineYear)","v":false},null,false]
[null,null,"Qty",null,null,null,null,null,null,null,null,null,null,null,null,null,0,null,{"$f":"S936","v":true},false,{"$f":"U937","v":false},null,false]
[null,{"$f":"B937-1","v":2026},"$$",null,null,null,null,null,null,null,null,null,null,null,null,null,0,null,null,false,{"$f":"AND(B939<=ReportingYear,B939>=BaselineYear)","v":false},null,false]
[null,null,"Qty",null,null,null,null,null,null,null,null,null,null,null,null,null,0,null,{"$f":"S938","v":true},false,{"$f":"U939","v":false},null,false]
[null,{"$f":"B939-1","v":2025},"$$",null,null,null,null,null,null,null,null,null,null,null,null,null,0,null,null,false,{"$f":"AND(B941<=ReportingYear,B941>=BaselineYear)","v":false},null,false]
[null,null,"Qty",null,null,null,null,null,null,null,null,null,null,null,null,null,0,null,{"$f":"S940","v":true},false,{"$f":"U941","v":false},null,false]
[null,{"$f":"B941-1","v":2024},"$$",null,null,null,null,null,null,null,null,null,null,null,null,null,0,null,null,false,{"$f":"AND(B943<=ReportingYear,B943>=BaselineYear)","v":false},null,false]
[null,null,"Qty",null,null,null,null,null,null,null,null,null,null,null,null,null,0,null,{"$f":"S942","v":true},false,{"$f":"U943","v":false},null,false]
[null,{"$f":"B943-1","v":2023},"$$",null,null,null,null,null,null,null,null,null,null,null,null,null,0,null,null,false,{"$f":"AND(B945<=ReportingYear,B945>=BaselineYear)","v":false},null,false]
[null,null,"Qty",null,null,null,null,null,null,null,null,null,null,null,null,null,0,null,{"$f":"S944","v":true},false,{"$f":"U945","v":false},null,false]
[null,{"$f":"B945-1","v":2022},"$$",null,null,null,null,null,null,null,null,null,null,null,null,null,0,null,null,false,{"$f":"AND(B947<=ReportingYear,B947>=BaselineYear)","v":false},null,false]
[null,null,"Qty",null,null,null,null,null,null,null,null,null,null,null,null,null,0,null,{"$f":"S946","v":true},false,{"$f":"U947","v":false},null,false]
[null,{"$f":"B947-1","v":2021},"$$",null,null,null,null,null,null,null,null,null,null,null,null,null,0,null,null,false,{"$f":"AND(B949<=ReportingYear,B949>=BaselineYear)","v":true},null,false]
[null,null,"Qty",null,null,null,null,null,null,null,null,null,null,null,null,null,0,null,{"$f":"S948","v":true},false,{"$f":"U949","v":true},null,false]
[null,{"$f":"B949-1","v":2020},"$$",null,null,null,null,null,null,null,null,null,null,null,null,null,0,null,null,false,{"$f":"AND(B951<=ReportingYear,B951>=BaselineYear)","v":true},null,false]
[null,null,"Qty",null,null,null,null,null,null,null,null,null,null,null,null,null,0,null,{"$f":"S950","v":true},false,{"$f":"U951","v":true},null,false]
[null,{"$f":"B951-1","v":2019},"$$",null,null,null,null,null,null,null,null,null,null,null,null,null,0,null,null,false,{"$f":"AND(B953<=ReportingYear,B953>=BaselineYear)","v":false},null,false]
[null,null,"Qty",null,null,null,null,null,null,null,null,null,null,null,null,null,0,null,{"$f":"S952","v":true},false,{"$f":"U953","v":false},null,false]
[null,{"$f":"B953-1","v":2018},"$$",null,null,null,null,null,null,null,null,null,null,null,null,null,0,null,null,false,{"$f":"AND(B955<=ReportingYear,B955>=BaselineYear)","v":false},null,false]
[null,null,"Qty",null,null,null,null,null,null,null,null,null,null,null,null,null,0,null,{"$f":"S954","v":true},false,{"$f":"U955","v":false},null,false]
[null,{"$f":"B955-1","v":2017},"$$",null,null,null,null,null,null,null,null,null,null,null,null,null,0,null,null,false,{"$f":"AND(B957<=ReportingYear,B957>=BaselineYear)","v":false},null,false]
[null,null,"Qty",null,null,null,null,null,null,null,null,null,null,null,null,null,0,null,{"$f":"S956","v":true},false,{"$f":"U957","v":false},null,false]
[null,{"$f":"B957-1","v":2016},"$$",null,null,null,null,null,null,null,null,null,null,null,null,null,0,null,null,false,{"$f":"AND(B959<=ReportingYear,B959>=BaselineYear)","v":false},null,false]
[null,null,"Qty",null,null,null,null,null,null,null,null,null,null,null,null,null,0,null,{"$f":"S958","v":true},false,{"$f":"U959","v":false},null,false]
[null,{"$f":"B959-1","v":2015},"$$",null,null,null,null,null,null,null,null,null,null,null,null,null,0,null,null,false,{"$f":"AND(B961<=ReportingYear,B961>=BaselineYear)","v":false},null,false]
[null,null,"Qty",null,null,null,null,null,null,null,null,null,null,null,null,null,0,null,{"$f":"S960","v":true},false,{"$f":"U961","v":false},null,false]
[null,{"$f":"B961-1","v":2014},"$$",null,null,null,null,null,null,null,null,null,null,null,null,null,0,null,null,false,{"$f":"AND(B963<=ReportingYear,B963>=BaselineYear)","v":false},null,false]
[null,null,"Qty",null,null,null,null,null,null,null,null,null,null,null,null,null,0,null,{"$f":"S962","v":true},false,{"$f":"U963","v":false},null,false]
[null,{"$f":"B963-1","v":2013},"$$",null,null,null,null,null,null,null,null,null,null,null,null,null,0,null,null,false,{"$f":"AND(B965<=ReportingYear,B965>=BaselineYear)","v":false},null,false]
[null,null,"Qty",null,null,null,null,null,null,null,null,null,null,null,null,null,0,null,{"$f":"S964","v":true},false,{"$f":"U965","v":false},null,false]
[null,{"$f":"B965-1","v":2012},"$$",null,null,null,null,null,null,null,null,null,null,null,null,null,0,null,null,false,{"$f":"AND(B967<=ReportingYear,B967>=BaselineYear)","v":false},null,false]
[null,null,"Qty",null,null,null,null,null,null,null,null,null,null,null,null,null,0,null,{"$f":"S966","v":true},false,{"$f":"U967","v":false},null,false]
[null,{"$f":"B967-1","v":2011},"$$",null,null,null,null,null,null,null,null,null,null,null,null,null,0,null,null,false,{"$f":"AND(B969<=ReportingYear,B969>=BaselineYear)","v":false},null,false]
[null,null,"Qty",null,null,null,null,null,null,null,null,null,null,null,null,null,0,null,{"$f":"S968","v":true},false,{"$f":"U969","v":false},null,false]
[null,{"$f":"B969-1","v":2010},"$$",null,null,null,null,null,null,null,null,null,null,null,null,null,0,null,null,false,{"$f":"AND(B971<=ReportingYear,B971>=BaselineYear)","v":false},null,false]
[null,null,"Qty",null,null,null,null,null,null,null,null,null,null,null,null,null,0,null,{"$f":"S970","v":true},false,{"$f":"U971","v":false},null,false]
[null,{"$f":"B971-1","v":2009},"$$",null,null,null,null,null,null,null,null,null,null,null,null,null,0,null,null,false,{"$f":"AND(B973<=ReportingYear,B973>=BaselineYear)","v":false},null,false]
[null,null,"Qty",null,null,null,null,null,null,null,null,null,null,null,null,null,0,null,{"$f":"S972","v":true},false,{"$f":"U973","v":false},null,false]
[null,{"$f":"B973-1","v":2008},"$$",null,null,null,null,null,null,null,null,null,null,null,null,null,0,null,null,false,{"$f":"AND(B975<=ReportingYear,B975>=BaselineYear)","v":false},null,false]
[null,null,"Qty",null,null,null,null,null,null,null,null,null,null,null,null,null,0,null,{"$f":"S974","v":true},false,{"$f":"U975","v":false},null,false]
[null,{"$f":"B975-1","v":2007},"$$",null,null,null,null,null,null,null,null,null,null,null,null,null,0,null,null,false,{"$f":"AND(B977<=ReportingYear,B977>=BaselineYear)","v":false},null,false]
[null,null,"Qty",null,null,null,null,null,null,null,null,null,null,null,null,null,0,null,{"$f":"S976","v":true},false,{"$f":"U977","v":false},null,false]
[null,{"$f":"B977-1","v":2006},"$$",null,null,null,null,null,null,null,null,null,null,null,null,null,0,null,null,false,{"$f":"AND(B979<=ReportingYear,B979>=BaselineYear)","v":false},null,false]
[null,null,"Qty",null,null,null,null,null,null,null,null,null,null,null,null,null,0,null,{"$f":"S978","v":true},false,{"$f":"U979","v":false},null,false]
[null,{"$f":"B979-1","v":2005},"$$",null,null,null,null,null,null,null,null,null,null,null,null,null,0,null,null,false,{"$f":"AND(B981<=ReportingYear,B981>=BaselineYear)","v":false},null,false]
[null,null,"Qty",null,null,null,null,null,null,null,null,null,null,null,null,null,0,null,{"$f":"S980","v":true},false,{"$f":"U981","v":false},null,false]
[null,null,null,null,null,null,null,null,null,null,null,null,null,null,null,null,null,null,null,{"$f":"T954","v":false},null,null,false]
[null,"Per Unit Costs",{"$f":"B933","v":2029},{"$f":"IF(D934<>0,D933/D934,\"\")","v":""},"","","","","","","","","","","",null,{"$f":"IF(Q934<>0,Q933/Q934,\"\")","v":""},null,{"$f":"S962","v":true},{"$f":"T983","v":false},{"$f":"AND(C984<=ReportingYear,C984>=BaselineYear)","v":false},{"$f":"UnitCostStatus","v":false},false]
[null,null,{"$f":"C984-1","v":2028},{"$f":"IF(D936<>0,D935/D936,\"\")","v":""},"","","","","","","","","","","",null,{"$f":"IF(Q936<>0,Q935/Q936,\"\")","v":""},null,{"$f":"S984","v":true},false,false,{"$f":"V984","v":false},false]
[null,null,{"$f":"C985-1","v":2027},{"$f":"IF(D938<>0,D937/D938,\"\")","v":""},"","","","","","","","","","","",null,{"$f":"IF(Q938<>0,Q937/Q938,\"\")","v":""},null,true,false,false,{"$f":"V985","v":false},false]
[null,null,2026,{"$f":"IF(D940<>0,D939/D940,\"\")","v":""},"","","","","","","","","","","",null,{"$f":"IF(Q940<>0,Q939/Q940,\"\")","v":""},null,true,false,false,{"$f":"V986","v":false},false]
[null,null,2025,{"$f":"IF(D942<>0,D941/D942,\"\")","v":""},"","","","","","","","","","","",null,{"$f":"IF(Q942<>0,Q941/Q942,\"\")","v":""},null,true,false,false,false,false]
[null,null,2024,{"$f":"IF(D944<>0,D943/D944,\"\")","v":""},"","","","","","","","","","","",null,{"$f":"IF(Q944<>0,Q943/Q944,\"\")","v":""},null,true,false,false,false,false]
[null,null,2023,{"$f":"IF(D946<>0,D945/D946,\"\")","v":""},"","","","","","","","","","","",null,{"$f":"IF(Q946<>0,Q945/Q946,\"\")","v":""},null,true,false,false,false,false]
[null,null,2022,{"$f":"IF(D948<>0,D947/D948,\"\")","v":""},"","","","","","","","","","","",null,{"$f":"IF(Q948<>0,Q947/Q948,\"\")","v":""},null,true,false,false,false,false]
[null,null,2021,{"$f":"IF(D950<>0,D949/D950,\"\")","v":""},"","","","","","","","","","","",null,{"$f":"IF(Q950<>0,Q949/Q950,\"\")","v":""},null,true,false,true,false,false]
[null,null,2020,{"$f":"IF(D952<>0,D951/D952,\"\")","v":""},"","","","","","","","","","","",null,{"$f":"IF(Q952<>0,Q951/Q952,\"\")","v":""},null,true,false,true,false,false]
[null,null,2019,{"$f":"IF(D954<>0,D953/D954,\"\")","v":""},"","","","","","","","","","","",null,{"$f":"IF(Q954<>0,Q953/Q954,\"\")","v":""},null,true,false,false,false,false]
[null,null,2018,{"$f":"IF(D956<>0,D955/D956,\"\")","v":""},"","","","","","","","","","","",null,{"$f":"IF(Q956<>0,Q955/Q956,\"\")","v":""},null,true,false,false,false,false]
[null,null,2017,{"$f":"IF(D958<>0,D957/D958,\"\")","v":""},"","","","","","","","","","","",null,{"$f":"IF(Q958<>0,Q957/Q958,\"\")","v":""},null,true,false,false,false,false]
[null,null,2016,{"$f":"IF(D960<>0,D959/D960,\"\")","v":""},"","","","","","","","","","","",null,{"$f":"IF(Q960<>0,Q959/Q960,\"\")","v":""},null,true,false,false,false,false]
[null,null,2015,{"$f":"IF(D962<>0,D961/D962,\"\")","v":""},"","","","","","","","","","","",null,{"$f":"IF(Q962<>0,Q961/Q962,\"\")","v":""},null,true,false,false,false,false]
[null,null,2014,{"$f":"IF(D964<>0,D963/D964,\"\")","v":""},{"$f":"IF(E964<>0,E963/E964,\"\")","v":""},"","","","","","","","","","",null,{"$f":"IF(Q964<>0,Q963/Q964,\"\")","v":""},null,true,false,false,false,false]
[null,null,2013,{"$f":"IF(D966<>0,D965/D966,\"\")","v":""},{"$f":"IF(E966<>0,E965/E966,\"\")","v":""},"","","","","","","","","","",null,{"$f":"IF(Q966<>0,Q965/Q966,\"\")","v":""},null,true,false,false,false,false]
[null,null,2012,{"$f":"IF(D968<>0,D967/D968,\"\")","v":""},{"$f":"IF(E968<>0,E967/E968,\"\")","v":""},"","","","","","","","","","",null,{"$f":"IF(Q968<>0,Q967/Q968,\"\")","v":""},null,{"$f":"S1000","v":true},false,false,false,false]
[null,null,2011,{"$f":"IF(D970<>0,D969/D970,\"\")","v":""},{"$f":"IF(E970<>0,E969/E970,\"\")","v":""},"","","","","","","","","","",null,{"$f":"IF(Q970<>0,Q969/Q970,\"\")","v":""},null,true,false,false,false,false]
[null,null,2010,{"$f":"IF(D972<>0,D971/D972,\"\")","v":""},{"$f":"IF(E972<>0,E971/E972,\"\")","v":""},"","","","","","","","","","",null,{"$f":"IF(Q972<>0,Q971/Q972,\"\")","v":""},null,true,false,false,false,false]
[null,null,2009,{"$f":"IF(D974<>0,D973/D974,\"\")","v":""},{"$f":"IF(E974<>0,E973/E974,\"\")","v":""},"","","","","","","","","","",null,{"$f":"IF(Q974<>0,Q973/Q974,\"\")","v":""},null,true,false,false,false,false]
[null,null,2008,{"$f":"IF(D976<>0,D975/D976,\"\")","v":""},{"$f":"IF(E976<>0,E975/E976,\"\")","v":""},"","","","","","","","","","",null,{"$f":"IF(Q976<>0,Q975/Q976,\"\")","v":""},null,true,false,false,false,false]
[null,null,2007,{"$f":"IF(D978<>0,D977/D978,\"\")","v":""},{"$f":"IF(E978<>0,E977/E978,\"\")","v":""},"","","","","","","","","","",null,{"$f":"IF(Q978<>0,Q977/Q978,\"\")","v":""},null,true,false,false,false,false]
[null,null,2006,{"$f":"IF(D980<>0,D979/D980,\"\")","v":""},{"$f":"IF(E980<>0,E979/E980,\"\")","v":""},"","","","","","","","","","",null,{"$f":"IF(Q980<>0,Q979/Q980,\"\")","v":""},null,true,false,false,false,false]
[null,null,2005,{"$f":"IF(D982<>0,D981/D982,\"\")","v":""},{"$f":"IF(E982<>0,E981/E982,\"\")","v":""},"","","","","","","","","","",null,{"$f":"IF(Q982<>0,Q981/Q982,\"\")","v":""},null,true,false,false,false,false]
[null,null,null,null,null,null,null,null,null,null,null,null,null,null,null,null,null,null,{"$f":"S994","v":true},{"$f":"T994","v":false},null,{"$f":"V994","v":false},false]
[null,null,null,null,null,null,null,null,null,null,null,null,null,null,null,null,null,null,null,{"$f":"T1009","v":false},null,null,false]
[null,"Energy Source",null,null,null,"UNIT","Notes",null,null,null,null,null,null,null,null,null,null,null,null,{"$f":"VLOOKUP(B1012,$T$5:$U$24,2,)","v":false},null,null,{"$f":"AND(S1011:V1011)","v":false}]
["back to top",{"$f":"B930+1","v":13},{"$f":"VLOOKUP(B1012,$B$5:$F$24,2,)","v":""},null,null,{"$f":"VLOOKUP(B1012,$B$5:$G$24,5,)","v":""},{"$f":"VLOOKUP(B1012,$B$5:$G$24,6,)","v":""},null,null,null,null,null,null,null,null,null,null,null,null,{"$f":"T1011","v":false},null,null,{"$f":"AND(S1012:V1012)","v":false}]
[null,null,null,null,null,null,null,null,null,null,null,null,null,null,null,null,null,null,null,{"$f":"T1012","v":false},null,null,false]
[null,null,null,{"$f":"D932","v":"Jan"},{"$f":"E932","v":"Feb"},"Mar","Apr","May","Jun","Jul","Aug","Sep","Oct","Nov","Dec",null,"YEAR",null,null,{"$f":"T1013","v":false},null,null,false]
[null,{"$f":"FinalYear","v":2029},"$$",null,null,null,null,null,null,null,null,null,null,null,null,null,{"$f":"SUM(D1015:O1015)","v":0},null,null,false,{"$f":"AND(B1015<=ReportingYear,B1015>=BaselineYear)","v":false},null,false]
[null,null,"Qty",null,null,null,null,null,null,null,null,null,null,null,null,null,0,null,{"$f":"IF(F1012=\"none\",FALSE,TRUE)","v":true},false,{"$f":"U1015","v":false},null,false]
[null,{"$f":"B1015-1","v":2028},"$$",null,null,null,null,null,null,null,null,null,null,null,null,null,0,null,null,false,{"$f":"AND(B1017<=ReportingYear,B1017>=BaselineYear)","v":false},null,false]
[null,null,"Qty",null,null,null,null,null,null,null,null,null,null,null,null,null,0,null,{"$f":"S1016","v":true},false,{"$f":"U1017","v":false},null,false]
[null,{"$f":"B1017-1","v":2027},"$$",null,null,null,null,null,null,null,null,null,null,null,null,null,0,null,null,false,{"$f":"AND(B1019<=ReportingYear,B1019>=BaselineYear)","v":false},null,false]
[null,null,"Qty",null,null,null,null,null,null,null,null,null,null,null,null,null,0,null,{"$f":"S1018","v":true},false,{"$f":"U1019","v":false},null,false]
[null,{"$f":"B1019-1","v":2026},"$$",null,null,null,null,null,null,null,null,null,null,null,null,null,0,null,null,false,{"$f":"AND(B1021<=ReportingYear,B1021>=BaselineYear)","v":false},null,false]
[null,null,"Qty",null,null,null,null,null,null,null,null,null,null,null,null,null,0,null,{"$f":"S1020","v":true},false,{"$f":"U1021","v":false},null,false]
[null,{"$f":"B1021-1","v":2025},"$$",null,null,null,null,null,null,null,null,null,null,null,null,null,0,null,null,false,{"$f":"AND(B1023<=ReportingYear,B1023>=BaselineYear)","v":false},null,false]
[null,null,"Qty",null,null,null,null,null,null,null,null,null,null,null,null,null,0,null,{"$f":"S1022","v":true},false,{"$f":"U1023","v":false},null,false]
[null,{"$f":"B1023-1","v":2024},"$$",null,null,null,null,null,null,null,null,null,null,null,null,null,0,null,null,false,{"$f":"AND(B1025<=ReportingYear,B1025>=BaselineYear)","v":false},null,false]
[null,null,"Qty",null,null,null,null,null,null,null,null,null,null,null,null,null,0,null,{"$f":"S1024","v":true},false,{"$f":"U1025","v":false},null,false]
[null,{"$f":"B1025-1","v":2023},"$$",null,null,null,null,null,null,null,null,null,null,null,null,null,0,null,null,false,{"$f":"AND(B1027<=ReportingYear,B1027>=BaselineYear)","v":false},null,false]
[null,null,"Qty",null,null,null,null,null,null,null,null,null,null,null,null,null,0,null,{"$f":"S1026","v":true},false,{"$f":"U1027","v":false},null,false]
[null,{"$f":"B1027-1","v":2022},"$$",null,null,null,null,null,null,null,null,null,null,null,null,null,0,null,null,false,{"$f":"AND(B1029<=ReportingYear,B1029>=BaselineYear)","v":false},null,false]
[null,null,"Qty",null,null,null,null,null,null,null,null,null,null,null,null,null,0,null,{"$f":"S1028","v":true},false,{"$f":"U1029","v":false},null,false]
[null,{"$f":"B1029-1","v":2021},"$$",null,null,null,null,null,null,null,null,null,null,null,null,null,0,null,null,false,{"$f":"AND(B1031<=ReportingYear,B1031>=BaselineYear)","v":true},null,false]
[null,null,"Qty",null,null,null,null,null,null,null,null,null,null,null,null,null,0,null,{"$f":"S1030","v":true},false,{"$f":"U1031","v":true},null,false]
[null,{"$f":"B1031-1","v":2020},"$$",null,null,null,null,null,null,null,null,null,null,null,null,null,0,null,null,false,{"$f":"AND(B1033<=ReportingYear,B1033>=BaselineYear)","v":true},null,false]
[null,null,"Qty",null,null,null,null,null,null,null,null,null,null,null,null,null,0,null,{"$f":"S1032","v":true},false,{"$f":"U1033","v":true},null,false]
[null,{"$f":"B1033-1","v":2019},"$$",null,null,null,null,null,null,null,null,null,null,null,null,null,0,null,null,false,{"$f":"AND(B1035<=ReportingYear,B1035>=BaselineYear)","v":false},null,false]
[null,null,"Qty",null,null,null,null,null,null,null,null,null,null,null,null,null,0,null,{"$f":"S1034","v":true},false,{"$f":"U1035","v":false},null,false]
[null,{"$f":"B1035-1","v":2018},"$$",null,null,null,null,null,null,null,null,null,null,null,null,null,0,null,null,false,{"$f":"AND(B1037<=ReportingYear,B1037>=BaselineYear)","v":false},null,false]
[null,null,"Qty",null,null,null,null,null,null,null,null,null,null,null,null,null,0,null,{"$f":"S1036","v":true},false,{"$f":"U1037","v":false},null,false]
[null,{"$f":"B1037-1","v":2017},"$$",null,null,null,null,null,null,null,null,null,null,null,null,null,0,null,null,false,{"$f":"AND(B1039<=ReportingYear,B1039>=BaselineYear)","v":false},null,false]
[null,null,"Qty",null,null,null,null,null,null,null,null,null,null,null,null,null,0,null,{"$f":"S1038","v":true},false,{"$f":"U1039","v":false},null,false]
[null,{"$f":"B1039-1","v":2016},"$$",null,null,null,null,null,null,null,null,null,null,null,null,null,0,null,null,false,{"$f":"AND(B1041<=ReportingYear,B1041>=BaselineYear)","v":false},null,false]
[null,null,"Qty",null,null,null,null,null,null,null,null,null,null,null,null,null,0,null,{"$f":"S1040","v":true},false,{"$f":"U1041","v":false},null,false]
[null,{"$f":"B1041-1","v":2015},"$$",null,null,null,null,null,null,null,null,null,null,null,null,null,0,null,null,false,{"$f":"AND(B1043<=ReportingYear,B1043>=BaselineYear)","v":false},null,false]
[null,null,"Qty",null,null,null,null,null,null,null,null,null,null,null,null,null,0,null,{"$f":"S1042","v":true},false,{"$f":"U1043","v":false},null,false]
[null,{"$f":"B1043-1","v":2014},"$$",null,null,null,null,null,null,null,null,null,null,null,null,null,0,null,null,false,{"$f":"AND(B1045<=ReportingYear,B1045>=BaselineYear)","v":false},null,false]
[null,null,"Qty",null,null,null,null,null,null,null,null,null,null,null,null,null,0,null,{"$f":"S1044","v":true},false,{"$f":"U1045","v":false},null,false]
[null,{"$f":"B1045-1","v":2013},"$$",null,null,null,null,null,null,null,null,null,null,null,null,null,0,null,null,false,{"$f":"AND(B1047<=ReportingYear,B1047>=BaselineYear)","v":false},null,false]
[null,null,"Qty",null,null,null,null,null,null,null,null,null,null,null,null,null,0,null,{"$f":"S1046","v":true},false,{"$f":"U1047","v":false},null,false]
[null,{"$f":"B1047-1","v":2012},"$$",null,null,null,null,null,null,null,null,null,null,null,null,null,0,null,null,false,{"$f":"AND(B1049<=ReportingYear,B1049>=BaselineYear)","v":false},null,false]
[null,null,"Qty",null,null,null,null,null,null,null,null,null,null,null,null,null,0,null,{"$f":"S1048","v":true},false,{"$f":"U1049","v":false},null,false]
[null,{"$f":"B1049-1","v":2011},"$$",null,null,null,null,null,null,null,null,null,null,null,null,null,0,null,null,false,{"$f":"AND(B1051<=ReportingYear,B1051>=BaselineYear)","v":false},null,false]
[null,null,"Qty",null,null,null,null,null,null,null,null,null,null,null,null,null,0,null,{"$f":"S1050","v":true},false,{"$f":"U1051","v":false},null,false]
[null,{"$f":"B1051-1","v":2010},"$$",null,null,null,null,null,null,null,null,null,null,null,null,null,0,null,null,false,{"$f":"AND(B1053<=ReportingYear,B1053>=BaselineYear)","v":false},null,false]
[null,null,"Qty",null,null,null,null,null,null,null,null,null,null,null,null,null,0,null,{"$f":"S1052","v":true},false,{"$f":"U1053","v":false},null,false]
[null,{"$f":"B1053-1","v":2009},"$$",null,null,null,null,null,null,null,null,null,null,null,null,null,0,null,null,false,{"$f":"AND(B1055<=ReportingYear,B1055>=BaselineYear)","v":false},null,false]
[null,null,"Qty",null,null,null,null,null,null,null,null,null,null,null,null,null,0,null,{"$f":"S1054","v":true},false,{"$f":"U1055","v":false},null,false]
[null,{"$f":"B1055-1","v":2008},"$$",null,null,null,null,null,null,null,null,null,null,null,null,null,0,null,null,false,{"$f":"AND(B1057<=ReportingYear,B1057>=BaselineYear)","v":false},null,false]
[null,null,"Qty",null,null,null,null,null,null,null,null,null,null,null,null,null,0,null,{"$f":"S1056","v":true},false,{"$f":"U1057","v":false},null,false]
[null,{"$f":"B1057-1","v":2007},"$$",null,null,null,null,null,null,null,null,null,null,null,null,null,0,null,null,false,{"$f":"AND(B1059<=ReportingYear,B1059>=BaselineYear)","v":false},null,false]
[null,null,"Qty",null,null,null,null,null,null,null,null,null,null,null,null,null,0,null,{"$f":"S1058","v":true},false,{"$f":"U1059","v":false},null,false]
[null,{"$f":"B1059-1","v":2006},"$$",null,null,null,null,null,null,null,null,null,null,null,null,null,0,null,null,false,{"$f":"AND(B1061<=ReportingYear,B1061>=BaselineYear)","v":false},null,false]
[null,null,"Qty",null,null,null,null,null,null,null,null,null,null,null,null,null,0,null,{"$f":"S1060","v":true},false,{"$f":"U1061","v":false},null,false]
[null,{"$f":"B1061-1","v":2005},"$$",null,null,null,null,null,null,null,null,null,null,null,null,null,0,null,null,false,{"$f":"AND(B1063<=ReportingYear,B1063>=BaselineYear)","v":false},null,false]
[null,null,"Qty",null,null,null,null,null,null,null,null,null,null,null,null,null,0,null,{"$f":"S1062","v":true},false,{"$f":"U1063","v":false},null,false]
[null,null,null,null,null,null,null,null,null,null,null,null,null,null,null,null,null,null,null,{"$f":"T1036","v":false},null,null,false]
[null,"Per Unit Costs",{"$f":"B1015","v":2029},{"$f":"IF(D1016<>0,D1015/D1016,\"\")","v":""},"","","","","","","","","","","",null,{"$f":"IF(Q1016<>0,Q1015/Q1016,\"\")","v":""},null,{"$f":"S1044","v":true},{"$f":"T1065","v":false},{"$f":"AND(C1066<=ReportingYear,C1066>=BaselineYear)","v":false},{"$f":"UnitCostStatus","v":false},false]
[null,null,{"$f":"C1066-1","v":2028},{"$f":"IF(D1018<>0,D1017/D1018,\"\")","v":""},"","","","","","","","","","","",null,{"$f":"IF(Q1018<>0,Q1017/Q1018,\"\")","v":""},null,{"$f":"S1066","v":true},false,false,{"$f":"V1066","v":false},false]
[null,null,{"$f":"C1067-1","v":2027},{"$f":"IF(D1020<>0,D1019/D1020,\"\")","v":""},"","","","","","","","","","","",null,{"$f":"IF(Q1020<>0,Q1019/Q1020,\"\")","v":""},null,true,false,false,{"$f":"V1067","v":false},false]
[null,null,2026,{"$f":"IF(D1022<>0,D1021/D1022,\"\")","v":""},"","","","","","","","","","","",null,{"$f":"IF(Q1022<>0,Q1021/Q1022,\"\")","v":""},null,true,false,false,{"$f":"V1068","v":false},false]
[null,null,2025,{"$f":"IF(D1024<>0,D1023/D1024,\"\")","v":""},"","","","","","","","","","","",null,{"$f":"IF(Q1024<>0,Q1023/Q1024,\"\")","v":""},null,true,false,false,false,false]
[null,null,2024,{"$f":"IF(D1026<>0,D1025/D1026,\"\")","v":""},"","","","","","","","","","","",null,{"$f":"IF(Q1026<>0,Q1025/Q1026,\"\")","v":""},null,true,false,false,false,false]
[null,null,2023,{"$f":"IF(D1028<>0,D1027/D1028,\"\")","v":""},"","","","","","","","","","","",null,{"$f":"IF(Q1028<>0,Q1027/Q1028,\"\")","v":""},null,true,false,false,false,false]
[null,null,2022,{"$f":"IF(D1030<>0,D1029/D1030,\"\")","v":""},"","","","","","","","","","","",null,{"$f":"IF(Q1030<>0,Q1029/Q1030,\"\")","v":""},null,true,false,false,false,false]
[null,null,2021,{"$f":"IF(D1032<>0,D1031/D1032,\"\")","v":""},"","","","","","","","","","","",null,{"$f":"IF(Q1032<>0,Q1031/Q1032,\"\")","v":""},null,true,false,true,false,false]
[null,null,2020,{"$f":"IF(D1034<>0,D1033/D1034,\"\")","v":""},"","","","","","","","","","","",null,{"$f":"IF(Q1034<>0,Q1033/Q1034,\"\")","v":""},null,true,false,true,false,false]
[null,null,2019,{"$f":"IF(D1036<>0,D1035/D1036,\"\")","v":""},"","","","","","","","","","","",null,{"$f":"IF(Q1036<>0,Q1035/Q1036,\"\")","v":""},null,true,false,false,false,false]
[null,null,2018,{"$f":"IF(D1038<>0,D1037/D1038,\"\")","v":""},"","","","","","","","","","","",null,{"$f":"IF(Q1038<>0,Q1037/Q1038,\"\")","v":""},null,true,false,false,false,false]
[null,null,2017,{"$f":"IF(D1040<>0,D1039/D1040,\"\")","v":""},"","","","","","","","","","","",null,{"$f":"IF(Q1040<>0,Q1039/Q1040,\"\")","v":""},null,true,false,false,false,false]
[null,null,2016,{"$f":"IF(D1042<>0,D1041/D1042,\"\")","v":""},"","","","","","","","","","","",null,{"$f":"IF(Q1042<>0,Q1041/Q1042,\"\")","v":""},null,true,false,false,false,false]
[null,null,2015,{"$f":"IF(D1044<>0,D1043/D1044,\"\")","v":""},"","","","","","","","","","","",null,{"$f":"IF(Q1044<>0,Q1043/Q1044,\"\")","v":""},null,true,false,false,false,false]
[null,null,2014,{"$f":"IF(D1046<>0,D1045/D1046,\"\")","v":""},{"$f":"IF(E1046<>0,E1045/E1046,\"\")","v":""},"","","","","","","","","","",null,{"$f":"IF(Q1046<>0,Q1045/Q1046,\"\")","v":""},null,true,false,false,false,false]
[null,null,2013,{"$f":"IF(D1048<>0,D1047/D1048,\"\")","v":""},{"$f":"IF(E1048<>0,E1047/E1048,\"\")","v":""},"","","","","","","","","","",null,{"$f":"IF(Q1048<>0,Q1047/Q1048,\"\")","v":""},null,true,false,false,false,false]
[null,null,2012,{"$f":"IF(D1050<>0,D1049/D1050,\"\")","v":""},{"$f":"IF(E1050<>0,E1049/E1050,\"\")","v":""},"","","","","","","","","","",null,{"$f":"IF(Q1050<>0,Q1049/Q1050,\"\")","v":""},null,{"$f":"S1082","v":true},false,false,false,false]
[null,null,2011,{"$f":"IF(D1052<>0,D1051/D1052,\"\")","v":""},{"$f":"IF(E1052<>0,E1051/E1052,\"\")","v":""},"","","","","","","","","","",null,{"$f":"IF(Q1052<>0,Q1051/Q1052,\"\")","v":""},null,true,false,false,false,false]
[null,null,2010,{"$f":"IF(D1054<>0,D1053/D1054,\"\")","v":""},{"$f":"IF(E1054<>0,E1053/E1054,\"\")","v":""},"","","","","","","","","","",null,{"$f":"IF(Q1054<>0,Q1053/Q1054,\"\")","v":""},null,true,false,false,false,false]
[null,null,2009,{"$f":"IF(D1056<>0,D1055/D1056,\"\")","v":""},{"$f":"IF(E1056<>0,E1055/E1056,\"\")","v":""},"","","","","","","","","","",null,{"$f":"IF(Q1056<>0,Q1055/Q1056,\"\")","v":""},null,true,false,false,false,false]
[null,null,2008,{"$f":"IF(D1058<>0,D1057/D1058,\"\")","v":""},{"$f":"IF(E1058<>0,E1057/E1058,\"\")","v":""},"","","","","","","","","","",null,{"$f":"IF(Q1058<>0,Q1057/Q1058,\"\")","v":""},null,true,false,false,false,false]
[null,null,2007,{"$f":"IF(D1060<>0,D1059/D1060,\"\")","v":""},{"$f":"IF(E1060<>0,E1059/E1060,\"\")","v":""},"","","","","","","","","","",null,{"$f":"IF(Q1060<>0,Q1059/Q1060,\"\")","v":""},null,true,false,false,false,false]
[null,null,2006,{"$f":"IF(D1062<>0,D1061/D1062,\"\")","v":""},{"$f":"IF(E1062<>0,E1061/E1062,\"\")","v":""},"","","","","","","","","","",null,{"$f":"IF(Q1062<>0,Q1061/Q1062,\"\")","v":""},null,true,false,false,false,false]
[null,null,2005,{"$f":"IF(D1064<>0,D1063/D1064,\"\")","v":""},{"$f":"IF(E1064<>0,E1063/E1064,\"\")","v":""},"","","","","","","","","","",null,{"$f":"IF(Q1064<>0,Q1063/Q1064,\"\")","v":""},null,true,false,false,false,false]
[null,null,null,null,null,null,null,null,null,null,null,null,null,null,null,null,null,null,{"$f":"S1076","v":true},{"$f":"T1076","v":false},null,{"$f":"V1076","v":false},false]
[null,null,null,null,null,null,null,null,null,null,null,null,null,null,null,null,null,null,null,{"$f":"T1091","v":false},null,null,false]
[null,"Energy Source",null,null,null,"UNIT","Notes",null,null,null,null,null,null,null,null,null,null,null,null,{"$f":"VLOOKUP(B1094,$T$5:$U$24,2,)","v":false},null,null,{"$f":"AND(S1093:V1093)","v":false}]
["back to top",{"$f":"B1012+1","v":14},{"$f":"VLOOKUP(B1094,$B$5:$F$24,2,)","v":""},null,null,{"$f":"VLOOKUP(B1094,$B$5:$G$24,5,)","v":""},{"$f":"VLOOKUP(B1094,$B$5:$G$24,6,)","v":""},null,null,null,null,null,null,null,null,null,null,null,null,{"$f":"T1093","v":false},null,null,{"$f":"AND(S1094:V1094)","v":false}]
[null,null,null,null,null,null,null,null,null,null,null,null,null,null,null,null,null,null,null,{"$f":"T1094","v":false},null,null,false]
[null,null,null,{"$f":"D1014","v":"Jan"},{"$f":"E1014","v":"Feb"},"Mar","Apr","May","Jun","Jul","Aug","Sep","Oct","Nov","Dec",null,"YEAR",null,null,{"$f":"T1095","v":false},null,null,false]
[null,{"$f":"FinalYear","v":2029},"$$",null,null,null,null,null,null,null,null,null,null,null,null,null,{"$f":"SUM(D1097:O1097)","v":0},null,null,false,{"$f":"AND(B1097<=ReportingYear,B1097>=BaselineYear)","v":false},null,false]
[null,null,"Qty",null,null,null,null,null,null,null,null,null,null,null,null,null,0,null,{"$f":"IF(F1094=\"none\",FALSE,TRUE)","v":true},false,{"$f":"U1097","v":false},null,false]
[null,{"$f":"B1097-1","v":2028},"$$",null,null,null,null,null,null,null,null,null,null,null,null,null,0,null,null,false,{"$f":"AND(B1099<=ReportingYear,B1099>=BaselineYear)","v":false},null,false]
[null,null,"Qty",null,null,null,null,null,null,null,null,null,null,null,null,null,0,null,{"$f":"S1098","v":true},false,{"$f":"U1099","v":false},null,false]
[null,{"$f":"B1099-1","v":2027},"$$",null,null,null,null,null,null,null,null,null,null,null,null,null,0,null,null,false,{"$f":"AND(B1101<=ReportingYear,B1101>=BaselineYear)","v":false},null,false]
[null,null,"Qty",null,null,null,null,null,null,null,null,null,null,null,null,null,0,null,{"$f":"S1100","v":true},false,{"$f":"U1101","v":false},null,false]
[null,{"$f":"B1101-1","v":2026},"$$",null,null,null,null,null,null,null,null,null,null,null,null,null,0,null,null,false,{"$f":"AND(B1103<=ReportingYear,B1103>=BaselineYear)","v":false},null,false]
[null,null,"Qty",null,null,null,null,null,null,null,null,null,null,null,null,null,0,null,{"$f":"S1102","v":true},false,{"$f":"U1103","v":false},null,false]
[null,{"$f":"B1103-1","v":2025},"$$",null,null,null,null,null,null,null,null,null,null,null,null,null,0,null,null,false,{"$f":"AND(B1105<=ReportingYear,B1105>=BaselineYear)","v":false},null,false]
[null,null,"Qty",null,null,null,null,null,null,null,null,null,null,null,null,null,0,null,{"$f":"S1104","v":true},false,{"$f":"U1105","v":false},null,false]
[null,{"$f":"B1105-1","v":2024},"$$",null,null,null,null,null,null,null,null,null,null,null,null,null,0,null,null,false,{"$f":"AND(B1107<=ReportingYear,B1107>=BaselineYear)","v":false},null,false]
[null,null,"Qty",null,null,null,null,null,null,null,null,null,null,null,null,null,0,null,{"$f":"S1106","v":true},false,{"$f":"U1107","v":false},null,false]
[null,{"$f":"B1107-1","v":2023},"$$",null,null,null,null,null,null,null,null,null,null,null,null,null,0,null,null,false,{"$f":"AND(B1109<=ReportingYear,B1109>=BaselineYear)","v":false},null,false]
[null,null,"Qty",null,null,null,null,null,null,null,null,null,null,null,null,null,0,null,{"$f":"S1108","v":true},false,{"$f":"U1109","v":false},null,false]
[null,{"$f":"B1109-1","v":2022},"$$",null,null,null,null,null,null,null,null,null,null,null,null,null,0,null,null,false,{"$f":"AND(B1111<=ReportingYear,B1111>=BaselineYear)","v":false},null,false]
[null,null,"Qty",null,null,null,null,null,null,null,null,null,null,null,null,null,0,null,{"$f":"S1110","v":true},false,{"$f":"U1111","v":false},null,false]
[null,{"$f":"B1111-1","v":2021},"$$",null,null,null,null,null,null,null,null,null,null,null,null,null,0,null,null,false,{"$f":"AND(B1113<=ReportingYear,B1113>=BaselineYear)","v":true},null,false]
[null,null,"Qty",null,null,null,null,null,null,null,null,null,null,null,null,null,0,null,{"$f":"S1112","v":true},false,{"$f":"U1113","v":true},null,false]
[null,{"$f":"B1113-1","v":2020},"$$",null,null,null,null,null,null,null,null,null,null,null,null,null,0,null,null,false,{"$f":"AND(B1115<=ReportingYear,B1115>=BaselineYear)","v":true},null,false]
[null,null,"Qty",null,null,null,null,null,null,null,null,null,null,null,null,null,0,null,{"$f":"S1114","v":true},false,{"$f":"U1115","v":true},null,false]
[null,{"$f":"B1115-1","v":2019},"$$",null,null,null,null,null,null,null,null,null,null,null,null,null,0,null,null,false,{"$f":"AND(B1117<=ReportingYear,B1117>=BaselineYear)","v":false},null,false]
[null,null,"Qty",null,null,null,null,null,null,null,null,null,null,null,null,null,0,null,{"$f":"S1116","v":true},false,{"$f":"U1117","v":false},null,false]
[null,{"$f":"B1117-1","v":2018},"$$",null,null,null,null,null,null,null,null,null,null,null,null,null,0,null,null,false,{"$f":"AND(B1119<=ReportingYear,B1119>=BaselineYear)","v":false},null,false]
[null,null,"Qty",null,null,null,null,null,null,null,null,null,null,null,null,null,0,null,{"$f":"S1118","v":true},false,{"$f":"U1119","v":false},null,false]
[null,{"$f":"B1119-1","v":2017},"$$",null,null,null,null,null,null,null,null,null,null,null,null,null,0,null,null,false,{"$f":"AND(B1121<=ReportingYear,B1121>=BaselineYear)","v":false},null,false]
[null,null,"Qty",null,null,null,null,null,null,null,null,null,null,null,null,null,0,null,{"$f":"S1120","v":true},false,{"$f":"U1121","v":false},null,false]
[null,{"$f":"B1121-1","v":2016},"$$",null,null,null,null,null,null,null,null,null,null,null,null,null,0,null,null,false,{"$f":"AND(B1123<=ReportingYear,B1123>=BaselineYear)","v":false},null,false]
[null,null,"Qty",null,null,null,null,null,null,null,null,null,null,null,null,null,0,null,{"$f":"S1122","v":true},false,{"$f":"U1123","v":false},null,false]
[null,{"$f":"B1123-1","v":2015},"$$",null,null,null,null,null,null,null,null,null,null,null,null,null,0,null,null,false,{"$f":"AND(B1125<=ReportingYear,B1125>=BaselineYear)","v":false},null,false]
[null,null,"Qty",null,null,null,null,null,null,null,null,null,null,null,null,null,0,null,{"$f":"S1124","v":true},false,{"$f":"U1125","v":false},null,false]
[null,{"$f":"B1125-1","v":2014},"$$",null,null,null,null,null,null,null,null,null,null,null,null,null,0,null,null,false,{"$f":"AND(B1127<=ReportingYear,B1127>=BaselineYear)","v":false},null,false]
[null,null,"Qty",null,null,null,null,null,null,null,null,null,null,null,null,null,0,null,{"$f":"S1126","v":true},false,{"$f":"U1127","v":false},null,false]
[null,{"$f":"B1127-1","v":2013},"$$",null,null,null,null,null,null,null,null,null,null,null,null,null,0,null,null,false,{"$f":"AND(B1129<=ReportingYear,B1129>=BaselineYear)","v":false},null,false]
[null,null,"Qty",null,null,null,null,null,null,null,null,null,null,null,null,null,0,null,{"$f":"S1128","v":true},false,{"$f":"U1129","v":false},null,false]
[null,{"$f":"B1129-1","v":2012},"$$",null,null,null,null,null,null,null,null,null,null,null,null,null,0,null,null,false,{"$f":"AND(B1131<=ReportingYear,B1131>=BaselineYear)","v":false},null,false]
[null,null,"Qty",null,null,null,null,null,null,null,null,null,null,null,null,null,0,null,{"$f":"S1130","v":true},false,{"$f":"U1131","v":false},null,false]
[null,{"$f":"B1131-1","v":2011},"$$",null,null,null,null,null,null,null,null,null,null,null,null,null,0,null,null,false,{"$f":"AND(B1133<=ReportingYear,B1133>=BaselineYear)","v":false},null,false]
[null,null,"Qty",null,null,null,null,null,null,null,null,null,null,null,null,null,0,null,{"$f":"S1132","v":true},false,{"$f":"U1133","v":false},null,false]
[null,{"$f":"B1133-1","v":2010},"$$",null,null,null,null,null,null,null,null,null,null,null,null,null,0,null,null,false,{"$f":"AND(B1135<=ReportingYear,B1135>=BaselineYear)","v":false},null,false]
[null,null,"Qty",null,null,null,null,null,null,null,null,null,null,null,null,null,0,null,{"$f":"S1134","v":true},false,{"$f":"U1135","v":false},null,false]
[null,{"$f":"B1135-1","v":2009},"$$",null,null,null,null,null,null,null,null,null,null,null,null,null,0,null,null,false,{"$f":"AND(B1137<=ReportingYear,B1137>=BaselineYear)","v":false},null,false]
[null,null,"Qty",null,null,null,null,null,null,null,null,null,null,null,null,null,0,null,{"$f":"S1136","v":true},false,{"$f":"U1137","v":false},null,false]
[null,{"$f":"B1137-1","v":2008},"$$",null,null,null,null,null,null,null,null,null,null,null,null,null,0,null,null,false,{"$f":"AND(B1139<=ReportingYear,B1139>=BaselineYear)","v":false},null,false]
[null,null,"Qty",null,null,null,null,null,null,null,null,null,null,null,null,null,0,null,{"$f":"S1138","v":true},false,{"$f":"U1139","v":false},null,false]
[null,{"$f":"B1139-1","v":2007},"$$",null,null,null,null,null,null,null,null,null,null,null,null,null,0,null,null,false,{"$f":"AND(B1141<=ReportingYear,B1141>=BaselineYear)","v":false},null,false]
[null,null,"Qty",null,null,null,null,null,null,null,null,null,null,null,null,null,0,null,{"$f":"S1140","v":true},false,{"$f":"U1141","v":false},null,false]
[null,{"$f":"B1141-1","v":2006},"$$",null,null,null,null,null,null,null,null,null,null,null,null,null,0,null,null,false,{"$f":"AND(B1143<=ReportingYear,B1143>=BaselineYear)","v":false},null,false]
[null,null,"Qty",null,null,null,null,null,null,null,null,null,null,null,null,null,0,null,{"$f":"S1142","v":true},false,{"$f":"U1143","v":false},null,false]
[null,{"$f":"B1143-1","v":2005},"$$",null,null,null,null,null,null,null,null,null,null,null,null,null,0,null,null,false,{"$f":"AND(B1145<=ReportingYear,B1145>=BaselineYear)","v":false},null,false]
[null,null,"Qty",null,null,null,null,null,null,null,null,null,null,null,null,null,0,null,{"$f":"S1144","v":true},false,{"$f":"U1145","v":false},null,false]
[null,null,null,null,null,null,null,null,null,null,null,null,null,null,null,null,null,null,null,{"$f":"T1118","v":false},null,null,false]
[null,"Per Unit Costs",{"$f":"B1097","v":2029},{"$f":"IF(D1098<>0,D1097/D1098,\"\")","v":""},"","","","","","","","","","","",null,{"$f":"IF(Q1098<>0,Q1097/Q1098,\"\")","v":""},null,{"$f":"S1126","v":true},{"$f":"T1147","v":false},{"$f":"AND(C1148<=ReportingYear,C1148>=BaselineYear)","v":false},{"$f":"UnitCostStatus","v":false},false]
[null,null,{"$f":"C1148-1","v":2028},{"$f":"IF(D1100<>0,D1099/D1100,\"\")","v":""},"","","","","","","","","","","",null,{"$f":"IF(Q1100<>0,Q1099/Q1100,\"\")","v":""},null,{"$f":"S1148","v":true},false,false,{"$f":"V1148","v":false},false]
[null,null,{"$f":"C1149-1","v":2027},{"$f":"IF(D1102<>0,D1101/D1102,\"\")","v":""},"","","","","","","","","","","",null,{"$f":"IF(Q1102<>0,Q1101/Q1102,\"\")","v":""},null,true,false,false,{"$f":"V1149","v":false},false]
[null,null,2026,{"$f":"IF(D1104<>0,D1103/D1104,\"\")","v":""},"","","","","","","","","","","",null,{"$f":"IF(Q1104<>0,Q1103/Q1104,\"\")","v":""},null,true,false,false,{"$f":"V1150","v":false},false]
[null,null,2025,{"$f":"IF(D1106<>0,D1105/D1106,\"\")","v":""},"","","","","","","","","","","",null,{"$f":"IF(Q1106<>0,Q1105/Q1106,\"\")","v":""},null,true,false,false,false,false]
[null,null,2024,{"$f":"IF(D1108<>0,D1107/D1108,\"\")","v":""},"","","","","","","","","","","",null,{"$f":"IF(Q1108<>0,Q1107/Q1108,\"\")","v":""},null,true,false,false,false,false]
[null,null,2023,{"$f":"IF(D1110<>0,D1109/D1110,\"\")","v":""},"","","","","","","","","","","",null,{"$f":"IF(Q1110<>0,Q1109/Q1110,\"\")","v":""},null,true,false,false,false,false]
[null,null,2022,{"$f":"IF(D1112<>0,D1111/D1112,\"\")","v":""},"","","","","","","","","","","",null,{"$f":"IF(Q1112<>0,Q1111/Q1112,\"\")","v":""},null,true,false,false,false,false]
[null,null,2021,{"$f":"IF(D1114<>0,D1113/D1114,\"\")","v":""},"","","","","","","","","","","",null,{"$f":"IF(Q1114<>0,Q1113/Q1114,\"\")","v":""},null,true,false,true,false,false]
[null,null,2020,{"$f":"IF(D1116<>0,D1115/D1116,\"\")","v":""},"","","","","","","","","","","",null,{"$f":"IF(Q1116<>0,Q1115/Q1116,\"\")","v":""},null,true,false,true,false,false]
[null,null,2019,{"$f":"IF(D1118<>0,D1117/D1118,\"\")","v":""},"","","","","","","","","","","",null,{"$f":"IF(Q1118<>0,Q1117/Q1118,\"\")","v":""},null,true,false,false,false,false]
[null,null,2018,{"$f":"IF(D1120<>0,D1119/D1120,\"\")","v":""},"","","","","","","","","","","",null,{"$f":"IF(Q1120<>0,Q1119/Q1120,\"\")","v":""},null,true,false,false,false,false]
[null,null,2017,{"$f":"IF(D1122<>0,D1121/D1122,\"\")","v":""},"","","","","","","","","","","",null,{"$f":"IF(Q1122<>0,Q1121/Q1122,\"\")","v":""},null,true,false,false,false,false]
[null,null,2016,{"$f":"IF(D1124<>0,D1123/D1124,\"\")","v":""},"","","","","","","","","","","",null,{"$f":"IF(Q1124<>0,Q1123/Q1124,\"\")","v":""},null,true,false,false,false,false]
[null,null,2015,{"$f":"IF(D1126<>0,D1125/D1126,\"\")","v":""},"","","","","","","","","","","",null,{"$f":"IF(Q1126<>0,Q1125/Q1126,\"\")","v":""},null,true,false,false,false,false]
[null,null,2014,{"$f":"IF(D1128<>0,D1127/D1128,\"\")","v":""},{"$f":"IF(E1128<>0,E1127/E1128,\"\")","v":""},"","","","","","","","","","",null,{"$f":"IF(Q1128<>0,Q1127/Q1128,\"\")","v":""},null,true,false,false,false,false]
[null,null,2013,{"$f":"IF(D1130<>0,D1129/D1130,\"\")","v":""},{"$f":"IF(E1130<>0,E1129/E1130,\"\")","v":""},"","","","","","","","","","",null,{"$f":"IF(Q1130<>0,Q1129/Q1130,\"\")","v":""},null,true,false,false,false,false]
[null,null,2012,{"$f":"IF(D1132<>0,D1131/D1132,\"\")","v":""},{"$f":"IF(E1132<>0,E1131/E1132,\"\")","v":""},"","","","","","","","","","",null,{"$f":"IF(Q1132<>0,Q1131/Q1132,\"\")","v":""},null,{"$f":"S1164","v":true},false,false,false,false]
[null,null,2011,{"$f":"IF(D1134<>0,D1133/D1134,\"\")","v":""},{"$f":"IF(E1134<>0,E1133/E1134,\"\")","v":""},"","","","","","","","","","",null,{"$f":"IF(Q1134<>0,Q1133/Q1134,\"\")","v":""},null,true,false,false,false,false]
[null,null,2010,{"$f":"IF(D1136<>0,D1135/D1136,\"\")","v":""},{"$f":"IF(E1136<>0,E1135/E1136,\"\")","v":""},"","","","","","","","","","",null,{"$f":"IF(Q1136<>0,Q1135/Q1136,\"\")","v":""},null,true,false,false,false,false]
[null,null,2009,{"$f":"IF(D1138<>0,D1137/D1138,\"\")","v":""},{"$f":"IF(E1138<>0,E1137/E1138,\"\")","v":""},"","","","","","","","","","",null,{"$f":"IF(Q1138<>0,Q1137/Q1138,\"\")","v":""},null,true,false,false,false,false]
[null,null,2008,{"$f":"IF(D1140<>0,D1139/D1140,\"\")","v":""},{"$f":"IF(E1140<>0,E1139/E1140,\"\")","v":""},"","","","","","","","","","",null,{"$f":"IF(Q1140<>0,Q1139/Q1140,\"\")","v":""},null,true,false,false,false,false]
[null,null,2007,{"$f":"IF(D1142<>0,D1141/D1142,\"\")","v":""},{"$f":"IF(E1142<>0,E1141/E1142,\"\")","v":""},"","","","","","","","","","",null,{"$f":"IF(Q1142<>0,Q1141/Q1142,\"\")","v":""},null,true,false,false,false,false]
[null,null,2006,{"$f":"IF(D1144<>0,D1143/D1144,\"\")","v":""},{"$f":"IF(E1144<>0,E1143/E1144,\"\")","v":""},"","","","","","","","","","",null,{"$f":"IF(Q1144<>0,Q1143/Q1144,\"\")","v":""},null,true,false,false,false,false]
[null,null,2005,{"$f":"IF(D1146<>0,D1145/D1146,\"\")","v":""},{"$f":"IF(E1146<>0,E1145/E1146,\"\")","v":""},"","","","","","","","","","",null,{"$f":"IF(Q1146<>0,Q1145/Q1146,\"\")","v":""},null,true,false,false,false,false]
[null,null,null,null,null,null,null,null,null,null,null,null,null,null,null,null,null,null,{"$f":"S1158","v":true},{"$f":"T1158","v":false},null,{"$f":"V1158","v":false},false]
[null,null,null,null,null,null,null,null,null,null,null,null,null,null,null,null,null,null,null,{"$f":"T1173","v":false},null,null,false]
[null,"Energy Source",null,null,null,"UNIT","Notes",null,null,null,null,null,null,null,null,null,null,null,null,{"$f":"VLOOKUP(B1176,$T$5:$U$24,2,)","v":false},null,null,{"$f":"AND(S1175:V1175)","v":false}]
["back to top",{"$f":"B1094+1","v":15},{"$f":"VLOOKUP(B1176,$B$5:$F$24,2,)","v":""},null,null,{"$f":"VLOOKUP(B1176,$B$5:$G$24,5,)","v":""},{"$f":"VLOOKUP(B1176,$B$5:$G$24,6,)","v":""},null,null,null,null,null,null,null,null,null,null,null,null,{"$f":"T1175","v":false},null,null,{"$f":"AND(S1176:V1176)","v":false}]
[null,null,null,null,null,null,null,null,null,null,null,null,null,null,null,null,null,null,null,{"$f":"T1176","v":false},null,null,false]
[null,null,null,{"$f":"D1096","v":"Jan"},{"$f":"E1096","v":"Feb"},"Mar","Apr","May","Jun","Jul","Aug","Sep","Oct","Nov","Dec",null,"YEAR",null,null,{"$f":"T1177","v":false},null,null,false]
[null,{"$f":"FinalYear","v":2029},"$$",null,null,null,null,null,null,null,null,null,null,null,null,null,{"$f":"SUM(D1179:O1179)","v":0},null,null,false,{"$f":"AND(B1179<=ReportingYear,B1179>=BaselineYear)","v":false},null,false]
[null,null,"Qty",null,null,null,null,null,null,null,null,null,null,null,null,null,0,null,{"$f":"IF(F1176=\"none\",FALSE,TRUE)","v":true},false,{"$f":"U1179","v":false},null,false]
[null,{"$f":"B1179-1","v":2028},"$$",null,null,null,null,null,null,null,null,null,null,null,null,null,0,null,null,false,{"$f":"AND(B1181<=ReportingYear,B1181>=BaselineYear)","v":false},null,false]
[null,null,"Qty",null,null,null,null,null,null,null,null,null,null,null,null,null,0,null,{"$f":"S1180","v":true},false,{"$f":"U1181","v":false},null,false]
[null,{"$f":"B1181-1","v":2027},"$$",null,null,null,null,null,null,null,null,null,null,null,null,null,0,null,null,false,{"$f":"AND(B1183<=ReportingYear,B1183>=BaselineYear)","v":false},null,false]
[null,null,"Qty",null,null,null,null,null,null,null,null,null,null,null,null,null,0,null,{"$f":"S1182","v":true},false,{"$f":"U1183","v":false},null,false]
[null,{"$f":"B1183-1","v":2026},"$$",null,null,null,null,null,null,null,null,null,null,null,null,null,0,null,null,false,{"$f":"AND(B1185<=ReportingYear,B1185>=BaselineYear)","v":false},null,false]
[null,null,"Qty",null,null,null,null,null,null,null,null,null,null,null,null,null,0,null,{"$f":"S1184","v":true},false,{"$f":"U1185","v":false},null,false]
[null,{"$f":"B1185-1","v":2025},"$$",null,null,null,null,null,null,null,null,null,null,null,null,null,0,null,null,false,{"$f":"AND(B1187<=ReportingYear,B1187>=BaselineYear)","v":false},null,false]
[null,null,"Qty",null,null,null,null,null,null,null,null,null,null,null,null,null,0,null,{"$f":"S1186","v":true},false,{"$f":"U1187","v":false},null,false]
[null,{"$f":"B1187-1","v":2024},"$$",null,null,null,null,null,null,null,null,null,null,null,null,null,0,null,null,false,{"$f":"AND(B1189<=ReportingYear,B1189>=BaselineYear)","v":false},null,false]
[null,null,"Qty",null,null,null,null,null,null,null,null,null,null,null,null,null,0,null,{"$f":"S1188","v":true},false,{"$f":"U1189","v":false},null,false]
[null,{"$f":"B1189-1","v":2023},"$$",null,null,null,null,null,null,null,null,null,null,null,null,null,0,null,null,false,{"$f":"AND(B1191<=ReportingYear,B1191>=BaselineYear)","v":false},null,false]
[null,null,"Qty",null,null,null,null,null,null,null,null,null,null,null,null,null,0,null,{"$f":"S1190","v":true},false,{"$f":"U1191","v":false},null,false]
[null,{"$f":"B1191-1","v":2022},"$$",null,null,null,null,null,null,null,null,null,null,null,null,null,0,null,null,false,{"$f":"AND(B1193<=ReportingYear,B1193>=BaselineYear)","v":false},null,false]
[null,null,"Qty",null,null,null,null,null,null,null,null,null,null,null,null,null,0,null,{"$f":"S1192","v":true},false,{"$f":"U1193","v":false},null,false]
[null,{"$f":"B1193-1","v":2021},"$$",null,null,null,null,null,null,null,null,null,null,null,null,null,0,null,null,false,{"$f":"AND(B1195<=ReportingYear,B1195>=BaselineYear)","v":true},null,false]
[null,null,"Qty",null,null,null,null,null,null,null,null,null,null,null,null,null,0,null,{"$f":"S1194","v":true},false,{"$f":"U1195","v":true},null,false]
[null,{"$f":"B1195-1","v":2020},"$$",null,null,null,null,null,null,null,null,null,null,null,null,null,0,null,null,false,{"$f":"AND(B1197<=ReportingYear,B1197>=BaselineYear)","v":true},null,false]
[null,null,"Qty",null,null,null,null,null,null,null,null,null,null,null,null,null,0,null,{"$f":"S1196","v":true},false,{"$f":"U1197","v":true},null,false]
[null,{"$f":"B1197-1","v":2019},"$$",null,null,null,null,null,null,null,null,null,null,null,null,null,0,null,null,false,{"$f":"AND(B1199<=ReportingYear,B1199>=BaselineYear)","v":false},null,false]
[null,null,"Qty",null,null,null,null,null,null,null,null,null,null,null,null,null,0,null,{"$f":"S1198","v":true},false,{"$f":"U1199","v":false},null,false]
[null,{"$f":"B1199-1","v":2018},"$$",null,null,null,null,null,null,null,null,null,null,null,null,null,0,null,null,false,{"$f":"AND(B1201<=ReportingYear,B1201>=BaselineYear)","v":false},null,false]
[null,null,"Qty",null,null,null,null,null,null,null,null,null,null,null,null,null,0,null,{"$f":"S1200","v":true},false,{"$f":"U1201","v":false},null,false]
[null,{"$f":"B1201-1","v":2017},"$$",null,null,null,null,null,null,null,null,null,null,null,null,null,0,null,null,false,{"$f":"AND(B1203<=ReportingYear,B1203>=BaselineYear)","v":false},null,false]
[null,null,"Qty",null,null,null,null,null,null,null,null,null,null,null,null,null,0,null,{"$f":"S1202","v":true},false,{"$f":"U1203","v":false},null,false]
[null,{"$f":"B1203-1","v":2016},"$$",null,null,null,null,null,null,null,null,null,null,null,null,null,0,null,null,false,{"$f":"AND(B1205<=ReportingYear,B1205>=BaselineYear)","v":false},null,false]
[null,null,"Qty",null,null,null,null,null,null,null,null,null,null,null,null,null,0,null,{"$f":"S1204","v":true},false,{"$f":"U1205","v":false},null,false]
[null,{"$f":"B1205-1","v":2015},"$$",null,null,null,null,null,null,null,null,null,null,null,null,null,0,null,null,false,{"$f":"AND(B1207<=ReportingYear,B1207>=BaselineYear)","v":false},null,false]
[null,null,"Qty",null,null,null,null,null,null,null,null,null,null,null,null,null,0,null,{"$f":"S1206","v":true},false,{"$f":"U1207","v":false},null,false]
[null,{"$f":"B1207-1","v":2014},"$$",null,null,null,null,null,null,null,null,null,null,null,null,null,0,null,null,false,{"$f":"AND(B1209<=ReportingYear,B1209>=BaselineYear)","v":false},null,false]
[null,null,"Qty",null,null,null,null,null,null,null,null,null,null,null,null,null,0,null,{"$f":"S1208","v":true},false,{"$f":"U1209","v":false},null,false]
[null,{"$f":"B1209-1","v":2013},"$$",null,null,null,null,null,null,null,null,null,null,null,null,null,0,null,null,false,{"$f":"AND(B1211<=ReportingYear,B1211>=BaselineYear)","v":false},null,false]
[null,null,"Qty",null,null,null,null,null,null,null,null,null,null,null,null,null,0,null,{"$f":"S1210","v":true},false,{"$f":"U1211","v":false},null,false]
[null,{"$f":"B1211-1","v":2012},"$$",null,null,null,null,null,null,null,null,null,null,null,null,null,0,null,null,false,{"$f":"AND(B1213<=ReportingYear,B1213>=BaselineYear)","v":false},null,false]
[null,null,"Qty",null,null,null,null,null,null,null,null,null,null,null,null,null,0,null,{"$f":"S1212","v":true},false,{"$f":"U1213","v":false},null,false]
[null,{"$f":"B1213-1","v":2011},"$$",null,null,null,null,null,null,null,null,null,null,null,null,null,0,null,null,false,{"$f":"AND(B1215<=ReportingYear,B1215>=BaselineYear)","v":false},null,false]
[null,null,"Qty",null,null,null,null,null,null,null,null,null,null,null,null,null,0,null,{"$f":"S1214","v":true},false,{"$f":"U1215","v":false},null,false]
[null,{"$f":"B1215-1","v":2010},"$$",null,null,null,null,null,null,null,null,null,null,null,null,null,0,null,null,false,{"$f":"AND(B1217<=ReportingYear,B1217>=BaselineYear)","v":false},null,false]
[null,null,"Qty",null,null,null,null,null,null,null,null,null,null,null,null,null,0,null,{"$f":"S1216","v":true},false,{"$f":"U1217","v":false},null,false]
[null,{"$f":"B1217-1","v":2009},"$$",null,null,null,null,null,null,null,null,null,null,null,null,null,0,null,null,false,{"$f":"AND(B1219<=ReportingYear,B1219>=BaselineYear)","v":false},null,false]
[null,null,"Qty",null,null,null,null,null,null,null,null,null,null,null,null,null,0,null,{"$f":"S1218","v":true},false,{"$f":"U1219","v":false},null,false]
[null,{"$f":"B1219-1","v":2008},"$$",null,null,null,null,null,null,null,null,null,null,null,null,null,0,null,null,false,{"$f":"AND(B1221<=ReportingYear,B1221>=BaselineYear)","v":false},null,false]
[null,null,"Qty",null,null,null,null,null,null,null,null,null,null,null,null,null,0,null,{"$f":"S1220","v":true},false,{"$f":"U1221","v":false},null,false]
[null,{"$f":"B1221-1","v":2007},"$$",null,null,null,null,null,null,null,null,null,null,null,null,null,0,null,null,false,{"$f":"AND(B1223<=ReportingYear,B1223>=BaselineYear)","v":false},null,false]
[null,null,"Qty",null,null,null,null,null,null,null,null,null,null,null,null,null,0,null,{"$f":"S1222","v":true},false,{"$f":"U1223","v":false},null,false]
[null,{"$f":"B1223-1","v":2006},"$$",null,null,null,null,null,null,null,null,null,null,null,null,null,0,null,null,false,{"$f":"AND(B1225<=ReportingYear,B1225>=BaselineYear)","v":false},null,false]
[null,null,"Qty",null,null,null,null,null,null,null,null,null,null,null,null,null,0,null,{"$f":"S1224","v":true},false,{"$f":"U1225","v":false},null,false]
[null,{"$f":"B1225-1","v":2005},"$$",null,null,null,null,null,null,null,null,null,null,null,null,null,0,null,null,false,{"$f":"AND(B1227<=ReportingYear,B1227>=BaselineYear)","v":false},null,false]
[null,null,"Qty",null,null,null,null,null,null,null,null,null,null,null,null,null,0,null,{"$f":"S1226","v":true},false,{"$f":"U1227","v":false},null,false]
[null,null,null,null,null,null,null,null,null,null,null,null,null,null,null,null,null,null,null,{"$f":"T1200","v":false},null,null,false]
[null,"Per Unit Costs",{"$f":"B1179","v":2029},{"$f":"IF(D1180<>0,D1179/D1180,\"\")","v":""},"","","","","","","","","","","",null,{"$f":"IF(Q1180<>0,Q1179/Q1180,\"\")","v":""},null,{"$f":"S1208","v":true},{"$f":"T1229","v":false},{"$f":"AND(C1230<=ReportingYear,C1230>=BaselineYear)","v":false},{"$f":"UnitCostStatus","v":false},false]
[null,null,{"$f":"C1230-1","v":2028},{"$f":"IF(D1182<>0,D1181/D1182,\"\")","v":""},"","","","","","","","","","","",null,{"$f":"IF(Q1182<>0,Q1181/Q1182,\"\")","v":""},null,{"$f":"S1230","v":true},false,false,{"$f":"V1230","v":false},false]
[null,null,{"$f":"C1231-1","v":2027},{"$f":"IF(D1184<>0,D1183/D1184,\"\")","v":""},"","","","","","","","","","","",null,{"$f":"IF(Q1184<>0,Q1183/Q1184,\"\")","v":""},null,true,false,false,{"$f":"V1231","v":false},false]
[null,null,2026,{"$f":"IF(D1186<>0,D1185/D1186,\"\")","v":""},"","","","","","","","","","","",null,{"$f":"IF(Q1186<>0,Q1185/Q1186,\"\")","v":""},null,true,false,false,{"$f":"V1232","v":false},false]
[null,null,2025,{"$f":"IF(D1188<>0,D1187/D1188,\"\")","v":""},"","","","","","","","","","","",null,{"$f":"IF(Q1188<>0,Q1187/Q1188,\"\")","v":""},null,true,false,false,false,false]
[null,null,2024,{"$f":"IF(D1190<>0,D1189/D1190,\"\")","v":""},"","","","","","","","","","","",null,{"$f":"IF(Q1190<>0,Q1189/Q1190,\"\")","v":""},null,true,false,false,false,false]
[null,null,2023,{"$f":"IF(D1192<>0,D1191/D1192,\"\")","v":""},"","","","","","","","","","","",null,{"$f":"IF(Q1192<>0,Q1191/Q1192,\"\")","v":""},null,true,false,false,false,false]
[null,null,2022,{"$f":"IF(D1194<>0,D1193/D1194,\"\")","v":""},"","","","","","","","","","","",null,{"$f":"IF(Q1194<>0,Q1193/Q1194,\"\")","v":""},null,true,false,false,false,false]
[null,null,2021,{"$f":"IF(D1196<>0,D1195/D1196,\"\")","v":""},"","","","","","","","","","","",null,{"$f":"IF(Q1196<>0,Q1195/Q1196,\"\")","v":""},null,true,false,true,false,false]
[null,null,2020,{"$f":"IF(D1198<>0,D1197/D1198,\"\")","v":""},"","","","","","","","","","","",null,{"$f":"IF(Q1198<>0,Q1197/Q1198,\"\")","v":""},null,true,false,true,false,false]
[null,null,2019,{"$f":"IF(D1200<>0,D1199/D1200,\"\")","v":""},"","","","","","","","","","","",null,{"$f":"IF(Q1200<>0,Q1199/Q1200,\"\")","v":""},null,true,false,false,false,false]
[null,null,2018,{"$f":"IF(D1202<>0,D1201/D1202,\"\")","v":""},"","","","","","","","","","","",null,{"$f":"IF(Q1202<>0,Q1201/Q1202,\"\")","v":""},null,true,false,false,false,false]
[null,null,2017,{"$f":"IF(D1204<>0,D1203/D1204,\"\")","v":""},"","","","","","","","","","","",null,{"$f":"IF(Q1204<>0,Q1203/Q1204,\"\")","v":""},null,true,false,false,false,false]
[null,null,2016,{"$f":"IF(D1206<>0,D1205/D1206,\"\")","v":""},"","","","","","","","","","","",null,{"$f":"IF(Q1206<>0,Q1205/Q1206,\"\")","v":""},null,true,false,false,false,false]
[null,null,2015,{"$f":"IF(D1208<>0,D1207/D1208,\"\")","v":""},"","","","","","","","","","","",null,{"$f":"IF(Q1208<>0,Q1207/Q1208,\"\")","v":""},null,true,false,false,false,false]
[null,null,2014,{"$f":"IF(D1210<>0,D1209/D1210,\"\")","v":""},{"$f":"IF(E1210<>0,E1209/E1210,\"\")","v":""},"","","","","","","","","","",null,{"$f":"IF(Q1210<>0,Q1209/Q1210,\"\")","v":""},null,true,false,false,false,false]
[null,null,2013,{"$f":"IF(D1212<>0,D1211/D1212,\"\")","v":""},{"$f":"IF(E1212<>0,E1211/E1212,\"\")","v":""},"","","","","","","","","","",null,{"$f":"IF(Q1212<>0,Q1211/Q1212,\"\")","v":""},null,true,false,false,false,false]
[null,null,2012,{"$f":"IF(D1214<>0,D1213/D1214,\"\")","v":""},{"$f":"IF(E1214<>0,E1213/E1214,\"\")","v":""},"","","","","","","","","","",null,{"$f":"IF(Q1214<>0,Q1213/Q1214,\"\")","v":""},null,{"$f":"S1246","v":true},false,false,false,false]
[null,null,2011,{"$f":"IF(D1216<>0,D1215/D1216,\"\")","v":""},{"$f":"IF(E1216<>0,E1215/E1216,\"\")","v":""},"","","","","","","","","","",null,{"$f":"IF(Q1216<>0,Q1215/Q1216,\"\")","v":""},null,true,false,false,false,false]
[null,null,2010,{"$f":"IF(D1218<>0,D1217/D1218,\"\")","v":""},{"$f":"IF(E1218<>0,E1217/E1218,\"\")","v":""},"","","","","","","","","","",null,{"$f":"IF(Q1218<>0,Q1217/Q1218,\"\")","v":""},null,true,false,false,false,false]
[null,null,2009,{"$f":"IF(D1220<>0,D1219/D1220,\"\")","v":""},{"$f":"IF(E1220<>0,E1219/E1220,\"\")","v":""},"","","","","","","","","","",null,{"$f":"IF(Q1220<>0,Q1219/Q1220,\"\")","v":""},null,true,false,false,false,false]
[null,null,2008,{"$f":"IF(D1222<>0,D1221/D1222,\"\")","v":""},{"$f":"IF(E1222<>0,E1221/E1222,\"\")","v":""},"","","","","","","","","","",null,{"$f":"IF(Q1222<>0,Q1221/Q1222,\"\")","v":""},null,true,false,false,false,false]
[null,null,2007,{"$f":"IF(D1224<>0,D1223/D1224,\"\")","v":""},{"$f":"IF(E1224<>0,E1223/E1224,\"\")","v":""},"","","","","","","","","","",null,{"$f":"IF(Q1224<>0,Q1223/Q1224,\"\")","v":""},null,true,false,false,false,false]
[null,null,2006,{"$f":"IF(D1226<>0,D1225/D1226,\"\")","v":""},{"$f":"IF(E1226<>0,E1225/E1226,\"\")","v":""},"","","","","","","","","","",null,{"$f":"IF(Q1226<>0,Q1225/Q1226,\"\")","v":""},null,true,false,false,false,false]
[null,null,2005,{"$f":"IF(D1228<>0,D1227/D1228,\"\")","v":""},{"$f":"IF(E1228<>0,E1227/E1228,\"\")","v":""},"","","","","","","","","","",null,{"$f":"IF(Q1228<>0,Q1227/Q1228,\"\")","v":""},null,true,false,false,false,false]
[null,null,null,null,null,null,null,null,null,null,null,null,null,null,null,null,null,null,{"$f":"S1240","v":true},{"$f":"T1240","v":false},null,{"$f":"V1240","v":false},false]
[null,null,null,null,null,null,null,null,null,null,null,null,null,null,null,null,null,null,null,{"$f":"T1255","v":false},null,null,false]
[null,"Energy Source",null,null,null,"UNIT","Notes",null,null,null,null,null,null,null,null,null,null,null,null,{"$f":"VLOOKUP(B1258,$T$5:$U$24,2,)","v":false},null,null,{"$f":"AND(S1257:V1257)","v":false}]
["back to top",{"$f":"B1176+1","v":16},{"$f":"VLOOKUP(B1258,$B$5:$F$24,2,)","v":""},null,null,{"$f":"VLOOKUP(B1258,$B$5:$G$24,5,)","v":""},{"$f":"VLOOKUP(B1258,$B$5:$G$24,6,)","v":""},null,null,null,null,null,null,null,null,null,null,null,null,{"$f":"T1257","v":false},null,null,{"$f":"AND(S1258:V1258)","v":false}]
[null,null,null,null,null,null,null,null,null,null,null,null,null,null,null,null,null,null,null,{"$f":"T1258","v":false},null,null,false]
[null,null,null,{"$f":"D1178","v":"Jan"},{"$f":"E1178","v":"Feb"},"Mar","Apr","May","Jun","Jul","Aug","Sep","Oct","Nov","Dec",null,"YEAR",null,null,{"$f":"T1259","v":false},null,null,false]
[null,{"$f":"FinalYear","v":2029},"$$",null,null,null,null,null,null,null,null,null,null,null,null,null,{"$f":"SUM(D1261:O1261)","v":0},null,null,false,{"$f":"AND(B1261<=ReportingYear,B1261>=BaselineYear)","v":false},null,false]
[null,null,"Qty",null,null,null,null,null,null,null,null,null,null,null,null,null,0,null,{"$f":"IF(F1258=\"none\",FALSE,TRUE)","v":true},false,{"$f":"U1261","v":false},null,false]
[null,{"$f":"B1261-1","v":2028},"$$",null,null,null,null,null,null,null,null,null,null,null,null,null,0,null,null,false,{"$f":"AND(B1263<=ReportingYear,B1263>=BaselineYear)","v":false},null,false]
[null,null,"Qty",null,null,null,null,null,null,null,null,null,null,null,null,null,0,null,{"$f":"S1262","v":true},false,{"$f":"U1263","v":false},null,false]
[null,{"$f":"B1263-1","v":2027},"$$",null,null,null,null,null,null,null,null,null,null,null,null,null,0,null,null,false,{"$f":"AND(B1265<=ReportingYear,B1265>=BaselineYear)","v":false},null,false]
[null,null,"Qty",null,null,null,null,null,null,null,null,null,null,null,null,null,0,null,{"$f":"S1264","v":true},false,{"$f":"U1265","v":false},null,false]
[null,{"$f":"B1265-1","v":2026},"$$",null,null,null,null,null,null,null,null,null,null,null,null,null,0,null,null,false,{"$f":"AND(B1267<=ReportingYear,B1267>=BaselineYear)","v":false},null,false]
[null,null,"Qty",null,null,null,null,null,null,null,null,null,null,null,null,null,0,null,{"$f":"S1266","v":true},false,{"$f":"U1267","v":false},null,false]
[null,{"$f":"B1267-1","v":2025},"$$",null,null,null,null,null,null,null,null,null,null,null,null,null,0,null,null,false,{"$f":"AND(B1269<=ReportingYear,B1269>=BaselineYear)","v":false},null,false]
[null,null,"Qty",null,null,null,null,null,null,null,null,null,null,null,null,null,0,null,{"$f":"S1268","v":true},false,{"$f":"U1269","v":false},null,false]
[null,{"$f":"B1269-1","v":2024},"$$",null,null,null,null,null,null,null,null,null,null,null,null,null,0,null,null,false,{"$f":"AND(B1271<=ReportingYear,B1271>=BaselineYear)","v":false},null,false]
[null,null,"Qty",null,null,null,null,null,null,null,null,null,null,null,null,null,0,null,{"$f":"S1270","v":true},false,{"$f":"U1271","v":false},null,false]
[null,{"$f":"B1271-1","v":2023},"$$",null,null,null,null,null,null,null,null,null,null,null,null,null,0,null,null,false,{"$f":"AND(B1273<=ReportingYear,B1273>=BaselineYear)","v":false},null,false]
[null,null,"Qty",null,null,null,null,null,null,null,null,null,null,null,null,null,0,null,{"$f":"S1272","v":true},false,{"$f":"U1273","v":false},null,false]
[null,{"$f":"B1273-1","v":2022},"$$",null,null,null,null,null,null,null,null,null,null,null,null,null,0,null,null,false,{"$f":"AND(B1275<=ReportingYear,B1275>=BaselineYear)","v":false},null,false]
[null,null,"Qty",null,null,null,null,null,null,null,null,null,null,null,null,null,0,null,{"$f":"S1274","v":true},false,{"$f":"U1275","v":false},null,false]
[null,{"$f":"B1275-1","v":2021},"$$",null,null,null,null,null,null,null,null,null,null,null,null,null,0,null,null,false,{"$f":"AND(B1277<=ReportingYear,B1277>=BaselineYear)","v":true},null,false]
[null,null,"Qty",null,null,null,null,null,null,null,null,null,null,null,null,null,0,null,{"$f":"S1276","v":true},false,{"$f":"U1277","v":true},null,false]
[null,{"$f":"B1277-1","v":2020},"$$",null,null,null,null,null,null,null,null,null,null,null,null,null,0,null,null,false,{"$f":"AND(B1279<=ReportingYear,B1279>=BaselineYear)","v":true},null,false]
[null,null,"Qty",null,null,null,null,null,null,null,null,null,null,null,null,null,0,null,{"$f":"S1278","v":true},false,{"$f":"U1279","v":true},null,false]
[null,{"$f":"B1279-1","v":2019},"$$",null,null,null,null,null,null,null,null,null,null,null,null,null,0,null,null,false,{"$f":"AND(B1281<=ReportingYear,B1281>=BaselineYear)","v":false},null,false]
[null,null,"Qty",null,null,null,null,null,null,null,null,null,null,null,null,null,0,null,{"$f":"S1280","v":true},false,{"$f":"U1281","v":false},null,false]
[null,{"$f":"B1281-1","v":2018},"$$",null,null,null,null,null,null,null,null,null,null,null,null,null,0,null,null,false,{"$f":"AND(B1283<=ReportingYear,B1283>=BaselineYear)","v":false},null,false]
[null,null,"Qty",null,null,null,null,null,null,null,null,null,null,null,null,null,0,null,{"$f":"S1282","v":true},false,{"$f":"U1283","v":false},null,false]
[null,{"$f":"B1283-1","v":2017},"$$",null,null,null,null,null,null,null,null,null,null,null,null,null,0,null,null,false,{"$f":"AND(B1285<=ReportingYear,B1285>=BaselineYear)","v":false},null,false]
[null,null,"Qty",null,null,null,null,null,null,null,null,null,null,null,null,null,0,null,{"$f":"S1284","v":true},false,{"$f":"U1285","v":false},null,false]
[null,{"$f":"B1285-1","v":2016},"$$",null,null,null,null,null,null,null,null,null,null,null,null,null,0,null,null,false,{"$f":"AND(B1287<=ReportingYear,B1287>=BaselineYear)","v":false},null,false]
[null,null,"Qty",null,null,null,null,null,null,null,null,null,null,null,null,null,0,null,{"$f":"S1286","v":true},false,{"$f":"U1287","v":false},null,false]
[null,{"$f":"B1287-1","v":2015},"$$",null,null,null,null,null,null,null,null,null,null,null,null,null,0,null,null,false,{"$f":"AND(B1289<=ReportingYear,B1289>=BaselineYear)","v":false},null,false]
[null,null,"Qty",null,null,null,null,null,null,null,null,null,null,null,null,null,0,null,{"$f":"S1288","v":true},false,{"$f":"U1289","v":false},null,false]
[null,{"$f":"B1289-1","v":2014},"$$",null,null,null,null,null,null,null,null,null,null,null,null,null,0,null,null,false,{"$f":"AND(B1291<=ReportingYear,B1291>=BaselineYear)","v":false},null,false]
[null,null,"Qty",null,null,null,null,null,null,null,null,null,null,null,null,null,0,null,{"$f":"S1290","v":true},false,{"$f":"U1291","v":false},null,false]
[null,{"$f":"B1291-1","v":2013},"$$",null,null,null,null,null,null,null,null,null,null,null,null,null,0,null,null,false,{"$f":"AND(B1293<=ReportingYear,B1293>=BaselineYear)","v":false},null,false]
[null,null,"Qty",null,null,null,null,null,null,null,null,null,null,null,null,null,0,null,{"$f":"S1292","v":true},false,{"$f":"U1293","v":false},null,false]
[null,{"$f":"B1293-1","v":2012},"$$",null,null,null,null,null,null,null,null,null,null,null,null,null,0,null,null,false,{"$f":"AND(B1295<=ReportingYear,B1295>=BaselineYear)","v":false},null,false]
[null,null,"Qty",null,null,null,null,null,null,null,null,null,null,null,null,null,0,null,{"$f":"S1294","v":true},false,{"$f":"U1295","v":false},null,false]
[null,{"$f":"B1295-1","v":2011},"$$",null,null,null,null,null,null,null,null,null,null,null,null,null,0,null,null,false,{"$f":"AND(B1297<=ReportingYear,B1297>=BaselineYear)","v":false},null,false]
[null,null,"Qty",null,null,null,null,null,null,null,null,null,null,null,null,null,0,null,{"$f":"S1296","v":true},false,{"$f":"U1297","v":false},null,false]
[null,{"$f":"B1297-1","v":2010},"$$",null,null,null,null,null,null,null,null,null,null,null,null,null,0,null,null,false,{"$f":"AND(B1299<=ReportingYear,B1299>=BaselineYear)","v":false},null,false]
[null,null,"Qty",null,null,null,null,null,null,null,null,null,null,null,null,null,0,null,{"$f":"S1298","v":true},false,{"$f":"U1299","v":false},null,false]
[null,{"$f":"B1299-1","v":2009},"$$",null,null,null,null,null,null,null,null,null,null,null,null,null,0,null,null,false,{"$f":"AND(B1301<=ReportingYear,B1301>=BaselineYear)","v":false},null,false]
[null,null,"Qty",null,null,null,null,null,null,null,null,null,null,null,null,null,0,null,{"$f":"S1300","v":true},false,{"$f":"U1301","v":false},null,false]
[null,{"$f":"B1301-1","v":2008},"$$",null,null,null,null,null,null,null,null,null,null,null,null,null,0,null,null,false,{"$f":"AND(B1303<=ReportingYear,B1303>=BaselineYear)","v":false},null,false]
[null,null,"Qty",null,null,null,null,null,null,null,null,null,null,null,null,null,0,null,{"$f":"S1302","v":true},false,{"$f":"U1303","v":false},null,false]
[null,{"$f":"B1303-1","v":2007},"$$",null,null,null,null,null,null,null,null,null,null,null,null,null,0,null,null,false,{"$f":"AND(B1305<=ReportingYear,B1305>=BaselineYear)","v":false},null,false]
[null,null,"Qty",null,null,null,null,null,null,null,null,null,null,null,null,null,0,null,{"$f":"S1304","v":true},false,{"$f":"U1305","v":false},null,false]
[null,{"$f":"B1305-1","v":2006},"$$",null,null,null,null,null,null,null,null,null,null,null,null,null,0,null,null,false,{"$f":"AND(B1307<=ReportingYear,B1307>=BaselineYear)","v":false},null,false]
[null,null,"Qty",null,null,null,null,null,null,null,null,null,null,null,null,null,0,null,{"$f":"S1306","v":true},false,{"$f":"U1307","v":false},null,false]
[null,{"$f":"B1307-1","v":2005},"$$",null,null,null,null,null,null,null,null,null,null,null,null,null,0,null,null,false,{"$f":"AND(B1309<=ReportingYear,B1309>=BaselineYear)","v":false},null,false]
[null,null,"Qty",null,null,null,null,null,null,null,null,null,null,null,null,null,0,null,{"$f":"S1308","v":true},false,{"$f":"U1309","v":false},null,false]
[null,null,null,null,null,null,null,null,null,null,null,null,null,null,null,null,null,null,null,{"$f":"T1282","v":false},null,null,false]
[null,"Per Unit Costs",{"$f":"B1261","v":2029},{"$f":"IF(D1262<>0,D1261/D1262,\"\")","v":""},"","","","","","","","","","","",null,{"$f":"IF(Q1262<>0,Q1261/Q1262,\"\")","v":""},null,{"$f":"S1290","v":true},{"$f":"T1311","v":false},{"$f":"AND(C1312<=ReportingYear,C1312>=BaselineYear)","v":false},{"$f":"UnitCostStatus","v":false},false]
[null,null,{"$f":"C1312-1","v":2028},{"$f":"IF(D1264<>0,D1263/D1264,\"\")","v":""},"","","","","","","","","","","",null,{"$f":"IF(Q1264<>0,Q1263/Q1264,\"\")","v":""},null,{"$f":"S1312","v":true},false,false,{"$f":"V1312","v":false},false]
[null,null,{"$f":"C1313-1","v":2027},{"$f":"IF(D1266<>0,D1265/D1266,\"\")","v":""},"","","","","","","","","","","",null,{"$f":"IF(Q1266<>0,Q1265/Q1266,\"\")","v":""},null,true,false,false,{"$f":"V1313","v":false},false]
[null,null,2026,{"$f":"IF(D1268<>0,D1267/D1268,\"\")","v":""},"","","","","","","","","","","",null,{"$f":"IF(Q1268<>0,Q1267/Q1268,\"\")","v":""},null,true,false,false,{"$f":"V1314","v":false},false]
[null,null,2025,{"$f":"IF(D1270<>0,D1269/D1270,\"\")","v":""},"","","","","","","","","","","",null,{"$f":"IF(Q1270<>0,Q1269/Q1270,\"\")","v":""},null,true,false,false,false,false]
[null,null,2024,{"$f":"IF(D1272<>0,D1271/D1272,\"\")","v":""},"","","","","","","","","","","",null,{"$f":"IF(Q1272<>0,Q1271/Q1272,\"\")","v":""},null,true,false,false,false,false]
[null,null,2023,{"$f":"IF(D1274<>0,D1273/D1274,\"\")","v":""},"","","","","","","","","","","",null,{"$f":"IF(Q1274<>0,Q1273/Q1274,\"\")","v":""},null,true,false,false,false,false]
[null,null,2022,{"$f":"IF(D1276<>0,D1275/D1276,\"\")","v":""},"","","","","","","","","","","",null,{"$f":"IF(Q1276<>0,Q1275/Q1276,\"\")","v":""},null,true,false,false,false,false]
[null,null,2021,{"$f":"IF(D1278<>0,D1277/D1278,\"\")","v":""},"","","","","","","","","","","",null,{"$f":"IF(Q1278<>0,Q1277/Q1278,\"\")","v":""},null,true,false,true,false,false]
[null,null,2020,{"$f":"IF(D1280<>0,D1279/D1280,\"\")","v":""},"","","","","","","","","","","",null,{"$f":"IF(Q1280<>0,Q1279/Q1280,\"\")","v":""},null,true,false,true,false,false]
[null,null,2019,{"$f":"IF(D1282<>0,D1281/D1282,\"\")","v":""},"","","","","","","","","","","",null,{"$f":"IF(Q1282<>0,Q1281/Q1282,\"\")","v":""},null,true,false,false,false,false]
[null,null,2018,{"$f":"IF(D1284<>0,D1283/D1284,\"\")","v":""},"","","","","","","","","","","",null,{"$f":"IF(Q1284<>0,Q1283/Q1284,\"\")","v":""},null,true,false,false,false,false]
[null,null,2017,{"$f":"IF(D1286<>0,D1285/D1286,\"\")","v":""},"","","","","","","","","","","",null,{"$f":"IF(Q1286<>0,Q1285/Q1286,\"\")","v":""},null,true,false,false,false,false]
[null,null,2016,{"$f":"IF(D1288<>0,D1287/D1288,\"\")","v":""},"","","","","","","","","","","",null,{"$f":"IF(Q1288<>0,Q1287/Q1288,\"\")","v":""},null,true,false,false,false,false]
[null,null,2015,{"$f":"IF(D1290<>0,D1289/D1290,\"\")","v":""},"","","","","","","","","","","",null,{"$f":"IF(Q1290<>0,Q1289/Q1290,\"\")","v":""},null,true,false,false,false,false]
[null,null,2014,{"$f":"IF(D1292<>0,D1291/D1292,\"\")","v":""},{"$f":"IF(E1292<>0,E1291/E1292,\"\")","v":""},"","","","","","","","","","",null,{"$f":"IF(Q1292<>0,Q1291/Q1292,\"\")","v":""},null,true,false,false,false,false]
[null,null,2013,{"$f":"IF(D1294<>0,D1293/D1294,\"\")","v":""},{"$f":"IF(E1294<>0,E1293/E1294,\"\")","v":""},"","","","","","","","","","",null,{"$f":"IF(Q1294<>0,Q1293/Q1294,\"\")","v":""},null,true,false,false,false,false]
[null,null,2012,{"$f":"IF(D1296<>0,D1295/D1296,\"\")","v":""},{"$f":"IF(E1296<>0,E1295/E1296,\"\")","v":""},"","","","","","","","","","",null,{"$f":"IF(Q1296<>0,Q1295/Q1296,\"\")","v":""},null,{"$f":"S1328","v":true},false,false,false,false]
[null,null,2011,{"$f":"IF(D1298<>0,D1297/D1298,\"\")","v":""},{"$f":"IF(E1298<>0,E1297/E1298,\"\")","v":""},"","","","","","","","","","",null,{"$f":"IF(Q1298<>0,Q1297/Q1298,\"\")","v":""},null,true,false,false,false,false]
[null,null,2010,{"$f":"IF(D1300<>0,D1299/D1300,\"\")","v":""},{"$f":"IF(E1300<>0,E1299/E1300,\"\")","v":""},"","","","","","","","","","",null,{"$f":"IF(Q1300<>0,Q1299/Q1300,\"\")","v":""},null,true,false,false,false,false]
[null,null,2009,{"$f":"IF(D1302<>0,D1301/D1302,\"\")","v":""},{"$f":"IF(E1302<>0,E1301/E1302,\"\")","v":""},"","","","","","","","","","",null,{"$f":"IF(Q1302<>0,Q1301/Q1302,\"\")","v":""},null,true,false,false,false,false]
[null,null,2008,{"$f":"IF(D1304<>0,D1303/D1304,\"\")","v":""},{"$f":"IF(E1304<>0,E1303/E1304,\"\")","v":""},"","","","","","","","","","",null,{"$f":"IF(Q1304<>0,Q1303/Q1304,\"\")","v":""},null,true,false,false,false,false]
[null,null,2007,{"$f":"IF(D1306<>0,D1305/D1306,\"\")","v":""},{"$f":"IF(E1306<>0,E1305/E1306,\"\")","v":""},"","","","","","","","","","",null,{"$f":"IF(Q1306<>0,Q1305/Q1306,\"\")","v":""},null,true,false,false,false,false]
[null,null,2006,{"$f":"IF(D1308<>0,D1307/D1308,\"\")","v":""},{"$f":"IF(E1308<>0,E1307/E1308,\"\")","v":""},"","","","","","","","","","",null,{"$f":"IF(Q1308<>0,Q1307/Q1308,\"\")","v":""},null,true,false,false,false,false]
[null,null,2005,{"$f":"IF(D1310<>0,D1309/D1310,\"\")","v":""},{"$f":"IF(E1310<>0,E1309/E1310,\"\")","v":""},"","","","","","","","","","",null,{"$f":"IF(Q1310<>0,Q1309/Q1310,\"\")","v":""},null,true,false,false,false,false]
[null,null,null,null,null,null,null,null,null,null,null,null,null,null,null,null,null,null,{"$f":"S1322","v":true},{"$f":"T1322","v":false},null,{"$f":"V1322","v":false},false]
[null,null,null,null,null,null,null,null,null,null,null,null,null,null,null,null,null,null,null,{"$f":"T1337","v":false},null,null,false]
[null,"Energy Source",null,null,null,"UNIT","Notes",null,null,null,null,null,null,null,null,null,null,null,null,{"$f":"VLOOKUP(B1340,$T$5:$U$24,2,)","v":false},null,null,{"$f":"AND(S1339:V1339)","v":false}]
["back to top",{"$f":"B1258+1","v":17},{"$f":"VLOOKUP(B1340,$B$5:$F$24,2,)","v":""},null,null,{"$f":"VLOOKUP(B1340,$B$5:$G$24,5,)","v":""},{"$f":"VLOOKUP(B1340,$B$5:$G$24,6,)","v":""},null,null,null,null,null,null,null,null,null,null,null,null,{"$f":"T1339","v":false},null,null,{"$f":"AND(S1340:V1340)","v":false}]
[null,null,null,null,null,null,null,null,null,null,null,null,null,null,null,null,null,null,null,{"$f":"T1340","v":false},null,null,false]
[null,null,null,{"$f":"D1260","v":"Jan"},{"$f":"E1260","v":"Feb"},"Mar","Apr","May","Jun","Jul","Aug","Sep","Oct","Nov","Dec",null,"YEAR",null,null,{"$f":"T1341","v":false},null,null,false]
[null,{"$f":"FinalYear","v":2029},"$$",null,null,null,null,null,null,null,null,null,null,null,null,null,{"$f":"SUM(D1343:O1343)","v":0},null,null,false,{"$f":"AND(B1343<=ReportingYear,B1343>=BaselineYear)","v":false},null,false]
[null,null,"Qty",null,null,null,null,null,null,null,null,null,null,null,null,null,0,null,{"$f":"IF(F1340=\"none\",FALSE,TRUE)","v":true},false,{"$f":"U1343","v":false},null,false]
[null,{"$f":"B1343-1","v":2028},"$$",null,null,null,null,null,null,null,null,null,null,null,null,null,0,null,null,false,{"$f":"AND(B1345<=ReportingYear,B1345>=BaselineYear)","v":false},null,false]
[null,null,"Qty",null,null,null,null,null,null,null,null,null,null,null,null,null,0,null,{"$f":"S1344","v":true},false,{"$f":"U1345","v":false},null,false]
[null,{"$f":"B1345-1","v":2027},"$$",null,null,null,null,null,null,null,null,null,null,null,null,null,0,null,null,false,{"$f":"AND(B1347<=ReportingYear,B1347>=BaselineYear)","v":false},null,false]
[null,null,"Qty",null,null,null,null,null,null,null,null,null,null,null,null,null,0,null,{"$f":"S1346","v":true},false,{"$f":"U1347","v":false},null,false]
[null,{"$f":"B1347-1","v":2026},"$$",null,null,null,null,null,null,null,null,null,null,null,null,null,0,null,null,false,{"$f":"AND(B1349<=ReportingYear,B1349>=BaselineYear)","v":false},null,false]
[null,null,"Qty",null,null,null,null,null,null,null,null,null,null,null,null,null,0,null,{"$f":"S1348","v":true},false,{"$f":"U1349","v":false},null,false]
[null,{"$f":"B1349-1","v":2025},"$$",null,null,null,null,null,null,null,null,null,null,null,null,null,0,null,null,false,{"$f":"AND(B1351<=ReportingYear,B1351>=BaselineYear)","v":false},null,false]
[null,null,"Qty",null,null,null,null,null,null,null,null,null,null,null,null,null,0,null,{"$f":"S1350","v":true},false,{"$f":"U1351","v":false},null,false]
[null,{"$f":"B1351-1","v":2024},"$$",null,null,null,null,null,null,null,null,null,null,null,null,null,0,null,null,false,{"$f":"AND(B1353<=ReportingYear,B1353>=BaselineYear)","v":false},null,false]
[null,null,"Qty",null,null,null,null,null,null,null,null,null,null,null,null,null,0,null,{"$f":"S1352","v":true},false,{"$f":"U1353","v":false},null,false]
[null,{"$f":"B1353-1","v":2023},"$$",null,null,null,null,null,null,null,null,null,null,null,null,null,0,null,null,false,{"$f":"AND(B1355<=ReportingYear,B1355>=BaselineYear)","v":false},null,false]
[null,null,"Qty",null,null,null,null,null,null,null,null,null,null,null,null,null,0,null,{"$f":"S1354","v":true},false,{"$f":"U1355","v":false},null,false]
[null,{"$f":"B1355-1","v":2022},"$$",null,null,null,null,null,null,null,null,null,null,null,null,null,0,null,null,false,{"$f":"AND(B1357<=ReportingYear,B1357>=BaselineYear)","v":false},null,false]
[null,null,"Qty",null,null,null,null,null,null,null,null,null,null,null,null,null,0,null,{"$f":"S1356","v":true},false,{"$f":"U1357","v":false},null,false]
[null,{"$f":"B1357-1","v":2021},"$$",null,null,null,null,null,null,null,null,null,null,null,null,null,0,null,null,false,{"$f":"AND(B1359<=ReportingYear,B1359>=BaselineYear)","v":true},null,false]
[null,null,"Qty",null,null,null,null,null,null,null,null,null,null,null,null,null,0,null,{"$f":"S1358","v":true},false,{"$f":"U1359","v":true},null,false]
[null,{"$f":"B1359-1","v":2020},"$$",null,null,null,null,null,null,null,null,null,null,null,null,null,0,null,null,false,{"$f":"AND(B1361<=ReportingYear,B1361>=BaselineYear)","v":true},null,false]
[null,null,"Qty",null,null,null,null,null,null,null,null,null,null,null,null,null,0,null,{"$f":"S1360","v":true},false,{"$f":"U1361","v":true},null,false]
[null,{"$f":"B1361-1","v":2019},"$$",null,null,null,null,null,null,null,null,null,null,null,null,null,0,null,null,false,{"$f":"AND(B1363<=ReportingYear,B1363>=BaselineYear)","v":false},null,false]
[null,null,"Qty",null,null,null,null,null,null,null,null,null,null,null,null,null,0,null,{"$f":"S1362","v":true},false,{"$f":"U1363","v":false},null,false]
[null,{"$f":"B1363-1","v":2018},"$$",null,null,null,null,null,null,null,null,null,null,null,null,null,0,null,null,false,{"$f":"AND(B1365<=ReportingYear,B1365>=BaselineYear)","v":false},null,false]
[null,null,"Qty",null,null,null,null,null,null,null,null,null,null,null,null,null,0,null,{"$f":"S1364","v":true},false,{"$f":"U1365","v":false},null,false]
[null,{"$f":"B1365-1","v":2017},"$$",null,null,null,null,null,null,null,null,null,null,null,null,null,0,null,null,false,{"$f":"AND(B1367<=ReportingYear,B1367>=BaselineYear)","v":false},null,false]
[null,null,"Qty",null,null,null,null,null,null,null,null,null,null,null,null,null,0,null,{"$f":"S1366","v":true},false,{"$f":"U1367","v":false},null,false]
[null,{"$f":"B1367-1","v":2016},"$$",null,null,null,null,null,null,null,null,null,null,null,null,null,0,null,null,false,{"$f":"AND(B1369<=ReportingYear,B1369>=BaselineYear)","v":false},null,false]
[null,null,"Qty",null,null,null,null,null,null,null,null,null,null,null,null,null,0,null,{"$f":"S1368","v":true},false,{"$f":"U1369","v":false},null,false]
[null,{"$f":"B1369-1","v":2015},"$$",null,null,null,null,null,null,null,null,null,null,null,null,null,0,null,null,false,{"$f":"AND(B1371<=ReportingYear,B1371>=BaselineYear)","v":false},null,false]
[null,null,"Qty",null,null,null,null,null,null,null,null,null,null,null,null,null,0,null,{"$f":"S1370","v":true},false,{"$f":"U1371","v":false},null,false]
[null,{"$f":"B1371-1","v":2014},"$$",null,null,null,null,null,null,null,null,null,null,null,null,null,0,null,null,false,{"$f":"AND(B1373<=ReportingYear,B1373>=BaselineYear)","v":false},null,false]
[null,null,"Qty",null,null,null,null,null,null,null,null,null,null,null,null,null,0,null,{"$f":"S1372","v":true},false,{"$f":"U1373","v":false},null,false]
[null,{"$f":"B1373-1","v":2013},"$$",null,null,null,null,null,null,null,null,null,null,null,null,null,0,null,null,false,{"$f":"AND(B1375<=ReportingYear,B1375>=BaselineYear)","v":false},null,false]
[null,null,"Qty",null,null,null,null,null,null,null,null,null,null,null,null,null,0,null,{"$f":"S1374","v":true},false,{"$f":"U1375","v":false},null,false]
[null,{"$f":"B1375-1","v":2012},"$$",null,null,null,null,null,null,null,null,null,null,null,null,null,0,null,null,false,{"$f":"AND(B1377<=ReportingYear,B1377>=BaselineYear)","v":false},null,false]
[null,null,"Qty",null,null,null,null,null,null,null,null,null,null,null,null,null,0,null,{"$f":"S1376","v":true},false,{"$f":"U1377","v":false},null,false]
[null,{"$f":"B1377-1","v":2011},"$$",null,null,null,null,null,null,null,null,null,null,null,null,null,0,null,null,false,{"$f":"AND(B1379<=ReportingYear,B1379>=BaselineYear)","v":false},null,false]
[null,null,"Qty",null,null,null,null,null,null,null,null,null,null,null,null,null,0,null,{"$f":"S1378","v":true},false,{"$f":"U1379","v":false},null,false]
[null,{"$f":"B1379-1","v":2010},"$$",null,null,null,null,null,null,null,null,null,null,null,null,null,0,null,null,false,{"$f":"AND(B1381<=ReportingYear,B1381>=BaselineYear)","v":false},null,false]
[null,null,"Qty",null,null,null,null,null,null,null,null,null,null,null,null,null,0,null,{"$f":"S1380","v":true},false,{"$f":"U1381","v":false},null,false]
[null,{"$f":"B1381-1","v":2009},"$$",null,null,null,null,null,null,null,null,null,null,null,null,null,0,null,null,false,{"$f":"AND(B1383<=ReportingYear,B1383>=BaselineYear)","v":false},null,false]
[null,null,"Qty",null,null,null,null,null,null,null,null,null,null,null,null,null,0,null,{"$f":"S1382","v":true},false,{"$f":"U1383","v":false},null,false]
[null,{"$f":"B1383-1","v":2008},"$$",null,null,null,null,null,null,null,null,null,null,null,null,null,0,null,null,false,{"$f":"AND(B1385<=ReportingYear,B1385>=BaselineYear)","v":false},null,false]
[null,null,"Qty",null,null,null,null,null,null,null,null,null,null,null,null,null,0,null,{"$f":"S1384","v":true},false,{"$f":"U1385","v":false},null,false]
[null,{"$f":"B1385-1","v":2007},"$$",null,null,null,null,null,null,null,null,null,null,null,null,null,0,null,null,false,{"$f":"AND(B1387<=ReportingYear,B1387>=BaselineYear)","v":false},null,false]
[null,null,"Qty",null,null,null,null,null,null,null,null,null,null,null,null,null,0,null,{"$f":"S1386","v":true},false,{"$f":"U1387","v":false},null,false]
[null,{"$f":"B1387-1","v":2006},"$$",null,null,null,null,null,null,null,null,null,null,null,null,null,0,null,null,false,{"$f":"AND(B1389<=ReportingYear,B1389>=BaselineYear)","v":false},null,false]
[null,null,"Qty",null,null,null,null,null,null,null,null,null,null,null,null,null,0,null,{"$f":"S1388","v":true},false,{"$f":"U1389","v":false},null,false]
[null,{"$f":"B1389-1","v":2005},"$$",null,null,null,null,null,null,null,null,null,null,null,null,null,0,null,null,false,{"$f":"AND(B1391<=ReportingYear,B1391>=BaselineYear)","v":false},null,false]
[null,null,"Qty",null,null,null,null,null,null,null,null,null,null,null,null,null,0,null,{"$f":"S1390","v":true},false,{"$f":"U1391","v":false},null,false]
[null,null,null,null,null,null,null,null,null,null,null,null,null,null,null,null,null,null,null,{"$f":"T1364","v":false},null,null,false]
[null,"Per Unit Costs",{"$f":"B1343","v":2029},{"$f":"IF(D1344<>0,D1343/D1344,\"\")","v":""},"","","","","","","","","","","",null,{"$f":"IF(Q1344<>0,Q1343/Q1344,\"\")","v":""},null,{"$f":"S1372","v":true},{"$f":"T1393","v":false},{"$f":"AND(C1394<=ReportingYear,C1394>=BaselineYear)","v":false},{"$f":"UnitCostStatus","v":false},false]
[null,null,{"$f":"C1394-1","v":2028},{"$f":"IF(D1346<>0,D1345/D1346,\"\")","v":""},"","","","","","","","","","","",null,{"$f":"IF(Q1346<>0,Q1345/Q1346,\"\")","v":""},null,{"$f":"S1394","v":true},false,false,{"$f":"V1394","v":false},false]
[null,null,{"$f":"C1395-1","v":2027},{"$f":"IF(D1348<>0,D1347/D1348,\"\")","v":""},"","","","","","","","","","","",null,{"$f":"IF(Q1348<>0,Q1347/Q1348,\"\")","v":""},null,true,false,false,{"$f":"V1395","v":false},false]
[null,null,2026,{"$f":"IF(D1350<>0,D1349/D1350,\"\")","v":""},"","","","","","","","","","","",null,{"$f":"IF(Q1350<>0,Q1349/Q1350,\"\")","v":""},null,true,false,false,{"$f":"V1396","v":false},false]
[null,null,2025,{"$f":"IF(D1352<>0,D1351/D1352,\"\")","v":""},"","","","","","","","","","","",null,{"$f":"IF(Q1352<>0,Q1351/Q1352,\"\")","v":""},null,true,false,false,false,false]
[null,null,2024,{"$f":"IF(D1354<>0,D1353/D1354,\"\")","v":""},"","","","","","","","","","","",null,{"$f":"IF(Q1354<>0,Q1353/Q1354,\"\")","v":""},null,true,false,false,false,false]
[null,null,2023,{"$f":"IF(D1356<>0,D1355/D1356,\"\")","v":""},"","","","","","","","","","","",null,{"$f":"IF(Q1356<>0,Q1355/Q1356,\"\")","v":""},null,true,false,false,false,false]
[null,null,2022,{"$f":"IF(D1358<>0,D1357/D1358,\"\")","v":""},"","","","","","","","","","","",null,{"$f":"IF(Q1358<>0,Q1357/Q1358,\"\")","v":""},null,true,false,false,false,false]
[null,null,2021,{"$f":"IF(D1360<>0,D1359/D1360,\"\")","v":""},"","","","","","","","","","","",null,{"$f":"IF(Q1360<>0,Q1359/Q1360,\"\")","v":""},null,true,false,true,false,false]
[null,null,2020,{"$f":"IF(D1362<>0,D1361/D1362,\"\")","v":""},"","","","","","","","","","","",null,{"$f":"IF(Q1362<>0,Q1361/Q1362,\"\")","v":""},null,true,false,true,false,false]
[null,null,2019,{"$f":"IF(D1364<>0,D1363/D1364,\"\")","v":""},"","","","","","","","","","","",null,{"$f":"IF(Q1364<>0,Q1363/Q1364,\"\")","v":""},null,true,false,false,false,false]
[null,null,2018,{"$f":"IF(D1366<>0,D1365/D1366,\"\")","v":""},"","","","","","","","","","","",null,{"$f":"IF(Q1366<>0,Q1365/Q1366,\"\")","v":""},null,true,false,false,false,false]
[null,null,2017,{"$f":"IF(D1368<>0,D1367/D1368,\"\")","v":""},"","","","","","","","","","","",null,{"$f":"IF(Q1368<>0,Q1367/Q1368,\"\")","v":""},null,true,false,false,false,false]
[null,null,2016,{"$f":"IF(D1370<>0,D1369/D1370,\"\")","v":""},"","","","","","","","","","","",null,{"$f":"IF(Q1370<>0,Q1369/Q1370,\"\")","v":""},null,true,false,false,false,false]
[null,null,2015,{"$f":"IF(D1372<>0,D1371/D1372,\"\")","v":""},"","","","","","","","","","","",null,{"$f":"IF(Q1372<>0,Q1371/Q1372,\"\")","v":""},null,true,false,false,false,false]
[null,null,2014,{"$f":"IF(D1374<>0,D1373/D1374,\"\")","v":""},{"$f":"IF(E1374<>0,E1373/E1374,\"\")","v":""},"","","","","","","","","","",null,{"$f":"IF(Q1374<>0,Q1373/Q1374,\"\")","v":""},null,true,false,false,false,false]
[null,null,2013,{"$f":"IF(D1376<>0,D1375/D1376,\"\")","v":""},{"$f":"IF(E1376<>0,E1375/E1376,\"\")","v":""},"","","","","","","","","","",null,{"$f":"IF(Q1376<>0,Q1375/Q1376,\"\")","v":""},null,true,false,false,false,false]
[null,null,2012,{"$f":"IF(D1378<>0,D1377/D1378,\"\")","v":""},{"$f":"IF(E1378<>0,E1377/E1378,\"\")","v":""},"","","","","","","","","","",null,{"$f":"IF(Q1378<>0,Q1377/Q1378,\"\")","v":""},null,{"$f":"S1410","v":true},false,false,false,false]
[null,null,2011,{"$f":"IF(D1380<>0,D1379/D1380,\"\")","v":""},{"$f":"IF(E1380<>0,E1379/E1380,\"\")","v":""},"","","","","","","","","","",null,{"$f":"IF(Q1380<>0,Q1379/Q1380,\"\")","v":""},null,true,false,false,false,false]
[null,null,2010,{"$f":"IF(D1382<>0,D1381/D1382,\"\")","v":""},{"$f":"IF(E1382<>0,E1381/E1382,\"\")","v":""},"","","","","","","","","","",null,{"$f":"IF(Q1382<>0,Q1381/Q1382,\"\")","v":""},null,true,false,false,false,false]
[null,null,2009,{"$f":"IF(D1384<>0,D1383/D1384,\"\")","v":""},{"$f":"IF(E1384<>0,E1383/E1384,\"\")","v":""},"","","","","","","","","","",null,{"$f":"IF(Q1384<>0,Q1383/Q1384,\"\")","v":""},null,true,false,false,false,false]
[null,null,2008,{"$f":"IF(D1386<>0,D1385/D1386,\"\")","v":""},{"$f":"IF(E1386<>0,E1385/E1386,\"\")","v":""},"","","","","","","","","","",null,{"$f":"IF(Q1386<>0,Q1385/Q1386,\"\")","v":""},null,true,false,false,false,false]
[null,null,2007,{"$f":"IF(D1388<>0,D1387/D1388,\"\")","v":""},{"$f":"IF(E1388<>0,E1387/E1388,\"\")","v":""},"","","","","","","","","","",null,{"$f":"IF(Q1388<>0,Q1387/Q1388,\"\")","v":""},null,true,false,false,false,false]
[null,null,2006,{"$f":"IF(D1390<>0,D1389/D1390,\"\")","v":""},{"$f":"IF(E1390<>0,E1389/E1390,\"\")","v":""},"","","","","","","","","","",null,{"$f":"IF(Q1390<>0,Q1389/Q1390,\"\")","v":""},null,true,false,false,false,false]
[null,null,2005,{"$f":"IF(D1392<>0,D1391/D1392,\"\")","v":""},{"$f":"IF(E1392<>0,E1391/E1392,\"\")","v":""},"","","","","","","","","","",null,{"$f":"IF(Q1392<>0,Q1391/Q1392,\"\")","v":""},null,true,false,false,false,false]
[null,null,null,null,null,null,null,null,null,null,null,null,null,null,null,null,null,null,{"$f":"S1404","v":true},{"$f":"T1404","v":false},null,{"$f":"V1404","v":false},false]
[null,null,null,null,null,null,null,null,null,null,null,null,null,null,null,null,null,null,null,{"$f":"T1419","v":false},null,null,false]
[null,"Energy Source",null,null,null,"UNIT","Notes",null,null,null,null,null,null,null,null,null,null,null,null,{"$f":"VLOOKUP(B1422,$T$5:$U$24,2,)","v":false},null,null,{"$f":"AND(S1421:V1421)","v":false}]
["back to top",{"$f":"B1340+1","v":18},{"$f":"VLOOKUP(B1422,$B$5:$F$24,2,)","v":""},null,null,{"$f":"VLOOKUP(B1422,$B$5:$G$24,5,)","v":""},{"$f":"VLOOKUP(B1422,$B$5:$G$24,6,)","v":""},null,null,null,null,null,null,null,null,null,null,null,null,{"$f":"T1421","v":false},null,null,{"$f":"AND(S1422:V1422)","v":false}]
[null,null,null,null,null,null,null,null,null,null,null,null,null,null,null,null,null,null,null,{"$f":"T1422","v":false},null,null,false]
[null,null,null,{"$f":"D1342","v":"Jan"},{"$f":"E1342","v":"Feb"},"Mar","Apr","May","Jun","Jul","Aug","Sep","Oct","Nov","Dec",null,"YEAR",null,null,{"$f":"T1423","v":false},null,null,false]
[null,{"$f":"FinalYear","v":2029},"$$",null,null,null,null,null,null,null,null,null,null,null,null,null,{"$f":"SUM(D1425:O1425)","v":0},null,null,false,{"$f":"AND(B1425<=ReportingYear,B1425>=BaselineYear)","v":false},null,false]
[null,null,"Qty",null,null,null,null,null,null,null,null,null,null,null,null,null,0,null,{"$f":"IF(F1422=\"none\",FALSE,TRUE)","v":true},false,{"$f":"U1425","v":false},null,false]
[null,{"$f":"B1425-1","v":2028},"$$",null,null,null,null,null,null,null,null,null,null,null,null,null,0,null,null,false,{"$f":"AND(B1427<=ReportingYear,B1427>=BaselineYear)","v":false},null,false]
[null,null,"Qty",null,null,null,null,null,null,null,null,null,null,null,null,null,0,null,{"$f":"S1426","v":true},false,{"$f":"U1427","v":false},null,false]
[null,{"$f":"B1427-1","v":2027},"$$",null,null,null,null,null,null,null,null,null,null,null,null,null,0,null,null,false,{"$f":"AND(B1429<=ReportingYear,B1429>=BaselineYear)","v":false},null,false]
[null,null,"Qty",null,null,null,null,null,null,null,null,null,null,null,null,null,0,null,{"$f":"S1428","v":true},false,{"$f":"U1429","v":false},null,false]
[null,{"$f":"B1429-1","v":2026},"$$",null,null,null,null,null,null,null,null,null,null,null,null,null,0,null,null,false,{"$f":"AND(B1431<=ReportingYear,B1431>=BaselineYear)","v":false},null,false]
[null,null,"Qty",null,null,null,null,null,null,null,null,null,null,null,null,null,0,null,{"$f":"S1430","v":true},false,{"$f":"U1431","v":false},null,false]
[null,{"$f":"B1431-1","v":2025},"$$",null,null,null,null,null,null,null,null,null,null,null,null,null,0,null,null,false,{"$f":"AND(B1433<=ReportingYear,B1433>=BaselineYear)","v":false},null,false]
[null,null,"Qty",null,null,null,null,null,null,null,null,null,null,null,null,null,0,null,{"$f":"S1432","v":true},false,{"$f":"U1433","v":false},null,false]
[null,{"$f":"B1433-1","v":2024},"$$",null,null,null,null,null,null,null,null,null,null,null,null,null,0,null,null,false,{"$f":"AND(B1435<=ReportingYear,B1435>=BaselineYear)","v":false},null,false]
[null,null,"Qty",null,null,null,null,null,null,null,null,null,null,null,null,null,0,null,{"$f":"S1434","v":true},false,{"$f":"U1435","v":false},null,false]
[null,{"$f":"B1435-1","v":2023},"$$",null,null,null,null,null,null,null,null,null,null,null,null,null,0,null,null,false,{"$f":"AND(B1437<=ReportingYear,B1437>=BaselineYear)","v":false},null,false]
[null,null,"Qty",null,null,null,null,null,null,null,null,null,null,null,null,null,0,null,{"$f":"S1436","v":true},false,{"$f":"U1437","v":false},null,false]
[null,{"$f":"B1437-1","v":2022},"$$",null,null,null,null,null,null,null,null,null,null,null,null,null,0,null,null,false,{"$f":"AND(B1439<=ReportingYear,B1439>=BaselineYear)","v":false},null,false]
[null,null,"Qty",null,null,null,null,null,null,null,null,null,null,null,null,null,0,null,{"$f":"S1438","v":true},false,{"$f":"U1439","v":false},null,false]
[null,{"$f":"B1439-1","v":2021},"$$",null,null,null,null,null,null,null,null,null,null,null,null,null,0,null,null,false,{"$f":"AND(B1441<=ReportingYear,B1441>=BaselineYear)","v":true},null,false]
[null,null,"Qty",null,null,null,null,null,null,null,null,null,null,null,null,null,0,null,{"$f":"S1440","v":true},false,{"$f":"U1441","v":true},null,false]
[null,{"$f":"B1441-1","v":2020},"$$",null,null,null,null,null,null,null,null,null,null,null,null,null,0,null,null,false,{"$f":"AND(B1443<=ReportingYear,B1443>=BaselineYear)","v":true},null,false]
[null,null,"Qty",null,null,null,null,null,null,null,null,null,null,null,null,null,0,null,{"$f":"S1442","v":true},false,{"$f":"U1443","v":true},null,false]
[null,{"$f":"B1443-1","v":2019},"$$",null,null,null,null,null,null,null,null,null,null,null,null,null,0,null,null,false,{"$f":"AND(B1445<=ReportingYear,B1445>=BaselineYear)","v":false},null,false]
[null,null,"Qty",null,null,null,null,null,null,null,null,null,null,null,null,null,0,null,{"$f":"S1444","v":true},false,{"$f":"U1445","v":false},null,false]
[null,{"$f":"B1445-1","v":2018},"$$",null,null,null,null,null,null,null,null,null,null,null,null,null,0,null,null,false,{"$f":"AND(B1447<=ReportingYear,B1447>=BaselineYear)","v":false},null,false]
[null,null,"Qty",null,null,null,null,null,null,null,null,null,null,null,null,null,0,null,{"$f":"S1446","v":true},false,{"$f":"U1447","v":false},null,false]
[null,{"$f":"B1447-1","v":2017},"$$",null,null,null,null,null,null,null,null,null,null,null,null,null,0,null,null,false,{"$f":"AND(B1449<=ReportingYear,B1449>=BaselineYear)","v":false},null,false]
[null,null,"Qty",null,null,null,null,null,null,null,null,null,null,null,null,null,0,null,{"$f":"S1448","v":true},false,{"$f":"U1449","v":false},null,false]
[null,{"$f":"B1449-1","v":2016},"$$",null,null,null,null,null,null,null,null,null,null,null,null,null,0,null,null,false,{"$f":"AND(B1451<=ReportingYear,B1451>=BaselineYear)","v":false},null,false]
[null,null,"Qty",null,null,null,null,null,null,null,null,null,null,null,null,null,0,null,{"$f":"S1450","v":true},false,{"$f":"U1451","v":false},null,false]
[null,{"$f":"B1451-1","v":2015},"$$",null,null,null,null,null,null,null,null,null,null,null,null,null,0,null,null,false,{"$f":"AND(B1453<=ReportingYear,B1453>=BaselineYear)","v":false},null,false]
[null,null,"Qty",null,null,null,null,null,null,null,null,null,null,null,null,null,0,null,{"$f":"S1452","v":true},false,{"$f":"U1453","v":false},null,false]
[null,{"$f":"B1453-1","v":2014},"$$",null,null,null,null,null,null,null,null,null,null,null,null,null,0,null,null,false,{"$f":"AND(B1455<=ReportingYear,B1455>=BaselineYear)","v":false},null,false]
[null,null,"Qty",null,null,null,null,null,null,null,null,null,null,null,null,null,0,null,{"$f":"S1454","v":true},false,{"$f":"U1455","v":false},null,false]
[null,{"$f":"B1455-1","v":2013},"$$",null,null,null,null,null,null,null,null,null,null,null,null,null,0,null,null,false,{"$f":"AND(B1457<=ReportingYear,B1457>=BaselineYear)","v":false},null,false]
[null,null,"Qty",null,null,null,null,null,null,null,null,null,null,null,null,null,0,null,{"$f":"S1456","v":true},false,{"$f":"U1457","v":false},null,false]
[null,{"$f":"B1457-1","v":2012},"$$",null,null,null,null,null,null,null,null,null,null,null,null,null,0,null,null,false,{"$f":"AND(B1459<=ReportingYear,B1459>=BaselineYear)","v":false},null,false]
[null,null,"Qty",null,null,null,null,null,null,null,null,null,null,null,null,null,0,null,{"$f":"S1458","v":true},false,{"$f":"U1459","v":false},null,false]
[null,{"$f":"B1459-1","v":2011},"$$",null,null,null,null,null,null,null,null,null,null,null,null,null,0,null,null,false,{"$f":"AND(B1461<=ReportingYear,B1461>=BaselineYear)","v":false},null,false]
[null,null,"Qty",null,null,null,null,null,null,null,null,null,null,null,null,null,0,null,{"$f":"S1460","v":true},false,{"$f":"U1461","v":false},null,false]
[null,{"$f":"B1461-1","v":2010},"$$",null,null,null,null,null,null,null,null,null,null,null,null,null,0,null,null,false,{"$f":"AND(B1463<=ReportingYear,B1463>=BaselineYear)","v":false},null,false]
[null,null,"Qty",null,null,null,null,null,null,null,null,null,null,null,null,null,0,null,{"$f":"S1462","v":true},false,{"$f":"U1463","v":false},null,false]
[null,{"$f":"B1463-1","v":2009},"$$",null,null,null,null,null,null,null,null,null,null,null,null,null,0,null,null,false,{"$f":"AND(B1465<=ReportingYear,B1465>=BaselineYear)","v":false},null,false]
[null,null,"Qty",null,null,null,null,null,null,null,null,null,null,null,null,null,0,null,{"$f":"S1464","v":true},false,{"$f":"U1465","v":false},null,false]
[null,{"$f":"B1465-1","v":2008},"$$",null,null,null,null,null,null,null,null,null,null,null,null,null,0,null,null,false,{"$f":"AND(B1467<=ReportingYear,B1467>=BaselineYear)","v":false},null,false]
[null,null,"Qty",null,null,null,null,null,null,null,null,null,null,null,null,null,0,null,{"$f":"S1466","v":true},false,{"$f":"U1467","v":false},null,false]
[null,{"$f":"B1467-1","v":2007},"$$",null,null,null,null,null,null,null,null,null,null,null,null,null,0,null,null,false,{"$f":"AND(B1469<=ReportingYear,B1469>=BaselineYear)","v":false},null,false]
[null,null,"Qty",null,null,null,null,null,null,null,null,null,null,null,null,null,0,null,{"$f":"S1468","v":true},false,{"$f":"U1469","v":false},null,false]
[null,{"$f":"B1469-1","v":2006},"$$",null,null,null,null,null,null,null,null,null,null,null,null,null,0,null,null,false,{"$f":"AND(B1471<=ReportingYear,B1471>=BaselineYear)","v":false},null,false]
[null,null,"Qty",null,null,null,null,null,null,null,null,null,null,null,null,null,0,null,{"$f":"S1470","v":true},false,{"$f":"U1471","v":false},null,false]
[null,{"$f":"B1471-1","v":2005},"$$",null,null,null,null,null,null,null,null,null,null,null,null,null,0,null,null,false,{"$f":"AND(B1473<=ReportingYear,B1473>=BaselineYear)","v":false},null,false]
[null,null,"Qty",null,null,null,null,null,null,null,null,null,null,null,null,null,0,null,{"$f":"S1472","v":true},false,{"$f":"U1473","v":false},null,false]
[null,null,null,null,null,null,null,null,null,null,null,null,null,null,null,null,null,null,null,{"$f":"T1446","v":false},null,null,false]
[null,"Per Unit Costs",{"$f":"B1425","v":2029},{"$f":"IF(D1426<>0,D1425/D1426,\"\")","v":""},"","","","","","","","","","","",null,{"$f":"IF(Q1426<>0,Q1425/Q1426,\"\")","v":""},null,{"$f":"S1454","v":true},{"$f":"T1475","v":false},{"$f":"AND(C1476<=ReportingYear,C1476>=BaselineYear)","v":false},{"$f":"UnitCostStatus","v":false},false]
[null,null,{"$f":"C1476-1","v":2028},{"$f":"IF(D1428<>0,D1427/D1428,\"\")","v":""},"","","","","","","","","","","",null,{"$f":"IF(Q1428<>0,Q1427/Q1428,\"\")","v":""},null,{"$f":"S1476","v":true},false,false,{"$f":"V1476","v":false},false]
[null,null,{"$f":"C1477-1","v":2027},{"$f":"IF(D1430<>0,D1429/D1430,\"\")","v":""},"","","","","","","","","","","",null,{"$f":"IF(Q1430<>0,Q1429/Q1430,\"\")","v":""},null,true,false,false,{"$f":"V1477","v":false},false]
[null,null,2026,{"$f":"IF(D1432<>0,D1431/D1432,\"\")","v":""},"","","","","","","","","","","",null,{"$f":"IF(Q1432<>0,Q1431/Q1432,\"\")","v":""},null,true,false,false,{"$f":"V1478","v":false},false]
[null,null,2025,{"$f":"IF(D1434<>0,D1433/D1434,\"\")","v":""},"","","","","","","","","","","",null,{"$f":"IF(Q1434<>0,Q1433/Q1434,\"\")","v":""},null,true,false,false,false,false]
[null,null,2024,{"$f":"IF(D1436<>0,D1435/D1436,\"\")","v":""},"","","","","","","","","","","",null,{"$f":"IF(Q1436<>0,Q1435/Q1436,\"\")","v":""},null,true,false,false,false,false]
[null,null,2023,{"$f":"IF(D1438<>0,D1437/D1438,\"\")","v":""},"","","","","","","","","","","",null,{"$f":"IF(Q1438<>0,Q1437/Q1438,\"\")","v":""},null,true,false,false,false,false]
[null,null,2022,{"$f":"IF(D1440<>0,D1439/D1440,\"\")","v":""},"","","","","","","","","","","",null,{"$f":"IF(Q1440<>0,Q1439/Q1440,\"\")","v":""},null,true,false,false,false,false]
[null,null,2021,{"$f":"IF(D1442<>0,D1441/D1442,\"\")","v":""},"","","","","","","","","","","",null,{"$f":"IF(Q1442<>0,Q1441/Q1442,\"\")","v":""},null,true,false,true,false,false]
[null,null,2020,{"$f":"IF(D1444<>0,D1443/D1444,\"\")","v":""},"","","","","","","","","","","",null,{"$f":"IF(Q1444<>0,Q1443/Q1444,\"\")","v":""},null,true,false,true,false,false]
[null,null,2019,{"$f":"IF(D1446<>0,D1445/D1446,\"\")","v":""},"","","","","","","","","","","",null,{"$f":"IF(Q1446<>0,Q1445/Q1446,\"\")","v":""},null,true,false,false,false,false]
[null,null,2018,{"$f":"IF(D1448<>0,D1447/D1448,\"\")","v":""},"","","","","","","","","","","",null,{"$f":"IF(Q1448<>0,Q1447/Q1448,\"\")","v":""},null,true,false,false,false,false]
[null,null,2017,{"$f":"IF(D1450<>0,D1449/D1450,\"\")","v":""},"","","","","","","","","","","",null,{"$f":"IF(Q1450<>0,Q1449/Q1450,\"\")","v":""},null,true,false,false,false,false]
[null,null,2016,{"$f":"IF(D1452<>0,D1451/D1452,\"\")","v":""},"","","","","","","","","","","",null,{"$f":"IF(Q1452<>0,Q1451/Q1452,\"\")","v":""},null,true,false,false,false,false]
[null,null,2015,{"$f":"IF(D1454<>0,D1453/D1454,\"\")","v":""},"","","","","","","","","","","",null,{"$f":"IF(Q1454<>0,Q1453/Q1454,\"\")","v":""},null,true,false,false,false,false]
[null,null,2014,{"$f":"IF(D1456<>0,D1455/D1456,\"\")","v":""},{"$f":"IF(E1456<>0,E1455/E1456,\"\")","v":""},"","","","","","","","","","",null,{"$f":"IF(Q1456<>0,Q1455/Q1456,\"\")","v":""},null,true,false,false,false,false]
[null,null,2013,{"$f":"IF(D1458<>0,D1457/D1458,\"\")","v":""},{"$f":"IF(E1458<>0,E1457/E1458,\"\")","v":""},"","","","","","","","","","",null,{"$f":"IF(Q1458<>0,Q1457/Q1458,\"\")","v":""},null,true,false,false,false,false]
[null,null,2012,{"$f":"IF(D1460<>0,D1459/D1460,\"\")","v":""},{"$f":"IF(E1460<>0,E1459/E1460,\"\")","v":""},"","","","","","","","","","",null,{"$f":"IF(Q1460<>0,Q1459/Q1460,\"\")","v":""},null,{"$f":"S1492","v":true},false,false,false,false]
[null,null,2011,{"$f":"IF(D1462<>0,D1461/D1462,\"\")","v":""},{"$f":"IF(E1462<>0,E1461/E1462,\"\")","v":""},"","","","","","","","","","",null,{"$f":"IF(Q1462<>0,Q1461/Q1462,\"\")","v":""},null,true,false,false,false,false]
[null,null,2010,{"$f":"IF(D1464<>0,D1463/D1464,\"\")","v":""},{"$f":"IF(E1464<>0,E1463/E1464,\"\")","v":""},"","","","","","","","","","",null,{"$f":"IF(Q1464<>0,Q1463/Q1464,\"\")","v":""},null,true,false,false,false,false]
[null,null,2009,{"$f":"IF(D1466<>0,D1465/D1466,\"\")","v":""},{"$f":"IF(E1466<>0,E1465/E1466,\"\")","v":""},"","","","","","","","","","",null,{"$f":"IF(Q1466<>0,Q1465/Q1466,\"\")","v":""},null,true,false,false,false,false]
[null,null,2008,{"$f":"IF(D1468<>0,D1467/D1468,\"\")","v":""},{"$f":"IF(E1468<>0,E1467/E1468,\"\")","v":""},"","","","","","","","","","",null,{"$f":"IF(Q1468<>0,Q1467/Q1468,\"\")","v":""},null,true,false,false,false,false]
[null,null,2007,{"$f":"IF(D1470<>0,D1469/D1470,\"\")","v":""},{"$f":"IF(E1470<>0,E1469/E1470,\"\")","v":""},"","","","","","","","","","",null,{"$f":"IF(Q1470<>0,Q1469/Q1470,\"\")","v":""},null,true,false,false,false,false]
[null,null,2006,{"$f":"IF(D1472<>0,D1471/D1472,\"\")","v":""},{"$f":"IF(E1472<>0,E1471/E1472,\"\")","v":""},"","","","","","","","","","",null,{"$f":"IF(Q1472<>0,Q1471/Q1472,\"\")","v":""},null,true,false,false,false,false]
[null,null,2005,{"$f":"IF(D1474<>0,D1473/D1474,\"\")","v":""},{"$f":"IF(E1474<>0,E1473/E1474,\"\")","v":""},"","","","","","","","","","",null,{"$f":"IF(Q1474<>0,Q1473/Q1474,\"\")","v":""},null,true,false,false,false,false]
[null,null,null,null,null,null,null,null,null,null,null,null,null,null,null,null,null,null,{"$f":"S1486","v":true},{"$f":"T1486","v":false},null,{"$f":"V1486","v":false},false]
[null,null,null,null,null,null,null,null,null,null,null,null,null,null,null,null,null,null,null,{"$f":"T1501","v":false},null,null,false]
[null,"Energy Source",null,null,null,"UNIT","Notes",null,null,null,null,null,null,null,null,null,null,null,null,{"$f":"VLOOKUP(B1504,$T$5:$U$24,2,)","v":false},null,null,{"$f":"AND(S1503:V1503)","v":false}]
["back to top",{"$f":"B1422+1","v":19},{"$f":"VLOOKUP(B1504,$B$5:$F$24,2,)","v":""},null,null,{"$f":"VLOOKUP(B1504,$B$5:$G$24,5,)","v":""},{"$f":"VLOOKUP(B1504,$B$5:$G$24,6,)","v":""},null,null,null,null,null,null,null,null,null,null,null,null,{"$f":"T1503","v":false},null,null,{"$f":"AND(S1504:V1504)","v":false}]
[null,null,null,null,null,null,null,null,null,null,null,null,null,null,null,null,null,null,null,{"$f":"T1504","v":false},null,null,false]
[null,null,null,{"$f":"D1424","v":"Jan"},{"$f":"E1424","v":"Feb"},"Mar","Apr","May","Jun","Jul","Aug","Sep","Oct","Nov","Dec",null,"YEAR",null,null,{"$f":"T1505","v":false},null,null,false]
[null,{"$f":"FinalYear","v":2029},"$$",null,null,null,null,null,null,null,null,null,null,null,null,null,{"$f":"SUM(D1507:O1507)","v":0},null,null,false,{"$f":"AND(B1507<=ReportingYear,B1507>=BaselineYear)","v":false},null,false]
[null,null,"Qty",null,null,null,null,null,null,null,null,null,null,null,null,null,0,null,{"$f":"IF(F1504=\"none\",FALSE,TRUE)","v":true},false,{"$f":"U1507","v":false},null,false]
[null,{"$f":"B1507-1","v":2028},"$$",null,null,null,null,null,null,null,null,null,null,null,null,null,0,null,null,false,{"$f":"AND(B1509<=ReportingYear,B1509>=BaselineYear)","v":false},null,false]
[null,null,"Qty",null,null,null,null,null,null,null,null,null,null,null,null,null,0,null,{"$f":"S1508","v":true},false,{"$f":"U1509","v":false},null,false]
[null,{"$f":"B1509-1","v":2027},"$$",null,null,null,null,null,null,null,null,null,null,null,null,null,0,null,null,false,{"$f":"AND(B1511<=ReportingYear,B1511>=BaselineYear)","v":false},null,false]
[null,null,"Qty",null,null,null,null,null,null,null,null,null,null,null,null,null,0,null,{"$f":"S1510","v":true},false,{"$f":"U1511","v":false},null,false]
[null,{"$f":"B1511-1","v":2026},"$$",null,null,null,null,null,null,null,null,null,null,null,null,null,0,null,null,false,{"$f":"AND(B1513<=ReportingYear,B1513>=BaselineYear)","v":false},null,false]
[null,null,"Qty",null,null,null,null,null,null,null,null,null,null,null,null,null,0,null,{"$f":"S1512","v":true},false,{"$f":"U1513","v":false},null,false]
[null,{"$f":"B1513-1","v":2025},"$$",null,null,null,null,null,null,null,null,null,null,null,null,null,0,null,null,false,{"$f":"AND(B1515<=ReportingYear,B1515>=BaselineYear)","v":false},null,false]
[null,null,"Qty",null,null,null,null,null,null,null,null,null,null,null,null,null,0,null,{"$f":"S1514","v":true},false,{"$f":"U1515","v":false},null,false]
[null,{"$f":"B1515-1","v":2024},"$$",null,null,null,null,null,null,null,null,null,null,null,null,null,0,null,null,false,{"$f":"AND(B1517<=ReportingYear,B1517>=BaselineYear)","v":false},null,false]
[null,null,"Qty",null,null,null,null,null,null,null,null,null,null,null,null,null,0,null,{"$f":"S1516","v":true},false,{"$f":"U1517","v":false},null,false]
[null,{"$f":"B1517-1","v":2023},"$$",null,null,null,null,null,null,null,null,null,null,null,null,null,0,null,null,false,{"$f":"AND(B1519<=ReportingYear,B1519>=BaselineYear)","v":false},null,false]
[null,null,"Qty",null,null,null,null,null,null,null,null,null,null,null,null,null,0,null,{"$f":"S1518","v":true},false,{"$f":"U1519","v":false},null,false]
[null,{"$f":"B1519-1","v":2022},"$$",null,null,null,null,null,null,null,null,null,null,null,null,null,0,null,null,false,{"$f":"AND(B1521<=ReportingYear,B1521>=BaselineYear)","v":false},null,false]
[null,null,"Qty",null,null,null,null,null,null,null,null,null,null,null,null,null,0,null,{"$f":"S1520","v":true},false,{"$f":"U1521","v":false},null,false]
[null,{"$f":"B1521-1","v":2021},"$$",null,null,null,null,null,null,null,null,null,null,null,null,null,0,null,null,false,{"$f":"AND(B1523<=ReportingYear,B1523>=BaselineYear)","v":true},null,false]
[null,null,"Qty",null,null,null,null,null,null,null,null,null,null,null,null,null,0,null,{"$f":"S1522","v":true},false,{"$f":"U1523","v":true},null,false]
[null,{"$f":"B1523-1","v":2020},"$$",null,null,null,null,null,null,null,null,null,null,null,null,null,0,null,null,false,{"$f":"AND(B1525<=ReportingYear,B1525>=BaselineYear)","v":true},null,false]
[null,null,"Qty",null,null,null,null,null,null,null,null,null,null,null,null,null,0,null,{"$f":"S1524","v":true},false,{"$f":"U1525","v":true},null,false]
[null,{"$f":"B1525-1","v":2019},"$$",null,null,null,null,null,null,null,null,null,null,null,null,null,0,null,null,false,{"$f":"AND(B1527<=ReportingYear,B1527>=BaselineYear)","v":false},null,false]
[null,null,"Qty",null,null,null,null,null,null,null,null,null,null,null,null,null,0,null,{"$f":"S1526","v":true},false,{"$f":"U1527","v":false},null,false]
[null,{"$f":"B1527-1","v":2018},"$$",null,null,null,null,null,null,null,null,null,null,null,null,null,0,null,null,false,{"$f":"AND(B1529<=ReportingYear,B1529>=BaselineYear)","v":false},null,false]
[null,null,"Qty",null,null,null,null,null,null,null,null,null,null,null,null,null,0,null,{"$f":"S1528","v":true},false,{"$f":"U1529","v":false},null,false]
[null,{"$f":"B1529-1","v":2017},"$$",null,null,null,null,null,null,null,null,null,null,null,null,null,0,null,null,false,{"$f":"AND(B1531<=ReportingYear,B1531>=BaselineYear)","v":false},null,false]
[null,null,"Qty",null,null,null,null,null,null,null,null,null,null,null,null,null,0,null,{"$f":"S1530","v":true},false,{"$f":"U1531","v":false},null,false]
[null,{"$f":"B1531-1","v":2016},"$$",null,null,null,null,null,null,null,null,null,null,null,null,null,0,null,null,false,{"$f":"AND(B1533<=ReportingYear,B1533>=BaselineYear)","v":false},null,false]
[null,null,"Qty",null,null,null,null,null,null,null,null,null,null,null,null,null,0,null,{"$f":"S1532","v":true},false,{"$f":"U1533","v":false},null,false]
[null,{"$f":"B1533-1","v":2015},"$$",null,null,null,null,null,null,null,null,null,null,null,null,null,0,null,null,false,{"$f":"AND(B1535<=ReportingYear,B1535>=BaselineYear)","v":false},null,false]
[null,null,"Qty",null,null,null,null,null,null,null,null,null,null,null,null,null,0,null,{"$f":"S1534","v":true},false,{"$f":"U1535","v":false},null,false]
[null,{"$f":"B1535-1","v":2014},"$$",null,null,null,null,null,null,null,null,null,null,null,null,null,0,null,null,false,{"$f":"AND(B1537<=ReportingYear,B1537>=BaselineYear)","v":false},null,false]
[null,null,"Qty",null,null,null,null,null,null,null,null,null,null,null,null,null,0,null,{"$f":"S1536","v":true},false,{"$f":"U1537","v":false},null,false]
[null,{"$f":"B1537-1","v":2013},"$$",null,null,null,null,null,null,null,null,null,null,null,null,null,0,null,null,false,{"$f":"AND(B1539<=ReportingYear,B1539>=BaselineYear)","v":false},null,false]
[null,null,"Qty",null,null,null,null,null,null,null,null,null,null,null,null,null,0,null,{"$f":"S1538","v":true},false,{"$f":"U1539","v":false},null,false]
[null,{"$f":"B1539-1","v":2012},"$$",null,null,null,null,null,null,null,null,null,null,null,null,null,0,null,null,false,{"$f":"AND(B1541<=ReportingYear,B1541>=BaselineYear)","v":false},null,false]
[null,null,"Qty",null,null,null,null,null,null,null,null,null,null,null,null,null,0,null,{"$f":"S1540","v":true},false,{"$f":"U1541","v":false},null,false]
[null,{"$f":"B1541-1","v":2011},"$$",null,null,null,null,null,null,null,null,null,null,null,null,null,0,null,null,false,{"$f":"AND(B1543<=ReportingYear,B1543>=BaselineYear)","v":false},null,false]
[null,null,"Qty",null,null,null,null,null,null,null,null,null,null,null,null,null,0,null,{"$f":"S1542","v":true},false,{"$f":"U1543","v":false},null,false]
[null,{"$f":"B1543-1","v":2010},"$$",null,null,null,null,null,null,null,null,null,null,null,null,null,0,null,null,false,{"$f":"AND(B1545<=ReportingYear,B1545>=BaselineYear)","v":false},null,false]
[null,null,"Qty",null,null,null,null,null,null,null,null,null,null,null,null,null,0,null,{"$f":"S1544","v":true},false,{"$f":"U1545","v":false},null,false]
[null,{"$f":"B1545-1","v":2009},"$$",null,null,null,null,null,null,null,null,null,null,null,null,null,0,null,null,false,{"$f":"AND(B1547<=ReportingYear,B1547>=BaselineYear)","v":false},null,false]
[null,null,"Qty",null,null,null,null,null,null,null,null,null,null,null,null,null,0,null,{"$f":"S1546","v":true},false,{"$f":"U1547","v":false},null,false]
[null,{"$f":"B1547-1","v":2008},"$$",null,null,null,null,null,null,null,null,null,null,null,null,null,0,null,null,false,{"$f":"AND(B1549<=ReportingYear,B1549>=BaselineYear)","v":false},null,false]
[null,null,"Qty",null,null,null,null,null,null,null,null,null,null,null,null,null,0,null,{"$f":"S1548","v":true},false,{"$f":"U1549","v":false},null,false]
[null,{"$f":"B1549-1","v":2007},"$$",null,null,null,null,null,null,null,null,null,null,null,null,null,0,null,null,false,{"$f":"AND(B1551<=ReportingYear,B1551>=BaselineYear)","v":false},null,false]
[null,null,"Qty",null,null,null,null,null,null,null,null,null,null,null,null,null,0,null,{"$f":"S1550","v":true},false,{"$f":"U1551","v":false},null,false]
[null,{"$f":"B1551-1","v":2006},"$$",null,null,null,null,null,null,null,null,null,null,null,null,null,0,null,null,false,{"$f":"AND(B1553<=ReportingYear,B1553>=BaselineYear)","v":false},null,false]
[null,null,"Qty",null,null,null,null,null,null,null,null,null,null,null,null,null,0,null,{"$f":"S1552","v":true},false,{"$f":"U1553","v":false},null,false]
[null,{"$f":"B1553-1","v":2005},"$$",null,null,null,null,null,null,null,null,null,null,null,null,null,0,null,null,false,{"$f":"AND(B1555<=ReportingYear,B1555>=BaselineYear)","v":false},null,false]
[null,null,"Qty",null,null,null,null,null,null,null,null,null,null,null,null,null,0,null,{"$f":"S1554","v":true},false,{"$f":"U1555","v":false},null,false]
[null,null,null,null,null,null,null,null,null,null,null,null,null,null,null,null,null,null,null,{"$f":"T1528","v":false},null,null,false]
[null,"Per Unit Costs",{"$f":"B1507","v":2029},{"$f":"IF(D1508<>0,D1507/D1508,\"\")","v":""},"","","","","","","","","","","",null,{"$f":"IF(Q1508<>0,Q1507/Q1508,\"\")","v":""},null,{"$f":"S1536","v":true},{"$f":"T1557","v":false},{"$f":"AND(C1558<=ReportingYear,C1558>=BaselineYear)","v":false},{"$f":"UnitCostStatus","v":false},false]
[null,null,{"$f":"C1558-1","v":2028},{"$f":"IF(D1510<>0,D1509/D1510,\"\")","v":""},"","","","","","","","","","","",null,{"$f":"IF(Q1510<>0,Q1509/Q1510,\"\")","v":""},null,{"$f":"S1558","v":true},false,false,{"$f":"V1558","v":false},false]
[null,null,{"$f":"C1559-1","v":2027},{"$f":"IF(D1512<>0,D1511/D1512,\"\")","v":""},"","","","","","","","","","","",null,{"$f":"IF(Q1512<>0,Q1511/Q1512,\"\")","v":""},null,true,false,false,{"$f":"V1559","v":false},false]
[null,null,2026,{"$f":"IF(D1514<>0,D1513/D1514,\"\")","v":""},"","","","","","","","","","","",null,{"$f":"IF(Q1514<>0,Q1513/Q1514,\"\")","v":""},null,true,false,false,{"$f":"V1560","v":false},false]
[null,null,2025,{"$f":"IF(D1516<>0,D1515/D1516,\"\")","v":""},"","","","","","","","","","","",null,{"$f":"IF(Q1516<>0,Q1515/Q1516,\"\")","v":""},null,true,false,false,false,false]
[null,null,2024,{"$f":"IF(D1518<>0,D1517/D1518,\"\")","v":""},"","","","","","","","","","","",null,{"$f":"IF(Q1518<>0,Q1517/Q1518,\"\")","v":""},null,true,false,false,false,false]
[null,null,2023,{"$f":"IF(D1520<>0,D1519/D1520,\"\")","v":""},"","","","","","","","","","","",null,{"$f":"IF(Q1520<>0,Q1519/Q1520,\"\")","v":""},null,true,false,false,false,false]
[null,null,2022,{"$f":"IF(D1522<>0,D1521/D1522,\"\")","v":""},"","","","","","","","","","","",null,{"$f":"IF(Q1522<>0,Q1521/Q1522,\"\")","v":""},null,true,false,false,false,false]
[null,null,2021,{"$f":"IF(D1524<>0,D1523/D1524,\"\")","v":""},"","","","","","","","","","","",null,{"$f":"IF(Q1524<>0,Q1523/Q1524,\"\")","v":""},null,true,false,true,false,false]
[null,null,2020,{"$f":"IF(D1526<>0,D1525/D1526,\"\")","v":""},"","","","","","","","","","","",null,{"$f":"IF(Q1526<>0,Q1525/Q1526,\"\")","v":""},null,true,false,true,false,false]
[null,null,2019,{"$f":"IF(D1528<>0,D1527/D1528,\"\")","v":""},"","","","","","","","","","","",null,{"$f":"IF(Q1528<>0,Q1527/Q1528,\"\")","v":""},null,true,false,false,false,false]
[null,null,2018,{"$f":"IF(D1530<>0,D1529/D1530,\"\")","v":""},"","","","","","","","","","","",null,{"$f":"IF(Q1530<>0,Q1529/Q1530,\"\")","v":""},null,true,false,false,false,false]
[null,null,2017,{"$f":"IF(D1532<>0,D1531/D1532,\"\")","v":""},"","","","","","","","","","","",null,{"$f":"IF(Q1532<>0,Q1531/Q1532,\"\")","v":""},null,true,false,false,false,false]
[null,null,2016,{"$f":"IF(D1534<>0,D1533/D1534,\"\")","v":""},"","","","","","","","","","","",null,{"$f":"IF(Q1534<>0,Q1533/Q1534,\"\")","v":""},null,true,false,false,false,false]
[null,null,2015,{"$f":"IF(D1536<>0,D1535/D1536,\"\")","v":""},"","","","","","","","","","","",null,{"$f":"IF(Q1536<>0,Q1535/Q1536,\"\")","v":""},null,true,false,false,false,false]
[null,null,2014,{"$f":"IF(D1538<>0,D1537/D1538,\"\")","v":""},{"$f":"IF(E1538<>0,E1537/E1538,\"\")","v":""},"","","","","","","","","","",null,{"$f":"IF(Q1538<>0,Q1537/Q1538,\"\")","v":""},null,true,false,false,false,false]
[null,null,2013,{"$f":"IF(D1540<>0,D1539/D1540,\"\")","v":""},{"$f":"IF(E1540<>0,E1539/E1540,\"\")","v":""},"","","","","","","","","","",null,{"$f":"IF(Q1540<>0,Q1539/Q1540,\"\")","v":""},null,true,false,false,false,false]
[null,null,2012,{"$f":"IF(D1542<>0,D1541/D1542,\"\")","v":""},{"$f":"IF(E1542<>0,E1541/E1542,\"\")","v":""},"","","","","","","","","","",null,{"$f":"IF(Q1542<>0,Q1541/Q1542,\"\")","v":""},null,{"$f":"S1574","v":true},false,false,false,false]
[null,null,2011,{"$f":"IF(D1544<>0,D1543/D1544,\"\")","v":""},{"$f":"IF(E1544<>0,E1543/E1544,\"\")","v":""},"","","","","","","","","","",null,{"$f":"IF(Q1544<>0,Q1543/Q1544,\"\")","v":""},null,true,false,false,false,false]
[null,null,2010,{"$f":"IF(D1546<>0,D1545/D1546,\"\")","v":""},{"$f":"IF(E1546<>0,E1545/E1546,\"\")","v":""},"","","","","","","","","","",null,{"$f":"IF(Q1546<>0,Q1545/Q1546,\"\")","v":""},null,true,false,false,false,false]
[null,null,2009,{"$f":"IF(D1548<>0,D1547/D1548,\"\")","v":""},{"$f":"IF(E1548<>0,E1547/E1548,\"\")","v":""},"","","","","","","","","","",null,{"$f":"IF(Q1548<>0,Q1547/Q1548,\"\")","v":""},null,true,false,false,false,false]
[null,null,2008,{"$f":"IF(D1550<>0,D1549/D1550,\"\")","v":""},{"$f":"IF(E1550<>0,E1549/E1550,\"\")","v":""},"","","","","","","","","","",null,{"$f":"IF(Q1550<>0,Q1549/Q1550,\"\")","v":""},null,true,false,false,false,false]
[null,null,2007,{"$f":"IF(D1552<>0,D1551/D1552,\"\")","v":""},{"$f":"IF(E1552<>0,E1551/E1552,\"\")","v":""},"","","","","","","","","","",null,{"$f":"IF(Q1552<>0,Q1551/Q1552,\"\")","v":""},null,true,false,false,false,false]
[null,null,2006,{"$f":"IF(D1554<>0,D1553/D1554,\"\")","v":""},{"$f":"IF(E1554<>0,E1553/E1554,\"\")","v":""},"","","","","","","","","","",null,{"$f":"IF(Q1554<>0,Q1553/Q1554,\"\")","v":""},null,true,false,false,false,false]
[null,null,2005,{"$f":"IF(D1556<>0,D1555/D1556,\"\")","v":""},{"$f":"IF(E1556<>0,E1555/E1556,\"\")","v":""},"","","","","","","","","","",null,{"$f":"IF(Q1556<>0,Q1555/Q1556,\"\")","v":""},null,true,false,false,false,false]
[null,null,null,null,null,null,null,null,null,null,null,null,null,null,null,null,null,null,{"$f":"S1568","v":true},{"$f":"T1568","v":false},null,{"$f":"V1568","v":false},false]
[null,null,null,null,null,null,null,null,null,null,null,null,null,null,null,null,null,null,null,{"$f":"T1583","v":false},null,null,false]
[null,"Energy Source",null,null,null,"UNIT","Notes",null,null,null,null,null,null,null,null,null,null,null,null,{"$f":"VLOOKUP(B1586,$T$5:$U$24,2,)","v":false},null,null,{"$f":"AND(S1585:V1585)","v":false}]
["back to top",{"$f":"B1504+1","v":20},{"$f":"VLOOKUP(B1586,$B$5:$F$24,2,)","v":""},null,null,{"$f":"VLOOKUP(B1586,$B$5:$G$24,5,)","v":""},{"$f":"VLOOKUP(B1586,$B$5:$G$24,6,)","v":""},null,null,null,null,null,null,null,null,null,null,null,null,{"$f":"T1585","v":false},null,null,{"$f":"AND(S1586:V1586)","v":false}]
[null,null,null,null,null,null,null,null,null,null,null,null,null,null,null,null,null,null,null,{"$f":"T1586","v":false},null,null,false]
[null,null,null,{"$f":"D1506","v":"Jan"},{"$f":"E1506","v":"Feb"},"Mar","Apr","May","Jun","Jul","Aug","Sep","Oct","Nov","Dec",null,"YEAR",null,null,{"$f":"T1587","v":false},null,null,false]
[null,{"$f":"FinalYear","v":2029},"$$",null,null,null,null,null,null,null,null,null,null,null,null,null,{"$f":"SUM(D1589:O1589)","v":0},null,null,false,{"$f":"AND(B1589<=ReportingYear,B1589>=BaselineYear)","v":false},null,false]
[null,null,"Qty",null,null,null,null,null,null,null,null,null,null,null,null,null,0,null,{"$f":"IF(F1586=\"none\",FALSE,TRUE)","v":true},false,{"$f":"U1589","v":false},null,false]
[null,{"$f":"B1589-1","v":2028},"$$",null,null,null,null,null,null,null,null,null,null,null,null,null,0,null,null,false,{"$f":"AND(B1591<=ReportingYear,B1591>=BaselineYear)","v":false},null,false]
[null,null,"Qty",null,null,null,null,null,null,null,null,null,null,null,null,null,0,null,{"$f":"S1590","v":true},false,{"$f":"U1591","v":false},null,false]
[null,{"$f":"B1591-1","v":2027},"$$",null,null,null,null,null,null,null,null,null,null,null,null,null,0,null,null,false,{"$f":"AND(B1593<=ReportingYear,B1593>=BaselineYear)","v":false},null,false]
[null,null,"Qty",null,null,null,null,null,null,null,null,null,null,null,null,null,0,null,{"$f":"S1592","v":true},false,{"$f":"U1593","v":false},null,false]
[null,{"$f":"B1593-1","v":2026},"$$",null,null,null,null,null,null,null,null,null,null,null,null,null,0,null,null,false,{"$f":"AND(B1595<=ReportingYear,B1595>=BaselineYear)","v":false},null,false]
[null,null,"Qty",null,null,null,null,null,null,null,null,null,null,null,null,null,0,null,{"$f":"S1594","v":true},false,{"$f":"U1595","v":false},null,false]
[null,{"$f":"B1595-1","v":2025},"$$",null,null,null,null,null,null,null,null,null,null,null,null,null,0,null,null,false,{"$f":"AND(B1597<=ReportingYear,B1597>=BaselineYear)","v":false},null,false]
[null,null,"Qty",null,null,null,null,null,null,null,null,null,null,null,null,null,0,null,{"$f":"S1596","v":true},false,{"$f":"U1597","v":false},null,false]
[null,{"$f":"B1597-1","v":2024},"$$",null,null,null,null,null,null,null,null,null,null,null,null,null,0,null,null,false,{"$f":"AND(B1599<=ReportingYear,B1599>=BaselineYear)","v":false},null,false]
[null,null,"Qty",null,null,null,null,null,null,null,null,null,null,null,null,null,0,null,{"$f":"S1598","v":true},false,{"$f":"U1599","v":false},null,false]
[null,{"$f":"B1599-1","v":2023},"$$",null,null,null,null,null,null,null,null,null,null,null,null,null,0,null,null,false,{"$f":"AND(B1601<=ReportingYear,B1601>=BaselineYear)","v":false},null,false]
[null,null,"Qty",null,null,null,null,null,null,null,null,null,null,null,null,null,0,null,{"$f":"S1600","v":true},false,{"$f":"U1601","v":false},null,false]
[null,{"$f":"B1601-1","v":2022},"$$",null,null,null,null,null,null,null,null,null,null,null,null,null,0,null,null,false,{"$f":"AND(B1603<=ReportingYear,B1603>=BaselineYear)","v":false},null,false]
[null,null,"Qty",null,null,null,null,null,null,null,null,null,null,null,null,null,0,null,{"$f":"S1602","v":true},false,{"$f":"U1603","v":false},null,false]
[null,{"$f":"B1603-1","v":2021},"$$",null,null,null,null,null,null,null,null,null,null,null,null,null,0,null,null,false,{"$f":"AND(B1605<=ReportingYear,B1605>=BaselineYear)","v":true},null,false]
[null,null,"Qty",null,null,null,null,null,null,null,null,null,null,null,null,null,0,null,{"$f":"S1604","v":true},false,{"$f":"U1605","v":true},null,false]
[null,{"$f":"B1605-1","v":2020},"$$",null,null,null,null,null,null,null,null,null,null,null,null,null,0,null,null,false,{"$f":"AND(B1607<=ReportingYear,B1607>=BaselineYear)","v":true},null,false]
[null,null,"Qty",null,null,null,null,null,null,null,null,null,null,null,null,null,0,null,{"$f":"S1606","v":true},false,{"$f":"U1607","v":true},null,false]
[null,{"$f":"B1607-1","v":2019},"$$",null,null,null,null,null,null,null,null,null,null,null,null,null,0,null,null,false,{"$f":"AND(B1609<=ReportingYear,B1609>=BaselineYear)","v":false},null,false]
[null,null,"Qty",null,null,null,null,null,null,null,null,null,null,null,null,null,0,null,{"$f":"S1608","v":true},false,{"$f":"U1609","v":false},null,false]
[null,{"$f":"B1609-1","v":2018},"$$",null,null,null,null,null,null,null,null,null,null,null,null,null,0,null,null,false,{"$f":"AND(B1611<=ReportingYear,B1611>=BaselineYear)","v":false},null,false]
[null,null,"Qty",null,null,null,null,null,null,null,null,null,null,null,null,null,0,null,{"$f":"S1610","v":true},false,{"$f":"U1611","v":false},null,false]
[null,{"$f":"B1611-1","v":2017},"$$",null,null,null,null,null,null,null,null,null,null,null,null,null,0,null,null,false,{"$f":"AND(B1613<=ReportingYear,B1613>=BaselineYear)","v":false},null,false]
[null,null,"Qty",null,null,null,null,null,null,null,null,null,null,null,null,null,0,null,{"$f":"S1612","v":true},false,{"$f":"U1613","v":false},null,false]
[null,{"$f":"B1613-1","v":2016},"$$",null,null,null,null,null,null,null,null,null,null,null,null,null,0,null,null,false,{"$f":"AND(B1615<=ReportingYear,B1615>=BaselineYear)","v":false},null,false]
[null,null,"Qty",null,null,null,null,null,null,null,null,null,null,null,null,null,0,null,{"$f":"S1614","v":true},false,{"$f":"U1615","v":false},null,false]
[null,{"$f":"B1615-1","v":2015},"$$",null,null,null,null,null,null,null,null,null,null,null,null,null,0,null,null,false,{"$f":"AND(B1617<=ReportingYear,B1617>=BaselineYear)","v":false},null,false]
[null,null,"Qty",null,null,null,null,null,null,null,null,null,null,null,null,null,0,null,{"$f":"S1616","v":true},false,{"$f":"U1617","v":false},null,false]
[null,{"$f":"B1617-1","v":2014},"$$",null,null,null,null,null,null,null,null,null,null,null,null,null,0,null,null,false,{"$f":"AND(B1619<=ReportingYear,B1619>=BaselineYear)","v":false},null,false]
[null,null,"Qty",null,null,null,null,null,null,null,null,null,null,null,null,null,0,null,{"$f":"S1618","v":true},false,{"$f":"U1619","v":false},null,false]
[null,{"$f":"B1619-1","v":2013},"$$",null,null,null,null,null,null,null,null,null,null,null,null,null,0,null,null,false,{"$f":"AND(B1621<=ReportingYear,B1621>=BaselineYear)","v":false},null,false]
[null,null,"Qty",null,null,null,null,null,null,null,null,null,null,null,null,null,0,null,{"$f":"S1620","v":true},false,{"$f":"U1621","v":false},null,false]
[null,{"$f":"B1621-1","v":2012},"$$",null,null,null,null,null,null,null,null,null,null,null,null,null,0,null,null,false,{"$f":"AND(B1623<=ReportingYear,B1623>=BaselineYear)","v":false},null,false]
[null,null,"Qty",null,null,null,null,null,null,null,null,null,null,null,null,null,0,null,{"$f":"S1622","v":true},false,{"$f":"U1623","v":false},null,false]
[null,{"$f":"B1623-1","v":2011},"$$",null,null,null,null,null,null,null,null,null,null,null,null,null,0,null,null,false,{"$f":"AND(B1625<=ReportingYear,B1625>=BaselineYear)","v":false},null,false]
[null,null,"Qty",null,null,null,null,null,null,null,null,null,null,null,null,null,0,null,{"$f":"S1624","v":true},false,{"$f":"U1625","v":false},null,false]
[null,{"$f":"B1625-1","v":2010},"$$",null,null,null,null,null,null,null,null,null,null,null,null,null,0,null,null,false,{"$f":"AND(B1627<=ReportingYear,B1627>=BaselineYear)","v":false},null,false]
[null,null,"Qty",null,null,null,null,null,null,null,null,null,null,null,null,null,0,null,{"$f":"S1626","v":true},false,{"$f":"U1627","v":false},null,false]
[null,{"$f":"B1627-1","v":2009},"$$",null,null,null,null,null,null,null,null,null,null,null,null,null,0,null,null,false,{"$f":"AND(B1629<=ReportingYear,B1629>=BaselineYear)","v":false},null,false]
[null,null,"Qty",null,null,null,null,null,null,null,null,null,null,null,null,null,0,null,{"$f":"S1628","v":true},false,{"$f":"U1629","v":false},null,false]
[null,{"$f":"B1629-1","v":2008},"$$",null,null,null,null,null,null,null,null,null,null,null,null,null,0,null,null,false,{"$f":"AND(B1631<=ReportingYear,B1631>=BaselineYear)","v":false},null,false]
[null,null,"Qty",null,null,null,null,null,null,null,null,null,null,null,null,null,0,null,{"$f":"S1630","v":true},false,{"$f":"U1631","v":false},null,false]
[null,{"$f":"B1631-1","v":2007},"$$",null,null,null,null,null,null,null,null,null,null,null,null,null,0,null,null,false,{"$f":"AND(B1633<=ReportingYear,B1633>=BaselineYear)","v":false},null,false]
[null,null,"Qty",null,null,null,null,null,null,null,null,null,null,null,null,null,0,null,{"$f":"S1632","v":true},false,{"$f":"U1633","v":false},null,false]
[null,{"$f":"B1633-1","v":2006},"$$",null,null,null,null,null,null,null,null,null,null,null,null,null,0,null,null,false,{"$f":"AND(B1635<=ReportingYear,B1635>=BaselineYear)","v":false},null,false]
[null,null,"Qty",null,null,null,null,null,null,null,null,null,null,null,null,null,0,null,{"$f":"S1634","v":true},false,{"$f":"U1635","v":false},null,false]
[null,{"$f":"B1635-1","v":2005},"$$",null,null,null,null,null,null,null,null,null,null,null,null,null,0,null,null,false,{"$f":"AND(B1637<=ReportingYear,B1637>=BaselineYear)","v":false},null,false]
[null,null,"Qty",null,null,null,null,null,null,null,null,null,null,null,null,null,0,null,{"$f":"S1636","v":true},false,{"$f":"U1637","v":false},null,false]
[null,null,null,null,null,null,null,null,null,null,null,null,null,null,null,null,null,null,null,{"$f":"T1610","v":false},null,null,false]
[null,"Per Unit Costs",{"$f":"B1589","v":2029},{"$f":"IF(D1590<>0,D1589/D1590,\"\")","v":""},"","","","","","","","","","","",null,{"$f":"IF(Q1590<>0,Q1589/Q1590,\"\")","v":""},null,{"$f":"S1618","v":true},{"$f":"T1639","v":false},{"$f":"AND(C1640<=ReportingYear,C1640>=BaselineYear)","v":false},{"$f":"UnitCostStatus","v":false},false]
[null,null,{"$f":"C1640-1","v":2028},{"$f":"IF(D1592<>0,D1591/D1592,\"\")","v":""},"","","","","","","","","","","",null,{"$f":"IF(Q1592<>0,Q1591/Q1592,\"\")","v":""},null,{"$f":"S1640","v":true},false,false,{"$f":"V1640","v":false},false]
[null,null,{"$f":"C1641-1","v":2027},{"$f":"IF(D1594<>0,D1593/D1594,\"\")","v":""},"","","","","","","","","","","",null,{"$f":"IF(Q1594<>0,Q1593/Q1594,\"\")","v":""},null,true,false,false,{"$f":"V1641","v":false},false]
[null,null,2026,{"$f":"IF(D1596<>0,D1595/D1596,\"\")","v":""},"","","","","","","","","","","",null,{"$f":"IF(Q1596<>0,Q1595/Q1596,\"\")","v":""},null,true,false,false,{"$f":"V1642","v":false},false]
[null,null,2025,{"$f":"IF(D1598<>0,D1597/D1598,\"\")","v":""},"","","","","","","","","","","",null,{"$f":"IF(Q1598<>0,Q1597/Q1598,\"\")","v":""},null,true,false,false,false,false]
[null,null,2024,{"$f":"IF(D1600<>0,D1599/D1600,\"\")","v":""},"","","","","","","","","","","",null,{"$f":"IF(Q1600<>0,Q1599/Q1600,\"\")","v":""},null,true,false,false,false,false]
[null,null,2023,{"$f":"IF(D1602<>0,D1601/D1602,\"\")","v":""},"","","","","","","","","","","",null,{"$f":"IF(Q1602<>0,Q1601/Q1602,\"\")","v":""},null,true,false,false,false,false]
[null,null,2022,{"$f":"IF(D1604<>0,D1603/D1604,\"\")","v":""},"","","","","","","","","","","",null,{"$f":"IF(Q1604<>0,Q1603/Q1604,\"\")","v":""},null,true,false,false,false,false]
[null,null,2021,{"$f":"IF(D1606<>0,D1605/D1606,\"\")","v":""},"","","","","","","","","","","",null,{"$f":"IF(Q1606<>0,Q1605/Q1606,\"\")","v":""},null,true,false,true,false,false]
[null,null,2020,{"$f":"IF(D1608<>0,D1607/D1608,\"\")","v":""},"","","","","","","","","","","",null,{"$f":"IF(Q1608<>0,Q1607/Q1608,\"\")","v":""},null,true,false,true,false,false]
[null,null,2019,{"$f":"IF(D1610<>0,D1609/D1610,\"\")","v":""},"","","","","","","","","","","",null,{"$f":"IF(Q1610<>0,Q1609/Q1610,\"\")","v":""},null,true,false,false,false,false]
[null,null,2018,{"$f":"IF(D1612<>0,D1611/D1612,\"\")","v":""},"","","","","","","","","","","",null,{"$f":"IF(Q1612<>0,Q1611/Q1612,\"\")","v":""},null,true,false,false,false,false]
[null,null,2017,{"$f":"IF(D1614<>0,D1613/D1614,\"\")","v":""},"","","","","","","","","","","",null,{"$f":"IF(Q1614<>0,Q1613/Q1614,\"\")","v":""},null,true,false,false,false,false]
[null,null,2016,{"$f":"IF(D1616<>0,D1615/D1616,\"\")","v":""},"","","","","","","","","","","",null,{"$f":"IF(Q1616<>0,Q1615/Q1616,\"\")","v":""},null,true,false,false,false,false]
[null,null,2015,{"$f":"IF(D1618<>0,D1617/D1618,\"\")","v":""},"","","","","","","","","","","",null,{"$f":"IF(Q1618<>0,Q1617/Q1618,\"\")","v":""},null,true,false,false,false,false]
[null,null,2014,{"$f":"IF(D1620<>0,D1619/D1620,\"\")","v":""},{"$f":"IF(E1620<>0,E1619/E1620,\"\")","v":""},"","","","","","","","","","",null,{"$f":"IF(Q1620<>0,Q1619/Q1620,\"\")","v":""},null,true,false,false,false,false]
[null,null,2013,{"$f":"IF(D1622<>0,D1621/D1622,\"\")","v":""},{"$f":"IF(E1622<>0,E1621/E1622,\"\")","v":""},"","","","","","","","","","",null,{"$f":"IF(Q1622<>0,Q1621/Q1622,\"\")","v":""},null,true,false,false,false,false]
[null,null,2012,{"$f":"IF(D1624<>0,D1623/D1624,\"\")","v":""},{"$f":"IF(E1624<>0,E1623/E1624,\"\")","v":""},"","","","","","","","","","",null,{"$f":"IF(Q1624<>0,Q1623/Q1624,\"\")","v":""},null,{"$f":"S1656","v":true},false,false,false,false]
[null,null,2011,{"$f":"IF(D1626<>0,D1625/D1626,\"\")","v":""},{"$f":"IF(E1626<>0,E1625/E1626,\"\")","v":""},"","","","","","","","","","",null,{"$f":"IF(Q1626<>0,Q1625/Q1626,\"\")","v":""},null,true,false,false,false,false]
[null,null,2010,{"$f":"IF(D1628<>0,D1627/D1628,\"\")","v":""},{"$f":"IF(E1628<>0,E1627/E1628,\"\")","v":""},"","","","","","","","","","",null,{"$f":"IF(Q1628<>0,Q1627/Q1628,\"\")","v":""},null,true,false,false,false,false]
[null,null,2009,{"$f":"IF(D1630<>0,D1629/D1630,\"\")","v":""},{"$f":"IF(E1630<>0,E1629/E1630,\"\")","v":""},"","","","","","","","","","",null,{"$f":"IF(Q1630<>0,Q1629/Q1630,\"\")","v":""},null,true,false,false,false,false]
[null,null,2008,{"$f":"IF(D1632<>0,D1631/D1632,\"\")","v":""},{"$f":"IF(E1632<>0,E1631/E1632,\"\")","v":""},"","","","","","","","","","",null,{"$f":"IF(Q1632<>0,Q1631/Q1632,\"\")","v":""},null,true,false,false,false,false]
[null,null,2007,{"$f":"IF(D1634<>0,D1633/D1634,\"\")","v":""},{"$f":"IF(E1634<>0,E1633/E1634,\"\")","v":""},"","","","","","","","","","",null,{"$f":"IF(Q1634<>0,Q1633/Q1634,\"\")","v":""},null,true,false,false,false,false]
[null,null,2006,{"$f":"IF(D1636<>0,D1635/D1636,\"\")","v":""},{"$f":"IF(E1636<>0,E1635/E1636,\"\")","v":""},"","","","","","","","","","",null,{"$f":"IF(Q1636<>0,Q1635/Q1636,\"\")","v":""},null,true,false,false,false,false]
[null,null,2005,{"$f":"IF(D1638<>0,D1637/D1638,\"\")","v":""},{"$f":"IF(E1638<>0,E1637/E1638,\"\")","v":""},"","","","","","","","","","",null,{"$f":"IF(Q1638<>0,Q1637/Q1638,\"\")","v":""},null,true,false,false,false,false]
[null,null,null,null,null,null,null,null,null,null,null,null,null,null,null,null,null,null,{"$f":"S1650","v":true},{"$f":"T1650","v":false},null,{"$f":"V1650","v":false},false]
[null,null,null,null,null,null,null,null,null,null,null,null,null,null,null,null,null,null,null,{"$f":"T1665","v":false},null,null,false]
[null,null,null,null,null,null,null,null,null,null,null,null,null,null,null,null,null,null,null,null,null,null,1]

{"sheet":"Relevant Variables","index":2,"n_rows":626,"n_cols":24,"rows_kept":626,"cut":false,"hidden":false,"merged":[[3,1,3,5],[3,6,3,16],[4,2,4,4],[4,6,4,16],[5,2,5,4],[5,6,5,16],[9,2,9,4],[9,6,9,16],[10,2,10,4],[10,6,10,16],[11,2,11,4],[11,6,11,16],[6,2,6,4],[6,6,6,16],[7,2,7,4],[7,6,7,16],[8,2,8,4],[8,6,8,16],[15,2,15,4],[15,6,15,16],[16,2,16,4],[16,6,16,16],[17,2,17,4],[17,6,17,16],[12,2,12,4],[12,6,12,16],[13,2,13,4],[13,6,13,16],[14,2,14,4],[14,6,14,16],[21,2,21,4],[21,6,21,16],[22,2,22,4],[22,6,22,16],[23,2,23,4],[23,6,23,16],[18,2,18,4],[18,6,18,16],[19,2,19,4],[19,6,19,16],[20,2,20,4],[20,6,20,16],[86,1,86,4],[87,2,87,4],[87,6,87,16],[116,1,116,4],[117,2,117,4],[117,6,117,16],[26,1,26,4],[27,2,27,4],[27,6,27,16],[56,1,56,4],[57,2,57,4],[57,6,57,16],[206,1,206,4],[207,2,207,4],[207,6,207,16],[236,1,236,4],[237,2,237,4],[237,6,237,16],[146,1,146,4],[147,2,147,4],[147,6,147,16],[176,1,176,4],[177,2,177,4],[177,6,177,16],[326,1,326,4],[327,2,327,4],[327,6,327,16],[356,1,356,4],[357,2,357,4],[357,6,357,16],[266,1,266,4],[267,2,267,4],[267,6,267,16],[296,1,296,4],[297,2,297,4],[297,6,297,16],[446,1,446,4],[447,2,447,4],[447,6,447,16],[476,1,476,4],[477,2,477,4],[477,6,477,16],[386,1,386,4],[387,2,387,4],[387,6,387,16],[416,1,416,4],[417,2,417,4],[417,6,417,16],[566,1,566,4],[567,2,567,4],[567,6,567,16],[596,1,596,4],[597,2,597,4],[597,6,597,16],[506,1,506,4],[507,2,507,4],[507,6,507,16],[536,1,536,4],[537,2,537,4],[537,6,537,16]]}
["       DOE Advanced Manufacturing Office",null,null,null,null,null,null,null,null,null,null,null,null,null,null,null,null,null,null,"Source","Year","UnitCost","Visible"]
["   Energy Footprint - RELEVANT VARIABLES",null,null,null,null,null,null,null,null,null,null,null,null,null,null,null,null,null,null,"Source","Year","UnitCost",1]
[null,null,null,null,null,null,null,null,null,null,null,null,null,null,null,null,null,null,null,"Source","Year","UnitCost",true]
[null,"Tracked Related Factors",null,null,null,null,"Notes (edit notes on Main)",null,null,null,null,null,null,null,null,null,null,null,null,null,null,null,true]
[null,1,{"$f":"IF(Main!C37<>\"\",Main!C37,\"\")","v":"Heating Degree Days"},null,null,{"$f":"IF(Main!D37<>\"\",Main!D37,\"\")","v":""},{"$f":"IF(Main!F37<>\"\",Main!F37,\"\")","v":""},{"$f":"INDIRECT(\"G\"&I5)","v":{"$error":"#REF!"}},{"$error":"#REF!"},{"$error":"#REF!"},{"$error":"#REF!"},{"$error":"#REF!"},{"$error":"#REF!"},{"$error":"#REF!"},{"$error":"#REF!"},{"$error":"#REF!"},{"$error":"#REF!"},null,28,1,{"$f":"W5","v":true},null,{"$f":"OR(C5<>\"\",F5<>\"\")","v":true}]
[null,2,{"$f":"IF(Main!C38<>\"\",Main!C38,\"\")","v":""},null,null,{"$f":"IF(Main!D38<>\"\",Main!D38,\"\")","v":""},{"$f":"IF(Main!F38<>\"\",Main!F38,\"\")","v":""},{"$error":"#REF!"},{"$error":"#REF!"},{"$error":"#REF!"},{"$error":"#REF!"},{"$error":"#REF!"},{"$error":"#REF!"},{"$error":"#REF!"},{"$error":"#REF!"},{"$error":"#REF!"},{"$error":"#REF!"},null,{"$f":"S5+30","v":58},2,{"$f":"W6","v":false},null,{"$f":"OR(C6<>\"\",F6<>\"\")","v":false}]
[null,3,{"$f":"IF(Main!C39<>\"\",Main!C39,\"\")","v":""},null,null,{"$f":"IF(Main!D39<>\"\",Main!D39,\"\")","v":""},{"$f":"IF(Main!F39<>\"\",Main!F39,\"\")","v":""},{"$error":"#REF!"},{"$error":"#REF!"},{"$error":"#REF!"},{"$error":"#REF!"},{"$error":"#REF!"},{"$error":"#REF!"},{"$error":"#REF!"},{"$error":"#REF!"},{"$error":"#REF!"},{"$error":"#REF!"},null,{"$f":"S6+30","v":88},3,false,null,false]
[null,4,{"$f":"IF(Main!C40<>\"\",Main!C40,\"\")","v":""},null,null,{"$f":"IF(Main!D40<>\"\",Main!D40,\"\")","v":""},{"$f":"IF(Main!F40<>\"\",Main!F40,\"\")","v":""},{"$error":"#REF!"},{"$error":"#REF!"},{"$error":"#REF!"},{"$error":"#REF!"},{"$error":"#REF!"},{"$error":"#REF!"},{"$error":"#REF!"},{"$error":"#REF!"},{"$error":"#REF!"},{"$error":"#REF!"},null,{"$f":"S7+30","v":118},4,false,null,false]
[null,5,{"$f":"IF(Main!C41<>\"\",Main!C41,\"\")","v":""},null,null,{"$f":"IF(Main!D41<>\"\",Main!D41,\"\")","v":""},{"$f":"IF(Main!F41<>\"\",Main!F41,\"\")","v":""},{"$error":"#REF!"},{"$error":"#REF!"},{"$error":"#REF!"},{"$error":"#REF!"},{"$error":"#REF!"},{"$error":"#REF!"},{"$error":"#REF!"},{"$error":"#REF!"},{"$error":"#REF!"},{"$error":"#REF!"},null,148,5,false,null,false]
[null,6,{"$f":"IF(Main!C42<>\"\",Main!C42,\"\")","v":""},null,null,{"$f":"IF(Main!D42<>\"\",Main!D42,\"\")","v":""},{"$f":"IF(Main!F42<>\"\",Main!F42,\"\")","v":""},{"$error":"#REF!"},{"$error":"#REF!"},{"$error":"#REF!"},{"$error":"#REF!"},{"$error":"#REF!"},{"$error":"#REF!"},{"$error":"#REF!"},{"$error":"#REF!"},{"$error":"#REF!"},{"$error":"#REF!"},null,178,6,false,null,false]
[null,7,{"$f":"IF(Main!C43<>\"\",Main!C43,\"\")","v":""},null,null,{"$f":"IF(Main!D43<>\"\",Main!D43,\"\")","v":""},{"$f":"IF(Main!F43<>\"\",Main!F43,\"\")","v":""},{"$error":"#REF!"},{"$error":"#REF!"},{"$error":"#REF!"},{"$error":"#REF!"},{"$error":"#REF!"},{"$error":"#REF!"},{"$error":"#REF!"},{"$error":"#REF!"},{"$error":"#REF!"},{"$error":"#REF!"},null,208,7,false,null,false]
[null,8,{"$f":"IF(Main!C44<>\"\",Main!C44,\"\")","v":""},null,null,{"$f":"IF(Main!D44<>\"\",Main!D44,\"\")","v":""},{"$f":"IF(Main!F44<>\"\",Main!F44,\"\")","v":""},{"$error":"#REF!"},{"$error":"#REF!"},{"$error":"#REF!"},{"$error":"#REF!"},{"$error":"#REF!"},{"$error":"#REF!"},{"$error":"#REF!"},{"$error":"#REF!"},{"$error":"#REF!"},{"$error":"#REF!"},null,238,8,false,null,false]
[null,9,{"$f":"IF(Main!C45<>\"\",Main!C45,\"\")","v":""},null,null,{"$f":"IF(Main!D45<>\"\",Main!D45,\"\")","v":""},{"$f":"IF(Main!F45<>\"\",Main!F45,\"\")","v":""},{"$error":"#REF!"},{"$error":"#REF!"},{"$error":"#REF!"},{"$error":"#REF!"},{"$error":"#REF!"},{"$error":"#REF!"},{"$error":"#REF!"},{"$error":"#REF!"},{"$error":"#REF!"},{"$error":"#REF!"},null,268,9,false,null,false]
[null,10,{"$f":"IF(Main!C46<>\"\",Main!C46,\"\")","v":""},null,null,{"$f":"IF(Main!D46<>\"\",Main!D46,\"\")","v":""},{"$f":"IF(Main!F46<>\"\",Main!F46,\"\")","v":""},{"$error":"#REF!"},{"$error":"#REF!"},{"$error":"#REF!"},{"$error":"#REF!"},{"$error":"#REF!"},{"$error":"#REF!"},{"$error":"#REF!"},{"$error":"#REF!"},{"$error":"#REF!"},{"$error":"#REF!"},null,298,10,false,null,false]
[null,11,{"$f":"IF(Main!C47<>\"\",Main!C47,\"\")","v":""},null,null,{"$f":"IF(Main!D47<>\"\",Main!D47,\"\")","v":""},{"$f":"IF(Main!F47<>\"\",Main!F47,\"\")","v":""},{"$error":"#REF!"},{"$error":"#REF!"},{"$error":"#REF!"},{"$error":"#REF!"},{"$error":"#REF!"},{"$error":"#REF!"},{"$error":"#REF!"},{"$error":"#REF!"},{"$error":"#REF!"},{"$error":"#REF!"},null,328,11,false,null,false]
[null,12,{"$f":"IF(Main!C48<>\"\",Main!C48,\"\")","v":""},null,null,{"$f":"IF(Main!D48<>\"\",Main!D48,\"\")","v":""},{"$f":"IF(Main!F48<>\"\",Main!F48,\"\")","v":""},{"$error":"#REF!"},{"$error":"#REF!"},{"$error":"#REF!"},{"$error":"#REF!"},{"$error":"#REF!"},{"$error":"#REF!"},{"$error":"#REF!"},{"$error":"#REF!"},{"$error":"#REF!"},{"$error":"#REF!"},null,358,12,false,null,false]
[null,13,{"$f":"IF(Main!C49<>\"\",Main!C49,\"\")","v":""},null,null,{"$f":"IF(Main!D49<>\"\",Main!D49,\"\")","v":""},{"$f":"IF(Main!F49<>\"\",Main!F49,\"\")","v":""},{"$error":"#REF!"},{"$error":"#REF!"},{"$error":"#REF!"},{"$error":"#REF!"},{"$error":"#REF!"},{"$error":"#REF!"},{"$error":"#REF!"},{"$error":"#REF!"},{"$error":"#REF!"},{"$error":"#REF!"},null,388,13,false,null,false]
[null,14,{"$f":"IF(Main!C50<>\"\",Main!C50,\"\")","v":""},null,null,{"$f":"IF(Main!D50<>\"\",Main!D50,\"\")","v":""},{"$f":"IF(Main!F50<>\"\",Main!F50,\"\")","v":""},{"$error":"#REF!"},{"$error":"#REF!"},{"$error":"#REF!"},{"$error":"#REF!"},{"$error":"#REF!"},{"$error":"#REF!"},{"$error":"#REF!"},{"$error":"#REF!"},{"$error":"#REF!"},{"$error":"#REF!"},null,418,14,false,null,false]
[null,15,{"$f":"IF(Main!C51<>\"\",Main!C51,\"\")","v":""},null,null,{"$f":"IF(Main!D51<>\"\",Main!D51,\"\")","v":""},{"$f":"IF(Main!F51<>\"\",Main!F51,\"\")","v":""},{"$error":"#REF!"},{"$error":"#REF!"},{"$error":"#REF!"},{"$error":"#REF!"},{"$error":"#REF!"},{"$error":"#REF!"},{"$error":"#REF!"},{"$error":"#REF!"},{"$error":"#REF!"},{"$error":"#REF!"},null,448,15,false,null,false]
[null,16,{"$f":"IF(Main!C52<>\"\",Main!C52,\"\")","v":""},null,null,{"$f":"IF(Main!D52<>\"\",Main!D52,\"\")","v":""},{"$f":"IF(Main!F52<>\"\",Main!F52,\"\")","v":""},{"$error":"#REF!"},{"$error":"#REF!"},{"$error":"#REF!"},{"$error":"#REF!"},{"$error":"#REF!"},{"$error":"#REF!"},{"$error":"#REF!"},{"$error":"#REF!"},{"$error":"#REF!"},{"$error":"#REF!"},null,478,16,false,null,false]
[null,17,{"$f":"IF(Main!C53<>\"\",Main!C53,\"\")","v":""},null,null,{"$f":"IF(Main!D53<>\"\",Main!D53,\"\")","v":""},{"$f":"IF(Main!F53<>\"\",Main!F53,\"\")","v":""},{"$f":"INDIRECT(\"G\"&I21)","v":{"$error":"#REF!"}},{"$error":"#REF!"},{"$error":"#REF!"},{"$error":"#REF!"},{"$error":"#REF!"},{"$error":"#REF!"},{"$error":"#REF!"},{"$error":"#REF!"},{"$error":"#REF!"},{"$error":"#REF!"},null,508,17,false,null,false]
[null,18,{"$f":"IF(Main!C54<>\"\",Main!C54,\"\")","v":""},null,null,{"$f":"IF(Main!D54<>\"\",Main!D54,\"\")","v":""},{"$f":"IF(Main!F54<>\"\",Main!F54,\"\")","v":""},{"$error":"#REF!"},{"$error":"#REF!"},{"$error":"#REF!"},{"$error":"#REF!"},{"$error":"#REF!"},{"$error":"#REF!"},{"$error":"#REF!"},{"$error":"#REF!"},{"$error":"#REF!"},{"$error":"#REF!"},null,538,18,false,null,false]
[null,19,{"$f":"IF(Main!C55<>\"\",Main!C55,\"\")","v":""},null,null,{"$f":"IF(Main!D55<>\"\",Main!D55,\"\")","v":""},{"$f":"IF(Main!F55<>\"\",Main!F55,\"\")","v":""},{"$error":"#REF!"},{"$error":"#REF!"},{"$error":"#REF!"},{"$error":"#REF!"},{"$error":"#REF!"},{"$error":"#REF!"},{"$error":"#REF!"},{"$error":"#REF!"},{"$error":"#REF!"},{"$error":"#REF!"},null,568,19,false,null,false]
[null,20,{"$f":"IF(Main!C56<>\"\",Main!C56,\"\")","v":""},null,null,{"$f":"IF(Main!D56<>\"\",Main!D56,\"\")","v":""},{"$f":"IF(Main!F56<>\"\",Main!F56,\"\")","v":""},{"$error":"#REF!"},{"$error":"#REF!"},{"$error":"#REF!"},{"$error":"#REF!"},{"$error":"#REF!"},{"$error":"#REF!"},{"$error":"#REF!"},{"$error":"#REF!"},{"$error":"#REF!"},{"$error":"#REF!"},null,598,20,false,null,false]
[null,null,null,null,null,null,null,null,null,null,null,null,null,null,null,null,null,null,null,null,null,null,{"$f":"NOT(X25)","v":true},{"$f":"IF(NOT(W24),FALSE,C24<>\"\")","v":false}]
[]
[null,"Relevant Variables",null,null,null,"UNIT","Notes",null,null,null,null,null,null,null,null,null,null,null,null,{"$f":"VLOOKUP(B28,$T$5:$U$24,2,)","v":true},null,null,{"$f":"AND(S27:V27)","v":true}]
["back to top",1,{"$f":"VLOOKUP(B28,$B$5:$F$24,2,)","v":"Heating Degree Days"},null,null,{"$f":"VLOOKUP(B28,$B$5:$G$24,5,)","v":""},{"$f":"VLOOKUP(B28,$B$5:$G$24,6,)","v":""},null,null,null,null,null,null,null,null,null,null,null,null,{"$f":"T27","v":true},null,null,{"$f":"AND(S28:V28)","v":true}]
[null,null,null,null,null,null,null,null,null,null,null,null,null,null,null,null,null,null,null,{"$f":"T28","v":true},null,null,true]
[null,null,null,{"$f":"Support!H3","v":"Jan"},{"$f":"Support!I3","v":"Feb"},{"$f":"Support!J3","v":"Mar"},{"$f":"Support!K3","v":"Apr"},{"$f":"Support!L3","v":"May"},{"$f":"Support!M3","v":"Jun"},{"$f":"Support!N3","v":"Jul"},{"$f":"Support!O3","v":"Aug"},{"$f":"Support!P3","v":"Sep"},{"$f":"Support!Q3","v":"Oct"},{"$f":"Support!R3","v":"Nov"},{"$f":"Support!S3","v":"Dec"},null,"YEAR",null,null,{"$f":"T29","v":true},null,null,true]
[null,{"$f":"FinalYear","v":2029},"Qty",null,null,null,null,null,null,null,null,null,null,null,null,null,{"$f":"SUM(D31:O31)","v":0},null,null,{"$f":"T30","v":true},{"$f":"AND(B31<=ReportingYear,B31>=BaselineYear)","v":false},null,false]
[null,{"$f":"B31-1","v":2028},"Qty",null,null,null,null,null,null,null,null,null,null,null,null,null,0,null,null,{"$f":"T31","v":true},false,null,false]
[null,{"$f":"B32-1","v":2027},"Qty",null,null,null,null,null,null,null,null,null,null,null,null,null,0,null,null,{"$f":"T32","v":true},false,null,false]
[null,2026,"Qty",null,null,null,null,null,null,null,null,null,null,null,null,null,0,null,null,true,false,null,false]
[null,2025,"Qty",null,null,null,null,null,null,null,null,null,null,null,null,null,0,null,null,true,false,null,false]
[null,2024,"Qty",null,null,null,null,null,null,null,null,null,null,null,null,null,0,null,null,true,false,null,false]
[null,2023,"Qty",null,null,null,null,null,null,null,null,null,null,null,null,null,0,null,null,true,false,null,false]
[null,2022,"Qty",null,null,null,null,null,null,null,null,null,null,null,null,null,0,null,null,true,false,null,false]
[null,2021,"Qty",null,null,null,null,null,null,null,null,null,null,null,null,null,0,null,null,true,true,null,true]
[null,2020,"Qty",null,null,null,null,null,null,null,null,null,null,null,null,null,0,null,null,true,true,null,true]
[null,2019,"Qty",null,null,null,null,null,null,null,null,null,null,null,null,null,0,null,null,true,false,null,false]
[null,2018,"Qty",null,null,null,null,null,null,null,null,null,null,null,null,null,0,null,null,true,false,null,false]
[null,2017,"Qty",null,null,null,null,null,null,null,null,null,null,null,null,null,0,null,null,true,false,null,false]
[null,2016,"Qty",null,null,null,null,null,null,null,null,null,null,null,null,null,0,null,null,true,false,null,false]
[null,2015,"Qty",null,null,null,null,null,null,null,null,null,null,null,null,null,0,null,null,true,false,null,false]
[null,2014,"Qty",null,null,null,null,null,null,null,null,null,null,null,null,null,0,null,null,{"$f":"T35","v":true},false,null,false]
[null,2013,"Qty",null,null,null,null,null,null,null,null,null,null,null,null,null,0,null,null,true,false,null,false]
[null,2012,"Qty",null,null,null,null,null,null,null,null,null,null,null,null,null,0,null,null,true,false,null,false]
[null,2011,"Qty",null,null,null,null,null,null,null,null,null,null,null,null,null,0,null,null,true,false,null,false]
[null,2010,"Qty",null,null,null,null,null,null,null,null,null,null,null,null,null,0,null,null,true,false,null,false]
[null,2009,"Qty",null,null,null,null,null,null,null,null,null,null,null,null,null,0,null,null,true,false,null,false]
[null,2008,"Qty",null,null,null,null,null,null,null,null,null,null,null,null,null,0,null,null,true,false,null,false]
[null,2007,"Qty",null,null,null,null,null,null,null,null,null,null,null,null,null,0,null,null,true,false,null,false]
[null,2006,"Qty",null,null,null,null,null,null,null,null,null,null,null,null,null,0,null,null,true,false,null,false]
[null,2005,"Qty",null,null,null,null,null,null,null,null,null,null,null,null,null,0,null,null,true,false,null,false]
[null,null,null,null,null,null,null,null,null,null,null,null,null,null,null,null,null,null,null,true,null,null,true]
[null,"Relevant Variables",null,null,null,"UNIT","Notes",null,null,null,null,null,null,null,null,null,null,null,null,{"$f":"VLOOKUP(B58,$T$5:$U$24,2,)","v":false},null,null,{"$f":"AND(S57:V57)","v":false}]
["back to top",{"$f":"B28+1","v":2},{"$f":"VLOOKUP(B58,$B$5:$F$24,2,)","v":""},null,null,{"$f":"VLOOKUP(B58,$B$5:$G$24,5,)","v":""},{"$f":"VLOOKUP(B58,$B$5:$G$24,6,)","v":""},null,null,null,null,null,null,null,null,null,null,null,null,{"$f":"T57","v":false},null,null,{"$f":"AND(S58:V58)","v":false}]
[null,null,null,null,null,null,null,null,null,null,null,null,null,null,null,null,null,null,null,{"$f":"T58","v":false},null,null,false]
[null,null,null,{"$f":"D30","v":"Jan"},{"$f":"E30","v":"Feb"},"Mar","Apr","May","Jun","Jul","Aug","Sep","Oct","Nov","Dec",null,"YEAR",null,null,{"$f":"T59","v":false},null,null,false]
[null,{"$f":"FinalYear","v":2029},"Qty",null,null,null,null,null,null,null,null,null,null,null,null,null,{"$f":"SUM(D61:O61)","v":0},null,null,{"$f":"T60","v":false},{"$f":"AND(B61<=ReportingYear,B61>=BaselineYear)","v":false},null,false]
[null,{"$f":"B61-1","v":2028},"Qty",null,null,null,null,null,null,null,null,null,null,null,null,null,0,null,null,{"$f":"T61","v":false},false,null,false]
[null,{"$f":"B62-1","v":2027},"Qty",null,null,null,null,null,null,null,null,null,null,null,null,null,0,null,null,{"$f":"T62","v":false},false,null,false]
[null,2026,"Qty",null,null,null,null,null,null,null,null,null,null,null,null,null,0,null,null,false,false,null,false]
[null,2025,"Qty",null,null,null,null,null,null,null,null,null,null,null,null,null,0,null,null,false,false,null,false]
[null,2024,"Qty",null,null,null,null,null,null,null,null,null,null,null,null,null,0,null,null,false,false,null,false]
[null,2023,"Qty",null,null,null,null,null,null,null,null,null,null,null,null,null,0,null,null,false,false,null,false]
[null,2022,"Qty",null,null,null,null,null,null,null,null,null,null,null,null,null,0,null,null,false,false,null,false]
[null,2021,"Qty",null,null,null,null,null,null,null,null,null,null,null,null,null,0,null,null,false,true,null,false]
[null,2020,"Qty",null,null,null,null,null,null,null,null,null,null,null,null,null,0,null,null,false,true,null,false]
[null,2019,"Qty",null,null,null,null,null,null,null,null,null,null,null,null,null,0,null,null,false,false,null,false]
[null,2018,"Qty",null,null,null,null,null,null,null,null,null,null,null,null,null,0,null,null,false,false,null,false]
[null,2017,"Qty",null,null,null,null,null,null,null,null,null,null,null,null,null,0,null,null,false,false,null,false]
[null,2016,"Qty",null,null,null,null,null,null,null,null,null,null,null,null,null,0,null,null,false,false,null,false]
[null,2015,"Qty",null,null,null,null,null,null,null,null,null,null,null,null,null,0,null,null,false,false,null,false]
[null,2014,"Qty",null,null,null,null,null,null,null,null,null,null,null,null,null,0,null,null,{"$f":"T65","v":false},false,null,false]
[null,2013,"Qty",null,null,null,null,null,null,null,null,null,null,null,null,null,0,null,null,false,false,null,false]
[null,2012,"Qty",null,null,null,null,null,null,null,null,null,null,null,null,null,0,null,null,false,false,null,false]
[null,2011,"Qty",null,null,null,null,null,null,null,null,null,null,null,null,null,0,null,null,false,false,null,false]
[null,2010,"Qty",null,null,null,null,null,null,null,null,null,null,null,null,null,0,null,null,false,false,null,false]
[null,2009,"Qty",null,null,null,null,null,null,null,null,null,null,null,null,null,0,null,null,false,false,null,false]
[null,2008,"Qty",null,null,null,null,null,null,null,null,null,null,null,null,null,0,null,null,false,false,null,false]
[null,2007,"Qty",null,null,null,null,null,null,null,null,null,null,null,null,null,0,null,null,false,false,null,false]
[null,2006,"Qty",null,null,null,null,null,null,null,null,null,null,null,null,null,0,null,null,false,false,null,false]
[null,2005,"Qty",null,null,null,null,null,null,null,null,null,null,null,null,null,0,null,null,false,false,null,false]
[null,null,null,null,null,null,null,null,null,null,null,null,null,null,null,null,null,null,null,false,null,null,false]
[null,"Relevant Variables",null,null,null,"UNIT","Notes",null,null,null,null,null,null,null,null,null,null,null,null,{"$f":"VLOOKUP(B88,$T$5:$U$24,2,)","v":false},null,null,{"$f":"AND(S87:V87)","v":false}]
["back to top",{"$f":"B58+1","v":3},{"$f":"VLOOKUP(B88,$B$5:$F$24,2,)","v":""},null,null,{"$f":"VLOOKUP(B88,$B$5:$G$24,5,)","v":""},{"$f":"VLOOKUP(B88,$B$5:$G$24,6,)","v":""},null,null,null,null,null,null,null,null,null,null,null,null,{"$f":"T87","v":false},null,null,{"$f":"AND(S88:V88)","v":false}]
[null,null,null,null,null,null,null,null,null,null,null,null,null,null,null,null,null,null,null,{"$f":"T88","v":false},null,null,false]
[null,null,null,{"$f":"D60","v":"Jan"},{"$f":"E60","v":"Feb"},"Mar","Apr","May","Jun","Jul","Aug","Sep","Oct","Nov","Dec",null,"YEAR",null,null,{"$f":"T89","v":false},null,null,false]
[null,{"$f":"FinalYear","v":2029},"Qty",null,null,null,null,null,null,null,null,null,null,null,null,null,{"$f":"SUM(D91:O91)","v":0},null,null,{"$f":"T90","v":false},{"$f":"AND(B91<=ReportingYear,B91>=BaselineYear)","v":false},null,false]
[null,{"$f":"B91-1","v":2028},"Qty",null,null,null,null,null,null,null,null,null,null,null,null,null,0,null,null,{"$f":"T91","v":false},false,null,false]
[null,{"$f":"B92-1","v":2027},"Qty",null,null,null,null,null,null,null,null,null,null,null,null,null,0,null,null,{"$f":"T92","v":false},false,null,false]
[null,2026,"Qty",null,null,null,null,null,null,null,null,null,null,null,null,null,0,null,null,false,false,null,false]
[null,2025,"Qty",null,null,null,null,null,null,null,null,null,null,null,null,null,0,null,null,false,false,null,false]
[null,2024,"Qty",null,null,null,null,null,null,null,null,null,null,null,null,null,0,null,null,false,false,null,false]
[null,2023,"Qty",null,null,null,null,null,null,null,null,null,null,null,null,null,0,null,null,false,false,null,false]
[null,2022,"Qty",null,null,null,null,null,null,null,null,null,null,null,null,null,0,null,null,false,false,null,false]
[null,2021,"Qty",null,null,null,null,null,null,null,null,null,null,null,null,null,0,null,null,false,true,null,false]
[null,2020,"Qty",null,null,null,null,null,null,null,null,null,null,null,null,null,0,null,null,false,true,null,false]
[null,2019,"Qty",null,null,null,null,null,null,null,null,null,null,null,null,null,0,null,null,false,false,null,false]
[null,2018,"Qty",null,null,null,null,null,null,null,null,null,null,null,null,null,0,null,null,false,false,null,false]
[null,2017,"Qty",null,null,null,null,null,null,null,null,null,null,null,null,null,0,null,null,false,false,null,false]
[null,2016,"Qty",null,null,null,null,null,null,null,null,null,null,null,null,null,0,null,null,false,false,null,false]
[null,2015,"Qty",null,null,null,null,null,null,null,null,null,null,null,null,null,0,null,null,false,false,null,false]
[null,2014,"Qty",null,null,null,null,null,null,null,null,null,null,null,null,null,0,null,null,{"$f":"T95","v":false},false,null,false]
[null,2013,"Qty",null,null,null,null,null,null,null,null,null,null,null,null,null,0,null,null,false,false,null,false]
[null,2012,"Qty",null,null,null,null,null,null,null,null,null,null,null,null,null,0,null,null,false,false,null,false]
[null,2011,"Qty",null,null,null,null,null,null,null,null,null,null,null,null,null,0,null,null,false,false,null,false]
[null,2010,"Qty",null,null,null,null,null,null,null,null,null,null,null,null,null,0,null,null,false,false,null,false]
[null,2009,"Qty",null,null,null,null,null,null,null,null,null,null,null,null,null,0,null,null,false,false,null,false]
[null,2008,"Qty",null,null,null,null,null,null,null,null,null,null,null,null,null,0,null,null,false,false,null,false]
[null,2007,"Qty",null,null,null,null,null,null,null,null,null,null,null,null,null,0,null,null,false,false,null,false]
[null,2006,"Qty",null,null,null,null,null,null,null,null,null,null,null,null,null,0,null,null,false,false,null,false]
[null,2005,"Qty",null,null,null,null,null,null,null,null,null,null,null,null,null,0,null,null,false,false,null,false]
[null,null,null,null,null,null,null,null,null,null,null,null,null,null,null,null,null,null,null,false,null,null,false]
[null,"Relevant Variables",null,null,null,"UNIT","Notes",null,null,null,null,null,null,null,null,null,null,null,null,{"$f":"VLOOKUP(B118,$T$5:$U$24,2,)","v":false},null,null,{"$f":"AND(S117:V117)","v":false}]
["back to top",{"$f":"B88+1","v":4},{"$f":"VLOOKUP(B118,$B$5:$F$24,2,)","v":""},null,null,{"$f":"VLOOKUP(B118,$B$5:$G$24,5,)","v":""},{"$f":"VLOOKUP(B118,$B$5:$G$24,6,)","v":""},null,null,null,null,null,null,null,null,null,null,null,null,{"$f":"T117","v":false},null,null,{"$f":"AND(S118:V118)","v":false}]
[null,null,null,null,null,null,null,null,null,null,null,null,null,null,null,null,null,null,null,{"$f":"T118","v":false},null,null,false]
[null,null,null,{"$f":"D90","v":"Jan"},{"$f":"E90","v":"Feb"},"Mar","Apr","May","Jun","Jul","Aug","Sep","Oct","Nov","Dec",null,"YEAR",null,null,{"$f":"T119","v":false},null,null,false]
[null,{"$f":"FinalYear","v":2029},"Qty",null,null,null,null,null,null,null,null,null,null,null,null,null,{"$f":"SUM(D121:O121)","v":0},null,null,{"$f":"T120","v":false},{"$f":"AND(B121<=ReportingYear,B121>=BaselineYear)","v":false},null,false]
[null,{"$f":"B121-1","v":2028},"Qty",null,null,null,null,null,null,null,null,null,null,null,null,null,0,null,null,{"$f":"T121","v":false},false,null,false]
[null,{"$f":"B122-1","v":2027},"Qty",null,null,null,null,null,null,null,null,null,null,null,null,null,0,null,null,{"$f":"T122","v":false},false,null,false]
[null,2026,"Qty",null,null,null,null,null,null,null,null,null,null,null,null,null,0,null,null,false,false,null,false]
[null,2025,"Qty",null,null,null,null,null,null,null,null,null,null,null,null,null,0,null,null,false,false,null,false]
[null,2024,"Qty",null,null,null,null,null,null,null,null,null,null,null,null,null,0,null,null,false,false,null,false]
[null,2023,"Qty",null,null,null,null,null,null,null,null,null,null,null,null,null,0,null,null,false,false,null,false]
[null,2022,"Qty",null,null,null,null,null,null,null,null,null,null,null,null,null,0,null,null,false,false,null,false]
[null,2021,"Qty",null,null,null,null,null,null,null,null,null,null,null,null,null,0,null,null,false,true,null,false]
[null,2020,"Qty",null,null,null,null,null,null,null,null,null,null,null,null,null,0,null,null,false,true,null,false]
[null,2019,"Qty",null,null,null,null,null,null,null,null,null,null,null,null,null,0,null,null,false,false,null,false]
[null,2018,"Qty",null,null,null,null,null,null,null,null,null,null,null,null,null,0,null,null,false,false,null,false]
[null,2017,"Qty",null,null,null,null,null,null,null,null,null,null,null,null,null,0,null,null,false,false,null,false]
[null,2016,"Qty",null,null,null,null,null,null,null,null,null,null,null,null,null,0,null,null,false,false,null,false]
[null,2015,"Qty",null,null,null,null,null,null,null,null,null,null,null,null,null,0,null,null,false,false,null,false]
[null,2014,"Qty",null,null,null,null,null,null,null,null,null,null,null,null,null,0,null,null,{"$f":"T125","v":false},false,null,false]
[null,2013,"Qty",null,null,null,null,null,null,null,null,null,null,null,null,null,0,null,null,false,false,null,false]
[null,2012,"Qty",null,null,null,null,null,null,null,null,null,null,null,null,null,0,null,null,false,false,null,false]
[null,2011,"Qty",null,null,null,null,null,null,null,null,null,null,null,null,null,0,null,null,false,false,null,false]
[null,2010,"Qty",null,null,null,null,null,null,null,null,null,null,null,null,null,0,null,null,false,false,null,false]
[null,2009,"Qty",null,null,null,null,null,null,null,null,null,null,null,null,null,0,null,null,false,false,null,false]
[null,2008,"Qty",null,null,null,null,null,null,null,null,null,null,null,null,null,0,null,null,false,false,null,false]
[null,2007,"Qty",null,null,null,null,null,null,null,null,null,null,null,null,null,0,null,null,false,false,null,false]
[null,2006,"Qty",null,null,null,null,null,null,null,null,null,null,null,null,null,0,null,null,false,false,null,false]
[null,2005,"Qty",null,null,null,null,null,null,null,null,null,null,null,null,null,0,null,null,false,false,null,false]
[null,null,null,null,null,null,null,null,null,null,null,null,null,null,null,null,null,null,null,false,null,null,false]
[null,"Relevant Variables",null,null,null,"UNIT","Notes",null,null,null,null,null,null,null,null,null,null,null,null,{"$f":"VLOOKUP(B148,$T$5:$U$24,2,)","v":false},null,null,{"$f":"AND(S147:V147)","v":false}]
["back to top",{"$f":"B118+1","v":5},{"$f":"VLOOKUP(B148,$B$5:$F$24,2,)","v":""},null,null,{"$f":"VLOOKUP(B148,$B$5:$G$24,5,)","v":""},{"$f":"VLOOKUP(B148,$B$5:$G$24,6,)","v":""},null,null,null,null,null,null,null,null,null,null,null,null,{"$f":"T147","v":false},null,null,{"$f":"AND(S148:V148)","v":false}]
[null,null,null,null,null,null,null,null,null,null,null,null,null,null,null,null,null,null,null,{"$f":"T148","v":false},null,null,false]
[null,null,null,{"$f":"D120","v":"Jan"},{"$f":"E120","v":"Feb"},"Mar","Apr","May","Jun","Jul","Aug","Sep","Oct","Nov","Dec",null,"YEAR",null,null,{"$f":"T149","v":false},null,null,false]
[null,{"$f":"FinalYear","v":2029},"Qty",null,null,null,null,null,null,null,null,null,null,null,null,null,{"$f":"SUM(D151:O151)","v":0},null,null,{"$f":"T150","v":false},{"$f":"AND(B151<=ReportingYear,B151>=BaselineYear)","v":false},null,false]
[null,{"$f":"B151-1","v":2028},"Qty",null,null,null,null,null,null,null,null,null,null,null,null,null,0,null,null,{"$f":"T151","v":false},false,null,false]
[null,{"$f":"B152-1","v":2027},"Qty",null,null,null,null,null,null,null,null,null,null,null,null,null,0,null,null,{"$f":"T152","v":false},false,null,false]
[null,2026,"Qty",null,null,null,null,null,null,null,null,null,null,null,null,null,0,null,null,false,false,null,false]
[null,2025,"Qty",null,null,null,null,null,null,null,null,null,null,null,null,null,0,null,null,false,false,null,false]
[null,2024,"Qty",null,null,null,null,null,null,null,null,null,null,null,null,null,0,null,null,false,false,null,false]
[null,2023,"Qty",null,null,null,null,null,null,null,null,null,null,null,null,null,0,null,null,false,false,null,false]
[null,2022,"Qty",null,null,null,null,null,null,null,null,null,null,null,null,null,0,null,null,false,false,null,false]
[null,2021,"Qty",null,null,null,null,null,null,null,null,null,null,null,null,null,0,null,null,false,true,null,false]
[null,2020,"Qty",null,null,null,null,null,null,null,null,null,null,null,null,null,0,null,null,false,true,null,false]
[null,2019,"Qty",null,null,null,null,null,null,null,null,null,null,null,null,null,0,null,null,false,false,null,false]
[null,2018,"Qty",null,null,null,null,null,null,null,null,null,null,null,null,null,0,null,null,false,false,null,false]
[null,2017,"Qty",null,null,null,null,null,null,null,null,null,null,null,null,null,0,null,null,false,false,null,false]
[null,2016,"Qty",null,null,null,null,null,null,null,null,null,null,null,null,null,0,null,null,false,false,null,false]
[null,2015,"Qty",null,null,null,null,null,null,null,null,null,null,null,null,null,0,null,null,false,false,null,false]
[null,2014,"Qty",null,null,null,null,null,null,null,null,null,null,null,null,null,0,null,null,{"$f":"T155","v":false},false,null,false]
[null,2013,"Qty",null,null,null,null,null,null,null,null,null,null,null,null,null,0,null,null,false,false,null,false]
[null,2012,"Qty",null,null,null,null,null,null,null,null,null,null,null,null,null,0,null,null,false,false,null,false]
[null,2011,"Qty",null,null,null,null,null,null,null,null,null,null,null,null,null,0,null,null,false,false,null,false]
[null,2010,"Qty",null,null,null,null,null,null,null,null,null,null,null,null,null,0,null,null,false,false,null,false]
[null,2009,"Qty",null,null,null,null,null,null,null,null,null,null,null,null,null,0,null,null,false,false,null,false]
[null,2008,"Qty",null,null,null,null,null,null,null,null,null,null,null,null,null,0,null,null,false,false,null,false]
[null,2007,"Qty",null,null,null,null,null,null,null,null,null,null,null,null,null,0,null,null,false,false,null,false]
[null,2006,"Qty",null,null,null,null,null,null,null,null,null,null,null,null,null,0,null,null,false,false,null,false]
[null,2005,"Qty",null,null,null,null,null,null,null,null,null,null,null,null,null,0,null,null,false,false,null,false]
[null,null,null,null,null,null,null,null,null,null,null,null,null,null,null,null,null,null,null,false,null,null,false]
[null,"Relevant Variables",null,null,null,"UNIT","Notes",null,null,null,null,null,null,null,null,null,null,null,null,{"$f":"VLOOKUP(B178,$T$5:$U$24,2,)","v":false},null,null,{"$f":"AND(S177:V177)","v":false}]
["back to top",{"$f":"B148+1","v":6},{"$f":"VLOOKUP(B178,$B$5:$F$24,2,)","v":""},null,null,{"$f":"VLOOKUP(B178,$B$5:$G$24,5,)","v":""},{"$f":"VLOOKUP(B178,$B$5:$G$24,6,)","v":""},null,null,null,null,null,null,null,null,null,null,null,null,{"$f":"T177","v":false},null,null,{"$f":"AND(S178:V178)","v":false}]
[null,null,null,null,null,null,null,null,null,null,null,null,null,null,null,null,null,null,null,{"$f":"T178","v":false},null,null,false]
[null,null,null,{"$f":"D150","v":"Jan"},{"$f":"E150","v":"Feb"},"Mar","Apr","May","Jun","Jul","Aug","Sep","Oct","Nov","Dec",null,"YEAR",null,null,{"$f":"T179","v":false},null,null,false]
[null,{"$f":"FinalYear","v":2029},"Qty",null,null,null,null,null,null,null,null,null,null,null,null,null,{"$f":"SUM(D181:O181)","v":0},null,null,{"$f":"T180","v":false},{"$f":"AND(B181<=ReportingYear,B181>=BaselineYear)","v":false},null,false]
[null,{"$f":"B181-1","v":2028},"Qty",null,null,null,null,null,null,null,null,null,null,null,null,null,0,null,null,{"$f":"T181","v":false},false,null,false]
[null,{"$f":"B182-1","v":2027},"Qty",null,null,null,null,null,null,null,null,null,null,null,null,null,0,null,null,{"$f":"T182","v":false},false,null,false]
[null,2026,"Qty",null,null,null,null,null,null,null,null,null,null,null,null,null,0,null,null,false,false,null,false]
[null,2025,"Qty",null,null,null,null,null,null,null,null,null,null,null,null,null,0,null,null,false,false,null,false]
[null,2024,"Qty",null,null,null,null,null,null,null,null,null,null,null,null,null,0,null,null,false,false,null,false]
[null,2023,"Qty",null,null,null,null,null,null,null,null,null,null,null,null,null,0,null,null,false,false,null,false]
[null,2022,"Qty",null,null,null,null,null,null,null,null,null,null,null,null,null,0,null,null,false,false,null,false]
[null,2021,"Qty",null,null,null,null,null,null,null,null,null,null,null,null,null,0,null,null,false,true,null,false]
[null,2020,"Qty",null,null,null,null,null,null,null,null,null,null,null,null,null,0,null,null,false,true,null,false]
[null,2019,"Qty",null,null,null,null,null,null,null,null,null,null,null,null,null,0,null,null,false,false,null,false]
[null,2018,"Qty",null,null,null,null,null,null,null,null,null,null,null,null,null,0,null,null,false,false,null,false]
[null,2017,"Qty",null,null,null,null,null,null,null,null,null,null,null,null,null,0,null,null,false,false,null,false]
[null,2016,"Qty",null,null,null,null,null,null,null,null,null,null,null,null,null,0,null,null,false,false,null,false]
[null,2015,"Qty",null,null,null,null,null,null,null,null,null,null,null,null,null,0,null,null,false,false,null,false]
[null,2014,"Qty",null,null,null,null,null,null,null,null,null,null,null,null,null,0,null,null,{"$f":"T185","v":false},false,null,false]
[null,2013,"Qty",null,null,null,null,null,null,null,null,null,null,null,null,null,0,null,null,false,false,null,false]
[null,2012,"Qty",null,null,null,null,null,null,null,null,null,null,null,null,null,0,null,null,false,false,null,false]
[null,2011,"Qty",null,null,null,null,null,null,null,null,null,null,null,null,null,0,null,null,false,false,null,false]
[null,2010,"Qty",null,null,null,null,null,null,null,null,null,null,null,null,null,0,null,null,false,false,null,false]
[null,2009,"Qty",null,null,null,null,null,null,null,null,null,null,null,null,null,0,null,null,false,false,null,false]
[null,2008,"Qty",null,null,null,null,null,null,null,null,null,null,null,null,null,0,null,null,false,false,null,false]
[null,2007,"Qty",null,null,null,null,null,null,null,null,null,null,null,null,null,0,null,null,false,false,null,false]
[null,2006,"Qty",null,null,null,null,null,null,null,null,null,null,null,null,null,0,null,null,false,false,null,false]
[null,2005,"Qty",null,null,null,null,null,null,null,null,null,null,null,null,null,0,null,null,false,false,null,false]
[null,null,null,null,null,null,null,null,null,null,null,null,null,null,null,null,null,null,null,false,null,null,false]
[null,"Relevant Variables",null,null,null,"UNIT","Notes",null,null,null,null,null,null,null,null,null,null,null,null,{"$f":"VLOOKUP(B208,$T$5:$U$24,2,)","v":false},null,null,{"$f":"AND(S207:V207)","v":false}]
["back to top",{"$f":"B178+1","v":7},{"$f":"VLOOKUP(B208,$B$5:$F$24,2,)","v":""},null,null,{"$f":"VLOOKUP(B208,$B$5:$G$24,5,)","v":""},{"$f":"VLOOKUP(B208,$B$5:$G$24,6,)","v":""},null,null,null,null,null,null,null,null,null,null,null,null,{"$f":"T207","v":false},null,null,{"$f":"AND(S208:V208)","v":false}]
[null,null,null,null,null,null,null,null,null,null,null,null,null,null,null,null,null,null,null,{"$f":"T208","v":false},null,null,false]
[null,null,null,{"$f":"D180","v":"Jan"},{"$f":"E180","v":"Feb"},"Mar","Apr","May","Jun","Jul","Aug","Sep","Oct","Nov","Dec",null,"YEAR",null,null,{"$f":"T209","v":false},null,null,false]
[null,{"$f":"FinalYear","v":2029},"Qty",null,null,null,null,null,null,null,null,null,null,null,null,null,{"$f":"SUM(D211:O211)","v":0},null,null,{"$f":"T210","v":false},{"$f":"AND(B211<=ReportingYear,B211>=BaselineYear)","v":false},null,false]
[null,{"$f":"B211-1","v":2028},"Qty",null,null,null,null,null,null,null,null,null,null,null,null,null,0,null,null,{"$f":"T211","v":false},false,null,false]
[null,{"$f":"B212-1","v":2027},"Qty",null,null,null,null,null,null,null,null,null,null,null,null,null,0,null,null,{"$f":"T212","v":false},false,null,false]
[null,2026,"Qty",null,null,null,null,null,null,null,null,null,null,null,null,null,0,null,null,false,false,null,false]
[null,2025,"Qty",null,null,null,null,null,null,null,null,null,null,null,null,null,0,null,null,false,false,null,false]
[null,2024,"Qty",null,null,null,null,null,null,null,null,null,null,null,null,null,0,null,null,false,false,null,false]
[null,2023,"Qty",null,null,null,null,null,null,null,null,null,null,null,null,null,0,null,null,false,false,null,false]
[null,2022,"Qty",null,null,null,null,null,null,null,null,null,null,null,null,null,0,null,null,false,false,null,false]
[null,2021,"Qty",null,null,null,null,null,null,null,null,null,null,null,null,null,0,null,null,false,true,null,false]
[null,2020,"Qty",null,null,null,null,null,null,null,null,null,null,null,null,null,0,null,null,false,true,null,false]
[null,2019,"Qty",null,null,null,null,null,null,null,null,null,null,null,null,null,0,null,null,false,false,null,false]
[null,2018,"Qty",null,null,null,null,null,null,null,null,null,null,null,null,null,0,null,null,false,false,null,false]
[null,2017,"Qty",null,null,null,null,null,null,null,null,null,null,null,null,null,0,null,null,false,false,null,false]
[null,2016,"Qty",null,null,null,null,null,null,null,null,null,null,null,null,null,0,null,null,false,false,null,false]
[null,2015,"Qty",null,null,null,null,null,null,null,null,null,null,null,null,null,0,null,null,false,false,null,false]
[null,2014,"Qty",null,null,null,null,null,null,null,null,null,null,null,null,null,0,null,null,{"$f":"T215","v":false},false,null,false]
[null,2013,"Qty",null,null,null,null,null,null,null,null,null,null,null,null,null,0,null,null,false,false,null,false]
[null,2012,"Qty",null,null,null,null,null,null,null,null,null,null,null,null,null,0,null,null,false,false,null,false]
[null,2011,"Qty",null,null,null,null,null,null,null,null,null,null,null,null,null,0,null,null,false,false,null,false]
[null,2010,"Qty",null,null,null,null,null,null,null,null,null,null,null,null,null,0,null,null,false,false,null,false]
[null,2009,"Qty",null,null,null,null,null,null,null,null,null,null,null,null,null,0,null,null,false,false,null,false]
[null,2008,"Qty",null,null,null,null,null,null,null,null,null,null,null,null,null,0,null,null,false,false,null,false]
[null,2007,"Qty",null,null,null,null,null,null,null,null,null,null,null,null,null,0,null,null,false,false,null,false]
[null,2006,"Qty",null,null,null,null,null,null,null,null,null,null,null,null,null,0,null,null,false,false,null,false]
[null,2005,"Qty",null,null,null,null,null,null,null,null,null,null,null,null,null,0,null,null,false,false,null,false]
[null,null,null,null,null,null,null,null,null,null,null,null,null,null,null,null,null,null,null,false,null,null,false]
[null,"Relevant Variables",null,null,null,"UNIT","Notes",null,null,null,null,null,null,null,null,null,null,null,null,{"$f":"VLOOKUP(B238,$T$5:$U$24,2,)","v":false},null,null,{"$f":"AND(S237:V237)","v":false}]
["back to top",{"$f":"B208+1","v":8},{"$f":"VLOOKUP(B238,$B$5:$F$24,2,)","v":""},null,null,{"$f":"VLOOKUP(B238,$B$5:$G$24,5,)","v":""},{"$f":"VLOOKUP(B238,$B$5:$G$24,6,)","v":""},null,null,null,null,null,null,null,null,null,null,null,null,{"$f":"T237","v":false},null,null,{"$f":"AND(S238:V238)","v":false}]
[null,null,null,null,null,null,null,null,null,null,null,null,null,null,null,null,null,null,null,{"$f":"T238","v":false},null,null,false]
[null,null,null,{"$f":"D210","v":"Jan"},{"$f":"E210","v":"Feb"},"Mar","Apr","May","Jun","Jul","Aug","Sep","Oct","Nov","Dec",null,"YEAR",null,null,{"$f":"T239","v":false},null,null,false]
[null,{"$f":"FinalYear","v":2029},"Qty",null,null,null,null,null,null,null,null,null,null,null,null,null,{"$f":"SUM(D241:O241)","v":0},null,null,{"$f":"T240","v":false},{"$f":"AND(B241<=ReportingYear,B241>=BaselineYear)","v":false},null,false]
[null,{"$f":"B241-1","v":2028},"Qty",null,null,null,null,null,null,null,null,null,null,null,null,null,0,null,null,{"$f":"T241","v":false},false,null,false]
[null,{"$f":"B242-1","v":2027},"Qty",null,null,null,null,null,null,null,null,null,null,null,null,null,0,null,null,{"$f":"T242","v":false},false,null,false]
[null,2026,"Qty",null,null,null,null,null,null,null,null,null,null,null,null,null,0,null,null,false,false,null,false]
[null,2025,"Qty",null,null,null,null,null,null,null,null,null,null,null,null,null,0,null,null,false,false,null,false]
[null,2024,"Qty",null,null,null,null,null,null,null,null,null,null,null,null,null,0,null,null,false,false,null,false]
[null,2023,"Qty",null,null,null,null,null,null,null,null,null,null,null,null,null,0,null,null,false,false,null,false]
[null,2022,"Qty",null,null,null,null,null,null,null,null,null,null,null,null,null,0,null,null,false,false,null,false]
[null,2021,"Qty",null,null,null,null,null,null,null,null,null,null,null,null,null,0,null,null,false,true,null,false]
[null,2020,"Qty",null,null,null,null,null,null,null,null,null,null,null,null,null,0,null,null,false,true,null,false]
[null,2019,"Qty",null,null,null,null,null,null,null,null,null,null,null,null,null,0,null,null,false,false,null,false]
[null,2018,"Qty",null,null,null,null,null,null,null,null,null,null,null,null,null,0,null,null,false,false,null,false]
[null,2017,"Qty",null,null,null,null,null,null,null,null,null,null,null,null,null,0,null,null,false,false,null,false]
[null,2016,"Qty",null,null,null,null,null,null,null,null,null,null,null,null,null,0,null,null,false,false,null,false]
[null,2015,"Qty",null,null,null,null,null,null,null,null,null,null,null,null,null,0,null,null,false,false,null,false]
[null,2014,"Qty",null,null,null,null,null,null,null,null,null,null,null,null,null,0,null,null,{"$f":"T245","v":false},false,null,false]
[null,2013,"Qty",null,null,null,null,null,null,null,null,null,null,null,null,null,0,null,null,false,false,null,false]
[null,2012,"Qty",null,null,null,null,null,null,null,null,null,null,null,null,null,0,null,null,false,false,null,false]
[null,2011,"Qty",null,null,null,null,null,null,null,null,null,null,null,null,null,0,null,null,false,false,null,false]
[null,2010,"Qty",null,null,null,null,null,null,null,null,null,null,null,null,null,0,null,null,false,false,null,false]
[null,2009,"Qty",null,null,null,null,null,null,null,null,null,null,null,null,null,0,null,null,false,false,null,false]
[null,2008,"Qty",null,null,null,null,null,null,null,null,null,null,null,null,null,0,null,null,false,false,null,false]
[null,2007,"Qty",null,null,null,null,null,null,null,null,null,null,null,null,null,0,null,null,false,false,null,false]
[null,2006,"Qty",null,null,null,null,null,null,null,null,null,null,null,null,null,0,null,null,false,false,null,false]
[null,2005,"Qty",null,null,null,null,null,null,null,null,null,null,null,null,null,0,null,null,false,false,null,false]
[null,null,null,null,null,null,null,null,null,null,null,null,null,null,null,null,null,null,null,false,null,null,false]
[null,"Relevant Variables",null,null,null,"UNIT","Notes",null,null,null,null,null,null,null,null,null,null,null,null,{"$f":"VLOOKUP(B268,$T$5:$U$24,2,)","v":false},null,null,{"$f":"AND(S267:V267)","v":false}]
["back to top",{"$f":"B238+1","v":9},{"$f":"VLOOKUP(B268,$B$5:$F$24,2,)","v":""},null,null,{"$f":"VLOOKUP(B268,$B$5:$G$24,5,)","v":""},{"$f":"VLOOKUP(B268,$B$5:$G$24,6,)","v":""},null,null,null,null,null,null,null,null,null,null,null,null,{"$f":"T267","v":false},null,null,{"$f":"AND(S268:V268)","v":false}]
[null,null,null,null,null,null,null,null,null,null,null,null,null,null,null,null,null,null,null,{"$f":"T268","v":false},null,null,false]
[null,null,null,{"$f":"D240","v":"Jan"},{"$f":"E240","v":"Feb"},"Mar","Apr","May","Jun","Jul","Aug","Sep","Oct","Nov","Dec",null,"YEAR",null,null,{"$f":"T269","v":false},null,null,false]
[null,{"$f":"FinalYear","v":2029},"Qty",null,null,null,null,null,null,null,null,null,null,null,null,null,{"$f":"SUM(D271:O271)","v":0},null,null,{"$f":"T270","v":false},{"$f":"AND(B271<=ReportingYear,B271>=BaselineYear)","v":false},null,false]
[null,{"$f":"B271-1","v":2028},"Qty",null,null,null,null,null,null,null,null,null,null,null,null,null,0,null,null,{"$f":"T271","v":false},false,null,false]
[null,{"$f":"B272-1","v":2027},"Qty",null,null,null,null,null,null,null,null,null,null,null,null,null,0,null,null,{"$f":"T272","v":false},false,null,false]
[null,2026,"Qty",null,null,null,null,null,null,null,null,null,null,null,null,null,0,null,null,false,false,null,false]
[null,2025,"Qty",null,null,null,null,null,null,null,null,null,null,null,null,null,0,null,null,false,false,null,false]
[null,2024,"Qty",null,null,null,null,null,null,null,null,null,null,null,null,null,0,null,null,false,false,null,false]
[null,2023,"Qty",null,null,null,null,null,null,null,null,null,null,null,null,null,0,null,null,false,false,null,false]
[null,2022,"Qty",null,null,null,null,null,null,null,null,null,null,null,null,null,0,null,null,false,false,null,false]
[null,2021,"Qty",null,null,null,null,null,null,null,null,null,null,null,null,null,0,null,null,false,true,null,false]
[null,2020,"Qty",null,null,null,null,null,null,null,null,null,null,null,null,null,0,null,null,false,true,null,false]
[null,2019,"Qty",null,null,null,null,null,null,null,null,null,null,null,null,null,0,null,null,false,false,null,false]
[null,2018,"Qty",null,null,null,null,null,null,null,null,null,null,null,null,null,0,null,null,false,false,null,false]
[null,2017,"Qty",null,null,null,null,null,null,null,null,null,null,null,null,null,0,null,null,false,false,null,false]
[null,2016,"Qty",null,null,null,null,null,null,null,null,null,null,null,null,null,0,null,null,false,false,null,false]
[null,2015,"Qty",null,null,null,null,null,null,null,null,null,null,null,null,null,0,null,null,false,false,null,false]
[null,2014,"Qty",null,null,null,null,null,null,null,null,null,null,null,null,null,0,null,null,{"$f":"T275","v":false},false,null,false]
[null,2013,"Qty",null,null,null,null,null,null,null,null,null,null,null,null,null,0,null,null,false,false,null,false]
[null,2012,"Qty",null,null,null,null,null,null,null,null,null,null,null,null,null,0,null,null,false,false,null,false]
[null,2011,"Qty",null,null,null,null,null,null,null,null,null,null,null,null,null,0,null,null,false,false,null,false]
[null,2010,"Qty",null,null,null,null,null,null,null,null,null,null,null,null,null,0,null,null,false,false,null,false]
[null,2009,"Qty",null,null,null,null,null,null,null,null,null,null,null,null,null,0,null,null,false,false,null,false]
[null,2008,"Qty",null,null,null,null,null,null,null,null,null,null,null,null,null,0,null,null,false,false,null,false]
[null,2007,"Qty",null,null,null,null,null,null,null,null,null,null,null,null,null,0,null,null,false,false,null,false]
[null,2006,"Qty",null,null,null,null,null,null,null,null,null,null,null,null,null,0,null,null,false,false,null,false]
[null,2005,"Qty",null,null,null,null,null,null,null,null,null,null,null,null,null,0,null,null,false,false,null,false]
[null,null,null,null,null,null,null,null,null,null,null,null,null,null,null,null,null,null,null,false,null,null,false]
[null,"Relevant Variables",null,null,null,"UNIT","Notes",null,null,null,null,null,null,null,null,null,null,null,null,{"$f":"VLOOKUP(B298,$T$5:$U$24,2,)","v":false},null,null,{"$f":"AND(S297:V297)","v":false}]
["back to top",{"$f":"B268+1","v":10},{"$f":"VLOOKUP(B298,$B$5:$F$24,2,)","v":""},null,null,{"$f":"VLOOKUP(B298,$B$5:$G$24,5,)","v":""},{"$f":"VLOOKUP(B298,$B$5:$G$24,6,)","v":""},null,null,null,null,null,null,null,null,null,null,null,null,{"$f":"T297","v":false},null,null,{"$f":"AND(S298:V298)","v":false}]
[null,null,null,null,null,null,null,null,null,null,null,null,null,null,null,null,null,null,null,{"$f":"T298","v":false},null,null,false]
[null,null,null,{"$f":"D270","v":"Jan"},{"$f":"E270","v":"Feb"},"Mar","Apr","May","Jun","Jul","Aug","Sep","Oct","Nov","Dec",null,"YEAR",null,null,{"$f":"T299","v":false},null,null,false]
[null,{"$f":"FinalYear","v":2029},"Qty",null,null,null,null,null,null,null,null,null,null,null,null,null,{"$f":"SUM(D301:O301)","v":0},null,null,{"$f":"T300","v":false},{"$f":"AND(B301<=ReportingYear,B301>=BaselineYear)","v":false},null,false]
[null,{"$f":"B301-1","v":2028},"Qty",null,null,null,null,null,null,null,null,null,null,null,null,null,0,null,null,{"$f":"T301","v":false},false,null,false]
[null,{"$f":"B302-1","v":2027},"Qty",null,null,null,null,null,null,null,null,null,null,null,null,null,0,null,null,{"$f":"T302","v":false},false,null,false]
[null,2026,"Qty",null,null,null,null,null,null,null,null,null,null,null,null,null,0,null,null,false,false,null,false]
[null,2025,"Qty",null,null,null,null,null,null,null,null,null,null,null,null,null,0,null,null,false,false,null,false]
[null,2024,"Qty",null,null,null,null,null,null,null,null,null,null,null,null,null,0,null,null,false,false,null,false]
[null,2023,"Qty",null,null,null,null,null,null,null,null,null,null,null,null,null,0,null,null,false,false,null,false]
[null,2022,"Qty",null,null,null,null,null,null,null,null,null,null,null,null,null,0,null,null,false,false,null,false]
[null,2021,"Qty",null,null,null,null,null,null,null,null,null,null,null,null,null,0,null,null,false,true,null,false]
[null,2020,"Qty",null,null,null,null,null,null,null,null,null,null,null,null,null,0,null,null,false,true,null,false]
[null,2019,"Qty",null,null,null,null,null,null,null,null,null,null,null,null,null,0,null,null,false,false,null,false]
[null,2018,"Qty",null,null,null,null,null,null,null,null,null,null,null,null,null,0,null,null,false,false,null,false]
[null,2017,"Qty",null,null,null,null,null,null,null,null,null,null,null,null,null,0,null,null,false,false,null,false]
[null,2016,"Qty",null,null,null,null,null,null,null,null,null,null,null,null,null,0,null,null,false,false,null,false]
[null,2015,"Qty",null,null,null,null,null,null,null,null,null,null,null,null,null,0,null,null,false,false,null,false]
[null,2014,"Qty",null,null,null,null,null,null,null,null,null,null,null,null,null,0,null,null,{"$f":"T305","v":false},false,null,false]
[null,2013,"Qty",null,null,null,null,null,null,null,null,null,null,null,null,null,0,null,null,false,false,null,false]
[null,2012,"Qty",null,null,null,null,null,null,null,null,null,null,null,null,null,0,null,null,false,false,null,false]
[null,2011,"Qty",null,null,null,null,null,null,null,null,null,null,null,null,null,0,null,null,false,false,null,false]
[null,2010,"Qty",null,null,null,null,null,null,null,null,null,null,null,null,null,0,null,null,false,false,null,false]
[null,2009,"Qty",null,null,null,null,null,null,null,null,null,null,null,null,null,0,null,null,false,false,null,false]
[null,2008,"Qty",null,null,null,null,null,null,null,null,null,null,null,null,null,0,null,null,false,false,null,false]
[null,2007,"Qty",null,null,null,null,null,null,null,null,null,null,null,null,null,0,null,null,false,false,null,false]
[null,2006,"Qty",null,null,null,null,null,null,null,null,null,null,null,null,null,0,null,null,false,false,null,false]
[null,2005,"Qty",null,null,null,null,null,null,null,null,null,null,null,null,null,0,null,null,false,false,null,false]
[null,null,null,null,null,null,null,null,null,null,null,null,null,null,null,null,null,null,null,false,null,null,false]
[null,"Relevant Variables",null,null,null,"UNIT","Notes",null,null,null,null,null,null,null,null,null,null,null,null,{"$f":"VLOOKUP(B328,$T$5:$U$24,2,)","v":false},null,null,{"$f":"AND(S327:V327)","v":false}]
["back to top",{"$f":"B298+1","v":11},{"$f":"VLOOKUP(B328,$B$5:$F$24,2,)","v":""},null,null,{"$f":"VLOOKUP(B328,$B$5:$G$24,5,)","v":""},{"$f":"VLOOKUP(B328,$B$5:$G$24,6,)","v":""},null,null,null,null,null,null,null,null,null,null,null,null,{"$f":"T327","v":false},null,null,{"$f":"AND(S328:V328)","v":false}]
[null,null,null,null,null,null,null,null,null,null,null,null,null,null,null,null,null,null,null,{"$f":"T328","v":false},null,null,false]
[null,null,null,{"$f":"D300","v":"Jan"},{"$f":"E300","v":"Feb"},"Mar","Apr","May","Jun","Jul","Aug","Sep","Oct","Nov","Dec",null,"YEAR",null,null,{"$f":"T329","v":false},null,null,false]
[null,{"$f":"FinalYear","v":2029},"Qty",null,null,null,null,null,null,null,null,null,null,null,null,null,{"$f":"SUM(D331:O331)","v":0},null,null,{"$f":"T330","v":false},{"$f":"AND(B331<=ReportingYear,B331>=BaselineYear)","v":false},null,false]
[null,{"$f":"B331-1","v":2028},"Qty",null,null,null,null,null,null,null,null,null,null,null,null,null,0,null,null,{"$f":"T331","v":false},false,null,false]
[null,{"$f":"B332-1","v":2027},"Qty",null,null,null,null,null,null,null,null,null,null,null,null,null,0,null,null,{"$f":"T332","v":false},false,null,false]
[null,2026,"Qty",null,null,null,null,null,null,null,null,null,null,null,null,null,0,null,null,false,false,null,false]
[null,2025,"Qty",null,null,null,null,null,null,null,null,null,null,null,null,null,0,null,null,false,false,null,false]
[null,2024,"Qty",null,null,null,null,null,null,null,null,null,null,null,null,null,0,null,null,false,false,null,false]
[null,2023,"Qty",null,null,null,null,null,null,null,null,null,null,null,null,null,0,null,null,false,false,null,false]
[null,2022,"Qty",null,null,null,null,null,null,null,null,null,null,null,null,null,0,null,null,false,false,null,false]
[null,2021,"Qty",null,null,null,null,null,null,null,null,null,null,null,null,null,0,null,null,false,true,null,false]
[null,2020,"Qty",null,null,null,null,null,null,null,null,null,null,null,null,null,0,null,null,false,true,null,false]
[null,2019,"Qty",null,null,null,null,null,null,null,null,null,null,null,null,null,0,null,null,false,false,null,false]
[null,2018,"Qty",null,null,null,null,null,null,null,null,null,null,null,null,null,0,null,null,false,false,null,false]
[null,2017,"Qty",null,null,null,null,null,null,null,null,null,null,null,null,null,0,null,null,false,false,null,false]
[null,2016,"Qty",null,null,null,null,null,null,null,null,null,null,null,null,null,0,null,null,false,false,null,false]
[null,2015,"Qty",null,null,null,null,null,null,null,null,null,null,null,null,null,0,null,null,false,false,null,false]
[null,2014,"Qty",null,null,null,null,null,null,null,null,null,null,null,null,null,0,null,null,{"$f":"T335","v":false},false,null,false]
[null,2013,"Qty",null,null,null,null,null,null,null,null,null,null,null,null,null,0,null,null,false,false,null,false]
[null,2012,"Qty",null,null,null,null,null,null,null,null,null,null,null,null,null,0,null,null,false,false,null,false]
[null,2011,"Qty",null,null,null,null,null,null,null,null,null,null,null,null,null,0,null,null,false,false,null,false]
[null,2010,"Qty",null,null,null,null,null,null,null,null,null,null,null,null,null,0,null,null,false,false,null,false]
[null,2009,"Qty",null,null,null,null,null,null,null,null,null,null,null,null,null,0,null,null,false,false,null,false]
[null,2008,"Qty",null,null,null,null,null,null,null,null,null,null,null,null,null,0,null,null,false,false,null,false]
[null,2007,"Qty",null,null,null,null,null,null,null,null,null,null,null,null,null,0,null,null,false,false,null,false]
[null,2006,"Qty",null,null,null,null,null,null,null,null,null,null,null,null,null,0,null,null,false,false,null,false]
[null,2005,"Qty",null,null,null,null,null,null,null,null,null,null,null,null,null,0,null,null,false,false,null,false]
[null,null,null,null,null,null,null,null,null,null,null,null,null,null,null,null,null,null,null,false,null,null,false]
[null,"Relevant Variables",null,null,null,"UNIT","Notes",null,null,null,null,null,null,null,null,null,null,null,null,{"$f":"VLOOKUP(B358,$T$5:$U$24,2,)","v":false},null,null,{"$f":"AND(S357:V357)","v":false}]
["back to top",{"$f":"B328+1","v":12},{"$f":"VLOOKUP(B358,$B$5:$F$24,2,)","v":""},null,null,{"$f":"VLOOKUP(B358,$B$5:$G$24,5,)","v":""},{"$f":"VLOOKUP(B358,$B$5:$G$24,6,)","v":""},null,null,null,null,null,null,null,null,null,null,null,null,{"$f":"T357","v":false},null,null,{"$f":"AND(S358:V358)","v":false}]
[null,null,null,null,null,null,null,null,null,null,null,null,null,null,null,null,null,null,null,{"$f":"T358","v":false},null,null,false]
[null,null,null,{"$f":"D330","v":"Jan"},{"$f":"E330","v":"Feb"},"Mar","Apr","May","Jun","Jul","Aug","Sep","Oct","Nov","Dec",null,"YEAR",null,null,{"$f":"T359","v":false},null,null,false]
[null,{"$f":"FinalYear","v":2029},"Qty",null,null,null,null,null,null,null,null,null,null,null,null,null,{"$f":"SUM(D361:O361)","v":0},null,null,{"$f":"T360","v":false},{"$f":"AND(B361<=ReportingYear,B361>=BaselineYear)","v":false},null,false]
[null,{"$f":"B361-1","v":2028},"Qty",null,null,null,null,null,null,null,null,null,null,null,null,null,0,null,null,{"$f":"T361","v":false},false,null,false]
[null,{"$f":"B362-1","v":2027},"Qty",null,null,null,null,null,null,null,null,null,null,null,null,null,0,null,null,{"$f":"T362","v":false},false,null,false]
[null,2026,"Qty",null,null,null,null,null,null,null,null,null,null,null,null,null,0,null,null,false,false,null,false]
[null,2025,"Qty",null,null,null,null,null,null,null,null,null,null,null,null,null,0,null,null,false,false,null,false]
[null,2024,"Qty",null,null,null,null,null,null,null,null,null,null,null,null,null,0,null,null,false,false,null,false]
[null,2023,"Qty",null,null,null,null,null,null,null,null,null,null,null,null,null,0,null,null,false,false,null,false]
[null,2022,"Qty",null,null,null,null,null,null,null,null,null,null,null,null,null,0,null,null,false,false,null,false]
[null,2021,"Qty",null,null,null,null,null,null,null,null,null,null,null,null,null,0,null,null,false,true,null,false]
[null,2020,"Qty",null,null,null,null,null,null,null,null,null,null,null,null,null,0,null,null,false,true,null,false]
[null,2019,"Qty",null,null,null,null,null,null,null,null,null,null,null,null,null,0,null,null,false,false,null,false]
[null,2018,"Qty",null,null,null,null,null,null,null,null,null,null,null,null,null,0,null,null,false,false,null,false]
[null,2017,"Qty",null,null,null,null,null,null,null,null,null,null,null,null,null,0,null,null,false,false,null,false]
[null,2016,"Qty",null,null,null,null,null,null,null,null,null,null,null,null,null,0,null,null,false,false,null,false]
[null,2015,"Qty",null,null,null,null,null,null,null,null,null,null,null,null,null,0,null,null,false,false,null,false]
[null,2014,"Qty",null,null,null,null,null,null,null,null,null,null,null,null,null,0,null,null,{"$f":"T365","v":false},false,null,false]
[null,2013,"Qty",null,null,null,null,null,null,null,null,null,null,null,null,null,0,null,null,false,false,null,false]
[null,2012,"Qty",null,null,null,null,null,null,null,null,null,null,null,null,null,0,null,null,false,false,null,false]
[null,2011,"Qty",null,null,null,null,null,null,null,null,null,null,null,null,null,0,null,null,false,false,null,false]
[null,2010,"Qty",null,null,null,null,null,null,null,null,null,null,null,null,null,0,null,null,false,false,null,false]
[null,2009,"Qty",null,null,null,null,null,null,null,null,null,null,null,null,null,0,null,null,false,false,null,false]
[null,2008,"Qty",null,null,null,null,null,null,null,null,null,null,null,null,null,0,null,null,false,false,null,false]
[null,2007,"Qty",null,null,null,null,null,null,null,null,null,null,null,null,null,0,null,null,false,false,null,false]
[null,2006,"Qty",null,null,null,null,null,null,null,null,null,null,null,null,null,0,null,null,false,false,null,false]
[null,2005,"Qty",null,null,null,null,null,null,null,null,null,null,null,null,null,0,null,null,false,false,null,false]
[null,null,null,null,null,null,null,null,null,null,null,null,null,null,null,null,null,null,null,false,null,null,false]
[null,"Relevant Variables",null,null,null,"UNIT","Notes",null,null,null,null,null,null,null,null,null,null,null,null,{"$f":"VLOOKUP(B388,$T$5:$U$24,2,)","v":false},null,null,{"$f":"AND(S387:V387)","v":false}]
["back to top",{"$f":"B358+1","v":13},{"$f":"VLOOKUP(B388,$B$5:$F$24,2,)","v":""},null,null,{"$f":"VLOOKUP(B388,$B$5:$G$24,5,)","v":""},{"$f":"VLOOKUP(B388,$B$5:$G$24,6,)","v":""},null,null,null,null,null,null,null,null,null,null,null,null,{"$f":"T387","v":false},null,null,{"$f":"AND(S388:V388)","v":false}]
[null,null,null,null,null,null,null,null,null,null,null,null,null,null,null,null,null,null,null,{"$f":"T388","v":false},null,null,false]
[null,null,null,{"$f":"D360","v":"Jan"},{"$f":"E360","v":"Feb"},"Mar","Apr","May","Jun","Jul","Aug","Sep","Oct","Nov","Dec",null,"YEAR",null,null,{"$f":"T389","v":false},null,null,false]
[null,{"$f":"FinalYear","v":2029},"Qty",null,null,null,null,null,null,null,null,null,null,null,null,null,{"$f":"SUM(D391:O391)","v":0},null,null,{"$f":"T390","v":false},{"$f":"AND(B391<=ReportingYear,B391>=BaselineYear)","v":false},null,false]
[null,{"$f":"B391-1","v":2028},"Qty",null,null,null,null,null,null,null,null,null,null,null,null,null,0,null,null,{"$f":"T391","v":false},false,null,false]
[null,{"$f":"B392-1","v":2027},"Qty",null,null,null,null,null,null,null,null,null,null,null,null,null,0,null,null,{"$f":"T392","v":false},false,null,false]
[null,2026,"Qty",null,null,null,null,null,null,null,null,null,null,null,null,null,0,null,null,false,false,null,false]
[null,2025,"Qty",null,null,null,null,null,null,null,null,null,null,null,null,null,0,null,null,false,false,null,false]
[null,2024,"Qty",null,null,null,null,null,null,null,null,null,null,null,null,null,0,null,null,false,false,null,false]
[null,2023,"Qty",null,null,null,null,null,null,null,null,null,null,null,null,null,0,null,null,false,false,null,false]
[null,2022,"Qty",null,null,null,null,null,null,null,null,null,null,null,null,null,0,null,null,false,false,null,false]
[null,2021,"Qty",null,null,null,null,null,null,null,null,null,null,null,null,null,0,null,null,false,true,null,false]
[null,2020,"Qty",null,null,null,null,null,null,null,null,null,null,null,null,null,0,null,null,false,true,null,false]
[null,2019,"Qty",null,null,null,null,null,null,null,null,null,null,null,null,null,0,null,null,false,false,null,false]
[null,2018,"Qty",null,null,null,null,null,null,null,null,null,null,null,null,null,0,null,null,false,false,null,false]
[null,2017,"Qty",null,null,null,null,null,null,null,null,null,null,null,null,null,0,null,null,false,false,null,false]
[null,2016,"Qty",null,null,null,null,null,null,null,null,null,null,null,null,null,0,null,null,false,false,null,false]
[null,2015,"Qty",null,null,null,null,null,null,null,null,null,null,null,null,null,0,null,null,false,false,null,false]
[null,2014,"Qty",null,null,null,null,null,null,null,null,null,null,null,null,null,0,null,null,{"$f":"T395","v":false},false,null,false]
[null,2013,"Qty",null,null,null,null,null,null,null,null,null,null,null,null,null,0,null,null,false,false,null,false]
[null,2012,"Qty",null,null,null,null,null,null,null,null,null,null,null,null,null,0,null,null,false,false,null,false]
[null,2011,"Qty",null,null,null,null,null,null,null,null,null,null,null,null,null,0,null,null,false,false,null,false]
[null,2010,"Qty",null,null,null,null,null,null,null,null,null,null,null,null,null,0,null,null,false,false,null,false]
[null,2009,"Qty",null,null,null,null,null,null,null,null,null,null,null,null,null,0,null,null,false,false,null,false]
[null,2008,"Qty",null,null,null,null,null,null,null,null,null,null,null,null,null,0,null,null,false,false,null,false]
[null,2007,"Qty",null,null,null,null,null,null,null,null,null,null,null,null,null,0,null,null,false,false,null,false]
[null,2006,"Qty",null,null,null,null,null,null,null,null,null,null,null,null,null,0,null,null,false,false,null,false]
[null,2005,"Qty",null,null,null,null,null,null,null,null,null,null,null,null,null,0,null,null,false,false,null,false]
[null,null,null,null,null,null,null,null,null,null,null,null,null,null,null,null,null,null,null,false,null,null,false]
[null,"Relevant Variables",null,null,null,"UNIT","Notes",null,null,null,null,null,null,null,null,null,null,null,null,{"$f":"VLOOKUP(B418,$T$5:$U$24,2,)","v":false},null,null,{"$f":"AND(S417:V417)","v":false}]
["back to top",{"$f":"B388+1","v":14},{"$f":"VLOOKUP(B418,$B$5:$F$24,2,)","v":""},null,null,{"$f":"VLOOKUP(B418,$B$5:$G$24,5,)","v":""},{"$f":"VLOOKUP(B418,$B$5:$G$24,6,)","v":""},null,null,null,null,null,null,null,null,null,null,null,null,{"$f":"T417","v":false},null,null,{"$f":"AND(S418:V418)","v":false}]
[null,null,null,null,null,null,null,null,null,null,null,null,null,null,null,null,null,null,null,{"$f":"T418","v":false},null,null,false]
[null,null,null,{"$f":"D390","v":"Jan"},{"$f":"E390","v":"Feb"},"Mar","Apr","May","Jun","Jul","Aug","Sep","Oct","Nov","Dec",null,"YEAR",null,null,{"$f":"T419","v":false},null,null,false]
[null,{"$f":"FinalYear","v":2029},"Qty",null,null,null,null,null,null,null,null,null,null,null,null,null,{"$f":"SUM(D421:O421)","v":0},null,null,{"$f":"T420","v":false},{"$f":"AND(B421<=ReportingYear,B421>=BaselineYear)","v":false},null,false]
[null,{"$f":"B421-1","v":2028},"Qty",null,null,null,null,null,null,null,null,null,null,null,null,null,0,null,null,{"$f":"T421","v":false},false,null,false]
[null,{"$f":"B422-1","v":2027},"Qty",null,null,null,null,null,null,null,null,null,null,null,null,null,0,null,null,{"$f":"T422","v":false},false,null,false]
[null,2026,"Qty",null,null,null,null,null,null,null,null,null,null,null,null,null,0,null,null,false,false,null,false]
[null,2025,"Qty",null,null,null,null,null,null,null,null,null,null,null,null,null,0,null,null,false,false,null,false]
[null,2024,"Qty",null,null,null,null,null,null,null,null,null,null,null,null,null,0,null,null,false,false,null,false]
[null,2023,"Qty",null,null,null,null,null,null,null,null,null,null,null,null,null,0,null,null,false,false,null,false]
[null,2022,"Qty",null,null,null,null,null,null,null,null,null,null,null,null,null,0,null,null,false,false,null,false]
[null,2021,"Qty",null,null,null,null,null,null,null,null,null,null,null,null,null,0,null,null,false,true,null,false]
[null,2020,"Qty",null,null,null,null,null,null,null,null,null,null,null,null,null,0,null,null,false,true,null,false]
[null,2019,"Qty",null,null,null,null,null,null,null,null,null,null,null,null,null,0,null,null,false,false,null,false]
[null,2018,"Qty",null,null,null,null,null,null,null,null,null,null,null,null,null,0,null,null,false,false,null,false]
[null,2017,"Qty",null,null,null,null,null,null,null,null,null,null,null,null,null,0,null,null,false,false,null,false]
[null,2016,"Qty",null,null,null,null,null,null,null,null,null,null,null,null,null,0,null,null,false,false,null,false]
[null,2015,"Qty",null,null,null,null,null,null,null,null,null,null,null,null,null,0,null,null,false,false,null,false]
[null,2014,"Qty",null,null,null,null,null,null,null,null,null,null,null,null,null,0,null,null,{"$f":"T425","v":false},false,null,false]
[null,2013,"Qty",null,null,null,null,null,null,null,null,null,null,null,null,null,0,null,null,false,false,null,false]
[null,2012,"Qty",null,null,null,null,null,null,null,null,null,null,null,null,null,0,null,null,false,false,null,false]
[null,2011,"Qty",null,null,null,null,null,null,null,null,null,null,null,null,null,0,null,null,false,false,null,false]
[null,2010,"Qty",null,null,null,null,null,null,null,null,null,null,null,null,null,0,null,null,false,false,null,false]
[null,2009,"Qty",null,null,null,null,null,null,null,null,null,null,null,null,null,0,null,null,false,false,null,false]
[null,2008,"Qty",null,null,null,null,null,null,null,null,null,null,null,null,null,0,null,null,false,false,null,false]
[null,2007,"Qty",null,null,null,null,null,null,null,null,null,null,null,null,null,0,null,null,false,false,null,false]
[null,2006,"Qty",null,null,null,null,null,null,null,null,null,null,null,null,null,0,null,null,false,false,null,false]
[null,2005,"Qty",null,null,null,null,null,null,null,null,null,null,null,null,null,0,null,null,false,false,null,false]
[null,null,null,null,null,null,null,null,null,null,null,null,null,null,null,null,null,null,null,false,null,null,false]
[null,"Relevant Variables",null,null,null,"UNIT","Notes",null,null,null,null,null,null,null,null,null,null,null,null,{"$f":"VLOOKUP(B448,$T$5:$U$24,2,)","v":false},null,null,{"$f":"AND(S447:V447)","v":false}]
["back to top",{"$f":"B418+1","v":15},{"$f":"VLOOKUP(B448,$B$5:$F$24,2,)","v":""},null,null,{"$f":"VLOOKUP(B448,$B$5:$G$24,5,)","v":""},{"$f":"VLOOKUP(B448,$B$5:$G$24,6,)","v":""},null,null,null,null,null,null,null,null,null,null,null,null,{"$f":"T447","v":false},null,null,{"$f":"AND(S448:V448)","v":false}]
[null,null,null,null,null,null,null,null,null,null,null,null,null,null,null,null,null,null,null,{"$f":"T448","v":false},null,null,false]
[null,null,null,{"$f":"D420","v":"Jan"},{"$f":"E420","v":"Feb"},"Mar","Apr","May","Jun","Jul","Aug","Sep","Oct","Nov","Dec",null,"YEAR",null,null,{"$f":"T449","v":false},null,null,false]
[null,{"$f":"FinalYear","v":2029},"Qty",null,null,null,null,null,null,null,null,null,null,null,null,null,{"$f":"SUM(D451:O451)","v":0},null,null,{"$f":"T450","v":false},{"$f":"AND(B451<=ReportingYear,B451>=BaselineYear)","v":false},null,false]
[null,{"$f":"B451-1","v":2028},"Qty",null,null,null,null,null,null,null,null,null,null,null,null,null,0,null,null,{"$f":"T451","v":false},false,null,false]
[null,{"$f":"B452-1","v":2027},"Qty",null,null,null,null,null,null,null,null,null,null,null,null,null,0,null,null,{"$f":"T452","v":false},false,null,false]
[null,2026,"Qty",null,null,null,null,null,null,null,null,null,null,null,null,null,0,null,null,false,false,null,false]
[null,2025,"Qty",null,null,null,null,null,null,null,null,null,null,null,null,null,0,null,null,false,false,null,false]
[null,2024,"Qty",null,null,null,null,null,null,null,null,null,null,null,null,null,0,null,null,false,false,null,false]
[null,2023,"Qty",null,null,null,null,null,null,null,null,null,null,null,null,null,0,null,null,false,false,null,false]
[null,2022,"Qty",null,null,null,null,null,null,null,null,null,null,null,null,null,0,null,null,false,false,null,false]
[null,2021,"Qty",null,null,null,null,null,null,null,null,null,null,null,null,null,0,null,null,false,true,null,false]
[null,2020,"Qty",null,null,null,null,null,null,null,null,null,null,null,null,null,0,null,null,false,true,null,false]
[null,2019,"Qty",null,null,null,null,null,null,null,null,null,null,null,null,null,0,null,null,false,false,null,false]
[null,2018,"Qty",null,null,null,null,null,null,null,null,null,null,null,null,null,0,null,null,false,false,null,false]
[null,2017,"Qty",null,null,null,null,null,null,null,null,null,null,null,null,null,0,null,null,false,false,null,false]
[null,2016,"Qty",null,null,null,null,null,null,null,null,null,null,null,null,null,0,null,null,false,false,null,false]
[null,2015,"Qty",null,null,null,null,null,null,null,null,null,null,null,null,null,0,null,null,false,false,null,false]
[null,2014,"Qty",null,null,null,null,null,null,null,null,null,null,null,null,null,0,null,null,{"$f":"T455","v":false},false,null,false]
[null,2013,"Qty",null,null,null,null,null,null,null,null,null,null,null,null,null,0,null,null,false,false,null,false]
[null,2012,"Qty",null,null,null,null,null,null,null,null,null,null,null,null,null,0,null,null,false,false,null,false]
[null,2011,"Qty",null,null,null,null,null,null,null,null,null,null,null,null,null,0,null,null,false,false,null,false]
[null,2010,"Qty",null,null,null,null,null,null,null,null,null,null,null,null,null,0,null,null,false,false,null,false]
[null,2009,"Qty",null,null,null,null,null,null,null,null,null,null,null,null,null,0,null,null,false,false,null,false]
[null,2008,"Qty",null,null,null,null,null,null,null,null,null,null,null,null,null,0,null,null,false,false,null,false]
[null,2007,"Qty",null,null,null,null,null,null,null,null,null,null,null,null,null,0,null,null,false,false,null,false]
[null,2006,"Qty",null,null,null,null,null,null,null,null,null,null,null,null,null,0,null,null,false,false,null,false]
[null,2005,"Qty",null,null,null,null,null,null,null,null,null,null,null,null,null,0,null,null,false,false,null,false]
[null,null,null,null,null,null,null,null,null,null,null,null,null,null,null,null,null,null,null,false,null,null,false]
[null,"Relevant Variables",null,null,null,"UNIT","Notes",null,null,null,null,null,null,null,null,null,null,null,null,{"$f":"VLOOKUP(B478,$T$5:$U$24,2,)","v":false},null,null,{"$f":"AND(S477:V477)","v":false}]
["back to top",{"$f":"B448+1","v":16},{"$f":"VLOOKUP(B478,$B$5:$F$24,2,)","v":""},null,null,{"$f":"VLOOKUP(B478,$B$5:$G$24,5,)","v":""},{"$f":"VLOOKUP(B478,$B$5:$G$24,6,)","v":""},null,null,null,null,null,null,null,null,null,null,null,null,{"$f":"T477","v":false},null,null,{"$f":"AND(S478:V478)","v":false}]
[null,null,null,null,null,null,null,null,null,null,null,null,null,null,null,null,null,null,null,{"$f":"T478","v":false},null,null,false]
[null,null,null,{"$f":"D450","v":"Jan"},{"$f":"E450","v":"Feb"},"Mar","Apr","May","Jun","Jul","Aug","Sep","Oct","Nov","Dec",null,"YEAR",null,null,{"$f":"T479","v":false},null,null,false]
[null,{"$f":"FinalYear","v":2029},"Qty",null,null,null,null,null,null,null,null,null,null,null,null,null,{"$f":"SUM(D481:O481)","v":0},null,null,{"$f":"T480","v":false},{"$f":"AND(B481<=ReportingYear,B481>=BaselineYear)","v":false},null,false]
[null,{"$f":"B481-1","v":2028},"Qty",null,null,null,null,null,null,null,null,null,null,null,null,null,0,null,null,{"$f":"T481","v":false},false,null,false]
[null,{"$f":"B482-1","v":2027},"Qty",null,null,null,null,null,null,null,null,null,null,null,null,null,0,null,null,{"$f":"T482","v":false},false,null,false]
[null,2026,"Qty",null,null,null,null,null,null,null,null,null,null,null,null,null,0,null,null,false,false,null,false]
[null,2025,"Qty",null,null,null,null,null,null,null,null,null,null,null,null,null,0,null,null,false,false,null,false]
[null,2024,"Qty",null,null,null,null,null,null,null,null,null,null,null,null,null,0,null,null,false,false,null,false]
[null,2023,"Qty",null,null,null,null,null,null,null,null,null,null,null,null,null,0,null,null,false,false,null,false]
[null,2022,"Qty",null,null,null,null,null,null,null,null,null,null,null,null,null,0,null,null,false,false,null,false]
[null,2021,"Qty",null,null,null,null,null,null,null,null,null,null,null,null,null,0,null,null,false,true,null,false]
[null,2020,"Qty",null,null,null,null,null,null,null,null,null,null,null,null,null,0,null,null,false,true,null,false]
[null,2019,"Qty",null,null,null,null,null,null,null,null,null,null,null,null,null,0,null,null,false,false,null,false]
[null,2018,"Qty",null,null,null,null,null,null,null,null,null,null,null,null,null,0,null,null,false,false,null,false]
[null,2017,"Qty",null,null,null,null,null,null,null,null,null,null,null,null,null,0,null,null,false,false,null,false]
[null,2016,"Qty",null,null,null,null,null,null,null,null,null,null,null,null,null,0,null,null,false,false,null,false]
[null,2015,"Qty",null,null,null,null,null,null,null,null,null,null,null,null,null,0,null,null,false,false,null,false]
[null,2014,"Qty",null,null,null,null,null,null,null,null,null,null,null,null,null,0,null,null,{"$f":"T485","v":false},false,null,false]
[null,2013,"Qty",null,null,null,null,null,null,null,null,null,null,null,null,null,0,null,null,false,false,null,false]
[null,2012,"Qty",null,null,null,null,null,null,null,null,null,null,null,null,null,0,null,null,false,false,null,false]
[null,2011,"Qty",null,null,null,null,null,null,null,null,null,null,null,null,null,0,null,null,false,false,null,false]
[null,2010,"Qty",null,null,null,null,null,null,null,null,null,null,null,null,null,0,null,null,false,false,null,false]
[null,2009,"Qty",null,null,null,null,null,null,null,null,null,null,null,null,null,0,null,null,false,false,null,false]
[null,2008,"Qty",null,null,null,null,null,null,null,null,null,null,null,null,null,0,null,null,false,false,null,false]
[null,2007,"Qty",null,null,null,null,null,null,null,null,null,null,null,null,null,0,null,null,false,false,null,false]
[null,2006,"Qty",null,null,null,null,null,null,null,null,null,null,null,null,null,0,null,null,false,false,null,false]
[null,2005,"Qty",null,null,null,null,null,null,null,null,null,null,null,null,null,0,null,null,false,false,null,false]
[null,null,null,null,null,null,null,null,null,null,null,null,null,null,null,null,null,null,null,false,null,null,false]
[null,"Relevant Variables",null,null,null,"UNIT","Notes",null,null,null,null,null,null,null,null,null,null,null,null,{"$f":"VLOOKUP(B508,$T$5:$U$24,2,)","v":false},null,null,{"$f":"AND(S507:V507)","v":false}]
["back to top",{"$f":"B478+1","v":17},{"$f":"VLOOKUP(B508,$B$5:$F$24,2,)","v":""},null,null,{"$f":"VLOOKUP(B508,$B$5:$G$24,5,)","v":""},{"$f":"VLOOKUP(B508,$B$5:$G$24,6,)","v":""},null,null,null,null,null,null,null,null,null,null,null,null,{"$f":"T507","v":false},null,null,{"$f":"AND(S508:V508)","v":false}]
[null,null,null,null,null,null,null,null,null,null,null,null,null,null,null,null,null,null,null,{"$f":"T508","v":false},null,null,false]
[null,null,null,{"$f":"D480","v":"Jan"},{"$f":"E480","v":"Feb"},"Mar","Apr","May","Jun","Jul","Aug","Sep","Oct","Nov","Dec",null,"YEAR",null,null,{"$f":"T509","v":false},null,null,false]
[null,{"$f":"FinalYear","v":2029},"Qty",null,null,null,null,null,null,null,null,null,null,null,null,null,{"$f":"SUM(D511:O511)","v":0},null,null,{"$f":"T510","v":false},{"$f":"AND(B511<=ReportingYear,B511>=BaselineYear)","v":false},null,false]
[null,{"$f":"B511-1","v":2028},"Qty",null,null,null,null,null,null,null,null,null,null,null,null,null,0,null,null,{"$f":"T511","v":false},false,null,false]
[null,{"$f":"B512-1","v":2027},"Qty",null,null,null,null,null,null,null,null,null,null,null,null,null,0,null,null,{"$f":"T512","v":false},false,null,false]
[null,2026,"Qty",null,null,null,null,null,null,null,null,null,null,null,null,null,0,null,null,false,false,null,false]
[null,2025,"Qty",null,null,null,null,null,null,null,null,null,null,null,null,null,0,null,null,false,false,null,false]
[null,2024,"Qty",null,null,null,null,null,null,null,null,null,null,null,null,null,0,null,null,false,false,null,false]
[null,2023,"Qty",null,null,null,null,null,null,null,null,null,null,null,null,null,0,null,null,false,false,null,false]
[null,2022,"Qty",null,null,null,null,null,null,null,null,null,null,null,null,null,0,null,null,false,false,null,false]
[null,2021,"Qty",null,null,null,null,null,null,null,null,null,null,null,null,null,0,null,null,false,true,null,false]
[null,2020,"Qty",null,null,null,null,null,null,null,null,null,null,null,null,null,0,null,null,false,true,null,false]
[null,2019,"Qty",null,null,null,null,null,null,null,null,null,null,null,null,null,0,null,null,false,false,null,false]
[null,2018,"Qty",null,null,null,null,null,null,null,null,null,null,null,null,null,0,null,null,false,false,null,false]
[null,2017,"Qty",null,null,null,null,null,null,null,null,null,null,null,null,null,0,null,null,false,false,null,false]
[null,2016,"Qty",null,null,null,null,null,null,null,null,null,null,null,null,null,0,null,null,false,false,null,false]
[null,2015,"Qty",null,null,null,null,null,null,null,null,null,null,null,null,null,0,null,null,false,false,null,false]
[null,2014,"Qty",null,null,null,null,null,null,null,null,null,null,null,null,null,0,null,null,{"$f":"T515","v":false},false,null,false]
[null,2013,"Qty",null,null,null,null,null,null,null,null,null,null,null,null,null,0,null,null,false,false,null,false]
[null,2012,"Qty",null,null,null,null,null,null,null,null,null,null,null,null,null,0,null,null,false,false,null,false]
[null,2011,"Qty",null,null,null,null,null,null,null,null,null,null,null,null,null,0,null,null,false,false,null,false]
[null,2010,"Qty",null,null,null,null,null,null,null,null,null,null,null,null,null,0,null,null,false,false,null,false]
[null,2009,"Qty",null,null,null,null,null,null,null,null,null,null,null,null,null,0,null,null,false,false,null,false]
[null,2008,"Qty",null,null,null,null,null,null,null,null,null,null,null,null,null,0,null,null,false,false,null,false]
[null,2007,"Qty",null,null,null,null,null,null,null,null,null,null,null,null,null,0,null,null,false,false,null,false]
[null,2006,"Qty",null,null,null,null,null,null,null,null,null,null,null,null,null,0,null,null,false,false,null,false]
[null,2005,"Qty",null,null,null,null,null,null,null,null,null,null,null,null,null,0,null,null,false,false,null,false]
[null,null,null,null,null,null,null,null,null,null,null,null,null,null,null,null,null,null,null,false,null,null,false]
[null,"Relevant Variables",null,null,null,"UNIT","Notes",null,null,null,null,null,null,null,null,null,null,null,null,{"$f":"VLOOKUP(B538,$T$5:$U$24,2,)","v":false},null,null,{"$f":"AND(S537:V537)","v":false}]
["back to top",{"$f":"B508+1","v":18},{"$f":"VLOOKUP(B538,$B$5:$F$24,2,)","v":""},null,null,{"$f":"VLOOKUP(B538,$B$5:$G$24,5,)","v":""},{"$f":"VLOOKUP(B538,$B$5:$G$24,6,)","v":""},null,null,null,null,null,null,null,null,null,null,null,null,{"$f":"T537","v":false},null,null,{"$f":"AND(S538:V538)","v":false}]
[null,null,null,null,null,null,null,null,null,null,null,null,null,null,null,null,null,null,null,{"$f":"T538","v":false},null,null,false]
[null,null,null,{"$f":"D510","v":"Jan"},{"$f":"E510","v":"Feb"},"Mar","Apr","May","Jun","Jul","Aug","Sep","Oct","Nov","Dec",null,"YEAR",null,null,{"$f":"T539","v":false},null,null,false]
[null,{"$f":"FinalYear","v":2029},"Qty",null,null,null,null,null,null,null,null,null,null,null,null,null,{"$f":"SUM(D541:O541)","v":0},null,null,{"$f":"T540","v":false},{"$f":"AND(B541<=ReportingYear,B541>=BaselineYear)","v":false},null,false]
[null,{"$f":"B541-1","v":2028},"Qty",null,null,null,null,null,null,null,null,null,null,null,null,null,0,null,null,{"$f":"T541","v":false},false,null,false]
[null,{"$f":"B542-1","v":2027},"Qty",null,null,null,null,null,null,null,null,null,null,null,null,null,0,null,null,{"$f":"T542","v":false},false,null,false]
[null,2026,"Qty",null,null,null,null,null,null,null,null,null,null,null,null,null,0,null,null,false,false,null,false]
[null,2025,"Qty",null,null,null,null,null,null,null,null,null,null,null,null,null,0,null,null,false,false,null,false]
[null,2024,"Qty",null,null,null,null,null,null,null,null,null,null,null,null,null,0,null,null,false,false,null,false]
[null,2023,"Qty",null,null,null,null,null,null,null,null,null,null,null,null,null,0,null,null,false,false,null,false]
[null,2022,"Qty",null,null,null,null,null,null,null,null,null,null,null,null,null,0,null,null,false,false,null,false]
[null,2021,"Qty",null,null,null,null,null,null,null,null,null,null,null,null,null,0,null,null,false,true,null,false]
[null,2020,"Qty",null,null,null,null,null,null,null,null,null,null,null,null,null,0,null,null,false,true,null,false]
[null,2019,"Qty",null,null,null,null,null,null,null,null,null,null,null,null,null,0,null,null,false,false,null,false]
[null,2018,"Qty",null,null,null,null,null,null,null,null,null,null,null,null,null,0,null,null,false,false,null,false]
[null,2017,"Qty",null,null,null,null,null,null,null,null,null,null,null,null,null,0,null,null,false,false,null,false]
[null,2016,"Qty",null,null,null,null,null,null,null,null,null,null,null,null,null,0,null,null,false,false,null,false]
[null,2015,"Qty",null,null,null,null,null,null,null,null,null,null,null,null,null,0,null,null,false,false,null,false]
[null,2014,"Qty",null,null,null,null,null,null,null,null,null,null,null,null,null,0,null,null,{"$f":"T545","v":false},false,null,false]
[null,2013,"Qty",null,null,null,null,null,null,null,null,null,null,null,null,null,0,null,null,false,false,null,false]
[null,2012,"Qty",null,null,null,null,null,null,null,null,null,null,null,null,null,0,null,null,false,false,null,false]
[null,2011,"Qty",null,null,null,null,null,null,null,null,null,null,null,null,null,0,null,null,false,false,null,false]
[null,2010,"Qty",null,null,null,null,null,null,null,null,null,null,null,null,null,0,null,null,false,false,null,false]
[null,2009,"Qty",null,null,null,null,null,null,null,null,null,null,null,null,null,0,null,null,false,false,null,false]
[null,2008,"Qty",null,null,null,null,null,null,null,null,null,null,null,null,null,0,null,null,false,false,null,false]
[null,2007,"Qty",null,null,null,null,null,null,null,null,null,null,null,null,null,0,null,null,false,false,null,false]
[null,2006,"Qty",null,null,null,null,null,null,null,null,null,null,null,null,null,0,null,null,false,false,null,false]
[null,2005,"Qty",null,null,null,null,null,null,null,null,null,null,null,null,null,0,null,null,false,false,null,false]
[null,null,null,null,null,null,null,null,null,null,null,null,null,null,null,null,null,null,null,false,null,null,false]
[null,"Relevant Variables",null,null,null,"UNIT","Notes",null,null,null,null,null,null,null,null,null,null,null,null,{"$f":"VLOOKUP(B568,$T$5:$U$24,2,)","v":false},null,null,{"$f":"AND(S567:V567)","v":false}]
["back to top",{"$f":"B538+1","v":19},{"$f":"VLOOKUP(B568,$B$5:$F$24,2,)","v":""},null,null,{"$f":"VLOOKUP(B568,$B$5:$G$24,5,)","v":""},{"$f":"VLOOKUP(B568,$B$5:$G$24,6,)","v":""},null,null,null,null,null,null,null,null,null,null,null,null,{"$f":"T567","v":false},null,null,{"$f":"AND(S568:V568)","v":false}]
[null,null,null,null,null,null,null,null,null,null,null,null,null,null,null,null,null,null,null,{"$f":"T568","v":false},null,null,false]
[null,null,null,{"$f":"D540","v":"Jan"},{"$f":"E540","v":"Feb"},"Mar","Apr","May","Jun","Jul","Aug","Sep","Oct","Nov","Dec",null,"YEAR",null,null,{"$f":"T569","v":false},null,null,false]
[null,{"$f":"FinalYear","v":2029},"Qty",null,null,null,null,null,null,null,null,null,null,null,null,null,{"$f":"SUM(D571:O571)","v":0},null,null,{"$f":"T570","v":false},{"$f":"AND(B571<=ReportingYear,B571>=BaselineYear)","v":false},null,false]
[null,{"$f":"B571-1","v":2028},"Qty",null,null,null,null,null,null,null,null,null,null,null,null,null,0,null,null,{"$f":"T571","v":false},false,null,false]
[null,{"$f":"B572-1","v":2027},"Qty",null,null,null,null,null,null,null,null,null,null,null,null,null,0,null,null,{"$f":"T572","v":false},false,null,false]
[null,2026,"Qty",null,null,null,null,null,null,null,null,null,null,null,null,null,0,null,null,false,false,null,false]
[null,2025,"Qty",null,null,null,null,null,null,null,null,null,null,null,null,null,0,null,null,false,false,null,false]
[null,2024,"Qty",null,null,null,null,null,null,null,null,null,null,null,null,null,0,null,null,false,false,null,false]
[null,2023,"Qty",null,null,null,null,null,null,null,null,null,null,null,null,null,0,null,null,false,false,null,false]
[null,2022,"Qty",null,null,null,null,null,null,null,null,null,null,null,null,null,0,null,null,false,false,null,false]
[null,2021,"Qty",null,null,null,null,null,null,null,null,null,null,null,null,null,0,null,null,false,true,null,false]
[null,2020,"Qty",null,null,null,null,null,null,null,null,null,null,null,null,null,0,null,null,false,true,null,false]
[null,2019,"Qty",null,null,null,null,null,null,null,null,null,null,null,null,null,0,null,null,false,false,null,false]
[null,2018,"Qty",null,null,null,null,null,null,null,null,null,null,null,null,null,0,null,null,false,false,null,false]
[null,2017,"Qty",null,null,null,null,null,null,null,null,null,null,null,null,null,0,null,null,false,false,null,false]
[null,2016,"Qty",null,null,null,null,null,null,null,null,null,null,null,null,null,0,null,null,false,false,null,false]
[null,2015,"Qty",null,null,null,null,null,null,null,null,null,null,null,null,null,0,null,null,false,false,null,false]
[null,2014,"Qty",null,null,null,null,null,null,null,null,null,null,null,null,null,0,null,null,{"$f":"T575","v":false},false,null,false]
[null,2013,"Qty",null,null,null,null,null,null,null,null,null,null,null,null,null,0,null,null,false,false,null,false]
[null,2012,"Qty",null,null,null,null,null,null,null,null,null,null,null,null,null,0,null,null,false,false,null,false]
[null,2011,"Qty",null,null,null,null,null,null,null,null,null,null,null,null,null,0,null,null,false,false,null,false]
[null,2010,"Qty",null,null,null,null,null,null,null,null,null,null,null,null,null,0,null,null,false,false,null,false]
[null,2009,"Qty",null,null,null,null,null,null,null,null,null,null,null,null,null,0,null,null,false,false,null,false]
[null,2008,"Qty",null,null,null,null,null,null,null,null,null,null,null,null,null,0,null,null,false,false,null,false]
[null,2007,"Qty",null,null,null,null,null,null,null,null,null,null,null,null,null,0,null,null,false,false,null,false]
[null,2006,"Qty",null,null,null,null,null,null,null,null,null,null,null,null,null,0,null,null,false,false,null,false]
[null,2005,"Qty",null,null,null,null,null,null,null,null,null,null,null,null,null,0,null,null,false,false,null,false]
[null,null,null,null,null,null,null,null,null,null,null,null,null,null,null,null,null,null,null,false,null,null,false]
[null,"Relevant Variables",null,null,null,"UNIT","Notes",null,null,null,null,null,null,null,null,null,null,null,null,{"$f":"VLOOKUP(B598,$T$5:$U$24,2,)","v":false},null,null,{"$f":"AND(S597:V597)","v":false}]
["back to top",{"$f":"B568+1","v":20},{"$f":"VLOOKUP(B598,$B$5:$F$24,2,)","v":""},null,null,{"$f":"VLOOKUP(B598,$B$5:$G$24,5,)","v":""},{"$f":"VLOOKUP(B598,$B$5:$G$24,6,)","v":""},null,null,null,null,null,null,null,null,null,null,null,null,{"$f":"T597","v":false},null,null,{"$f":"AND(S598:V598)","v":false}]
[null,null,null,null,null,null,null,null,null,null,null,null,null,null,null,null,null,null,null,{"$f":"T598","v":false},null,null,false]
[null,null,null,{"$f":"D570","v":"Jan"},{"$f":"E570","v":"Feb"},"Mar","Apr","May","Jun","Jul","Aug","Sep","Oct","Nov","Dec",null,"YEAR",null,null,{"$f":"T599","v":false},null,null,false]
[null,{"$f":"FinalYear","v":2029},"Qty",null,null,null,null,null,null,null,null,null,null,null,null,null,{"$f":"SUM(D601:O601)","v":0},null,null,{"$f":"T600","v":false},{"$f":"AND(B601<=ReportingYear,B601>=BaselineYear)","v":false},null,false]
[null,{"$f":"B601-1","v":2028},"Qty",null,null,null,null,null,null,null,null,null,null,null,null,null,0,null,null,{"$f":"T601","v":false},false,null,false]
[null,{"$f":"B602-1","v":2027},"Qty",null,null,null,null,null,null,null,null,null,null,null,null,null,0,null,null,{"$f":"T602","v":false},false,null,false]
[null,2026,"Qty",null,null,null,null,null,null,null,null,null,null,null,null,null,0,null,null,false,false,null,false]
[null,2025,"Qty",null,null,null,null,null,null,null,null,null,null,null,null,null,0,null,null,false,false,null,false]
[null,2024,"Qty",null,null,null,null,null,null,null,null,null,null,null,null,null,0,null,null,false,false,null,false]
[null,2023,"Qty",null,null,null,null,null,null,null,null,null,null,null,null,null,0,null,null,false,false,null,false]
[null,2022,"Qty",null,null,null,null,null,null,null,null,null,null,null,null,null,0,null,null,false,false,null,false]
[null,2021,"Qty",null,null,null,null,null,null,null,null,null,null,null,null,null,0,null,null,false,true,null,false]
[null,2020,"Qty",null,null,null,null,null,null,null,null,null,null,null,null,null,0,null,null,false,true,null,false]
[null,2019,"Qty",null,null,null,null,null,null,null,null,null,null,null,null,null,0,null,null,false,false,null,false]
[null,2018,"Qty",null,null,null,null,null,null,null,null,null,null,null,null,null,0,null,null,false,false,null,false]
[null,2017,"Qty",null,null,null,null,null,null,null,null,null,null,null,null,null,0,null,null,false,false,null,false]
[null,2016,"Qty",null,null,null,null,null,null,null,null,null,null,null,null,null,0,null,null,false,false,null,false]
[null,2015,"Qty",null,null,null,null,null,null,null,null,null,null,null,null,null,0,null,null,false,false,null,false]
[null,2014,"Qty",null,null,null,null,null,null,null,null,null,null,null,null,null,0,null,null,{"$f":"T605","v":false},false,null,false]
[null,2013,"Qty",null,null,null,null,null,null,null,null,null,null,null,null,null,0,null,null,false,false,null,false]
[null,2012,"Qty",null,null,null,null,null,null,null,null,null,null,null,null,null,0,null,null,false,false,null,false]
[null,2011,"Qty",null,null,null,null,null,null,null,null,null,null,null,null,null,0,null,null,false,false,null,false]
[null,2010,"Qty",null,null,null,null,null,null,null,null,null,null,null,null,null,0,null,null,false,false,null,false]
[null,2009,"Qty",null,null,null,null,null,null,null,null,null,null,null,null,null,0,null,null,false,false,null,false]
[null,2008,"Qty",null,null,null,null,null,null,null,null,null,null,null,null,null,0,null,null,false,false,null,false]
[null,2007,"Qty",null,null,null,null,null,null,null,null,null,null,null,null,null,0,null,null,false,false,null,false]
[null,2006,"Qty",null,null,null,null,null,null,null,null,null,null,null,null,null,0,null,null,false,false,null,false]
[null,2005,"Qty",null,null,null,null,null,null,null,null,null,null,null,null,null,0,null,null,false,false,null,false]
[null,null,null,null,null,null,null,null,null,null,null,null,null,null,null,null,null,null,null,false,null,null,false]

{"sheet":"Raw Data","index":3,"n_rows":319,"n_cols":63,"rows_kept":319,"cut":false,"hidden":false,"merged":[]}
["The following is a list of all data entered into this tool (both visible and hidden)"]
[null,null,null,null,null,"--------------------------------------------------------------------------------"]
[null,null,null,null,null,"Current Year",{"$f":"ReportingYear","v":2021},null,null,null,null,null,"Plant Name ",{"$f":"Main!D7","v":0},null,null,"Model Selected",{"$f":"Customization!D4","v":"not set"}]
[null,null,null,null,null,"First Month",{"$f":"Main!E10","v":"Jan"},null,null,null,null,null,"Additional Details ",{"$f":"Main!D8","v":0}]
[null,null,null,null,null,"Number for Displayed Years",{"$f":"ReportingYear-BaselineYear+1","v":2},null,null,null,null,null,"Unit Used for Totals",{"$f":"Customization!D5","v":"not set"}]
[null,null,null,null,null,"--------------------------------------------------------------------------------"]
["DATA_START","RowNum",{"$f":"\"EC\"&C11&\"_cost\"","v":"EC1_cost"},{"$f":"\"EC\"&D11&\"_unit\"","v":"EC1_unit"},{"$f":"\"EC\"&E11&\"_cost\"","v":"EC2_cost"},{"$f":"\"EC\"&F11&\"_unit\"","v":"EC2_unit"},{"$f":"\"EC\"&G11&\"_cost\"","v":"EC3_cost"},{"$f":"\"EC\"&H11&\"_unit\"","v":"EC3_unit"},{"$f":"\"EC\"&I11&\"_cost\"","v":"EC4_cost"},{"$f":"\"EC\"&J11&\"_unit\"","v":"EC4_unit"},{"$f":"\"EC\"&K11&\"_cost\"","v":"EC5_cost"},{"$f":"\"EC\"&L11&\"_unit\"","v":"EC5_unit"},{"$f":"\"EC\"&M11&\"_cost\"","v":"EC6_cost"},{"$f":"\"EC\"&N11&\"_unit\"","v":"EC6_unit"},{"$f":"\"EC\"&O11&\"_cost\"","v":"EC7_cost"},{"$f":"\"EC\"&P11&\"_unit\"","v":"EC7_unit"},{"$f":"\"EC\"&Q11&\"_cost\"","v":"EC8_cost"},{"$f":"\"EC\"&R11&\"_unit\"","v":"EC8_unit"},{"$f":"\"EC\"&S11&\"_cost\"","v":"EC9_cost"},{"$f":"\"EC\"&T11&\"_unit\"","v":"EC9_unit"},{"$f":"\"EC\"&U11&\"_cost\"","v":"EC10_cost"},{"$f":"\"EC\"&V11&\"_unit\"","v":"EC10_unit"},{"$f":"\"EC\"&W11&\"_cost\"","v":"EC11_cost"},{"$f":"\"EC\"&X11&\"_unit\"","v":"EC11_unit"},{"$f":"\"EC\"&Y11&\"_cost\"","v":"EC12_cost"},{"$f":"\"EC\"&Z11&\"_unit\"","v":"EC12_unit"},{"$f":"\"EC\"&AA11&\"_cost\"","v":"EC13_cost"},{"$f":"\"EC\"&AB11&\"_unit\"","v":"EC13_unit"},{"$f":"\"EC\"&AC11&\"_cost\"","v":"EC14_cost"},{"$f":"\"EC\"&AD11&\"_unit\"","v":"EC14_unit"},{"$f":"\"EC\"&AE11&\"_cost\"","v":"EC15_cost"},{"$f":"\"EC\"&AF11&\"_unit\"","v":"EC15_unit"},{"$f":"\"EC\"&AG11&\"_cost\"","v":"EC16_cost"},{"$f":"\"EC\"&AH11&\"_unit\"","v":"EC16_unit"},{"$f":"\"EC\"&AI11&\"_cost\"","v":"EC17_cost"},{"$f":"\"EC\"&AJ11&\"_unit\"","v":"EC17_unit"},{"$f":"\"EC\"&AK11&\"_cost\"","v":"EC18_cost"},{"$f":"\"EC\"&AL11&\"_unit\"","v":"EC18_unit"},{"$f":"\"EC\"&AM11&\"_cost\"","v":"EC19_cost"},{"$f":"\"EC\"&AN11&\"_unit\"","v":"EC19_unit"},{"$f":"\"EC\"&AO11&\"_cost\"","v":"EC20_cost"},{"$f":"\"EC\"&AP11&\"_unit\"","v":"EC20_unit"},"space",{"$f":"\"RF\"&AR11&\"_unit\"","v":"RF_unit"},"RF_unit","RF_unit","RF_unit","RF_unit","RF_unit","RF_unit","RF_unit","RF_unit","RF_unit","RF_unit","RF_unit","RF_unit","RF_unit","RF_unit","RF_unit","RF_unit","RF_unit","RF_unit","RF_unit"]
[null,null,{"$f":"'Energy Consumption'!C28","v":"Electricity"},null,{"$f":"'Energy Consumption'!C110","v":""},null,{"$f":"'Energy Consumption'!C192","v":""},null,{"$f":"'Energy Consumption'!C274","v":""},null,{"$f":"'Energy Consumption'!C356","v":""},null,{"$f":"'Energy Consumption'!C438","v":""},null,{"$f":"'Energy Consumption'!C520","v":""},null,{"$f":"'Energy Consumption'!C602","v":""},null,{"$f":"'Energy Consumption'!C684","v":""},null,{"$f":"'Energy Consumption'!C766","v":""},null,{"$f":"'Energy Consumption'!C848","v":""},null,{"$f":"'Energy Consumption'!C930","v":""},null,{"$f":"'Energy Consumption'!C1012","v":""},null,{"$f":"'Energy Consumption'!C1094","v":""},null,{"$f":"'Energy Consumption'!C1176","v":""},null,{"$f":"'Energy Consumption'!C1258","v":""},null,{"$f":"'Energy Consumption'!C1340","v":""},null,{"$f":"'Energy Consumption'!C1422","v":""},null,{"$f":"'Energy Consumption'!C1504","v":""},null,{"$f":"'Energy Consumption'!C1586","v":""},null,null,{"$f":"'Relevant Variables'!C5","v":"Heating Degree Days"},{"$f":"'Relevant Variables'!C6","v":""},{"$f":"'Relevant Variables'!C7","v":""},{"$f":"'Relevant Variables'!C8","v":""},{"$f":"'Relevant Variables'!C9","v":""},{"$f":"'Relevant Variables'!C10","v":""},{"$f":"'Relevant Variables'!C11","v":""},{"$f":"'Relevant Variables'!C12","v":""},{"$f":"'Relevant Variables'!C13","v":""},{"$f":"'Relevant Variables'!C14","v":""},{"$f":"'Relevant Variables'!C15","v":""},{"$f":"'Relevant Variables'!C16","v":""},{"$f":"'Relevant Variables'!C17","v":""},{"$f":"'Relevant Variables'!C18","v":""},{"$f":"'Relevant Variables'!C19","v":""},{"$f":"'Relevant Variables'!C20","v":""},{"$f":"'Relevant Variables'!C21","v":""},{"$f":"'Relevant Variables'!C22","v":""},{"$f":"'Relevant Variables'!C23","v":""},{"$f":"'Relevant Variables'!C24","v":""}]
[null,null,{"$f":"'Energy Consumption'!G28","v":""},null,{"$f":"'Energy Consumption'!G110","v":""},null,{"$f":"'Energy Consumption'!G192","v":""},null,{"$f":"'Energy Consumption'!G274","v":""},null,{"$f":"'Energy Consumption'!G356","v":""},null,{"$f":"'Energy Consumption'!G438","v":""},null,{"$f":"'Energy Consumption'!G520","v":""},null,{"$f":"'Energy Consumption'!G602","v":""},null,{"$f":"'Energy Consumption'!G684","v":""},null,{"$f":"'Energy Consumption'!G766","v":""},null,{"$f":"'Energy Consumption'!G848","v":""},null,{"$f":"'Energy Consumption'!G930","v":""},null,{"$f":"'Energy Consumption'!G1012","v":""},null,{"$f":"'Energy Consumption'!G1094","v":""},null,{"$f":"'Energy Consumption'!G1176","v":""},null,{"$f":"'Energy Consumption'!G1258","v":""},null,{"$f":"'Energy Consumption'!G1340","v":""},null,{"$f":"'Energy Consumption'!G1422","v":""},null,{"$f":"'Energy Consumption'!G1504","v":""},null,{"$f":"'Energy Consumption'!G1586","v":""},null,null,{"$f":"'Relevant Variables'!G28","v":""},{"$f":"'Relevant Variables'!G110","v":0},{"$f":"'Relevant Variables'!G192","v":0},{"$f":"'Relevant Variables'!G274","v":0},{"$f":"'Relevant Variables'!G356","v":0},{"$f":"'Relevant Variables'!G438","v":0},{"$f":"'Relevant Variables'!G520","v":0},{"$f":"'Relevant Variables'!G602","v":0},{"$f":"'Relevant Variables'!G684","v":0},{"$f":"'Relevant Variables'!G766","v":0},{"$f":"'Relevant Variables'!G848","v":0},{"$f":"'Relevant Variables'!G930","v":0},{"$f":"'Relevant Variables'!G1012","v":0},{"$f":"'Relevant Variables'!G1094","v":0},{"$f":"'Relevant Variables'!G1176","v":0},{"$f":"'Relevant Variables'!G1258","v":0},{"$f":"'Relevant Variables'!G1340","v":0},{"$f":"'Relevant Variables'!G1422","v":0},{"$f":"'Relevant Variables'!G1504","v":0},{"$f":"'Relevant Variables'!G1586","v":0}]
[null,null,"$",{"$f":"'Energy Consumption'!F28","v":"kWh site"},"$",{"$f":"'Energy Consumption'!F110","v":""},"$",{"$f":"'Energy Consumption'!F192","v":""},"$",{"$f":"'Energy Consumption'!F274","v":""},"$",{"$f":"'Energy Consumption'!F356","v":""},"$",{"$f":"'Energy Consumption'!F438","v":""},"$",{"$f":"'Energy Consumption'!F520","v":""},"$",{"$f":"'Energy Consumption'!F602","v":""},"$",{"$f":"'Energy Consumption'!F684","v":""},"$",{"$f":"'Energy Consumption'!F766","v":""},"$",{"$f":"'Energy Consumption'!F848","v":""},"$",{"$f":"'Energy Consumption'!F930","v":""},"$",{"$f":"'Energy Consumption'!F1012","v":""},"$",{"$f":"'Energy Consumption'!F1094","v":""},"$",{"$f":"'Energy Consumption'!F1176","v":""},"$",{"$f":"'Energy Consumption'!F1258","v":""},"$",{"$f":"'Energy Consumption'!F1340","v":""},"$",{"$f":"'Energy Consumption'!F1422","v":""},"$",{"$f":"'Energy Consumption'!F1504","v":""},"$",{"$f":"'Energy Consumption'!F1586","v":""}]
[null,null,1,1,2,2,3,3,4,4,5,5,6,6,7,7,8,8,9,9,10,10,11,11,12,12,13,13,14,14,15,15,16,16,17,17,18,18,19,19,20,20]
[{"$f":"DATE(2005,MONTH(1&LEFT(G4,3)),1)","v":"2005-01-01"},null,{"$f":"'Energy Consumption'!D79","v":0},{"$f":"'Energy Consumption'!D80","v":0},{"$f":"'Energy Consumption'!D161","v":0},{"$f":"'Energy Consumption'!D162","v":0},{"$f":"'Energy Consumption'!D243","v":0},{"$f":"'Energy Consumption'!D244","v":0},{"$f":"'Energy Consumption'!D325","v":0},{"$f":"'Energy Consumption'!D326","v":0},{"$f":"'Energy Consumption'!D407","v":0},{"$f":"'Energy Consumption'!D408","v":0},{"$f":"'Energy Consumption'!D489","v":0},{"$f":"'Energy Consumption'!D490","v":0},{"$f":"'Energy Consumption'!D571","v":0},{"$f":"'Energy Consumption'!D572","v":0},{"$f":"'Energy Consumption'!D653","v":0},{"$f":"'Energy Consumption'!D654","v":0},{"$f":"'Energy Consumption'!D735","v":0},{"$f":"'Energy Consumption'!D736","v":0},{"$f":"'Energy Consumption'!D817","v":0},{"$f":"'Energy Consumption'!D818","v":0},{"$f":"'Energy Consumption'!D899","v":0},{"$f":"'Energy Consumption'!D900","v":0},{"$f":"'Energy Consumption'!D981","v":0},{"$f":"'Energy Consumption'!D982","v":0},{"$f":"'Energy Consumption'!D1063","v":0},{"$f":"'Energy Consumption'!D1064","v":0},{"$f":"'Energy Consumption'!D1145","v":0},{"$f":"'Energy Consumption'!D1146","v":0},{"$f":"'Energy Consumption'!D1227","v":0},{"$f":"'Energy Consumption'!D1228","v":0},{"$f":"'Energy Consumption'!D1309","v":0},{"$f":"'Energy Consumption'!D1310","v":0},{"$f":"'Energy Consumption'!D1391","v":0},{"$f":"'Energy Consumption'!D1392","v":0},{"$f":"'Energy Consumption'!D1473","v":0},{"$f":"'Energy Consumption'!D1474","v":0},{"$f":"'Energy Consumption'!D1555","v":0},{"$f":"'Energy Consumption'!D1556","v":0},{"$f":"'Energy Consumption'!D1637","v":0},{"$f":"'Energy Consumption'!D1638","v":0},null,{"$f":"'Relevant Variables'!D55","v":0},{"$f":"'Relevant Variables'!D85","v":0},{"$f":"'Relevant Variables'!D115","v":0},{"$f":"'Relevant Variables'!D145","v":0},{"$f":"'Relevant Variables'!D175","v":0},{"$f":"'Relevant Variables'!D205","v":0},{"$f":"'Relevant Variables'!D235","v":0},{"$f":"'Relevant Variables'!D265","v":0},{"$f":"'Relevant Variables'!D295","v":0},{"$f":"'Relevant Variables'!D325","v":0},{"$f":"'Relevant Variables'!D355","v":0},{"$f":"'Relevant Variables'!D385","v":0},{"$f":"'Relevant Variables'!D415","v":0},{"$f":"'Relevant Variables'!D445","v":0},{"$f":"'Relevant Variables'!D475","v":0},{"$f":"'Relevant Variables'!D505","v":0},{"$f":"'Relevant Variables'!D535","v":0},{"$f":"'Relevant Variables'!D565","v":0},{"$f":"'Relevant Variables'!D595","v":0},{"$f":"'Relevant Variables'!D625","v":0}]
[{"$f":"DATE(YEAR(A12),MONTH(A12)+1,1)","v":"2005-02-01"},null,{"$f":"'Energy Consumption'!E79","v":0},{"$f":"'Energy Consumption'!E80","v":0},{"$f":"'Energy Consumption'!E161","v":0},{"$f":"'Energy Consumption'!E162","v":0},{"$f":"'Energy Consumption'!E243","v":0},{"$f":"'Energy Consumption'!E244","v":0},{"$f":"'Energy Consumption'!E325","v":0},{"$f":"'Energy Consumption'!E326","v":0},{"$f":"'Energy Consumption'!E407","v":0},{"$f":"'Energy Consumption'!E408","v":0},{"$f":"'Energy Consumption'!E489","v":0},{"$f":"'Energy Consumption'!E490","v":0},{"$f":"'Energy Consumption'!E571","v":0},{"$f":"'Energy Consumption'!E572","v":0},{"$f":"'Energy Consumption'!E653","v":0},{"$f":"'Energy Consumption'!E654","v":0},{"$f":"'Energy Consumption'!E735","v":0},{"$f":"'Energy Consumption'!E736","v":0},{"$f":"'Energy Consumption'!E817","v":0},{"$f":"'Energy Consumption'!E818","v":0},{"$f":"'Energy Consumption'!E899","v":0},{"$f":"'Energy Consumption'!E900","v":0},{"$f":"'Energy Consumption'!E981","v":0},{"$f":"'Energy Consumption'!E982","v":0},{"$f":"'Energy Consumption'!E1063","v":0},{"$f":"'Energy Consumption'!E1064","v":0},{"$f":"'Energy Consumption'!E1145","v":0},{"$f":"'Energy Consumption'!E1146","v":0},{"$f":"'Energy Consumption'!E1227","v":0},{"$f":"'Energy Consumption'!E1228","v":0},{"$f":"'Energy Consumption'!E1309","v":0},{"$f":"'Energy Consumption'!E1310","v":0},{"$f":"'Energy Consumption'!E1391","v":0},{"$f":"'Energy Consumption'!E1392","v":0},{"$f":"'Energy Consumption'!E1473","v":0},{"$f":"'Energy Consumption'!E1474","v":0},{"$f":"'Energy Consumption'!E1555","v":0},{"$f":"'Energy Consumption'!E1556","v":0},{"$f":"'Energy Consumption'!E1637","v":0},{"$f":"'Energy Consumption'!E1638","v":0},null,{"$f":"'Relevant Variables'!E55","v":0},{"$f":"'Relevant Variables'!E85","v":0},{"$f":"'Relevant Variables'!E115","v":0},{"$f":"'Relevant Variables'!E145","v":0},{"$f":"'Relevant Variables'!E175","v":0},{"$f":"'Relevant Variables'!E205","v":0},{"$f":"'Relevant Variables'!E235","v":0},{"$f":"'Relevant Variables'!E265","v":0},{"$f":"'Relevant Variables'!E295","v":0},{"$f":"'Relevant Variables'!E325","v":0},{"$f":"'Relevant Variables'!E355","v":0},{"$f":"'Relevant Variables'!E385","v":0},{"$f":"'Relevant Variables'!E415","v":0},{"$f":"'Relevant Variables'!E445","v":0},{"$f":"'Relevant Variables'!E475","v":0},{"$f":"'Relevant Variables'!E505","v":0},{"$f":"'Relevant Variables'!E535","v":0},{"$f":"'Relevant Variables'!E565","v":0},{"$f":"'Relevant Variables'!E595","v":0},{"$f":"'Relevant Variables'!E625","v":0}]
[{"$f":"DATE(YEAR(A13),MONTH(A13)+1,1)","v":"2005-03-01"},null,{"$f":"'Energy Consumption'!F79","v":0},{"$f":"'Energy Consumption'!F80","v":0},{"$f":"'Energy Consumption'!F161","v":0},{"$f":"'Energy Consumption'!F162","v":0},{"$f":"'Energy Consumption'!F243","v":0},{"$f":"'Energy Consumption'!F244","v":0},{"$f":"'Energy Consumption'!F325","v":0},{"$f":"'Energy Consumption'!F326","v":0},{"$f":"'Energy Consumption'!F407","v":0},{"$f":"'Energy Consumption'!F408","v":0},{"$f":"'Energy Consumption'!F489","v":0},{"$f":"'Energy Consumption'!F490","v":0},{"$f":"'Energy Consumption'!F571","v":0},{"$f":"'Energy Consumption'!F572","v":0},{"$f":"'Energy Consumption'!F653","v":0},{"$f":"'Energy Consumption'!F654","v":0},{"$f":"'Energy Consumption'!F735","v":0},{"$f":"'Energy Consumption'!F736","v":0},{"$f":"'Energy Consumption'!F817","v":0},{"$f":"'Energy Consumption'!F818","v":0},{"$f":"'Energy Consumption'!F899","v":0},{"$f":"'Energy Consumption'!F900","v":0},{"$f":"'Energy Consumption'!F981","v":0},{"$f":"'Energy Consumption'!F982","v":0},{"$f":"'Energy Consumption'!F1063","v":0},{"$f":"'Energy Consumption'!F1064","v":0},{"$f":"'Energy Consumption'!F1145","v":0},{"$f":"'Energy Consumption'!F1146","v":0},{"$f":"'Energy Consumption'!F1227","v":0},{"$f":"'Energy Consumption'!F1228","v":0},{"$f":"'Energy Consumption'!F1309","v":0},{"$f":"'Energy Consumption'!F1310","v":0},{"$f":"'Energy Consumption'!F1391","v":0},{"$f":"'Energy Consumption'!F1392","v":0},{"$f":"'Energy Consumption'!F1473","v":0},{"$f":"'Energy Consumption'!F1474","v":0},{"$f":"'Energy Consumption'!F1555","v":0},{"$f":"'Energy Consumption'!F1556","v":0},{"$f":"'Energy Consumption'!F1637","v":0},{"$f":"'Energy Consumption'!F1638","v":0},null,{"$f":"'Relevant Variables'!F55","v":0},{"$f":"'Relevant Variables'!F85","v":0},{"$f":"'Relevant Variables'!F115","v":0},{"$f":"'Relevant Variables'!F145","v":0},{"$f":"'Relevant Variables'!F175","v":0},{"$f":"'Relevant Variables'!F205","v":0},{"$f":"'Relevant Variables'!F235","v":0},{"$f":"'Relevant Variables'!F265","v":0},{"$f":"'Relevant Variables'!F295","v":0},{"$f":"'Relevant Variables'!F325","v":0},{"$f":"'Relevant Variables'!F355","v":0},{"$f":"'Relevant Variables'!F385","v":0},{"$f":"'Relevant Variables'!F415","v":0},{"$f":"'Relevant Variables'!F445","v":0},{"$f":"'Relevant Variables'!F475","v":0},{"$f":"'Relevant Variables'!F505","v":0},{"$f":"'Relevant Variables'!F535","v":0},{"$f":"'Relevant Variables'!F565","v":0},{"$f":"'Relevant Variables'!F595","v":0},{"$f":"'Relevant Variables'!F625","v":0}]
["2005-04-01",null,{"$f":"'Energy Consumption'!G79","v":0},{"$f":"'Energy Consumption'!G80","v":0},{"$f":"'Energy Consumption'!G161","v":0},{"$f":"'Energy Consumption'!G162","v":0},{"$f":"'Energy Consumption'!G243","v":0},{"$f":"'Energy Consumption'!G244","v":0},{"$f":"'Energy Consumption'!G325","v":0},{"$f":"'Energy Consumption'!G326","v":0},{"$f":"'Energy Consumption'!G407","v":0},{"$f":"'Energy Consumption'!G408","v":0},{"$f":"'Energy Consumption'!G489","v":0},{"$f":"'Energy Consumption'!G490","v":0},{"$f":"'Energy Consumption'!G571","v":0},{"$f":"'Energy Consumption'!G572","v":0},{"$f":"'Energy Consumption'!G653","v":0},{"$f":"'Energy Consumption'!G654","v":0},{"$f":"'Energy Consumption'!G735","v":0},{"$f":"'Energy Consumption'!G736","v":0},{"$f":"'Energy Consumption'!G817","v":0},{"$f":"'Energy Consumption'!G818","v":0},{"$f":"'Energy Consumption'!G899","v":0},{"$f":"'Energy Consumption'!G900","v":0},{"$f":"'Energy Consumption'!G981","v":0},{"$f":"'Energy Consumption'!G982","v":0},{"$f":"'Energy Consumption'!G1063","v":0},{"$f":"'Energy Consumption'!G1064","v":0},{"$f":"'Energy Consumption'!G1145","v":0},{"$f":"'Energy Consumption'!G1146","v":0},{"$f":"'Energy Consumption'!G1227","v":0},{"$f":"'Energy Consumption'!G1228","v":0},{"$f":"'Energy Consumption'!G1309","v":0},{"$f":"'Energy Consumption'!G1310","v":0},{"$f":"'Energy Consumption'!G1391","v":0},{"$f":"'Energy Consumption'!G1392","v":0},{"$f":"'Energy Consumption'!G1473","v":0},{"$f":"'Energy Consumption'!G1474","v":0},{"$f":"'Energy Consumption'!G1555","v":0},{"$f":"'Energy Consumption'!G1556","v":0},{"$f":"'Energy Consumption'!G1637","v":0},{"$f":"'Energy Consumption'!G1638","v":0},null,{"$f":"'Relevant Variables'!G55","v":0},{"$f":"'Relevant Variables'!G85","v":0},{"$f":"'Relevant Variables'!G115","v":0},{"$f":"'Relevant Variables'!G145","v":0},{"$f":"'Relevant Variables'!G175","v":0},{"$f":"'Relevant Variables'!G205","v":0},{"$f":"'Relevant Variables'!G235","v":0},{"$f":"'Relevant Variables'!G265","v":0},{"$f":"'Relevant Variables'!G295","v":0},{"$f":"'Relevant Variables'!G325","v":0},{"$f":"'Relevant Variables'!G355","v":0},{"$f":"'Relevant Variables'!G385","v":0},{"$f":"'Relevant Variables'!G415","v":0},{"$f":"'Relevant Variables'!G445","v":0},{"$f":"'Relevant Variables'!G475","v":0},{"$f":"'Relevant Variables'!G505","v":0},{"$f":"'Relevant Variables'!G535","v":0},{"$f":"'Relevant Variables'!G565","v":0},{"$f":"'Relevant Variables'!G595","v":0},{"$f":"'Relevant Variables'!G625","v":0}]
["2005-05-01",null,{"$f":"'Energy Consumption'!H79","v":0},{"$f":"'Energy Consumption'!H80","v":0},{"$f":"'Energy Consumption'!H161","v":0},{"$f":"'Energy Consumption'!H162","v":0},{"$f":"'Energy Consumption'!H243","v":0},{"$f":"'Energy Consumption'!H244","v":0},{"$f":"'Energy Consumption'!H325","v":0},{"$f":"'Energy Consumption'!H326","v":0},{"$f":"'Energy Consumption'!H407","v":0},{"$f":"'Energy Consumption'!H408","v":0},{"$f":"'Energy Consumption'!H489","v":0},{"$f":"'Energy Consumption'!H490","v":0},{"$f":"'Energy Consumption'!H571","v":0},{"$f":"'Energy Consumption'!H572","v":0},{"$f":"'Energy Consumption'!H653","v":0},{"$f":"'Energy Consumption'!H654","v":0},{"$f":"'Energy Consumption'!H735","v":0},{"$f":"'Energy Consumption'!H736","v":0},{"$f":"'Energy Consumption'!H817","v":0},{"$f":"'Energy Consumption'!H818","v":0},{"$f":"'Energy Consumption'!H899","v":0},{"$f":"'Energy Consumption'!H900","v":0},{"$f":"'Energy Consumption'!H981","v":0},{"$f":"'Energy Consumption'!H982","v":0},{"$f":"'Energy Consumption'!H1063","v":0},{"$f":"'Energy Consumption'!H1064","v":0},{"$f":"'Energy Consumption'!H1145","v":0},{"$f":"'Energy Consumption'!H1146","v":0},{"$f":"'Energy Consumption'!H1227","v":0},{"$f":"'Energy Consumption'!H1228","v":0},{"$f":"'Energy Consumption'!H1309","v":0},{"$f":"'Energy Consumption'!H1310","v":0},{"$f":"'Energy Consumption'!H1391","v":0},{"$f":"'Energy Consumption'!H1392","v":0},{"$f":"'Energy Consumption'!H1473","v":0},{"$f":"'Energy Consumption'!H1474","v":0},{"$f":"'Energy Consumption'!H1555","v":0},{"$f":"'Energy Consumption'!H1556","v":0},{"$f":"'Energy Consumption'!H1637","v":0},{"$f":"'Energy Consumption'!H1638","v":0},null,{"$f":"'Relevant Variables'!H55","v":0},{"$f":"'Relevant Variables'!H85","v":0},{"$f":"'Relevant Variables'!H115","v":0},{"$f":"'Relevant Variables'!H145","v":0},{"$f":"'Relevant Variables'!H175","v":0},{"$f":"'Relevant Variables'!H205","v":0},{"$f":"'Relevant Variables'!H235","v":0},{"$f":"'Relevant Variables'!H265","v":0},{"$f":"'Relevant Variables'!H295","v":0},{"$f":"'Relevant Variables'!H325","v":0},{"$f":"'Relevant Variables'!H355","v":0},{"$f":"'Relevant Variables'!H385","v":0},{"$f":"'Relevant Variables'!H415","v":0},{"$f":"'Relevant Variables'!H445","v":0},{"$f":"'Relevant Variables'!H475","v":0},{"$f":"'Relevant Variables'!H505","v":0},{"$f":"'Relevant Variables'!H535","v":0},{"$f":"'Relevant Variables'!H565","v":0},{"$f":"'Relevant Variables'!H595","v":0},{"$f":"'Relevant Variables'!H625","v":0}]
["2005-06-01",null,{"$f":"'Energy Consumption'!I79","v":0},{"$f":"'Energy Consumption'!I80","v":0},{"$f":"'Energy Consumption'!I161","v":0},{"$f":"'Energy Consumption'!I162","v":0},{"$f":"'Energy Consumption'!I243","v":0},{"$f":"'Energy Consumption'!I244","v":0},{"$f":"'Energy Consumption'!I325","v":0},{"$f":"'Energy Consumption'!I326","v":0},{"$f":"'Energy Consumption'!I407","v":0},{"$f":"'Energy Consumption'!I408","v":0},{"$f":"'Energy Consumption'!I489","v":0},{"$f":"'Energy Consumption'!I490","v":0},{"$f":"'Energy Consumption'!I571","v":0},{"$f":"'Energy Consumption'!I572","v":0},{"$f":"'Energy Consumption'!I653","v":0},{"$f":"'Energy Consumption'!I654","v":0},{"$f":"'Energy Consumption'!I735","v":0},{"$f":"'Energy Consumption'!I736","v":0},{"$f":"'Energy Consumption'!I817","v":0},{"$f":"'Energy Consumption'!I818","v":0},{"$f":"'Energy Consumption'!I899","v":0},{"$f":"'Energy Consumption'!I900","v":0},{"$f":"'Energy Consumption'!I981","v":0},{"$f":"'Energy Consumption'!I982","v":0},{"$f":"'Energy Consumption'!I1063","v":0},{"$f":"'Energy Consumption'!I1064","v":0},{"$f":"'Energy Consumption'!I1145","v":0},{"$f":"'Energy Consumption'!I1146","v":0},{"$f":"'Energy Consumption'!I1227","v":0},{"$f":"'Energy Consumption'!I1228","v":0},{"$f":"'Energy Consumption'!I1309","v":0},{"$f":"'Energy Consumption'!I1310","v":0},{"$f":"'Energy Consumption'!I1391","v":0},{"$f":"'Energy Consumption'!I1392","v":0},{"$f":"'Energy Consumption'!I1473","v":0},{"$f":"'Energy Consumption'!I1474","v":0},{"$f":"'Energy Consumption'!I1555","v":0},{"$f":"'Energy Consumption'!I1556","v":0},{"$f":"'Energy Consumption'!I1637","v":0},{"$f":"'Energy Consumption'!I1638","v":0},null,{"$f":"'Relevant Variables'!I55","v":0},{"$f":"'Relevant Variables'!I85","v":0},{"$f":"'Relevant Variables'!I115","v":0},{"$f":"'Relevant Variables'!I145","v":0},{"$f":"'Relevant Variables'!I175","v":0},{"$f":"'Relevant Variables'!I205","v":0},{"$f":"'Relevant Variables'!I235","v":0},{"$f":"'Relevant Variables'!I265","v":0},{"$f":"'Relevant Variables'!I295","v":0},{"$f":"'Relevant Variables'!I325","v":0},{"$f":"'Relevant Variables'!I355","v":0},{"$f":"'Relevant Variables'!I385","v":0},{"$f":"'Relevant Variables'!I415","v":0},{"$f":"'Relevant Variables'!I445","v":0},{"$f":"'Relevant Variables'!I475","v":0},{"$f":"'Relevant Variables'!I505","v":0},{"$f":"'Relevant Variables'!I535","v":0},{"$f":"'Relevant Variables'!I565","v":0},{"$f":"'Relevant Variables'!I595","v":0},{"$f":"'Relevant Variables'!I625","v":0}]
["2005-07-01",null,{"$f":"'Energy Consumption'!J79","v":0},{"$f":"'Energy Consumption'!J80","v":0},{"$f":"'Energy Consumption'!J161","v":0},{"$f":"'Energy Consumption'!J162","v":0},{"$f":"'Energy Consumption'!J243","v":0},{"$f":"'Energy Consumption'!J244","v":0},{"$f":"'Energy Consumption'!J325","v":0},{"$f":"'Energy Consumption'!J326","v":0},{"$f":"'Energy Consumption'!J407","v":0},{"$f":"'Energy Consumption'!J408","v":0},{"$f":"'Energy Consumption'!J489","v":0},{"$f":"'Energy Consumption'!J490","v":0},{"$f":"'Energy Consumption'!J571","v":0},{"$f":"'Energy Consumption'!J572","v":0},{"$f":"'Energy Consumption'!J653","v":0},{"$f":"'Energy Consumption'!J654","v":0},{"$f":"'Energy Consumption'!J735","v":0},{"$f":"'Energy Consumption'!J736","v":0},{"$f":"'Energy Consumption'!J817","v":0},{"$f":"'Energy Consumption'!J818","v":0},{"$f":"'Energy Consumption'!J899","v":0},{"$f":"'Energy Consumption'!J900","v":0},{"$f":"'Energy Consumption'!J981","v":0},{"$f":"'Energy Consumption'!J982","v":0},{"$f":"'Energy Consumption'!J1063","v":0},{"$f":"'Energy Consumption'!J1064","v":0},{"$f":"'Energy Consumption'!J1145","v":0},{"$f":"'Energy Consumption'!J1146","v":0},{"$f":"'Energy Consumption'!J1227","v":0},{"$f":"'Energy Consumption'!J1228","v":0},{"$f":"'Energy Consumption'!J1309","v":0},{"$f":"'Energy Consumption'!J1310","v":0},{"$f":"'Energy Consumption'!J1391","v":0},{"$f":"'Energy Consumption'!J1392","v":0},{"$f":"'Energy Consumption'!J1473","v":0},{"$f":"'Energy Consumption'!J1474","v":0},{"$f":"'Energy Consumption'!J1555","v":0},{"$f":"'Energy Consumption'!J1556","v":0},{"$f":"'Energy Consumption'!J1637","v":0},{"$f":"'Energy Consumption'!J1638","v":0},null,{"$f":"'Relevant Variables'!J55","v":0},{"$f":"'Relevant Variables'!J85","v":0},{"$f":"'Relevant Variables'!J115","v":0},{"$f":"'Relevant Variables'!J145","v":0},{"$f":"'Relevant Variables'!J175","v":0},{"$f":"'Relevant Variables'!J205","v":0},{"$f":"'Relevant Variables'!J235","v":0},{"$f":"'Relevant Variables'!J265","v":0},{"$f":"'Relevant Variables'!J295","v":0},{"$f":"'Relevant Variables'!J325","v":0},{"$f":"'Relevant Variables'!J355","v":0},{"$f":"'Relevant Variables'!J385","v":0},{"$f":"'Relevant Variables'!J415","v":0},{"$f":"'Relevant Variables'!J445","v":0},{"$f":"'Relevant Variables'!J475","v":0},{"$f":"'Relevant Variables'!J505","v":0},{"$f":"'Relevant Variables'!J535","v":0},{"$f":"'Relevant Variables'!J565","v":0},{"$f":"'Relevant Variables'!J595","v":0},{"$f":"'Relevant Variables'!J625","v":0}]
["2005-08-01",null,{"$f":"'Energy Consumption'!K79","v":0},{"$f":"'Energy Consumption'!K80","v":0},{"$f":"'Energy Consumption'!K161","v":0},{"$f":"'Energy Consumption'!K162","v":0},{"$f":"'Energy Consumption'!K243","v":0},{"$f":"'Energy Consumption'!K244","v":0},{"$f":"'Energy Consumption'!K325","v":0},{"$f":"'Energy Consumption'!K326","v":0},{"$f":"'Energy Consumption'!K407","v":0},{"$f":"'Energy Consumption'!K408","v":0},{"$f":"'Energy Consumption'!K489","v":0},{"$f":"'Energy Consumption'!K490","v":0},{"$f":"'Energy Consumption'!K571","v":0},{"$f":"'Energy Consumption'!K572","v":0},{"$f":"'Energy Consumption'!K653","v":0},{"$f":"'Energy Consumption'!K654","v":0},{"$f":"'Energy Consumption'!K735","v":0},{"$f":"'Energy Consumption'!K736","v":0},{"$f":"'Energy Consumption'!K817","v":0},{"$f":"'Energy Consumption'!K818","v":0},{"$f":"'Energy Consumption'!K899","v":0},{"$f":"'Energy Consumption'!K900","v":0},{"$f":"'Energy Consumption'!K981","v":0},{"$f":"'Energy Consumption'!K982","v":0},{"$f":"'Energy Consumption'!K1063","v":0},{"$f":"'Energy Consumption'!K1064","v":0},{"$f":"'Energy Consumption'!K1145","v":0},{"$f":"'Energy Consumption'!K1146","v":0},{"$f":"'Energy Consumption'!K1227","v":0},{"$f":"'Energy Consumption'!K1228","v":0},{"$f":"'Energy Consumption'!K1309","v":0},{"$f":"'Energy Consumption'!K1310","v":0},{"$f":"'Energy Consumption'!K1391","v":0},{"$f":"'Energy Consumption'!K1392","v":0},{"$f":"'Energy Consumption'!K1473","v":0},{"$f":"'Energy Consumption'!K1474","v":0},{"$f":"'Energy Consumption'!K1555","v":0},{"$f":"'Energy Consumption'!K1556","v":0},{"$f":"'Energy Consumption'!K1637","v":0},{"$f":"'Energy Consumption'!K1638","v":0},null,{"$f":"'Relevant Variables'!K55","v":0},{"$f":"'Relevant Variables'!K85","v":0},{"$f":"'Relevant Variables'!K115","v":0},{"$f":"'Relevant Variables'!K145","v":0},{"$f":"'Relevant Variables'!K175","v":0},{"$f":"'Relevant Variables'!K205","v":0},{"$f":"'Relevant Variables'!K235","v":0},{"$f":"'Relevant Variables'!K265","v":0},{"$f":"'Relevant Variables'!K295","v":0},{"$f":"'Relevant Variables'!K325","v":0},{"$f":"'Relevant Variables'!K355","v":0},{"$f":"'Relevant Variables'!K385","v":0},{"$f":"'Relevant Variables'!K415","v":0},{"$f":"'Relevant Variables'!K445","v":0},{"$f":"'Relevant Variables'!K475","v":0},{"$f":"'Relevant Variables'!K505","v":0},{"$f":"'Relevant Variables'!K535","v":0},{"$f":"'Relevant Variables'!K565","v":0},{"$f":"'Relevant Variables'!K595","v":0},{"$f":"'Relevant Variables'!K625","v":0}]
["2005-09-01",null,{"$f":"'Energy Consumption'!L79","v":0},{"$f":"'Energy Consumption'!L80","v":0},{"$f":"'Energy Consumption'!L161","v":0},{"$f":"'Energy Consumption'!L162","v":0},{"$f":"'Energy Consumption'!L243","v":0},{"$f":"'Energy Consumption'!L244","v":0},{"$f":"'Energy Consumption'!L325","v":0},{"$f":"'Energy Consumption'!L326","v":0},{"$f":"'Energy Consumption'!L407","v":0},{"$f":"'Energy Consumption'!L408","v":0},{"$f":"'Energy Consumption'!L489","v":0},{"$f":"'Energy Consumption'!L490","v":0},{"$f":"'Energy Consumption'!L571","v":0},{"$f":"'Energy Consumption'!L572","v":0},{"$f":"'Energy Consumption'!L653","v":0},{"$f":"'Energy Consumption'!L654","v":0},{"$f":"'Energy Consumption'!L735","v":0},{"$f":"'Energy Consumption'!L736","v":0},{"$f":"'Energy Consumption'!L817","v":0},{"$f":"'Energy Consumption'!L818","v":0},{"$f":"'Energy Consumption'!L899","v":0},{"$f":"'Energy Consumption'!L900","v":0},{"$f":"'Energy Consumption'!L981","v":0},{"$f":"'Energy Consumption'!L982","v":0},{"$f":"'Energy Consumption'!L1063","v":0},{"$f":"'Energy Consumption'!L1064","v":0},{"$f":"'Energy Consumption'!L1145","v":0},{"$f":"'Energy Consumption'!L1146","v":0},{"$f":"'Energy Consumption'!L1227","v":0},{"$f":"'Energy Consumption'!L1228","v":0},{"$f":"'Energy Consumption'!L1309","v":0},{"$f":"'Energy Consumption'!L1310","v":0},{"$f":"'Energy Consumption'!L1391","v":0},{"$f":"'Energy Consumption'!L1392","v":0},{"$f":"'Energy Consumption'!L1473","v":0},{"$f":"'Energy Consumption'!L1474","v":0},{"$f":"'Energy Consumption'!L1555","v":0},{"$f":"'Energy Consumption'!L1556","v":0},{"$f":"'Energy Consumption'!L1637","v":0},{"$f":"'Energy Consumption'!L1638","v":0},null,{"$f":"'Relevant Variables'!L55","v":0},{"$f":"'Relevant Variables'!L85","v":0},{"$f":"'Relevant Variables'!L115","v":0},{"$f":"'Relevant Variables'!L145","v":0},{"$f":"'Relevant Variables'!L175","v":0},{"$f":"'Relevant Variables'!L205","v":0},{"$f":"'Relevant Variables'!L235","v":0},{"$f":"'Relevant Variables'!L265","v":0},{"$f":"'Relevant Variables'!L295","v":0},{"$f":"'Relevant Variables'!L325","v":0},{"$f":"'Relevant Variables'!L355","v":0},{"$f":"'Relevant Variables'!L385","v":0},{"$f":"'Relevant Variables'!L415","v":0},{"$f":"'Relevant Variables'!L445","v":0},{"$f":"'Relevant Variables'!L475","v":0},{"$f":"'Relevant Variables'!L505","v":0},{"$f":"'Relevant Variables'!L535","v":0},{"$f":"'Relevant Variables'!L565","v":0},{"$f":"'Relevant Variables'!L595","v":0},{"$f":"'Relevant Variables'!L625","v":0}]
["2005-10-01",null,{"$f":"'Energy Consumption'!M79","v":0},{"$f":"'Energy Consumption'!M80","v":0},{"$f":"'Energy Consumption'!M161","v":0},{"$f":"'Energy Consumption'!M162","v":0},{"$f":"'Energy Consumption'!M243","v":0},{"$f":"'Energy Consumption'!M244","v":0},{"$f":"'Energy Consumption'!M325","v":0},{"$f":"'Energy Consumption'!M326","v":0},{"$f":"'Energy Consumption'!M407","v":0},{"$f":"'Energy Consumption'!M408","v":0},{"$f":"'Energy Consumption'!M489","v":0},{"$f":"'Energy Consumption'!M490","v":0},{"$f":"'Energy Consumption'!M571","v":0},{"$f":"'Energy Consumption'!M572","v":0},{"$f":"'Energy Consumption'!M653","v":0},{"$f":"'Energy Consumption'!M654","v":0},{"$f":"'Energy Consumption'!M735","v":0},{"$f":"'Energy Consumption'!M736","v":0},{"$f":"'Energy Consumption'!M817","v":0},{"$f":"'Energy Consumption'!M818","v":0},{"$f":"'Energy Consumption'!M899","v":0},{"$f":"'Energy Consumption'!M900","v":0},{"$f":"'Energy Consumption'!M981","v":0},{"$f":"'Energy Consumption'!M982","v":0},{"$f":"'Energy Consumption'!M1063","v":0},{"$f":"'Energy Consumption'!M1064","v":0},{"$f":"'Energy Consumption'!M1145","v":0},{"$f":"'Energy Consumption'!M1146","v":0},{"$f":"'Energy Consumption'!M1227","v":0},{"$f":"'Energy Consumption'!M1228","v":0},{"$f":"'Energy Consumption'!M1309","v":0},{"$f":"'Energy Consumption'!M1310","v":0},{"$f":"'Energy Consumption'!M1391","v":0},{"$f":"'Energy Consumption'!M1392","v":0},{"$f":"'Energy Consumption'!M1473","v":0},{"$f":"'Energy Consumption'!M1474","v":0},{"$f":"'Energy Consumption'!M1555","v":0},{"$f":"'Energy Consumption'!M1556","v":0},{"$f":"'Energy Consumption'!M1637","v":0},{"$f":"'Energy Consumption'!M1638","v":0},null,{"$f":"'Relevant Variables'!M55","v":0},{"$f":"'Relevant Variables'!M85","v":0},{"$f":"'Relevant Variables'!M115","v":0},{"$f":"'Relevant Variables'!M145","v":0},{"$f":"'Relevant Variables'!M175","v":0},{"$f":"'Relevant Variables'!M205","v":0},{"$f":"'Relevant Variables'!M235","v":0},{"$f":"'Relevant Variables'!M265","v":0},{"$f":"'Relevant Variables'!M295","v":0},{"$f":"'Relevant Variables'!M325","v":0},{"$f":"'Relevant Variables'!M355","v":0},{"$f":"'Relevant Variables'!M385","v":0},{"$f":"'Relevant Variables'!M415","v":0},{"$f":"'Relevant Variables'!M445","v":0},{"$f":"'Relevant Variables'!M475","v":0},{"$f":"'Relevant Variables'!M505","v":0},{"$f":"'Relevant Variables'!M535","v":0},{"$f":"'Relevant Variables'!M565","v":0},{"$f":"'Relevant Variables'!M595","v":0},{"$f":"'Relevant Variables'!M625","v":0}]
["2005-11-01",null,{"$f":"'Energy Consumption'!N79","v":0},{"$f":"'Energy Consumption'!N80","v":0},{"$f":"'Energy Consumption'!N161","v":0},{"$f":"'Energy Consumption'!N162","v":0},{"$f":"'Energy Consumption'!N243","v":0},{"$f":"'Energy Consumption'!N244","v":0},{"$f":"'Energy Consumption'!N325","v":0},{"$f":"'Energy Consumption'!N326","v":0},{"$f":"'Energy Consumption'!N407","v":0},{"$f":"'Energy Consumption'!N408","v":0},{"$f":"'Energy Consumption'!N489","v":0},{"$f":"'Energy Consumption'!N490","v":0},{"$f":"'Energy Consumption'!N571","v":0},{"$f":"'Energy Consumption'!N572","v":0},{"$f":"'Energy Consumption'!N653","v":0},{"$f":"'Energy Consumption'!N654","v":0},{"$f":"'Energy Consumption'!N735","v":0},{"$f":"'Energy Consumption'!N736","v":0},{"$f":"'Energy Consumption'!N817","v":0},{"$f":"'Energy Consumption'!N818","v":0},{"$f":"'Energy Consumption'!N899","v":0},{"$f":"'Energy Consumption'!N900","v":0},{"$f":"'Energy Consumption'!N981","v":0},{"$f":"'Energy Consumption'!N982","v":0},{"$f":"'Energy Consumption'!N1063","v":0},{"$f":"'Energy Consumption'!N1064","v":0},{"$f":"'Energy Consumption'!N1145","v":0},{"$f":"'Energy Consumption'!N1146","v":0},{"$f":"'Energy Consumption'!N1227","v":0},{"$f":"'Energy Consumption'!N1228","v":0},{"$f":"'Energy Consumption'!N1309","v":0},{"$f":"'Energy Consumption'!N1310","v":0},{"$f":"'Energy Consumption'!N1391","v":0},{"$f":"'Energy Consumption'!N1392","v":0},{"$f":"'Energy Consumption'!N1473","v":0},{"$f":"'Energy Consumption'!N1474","v":0},{"$f":"'Energy Consumption'!N1555","v":0},{"$f":"'Energy Consumption'!N1556","v":0},{"$f":"'Energy Consumption'!N1637","v":0},{"$f":"'Energy Consumption'!N1638","v":0},null,{"$f":"'Relevant Variables'!N55","v":0},{"$f":"'Relevant Variables'!N85","v":0},{"$f":"'Relevant Variables'!N115","v":0},{"$f":"'Relevant Variables'!N145","v":0},{"$f":"'Relevant Variables'!N175","v":0},{"$f":"'Relevant Variables'!N205","v":0},{"$f":"'Relevant Variables'!N235","v":0},{"$f":"'Relevant Variables'!N265","v":0},{"$f":"'Relevant Variables'!N295","v":0},{"$f":"'Relevant Variables'!N325","v":0},{"$f":"'Relevant Variables'!N355","v":0},{"$f":"'Relevant Variables'!N385","v":0},{"$f":"'Relevant Variables'!N415","v":0},{"$f":"'Relevant Variables'!N445","v":0},{"$f":"'Relevant Variables'!N475","v":0},{"$f":"'Relevant Variables'!N505","v":0},{"$f":"'Relevant Variables'!N535","v":0},{"$f":"'Relevant Variables'!N565","v":0},{"$f":"'Relevant Variables'!N595","v":0},{"$f":"'Relevant Variables'!N625","v":0}]
["2005-12-01",null,{"$f":"'Energy Consumption'!O79","v":0},{"$f":"'Energy Consumption'!O80","v":0},{"$f":"'Energy Consumption'!O161","v":0},{"$f":"'Energy Consumption'!O162","v":0},{"$f":"'Energy Consumption'!O243","v":0},{"$f":"'Energy Consumption'!O244","v":0},{"$f":"'Energy Consumption'!O325","v":0},{"$f":"'Energy Consumption'!O326","v":0},{"$f":"'Energy Consumption'!O407","v":0},{"$f":"'Energy Consumption'!O408","v":0},{"$f":"'Energy Consumption'!O489","v":0},{"$f":"'Energy Consumption'!O490","v":0},{"$f":"'Energy Consumption'!O571","v":0},{"$f":"'Energy Consumption'!O572","v":0},{"$f":"'Energy Consumption'!O653","v":0},{"$f":"'Energy Consumption'!O654","v":0},{"$f":"'Energy Consumption'!O735","v":0},{"$f":"'Energy Consumption'!O736","v":0},{"$f":"'Energy Consumption'!O817","v":0},{"$f":"'Energy Consumption'!O818","v":0},{"$f":"'Energy Consumption'!O899","v":0},{"$f":"'Energy Consumption'!O900","v":0},{"$f":"'Energy Consumption'!O981","v":0},{"$f":"'Energy Consumption'!O982","v":0},{"$f":"'Energy Consumption'!O1063","v":0},{"$f":"'Energy Consumption'!O1064","v":0},{"$f":"'Energy Consumption'!O1145","v":0},{"$f":"'Energy Consumption'!O1146","v":0},{"$f":"'Energy Consumption'!O1227","v":0},{"$f":"'Energy Consumption'!O1228","v":0},{"$f":"'Energy Consumption'!O1309","v":0},{"$f":"'Energy Consumption'!O1310","v":0},{"$f":"'Energy Consumption'!O1391","v":0},{"$f":"'Energy Consumption'!O1392","v":0},{"$f":"'Energy Consumption'!O1473","v":0},{"$f":"'Energy Consumption'!O1474","v":0},{"$f":"'Energy Consumption'!O1555","v":0},{"$f":"'Energy Consumption'!O1556","v":0},{"$f":"'Energy Consumption'!O1637","v":0},{"$f":"'Energy Consumption'!O1638","v":0},null,{"$f":"'Relevant Variables'!O55","v":0},{"$f":"'Relevant Variables'!O85","v":0},{"$f":"'Relevant Variables'!O115","v":0},{"$f":"'Relevant Variables'!O145","v":0},{"$f":"'Relevant Variables'!O175","v":0},{"$f":"'Relevant Variables'!O205","v":0},{"$f":"'Relevant Variables'!O235","v":0},{"$f":"'Relevant Variables'!O265","v":0},{"$f":"'Relevant Variables'!O295","v":0},{"$f":"'Relevant Variables'!O325","v":0},{"$f":"'Relevant Variables'!O355","v":0},{"$f":"'Relevant Variables'!O385","v":0},{"$f":"'Relevant Variables'!O415","v":0},{"$f":"'Relevant Variables'!O445","v":0},{"$f":"'Relevant Variables'!O475","v":0},{"$f":"'Relevant Variables'!O505","v":0},{"$f":"'Relevant Variables'!O535","v":0},{"$f":"'Relevant Variables'!O565","v":0},{"$f":"'Relevant Variables'!O595","v":0},{"$f":"'Relevant Variables'!O625","v":0}]
["2006-01-01",null,{"$f":"'Energy Consumption'!D77","v":0},{"$f":"'Energy Consumption'!D78","v":0},{"$f":"'Energy Consumption'!D159","v":0},{"$f":"'Energy Consumption'!D160","v":0},{"$f":"'Energy Consumption'!D241","v":0},{"$f":"'Energy Consumption'!D242","v":0},{"$f":"'Energy Consumption'!D323","v":0},{"$f":"'Energy Consumption'!D324","v":0},{"$f":"'Energy Consumption'!D405","v":0},{"$f":"'Energy Consumption'!D406","v":0},{"$f":"'Energy Consumption'!D487","v":0},{"$f":"'Energy Consumption'!D488","v":0},{"$f":"'Energy Consumption'!D569","v":0},{"$f":"'Energy Consumption'!D570","v":0},{"$f":"'Energy Consumption'!D651","v":0},{"$f":"'Energy Consumption'!D652","v":0},{"$f":"'Energy Consumption'!D733","v":0},{"$f":"'Energy Consumption'!D734","v":0},{"$f":"'Energy Consumption'!D815","v":0},{"$f":"'Energy Consumption'!D816","v":0},{"$f":"'Energy Consumption'!D897","v":0},{"$f":"'Energy Consumption'!D898","v":0},{"$f":"'Energy Consumption'!D979","v":0},{"$f":"'Energy Consumption'!D980","v":0},{"$f":"'Energy Consumption'!D1061","v":0},{"$f":"'Energy Consumption'!D1062","v":0},{"$f":"'Energy Consumption'!D1143","v":0},{"$f":"'Energy Consumption'!D1144","v":0},{"$f":"'Energy Consumption'!D1225","v":0},{"$f":"'Energy Consumption'!D1226","v":0},{"$f":"'Energy Consumption'!D1307","v":0},{"$f":"'Energy Consumption'!D1308","v":0},{"$f":"'Energy Consumption'!D1389","v":0},{"$f":"'Energy Consumption'!D1390","v":0},{"$f":"'Energy Consumption'!D1471","v":0},{"$f":"'Energy Consumption'!D1472","v":0},{"$f":"'Energy Consumption'!D1553","v":0},{"$f":"'Energy Consumption'!D1554","v":0},{"$f":"'Energy Consumption'!D1635","v":0},{"$f":"'Energy Consumption'!D1636","v":0},null,{"$f":"'Relevant Variables'!D54","v":0},{"$f":"'Relevant Variables'!D84","v":0},{"$f":"'Relevant Variables'!D114","v":0},{"$f":"'Relevant Variables'!D144","v":0},{"$f":"'Relevant Variables'!D174","v":0},{"$f":"'Relevant Variables'!D204","v":0},{"$f":"'Relevant Variables'!D234","v":0},{"$f":"'Relevant Variables'!D264","v":0},{"$f":"'Relevant Variables'!D294","v":0},{"$f":"'Relevant Variables'!D324","v":0},{"$f":"'Relevant Variables'!D354","v":0},{"$f":"'Relevant Variables'!D384","v":0},{"$f":"'Relevant Variables'!D414","v":0},{"$f":"'Relevant Variables'!D444","v":0},{"$f":"'Relevant Variables'!D474","v":0},{"$f":"'Relevant Variables'!D504","v":0},{"$f":"'Relevant Variables'!D534","v":0},{"$f":"'Relevant Variables'!D564","v":0},{"$f":"'Relevant Variables'!D594","v":0},{"$f":"'Relevant Variables'!D624","v":0}]
["2006-02-01",null,{"$f":"'Energy Consumption'!E77","v":0},{"$f":"'Energy Consumption'!E78","v":0},{"$f":"'Energy Consumption'!E159","v":0},{"$f":"'Energy Consumption'!E160","v":0},{"$f":"'Energy Consumption'!E241","v":0},{"$f":"'Energy Consumption'!E242","v":0},{"$f":"'Energy Consumption'!E323","v":0},{"$f":"'Energy Consumption'!E324","v":0},{"$f":"'Energy Consumption'!E405","v":0},{"$f":"'Energy Consumption'!E406","v":0},{"$f":"'Energy Consumption'!E487","v":0},{"$f":"'Energy Consumption'!E488","v":0},{"$f":"'Energy Consumption'!E569","v":0},{"$f":"'Energy Consumption'!E570","v":0},{"$f":"'Energy Consumption'!E651","v":0},{"$f":"'Energy Consumption'!E652","v":0},{"$f":"'Energy Consumption'!E733","v":0},{"$f":"'Energy Consumption'!E734","v":0},{"$f":"'Energy Consumption'!E815","v":0},{"$f":"'Energy Consumption'!E816","v":0},{"$f":"'Energy Consumption'!E897","v":0},{"$f":"'Energy Consumption'!E898","v":0},{"$f":"'Energy Consumption'!E979","v":0},{"$f":"'Energy Consumption'!E980","v":0},{"$f":"'Energy Consumption'!E1061","v":0},{"$f":"'Energy Consumption'!E1062","v":0},{"$f":"'Energy Consumption'!E1143","v":0},{"$f":"'Energy Consumption'!E1144","v":0},{"$f":"'Energy Consumption'!E1225","v":0},{"$f":"'Energy Consumption'!E1226","v":0},{"$f":"'Energy Consumption'!E1307","v":0},{"$f":"'Energy Consumption'!E1308","v":0},{"$f":"'Energy Consumption'!E1389","v":0},{"$f":"'Energy Consumption'!E1390","v":0},{"$f":"'Energy Consumption'!E1471","v":0},{"$f":"'Energy Consumption'!E1472","v":0},{"$f":"'Energy Consumption'!E1553","v":0},{"$f":"'Energy Consumption'!E1554","v":0},{"$f":"'Energy Consumption'!E1635","v":0},{"$f":"'Energy Consumption'!E1636","v":0},null,{"$f":"'Relevant Variables'!E54","v":0},{"$f":"'Relevant Variables'!E84","v":0},{"$f":"'Relevant Variables'!E114","v":0},{"$f":"'Relevant Variables'!E144","v":0},{"$f":"'Relevant Variables'!E174","v":0},{"$f":"'Relevant Variables'!E204","v":0},{"$f":"'Relevant Variables'!E234","v":0},{"$f":"'Relevant Variables'!E264","v":0},{"$f":"'Relevant Variables'!E294","v":0},{"$f":"'Relevant Variables'!E324","v":0},{"$f":"'Relevant Variables'!E354","v":0},{"$f":"'Relevant Variables'!E384","v":0},{"$f":"'Relevant Variables'!E414","v":0},{"$f":"'Relevant Variables'!E444","v":0},{"$f":"'Relevant Variables'!E474","v":0},{"$f":"'Relevant Variables'!E504","v":0},{"$f":"'Relevant Variables'!E534","v":0},{"$f":"'Relevant Variables'!E564","v":0},{"$f":"'Relevant Variables'!E594","v":0},{"$f":"'Relevant Variables'!E624","v":0}]
["2006-03-01",null,{"$f":"'Energy Consumption'!F77","v":0},{"$f":"'Energy Consumption'!F78","v":0},{"$f":"'Energy Consumption'!F159","v":0},{"$f":"'Energy Consumption'!F160","v":0},{"$f":"'Energy Consumption'!F241","v":0},{"$f":"'Energy Consumption'!F242","v":0},{"$f":"'Energy Consumption'!F323","v":0},{"$f":"'Energy Consumption'!F324","v":0},{"$f":"'Energy Consumption'!F405","v":0},{"$f":"'Energy Consumption'!F406","v":0},{"$f":"'Energy Consumption'!F487","v":0},{"$f":"'Energy Consumption'!F488","v":0},{"$f":"'Energy Consumption'!F569","v":0},{"$f":"'Energy Consumption'!F570","v":0},{"$f":"'Energy Consumption'!F651","v":0},{"$f":"'Energy Consumption'!F652","v":0},{"$f":"'Energy Consumption'!F733","v":0},{"$f":"'Energy Consumption'!F734","v":0},{"$f":"'Energy Consumption'!F815","v":0},{"$f":"'Energy Consumption'!F816","v":0},{"$f":"'Energy Consumption'!F897","v":0},{"$f":"'Energy Consumption'!F898","v":0},{"$f":"'Energy Consumption'!F979","v":0},{"$f":"'Energy Consumption'!F980","v":0},{"$f":"'Energy Consumption'!F1061","v":0},{"$f":"'Energy Consumption'!F1062","v":0},{"$f":"'Energy Consumption'!F1143","v":0},{"$f":"'Energy Consumption'!F1144","v":0},{"$f":"'Energy Consumption'!F1225","v":0},{"$f":"'Energy Consumption'!F1226","v":0},{"$f":"'Energy Consumption'!F1307","v":0},{"$f":"'Energy Consumption'!F1308","v":0},{"$f":"'Energy Consumption'!F1389","v":0},{"$f":"'Energy Consumption'!F1390","v":0},{"$f":"'Energy Consumption'!F1471","v":0},{"$f":"'Energy Consumption'!F1472","v":0},{"$f":"'Energy Consumption'!F1553","v":0},{"$f":"'Energy Consumption'!F1554","v":0},{"$f":"'Energy Consumption'!F1635","v":0},{"$f":"'Energy Consumption'!F1636","v":0},null,{"$f":"'Relevant Variables'!F54","v":0},{"$f":"'Relevant Variables'!F84","v":0},{"$f":"'Relevant Variables'!F114","v":0},{"$f":"'Relevant Variables'!F144","v":0},{"$f":"'Relevant Variables'!F174","v":0},{"$f":"'Relevant Variables'!F204","v":0},{"$f":"'Relevant Variables'!F234","v":0},{"$f":"'Relevant Variables'!F264","v":0},{"$f":"'Relevant Variables'!F294","v":0},{"$f":"'Relevant Variables'!F324","v":0},{"$f":"'Relevant Variables'!F354","v":0},{"$f":"'Relevant Variables'!F384","v":0},{"$f":"'Relevant Variables'!F414","v":0},{"$f":"'Relevant Variables'!F444","v":0},{"$f":"'Relevant Variables'!F474","v":0},{"$f":"'Relevant Variables'!F504","v":0},{"$f":"'Relevant Variables'!F534","v":0},{"$f":"'Relevant Variables'!F564","v":0},{"$f":"'Relevant Variables'!F594","v":0},{"$f":"'Relevant Variables'!F624","v":0}]
["2006-04-01",null,{"$f":"'Energy Consumption'!G77","v":0},{"$f":"'Energy Consumption'!G78","v":0},{"$f":"'Energy Consumption'!G159","v":0},{"$f":"'Energy Consumption'!G160","v":0},{"$f":"'Energy Consumption'!G241","v":0},{"$f":"'Energy Consumption'!G242","v":0},{"$f":"'Energy Consumption'!G323","v":0},{"$f":"'Energy Consumption'!G324","v":0},{"$f":"'Energy Consumption'!G405","v":0},{"$f":"'Energy Consumption'!G406","v":0},{"$f":"'Energy Consumption'!G487","v":0},{"$f":"'Energy Consumption'!G488","v":0},{"$f":"'Energy Consumption'!G569","v":0},{"$f":"'Energy Consumption'!G570","v":0},{"$f":"'Energy Consumption'!G651","v":0},{"$f":"'Energy Consumption'!G652","v":0},{"$f":"'Energy Consumption'!G733","v":0},{"$f":"'Energy Consumption'!G734","v":0},{"$f":"'Energy Consumption'!G815","v":0},{"$f":"'Energy Consumption'!G816","v":0},{"$f":"'Energy Consumption'!G897","v":0},{"$f":"'Energy Consumption'!G898","v":0},{"$f":"'Energy Consumption'!G979","v":0},{"$f":"'Energy Consumption'!G980","v":0},{"$f":"'Energy Consumption'!G1061","v":0},{"$f":"'Energy Consumption'!G1062","v":0},{"$f":"'Energy Consumption'!G1143","v":0},{"$f":"'Energy Consumption'!G1144","v":0},{"$f":"'Energy Consumption'!G1225","v":0},{"$f":"'Energy Consumption'!G1226","v":0},{"$f":"'Energy Consumption'!G1307","v":0},{"$f":"'Energy Consumption'!G1308","v":0},{"$f":"'Energy Consumption'!G1389","v":0},{"$f":"'Energy Consumption'!G1390","v":0},{"$f":"'Energy Consumption'!G1471","v":0},{"$f":"'Energy Consumption'!G1472","v":0},{"$f":"'Energy Consumption'!G1553","v":0},{"$f":"'Energy Consumption'!G1554","v":0},{"$f":"'Energy Consumption'!G1635","v":0},{"$f":"'Energy Consumption'!G1636","v":0},null,{"$f":"'Relevant Variables'!G54","v":0},{"$f":"'Relevant Variables'!G84","v":0},{"$f":"'Relevant Variables'!G114","v":0},{"$f":"'Relevant Variables'!G144","v":0},{"$f":"'Relevant Variables'!G174","v":0},{"$f":"'Relevant Variables'!G204","v":0},{"$f":"'Relevant Variables'!G234","v":0},{"$f":"'Relevant Variables'!G264","v":0},{"$f":"'Relevant Variables'!G294","v":0},{"$f":"'Relevant Variables'!G324","v":0},{"$f":"'Relevant Variables'!G354","v":0},{"$f":"'Relevant Variables'!G384","v":0},{"$f":"'Relevant Variables'!G414","v":0},{"$f":"'Relevant Variables'!G444","v":0},{"$f":"'Relevant Variables'!G474","v":0},{"$f":"'Relevant Variables'!G504","v":0},{"$f":"'Relevant Variables'!G534","v":0},{"$f":"'Relevant Variables'!G564","v":0},{"$f":"'Relevant Variables'!G594","v":0},{"$f":"'Relevant Variables'!G624","v":0}]
["2006-05-01",null,{"$f":"'Energy Consumption'!H77","v":0},{"$f":"'Energy Consumption'!H78","v":0},{"$f":"'Energy Consumption'!H159","v":0},{"$f":"'Energy Consumption'!H160","v":0},{"$f":"'Energy Consumption'!H241","v":0},{"$f":"'Energy Consumption'!H242","v":0},{"$f":"'Energy Consumption'!H323","v":0},{"$f":"'Energy Consumption'!H324","v":0},{"$f":"'Energy Consumption'!H405","v":0},{"$f":"'Energy Consumption'!H406","v":0},{"$f":"'Energy Consumption'!H487","v":0},{"$f":"'Energy Consumption'!H488","v":0},{"$f":"'Energy Consumption'!H569","v":0},{"$f":"'Energy Consumption'!H570","v":0},{"$f":"'Energy Consumption'!H651","v":0},{"$f":"'Energy Consumption'!H652","v":0},{"$f":"'Energy Consumption'!H733","v":0},{"$f":"'Energy Consumption'!H734","v":0},{"$f":"'Energy Consumption'!H815","v":0},{"$f":"'Energy Consumption'!H816","v":0},{"$f":"'Energy Consumption'!H897","v":0},{"$f":"'Energy Consumption'!H898","v":0},{"$f":"'Energy Consumption'!H979","v":0},{"$f":"'Energy Consumption'!H980","v":0},{"$f":"'Energy Consumption'!H1061","v":0},{"$f":"'Energy Consumption'!H1062","v":0},{"$f":"'Energy Consumption'!H1143","v":0},{"$f":"'Energy Consumption'!H1144","v":0},{"$f":"'Energy Consumption'!H1225","v":0},{"$f":"'Energy Consumption'!H1226","v":0},{"$f":"'Energy Consumption'!H1307","v":0},{"$f":"'Energy Consumption'!H1308","v":0},{"$f":"'Energy Consumption'!H1389","v":0},{"$f":"'Energy Consumption'!H1390","v":0},{"$f":"'Energy Consumption'!H1471","v":0},{"$f":"'Energy Consumption'!H1472","v":0},{"$f":"'Energy Consumption'!H1553","v":0},{"$f":"'Energy Consumption'!H1554","v":0},{"$f":"'Energy Consumption'!H1635","v":0},{"$f":"'Energy Consumption'!H1636","v":0},null,{"$f":"'Relevant Variables'!H54","v":0},{"$f":"'Relevant Variables'!H84","v":0},{"$f":"'Relevant Variables'!H114","v":0},{"$f":"'Relevant Variables'!H144","v":0},{"$f":"'Relevant Variables'!H174","v":0},{"$f":"'Relevant Variables'!H204","v":0},{"$f":"'Relevant Variables'!H234","v":0},{"$f":"'Relevant Variables'!H264","v":0},{"$f":"'Relevant Variables'!H294","v":0},{"$f":"'Relevant Variables'!H324","v":0},{"$f":"'Relevant Variables'!H354","v":0},{"$f":"'Relevant Variables'!H384","v":0},{"$f":"'Relevant Variables'!H414","v":0},{"$f":"'Relevant Variables'!H444","v":0},{"$f":"'Relevant Variables'!H474","v":0},{"$f":"'Relevant Variables'!H504","v":0},{"$f":"'Relevant Variables'!H534","v":0},{"$f":"'Relevant Variables'!H564","v":0},{"$f":"'Relevant Variables'!H594","v":0},{"$f":"'Relevant Variables'!H624","v":0}]
["2006-06-01",null,{"$f":"'Energy Consumption'!I77","v":0},{"$f":"'Energy Consumption'!I78","v":0},{"$f":"'Energy Consumption'!I159","v":0},{"$f":"'Energy Consumption'!I160","v":0},{"$f":"'Energy Consumption'!I241","v":0},{"$f":"'Energy Consumption'!I242","v":0},{"$f":"'Energy Consumption'!I323","v":0},{"$f":"'Energy Consumption'!I324","v":0},{"$f":"'Energy Consumption'!I405","v":0},{"$f":"'Energy Consumption'!I406","v":0},{"$f":"'Energy Consumption'!I487","v":0},{"$f":"'Energy Consumption'!I488","v":0},{"$f":"'Energy Consumption'!I569","v":0},{"$f":"'Energy Consumption'!I570","v":0},{"$f":"'Energy Consumption'!I651","v":0},{"$f":"'Energy Consumption'!I652","v":0},{"$f":"'Energy Consumption'!I733","v":0},{"$f":"'Energy Consumption'!I734","v":0},{"$f":"'Energy Consumption'!I815","v":0},{"$f":"'Energy Consumption'!I816","v":0},{"$f":"'Energy Consumption'!I897","v":0},{"$f":"'Energy Consumption'!I898","v":0},{"$f":"'Energy Consumption'!I979","v":0},{"$f":"'Energy Consumption'!I980","v":0},{"$f":"'Energy Consumption'!I1061","v":0},{"$f":"'Energy Consumption'!I1062","v":0},{"$f":"'Energy Consumption'!I1143","v":0},{"$f":"'Energy Consumption'!I1144","v":0},{"$f":"'Energy Consumption'!I1225","v":0},{"$f":"'Energy Consumption'!I1226","v":0},{"$f":"'Energy Consumption'!I1307","v":0},{"$f":"'Energy Consumption'!I1308","v":0},{"$f":"'Energy Consumption'!I1389","v":0},{"$f":"'Energy Consumption'!I1390","v":0},{"$f":"'Energy Consumption'!I1471","v":0},{"$f":"'Energy Consumption'!I1472","v":0},{"$f":"'Energy Consumption'!I1553","v":0},{"$f":"'Energy Consumption'!I1554","v":0},{"$f":"'Energy Consumption'!I1635","v":0},{"$f":"'Energy Consumption'!I1636","v":0},null,{"$f":"'Relevant Variables'!I54","v":0},{"$f":"'Relevant Variables'!I84","v":0},{"$f":"'Relevant Variables'!I114","v":0},{"$f":"'Relevant Variables'!I144","v":0},{"$f":"'Relevant Variables'!I174","v":0},{"$f":"'Relevant Variables'!I204","v":0},{"$f":"'Relevant Variables'!I234","v":0},{"$f":"'Relevant Variables'!I264","v":0},{"$f":"'Relevant Variables'!I294","v":0},{"$f":"'Relevant Variables'!I324","v":0},{"$f":"'Relevant Variables'!I354","v":0},{"$f":"'Relevant Variables'!I384","v":0},{"$f":"'Relevant Variables'!I414","v":0},{"$f":"'Relevant Variables'!I444","v":0},{"$f":"'Relevant Variables'!I474","v":0},{"$f":"'Relevant Variables'!I504","v":0},{"$f":"'Relevant Variables'!I534","v":0},{"$f":"'Relevant Variables'!I564","v":0},{"$f":"'Relevant Variables'!I594","v":0},{"$f":"'Relevant Variables'!I624","v":0}]
["2006-07-01",null,{"$f":"'Energy Consumption'!J77","v":0},{"$f":"'Energy Consumption'!J78","v":0},{"$f":"'Energy Consumption'!J159","v":0},{"$f":"'Energy Consumption'!J160","v":0},{"$f":"'Energy Consumption'!J241","v":0},{"$f":"'Energy Consumption'!J242","v":0},{"$f":"'Energy Consumption'!J323","v":0},{"$f":"'Energy Consumption'!J324","v":0},{"$f":"'Energy Consumption'!J405","v":0},{"$f":"'Energy Consumption'!J406","v":0},{"$f":"'Energy Consumption'!J487","v":0},{"$f":"'Energy Consumption'!J488","v":0},{"$f":"'Energy Consumption'!J569","v":0},{"$f":"'Energy Consumption'!J570","v":0},{"$f":"'Energy Consumption'!J651","v":0},{"$f":"'Energy Consumption'!J652","v":0},{"$f":"'Energy Consumption'!J733","v":0},{"$f":"'Energy Consumption'!J734","v":0},{"$f":"'Energy Consumption'!J815","v":0},{"$f":"'Energy Consumption'!J816","v":0},{"$f":"'Energy Consumption'!J897","v":0},{"$f":"'Energy Consumption'!J898","v":0},{"$f":"'Energy Consumption'!J979","v":0},{"$f":"'Energy Consumption'!J980","v":0},{"$f":"'Energy Consumption'!J1061","v":0},{"$f":"'Energy Consumption'!J1062","v":0},{"$f":"'Energy Consumption'!J1143","v":0},{"$f":"'Energy Consumption'!J1144","v":0},{"$f":"'Energy Consumption'!J1225","v":0},{"$f":"'Energy Consumption'!J1226","v":0},{"$f":"'Energy Consumption'!J1307","v":0},{"$f":"'Energy Consumption'!J1308","v":0},{"$f":"'Energy Consumption'!J1389","v":0},{"$f":"'Energy Consumption'!J1390","v":0},{"$f":"'Energy Consumption'!J1471","v":0},{"$f":"'Energy Consumption'!J1472","v":0},{"$f":"'Energy Consumption'!J1553","v":0},{"$f":"'Energy Consumption'!J1554","v":0},{"$f":"'Energy Consumption'!J1635","v":0},{"$f":"'Energy Consumption'!J1636","v":0},null,{"$f":"'Relevant Variables'!J54","v":0},{"$f":"'Relevant Variables'!J84","v":0},{"$f":"'Relevant Variables'!J114","v":0},{"$f":"'Relevant Variables'!J144","v":0},{"$f":"'Relevant Variables'!J174","v":0},{"$f":"'Relevant Variables'!J204","v":0},{"$f":"'Relevant Variables'!J234","v":0},{"$f":"'Relevant Variables'!J264","v":0},{"$f":"'Relevant Variables'!J294","v":0},{"$f":"'Relevant Variables'!J324","v":0},{"$f":"'Relevant Variables'!J354","v":0},{"$f":"'Relevant Variables'!J384","v":0},{"$f":"'Relevant Variables'!J414","v":0},{"$f":"'Relevant Variables'!J444","v":0},{"$f":"'Relevant Variables'!J474","v":0},{"$f":"'Relevant Variables'!J504","v":0},{"$f":"'Relevant Variables'!J534","v":0},{"$f":"'Relevant Variables'!J564","v":0},{"$f":"'Relevant Variables'!J594","v":0},{"$f":"'Relevant Variables'!J624","v":0}]
["2006-08-01",null,{"$f":"'Energy Consumption'!K77","v":0},{"$f":"'Energy Consumption'!K78","v":0},{"$f":"'Energy Consumption'!K159","v":0},{"$f":"'Energy Consumption'!K160","v":0},{"$f":"'Energy Consumption'!K241","v":0},{"$f":"'Energy Consumption'!K242","v":0},{"$f":"'Energy Consumption'!K323","v":0},{"$f":"'Energy Consumption'!K324","v":0},{"$f":"'Energy Consumption'!K405","v":0},{"$f":"'Energy Consumption'!K406","v":0},{"$f":"'Energy Consumption'!K487","v":0},{"$f":"'Energy Consumption'!K488","v":0},{"$f":"'Energy Consumption'!K569","v":0},{"$f":"'Energy Consumption'!K570","v":0},{"$f":"'Energy Consumption'!K651","v":0},{"$f":"'Energy Consumption'!K652","v":0},{"$f":"'Energy Consumption'!K733","v":0},{"$f":"'Energy Consumption'!K734","v":0},{"$f":"'Energy Consumption'!K815","v":0},{"$f":"'Energy Consumption'!K816","v":0},{"$f":"'Energy Consumption'!K897","v":0},{"$f":"'Energy Consumption'!K898","v":0},{"$f":"'Energy Consumption'!K979","v":0},{"$f":"'Energy Consumption'!K980","v":0},{"$f":"'Energy Consumption'!K1061","v":0},{"$f":"'Energy Consumption'!K1062","v":0},{"$f":"'Energy Consumption'!K1143","v":0},{"$f":"'Energy Consumption'!K1144","v":0},{"$f":"'Energy Consumption'!K1225","v":0},{"$f":"'Energy Consumption'!K1226","v":0},{"$f":"'Energy Consumption'!K1307","v":0},{"$f":"'Energy Consumption'!K1308","v":0},{"$f":"'Energy Consumption'!K1389","v":0},{"$f":"'Energy Consumption'!K1390","v":0},{"$f":"'Energy Consumption'!K1471","v":0},{"$f":"'Energy Consumption'!K1472","v":0},{"$f":"'Energy Consumption'!K1553","v":0},{"$f":"'Energy Consumption'!K1554","v":0},{"$f":"'Energy Consumption'!K1635","v":0},{"$f":"'Energy Consumption'!K1636","v":0},null,{"$f":"'Relevant Variables'!K54","v":0},{"$f":"'Relevant Variables'!K84","v":0},{"$f":"'Relevant Variables'!K114","v":0},{"$f":"'Relevant Variables'!K144","v":0},{"$f":"'Relevant Variables'!K174","v":0},{"$f":"'Relevant Variables'!K204","v":0},{"$f":"'Relevant Variables'!K234","v":0},{"$f":"'Relevant Variables'!K264","v":0},{"$f":"'Relevant Variables'!K294","v":0},{"$f":"'Relevant Variables'!K324","v":0},{"$f":"'Relevant Variables'!K354","v":0},{"$f":"'Relevant Variables'!K384","v":0},{"$f":"'Relevant Variables'!K414","v":0},{"$f":"'Relevant Variables'!K444","v":0},{"$f":"'Relevant Variables'!K474","v":0},{"$f":"'Relevant Variables'!K504","v":0},{"$f":"'Relevant Variables'!K534","v":0},{"$f":"'Relevant Variables'!K564","v":0},{"$f":"'Relevant Variables'!K594","v":0},{"$f":"'Relevant Variables'!K624","v":0}]
["2006-09-01",null,{"$f":"'Energy Consumption'!L77","v":0},{"$f":"'Energy Consumption'!L78","v":0},{"$f":"'Energy Consumption'!L159","v":0},{"$f":"'Energy Consumption'!L160","v":0},{"$f":"'Energy Consumption'!L241","v":0},{"$f":"'Energy Consumption'!L242","v":0},{"$f":"'Energy Consumption'!L323","v":0},{"$f":"'Energy Consumption'!L324","v":0},{"$f":"'Energy Consumption'!L405","v":0},{"$f":"'Energy Consumption'!L406","v":0},{"$f":"'Energy Consumption'!L487","v":0},{"$f":"'Energy Consumption'!L488","v":0},{"$f":"'Energy Consumption'!L569","v":0},{"$f":"'Energy Consumption'!L570","v":0},{"$f":"'Energy Consumption'!L651","v":0},{"$f":"'Energy Consumption'!L652","v":0},{"$f":"'Energy Consumption'!L733","v":0},{"$f":"'Energy Consumption'!L734","v":0},{"$f":"'Energy Consumption'!L815","v":0},{"$f":"'Energy Consumption'!L816","v":0},{"$f":"'Energy Consumption'!L897","v":0},{"$f":"'Energy Consumption'!L898","v":0},{"$f":"'Energy Consumption'!L979","v":0},{"$f":"'Energy Consumption'!L980","v":0},{"$f":"'Energy Consumption'!L1061","v":0},{"$f":"'Energy Consumption'!L1062","v":0},{"$f":"'Energy Consumption'!L1143","v":0},{"$f":"'Energy Consumption'!L1144","v":0},{"$f":"'Energy Consumption'!L1225","v":0},{"$f":"'Energy Consumption'!L1226","v":0},{"$f":"'Energy Consumption'!L1307","v":0},{"$f":"'Energy Consumption'!L1308","v":0},{"$f":"'Energy Consumption'!L1389","v":0},{"$f":"'Energy Consumption'!L1390","v":0},{"$f":"'Energy Consumption'!L1471","v":0},{"$f":"'Energy Consumption'!L1472","v":0},{"$f":"'Energy Consumption'!L1553","v":0},{"$f":"'Energy Consumption'!L1554","v":0},{"$f":"'Energy Consumption'!L1635","v":0},{"$f":"'Energy Consumption'!L1636","v":0},null,{"$f":"'Relevant Variables'!L54","v":0},{"$f":"'Relevant Variables'!L84","v":0},{"$f":"'Relevant Variables'!L114","v":0},{"$f":"'Relevant Variables'!L144","v":0},{"$f":"'Relevant Variables'!L174","v":0},{"$f":"'Relevant Variables'!L204","v":0},{"$f":"'Relevant Variables'!L234","v":0},{"$f":"'Relevant Variables'!L264","v":0},{"$f":"'Relevant Variables'!L294","v":0},{"$f":"'Relevant Variables'!L324","v":0},{"$f":"'Relevant Variables'!L354","v":0},{"$f":"'Relevant Variables'!L384","v":0},{"$f":"'Relevant Variables'!L414","v":0},{"$f":"'Relevant Variables'!L444","v":0},{"$f":"'Relevant Variables'!L474","v":0},{"$f":"'Relevant Variables'!L504","v":0},{"$f":"'Relevant Variables'!L534","v":0},{"$f":"'Relevant Variables'!L564","v":0},{"$f":"'Relevant Variables'!L594","v":0},{"$f":"'Relevant Variables'!L624","v":0}]
["2006-10-01",null,{"$f":"'Energy Consumption'!M77","v":0},{"$f":"'Energy Consumption'!M78","v":0},{"$f":"'Energy Consumption'!M159","v":0},{"$f":"'Energy Consumption'!M160","v":0},{"$f":"'Energy Consumption'!M241","v":0},{"$f":"'Energy Consumption'!M242","v":0},{"$f":"'Energy Consumption'!M323","v":0},{"$f":"'Energy Consumption'!M324","v":0},{"$f":"'Energy Consumption'!M405","v":0},{"$f":"'Energy Consumption'!M406","v":0},{"$f":"'Energy Consumption'!M487","v":0},{"$f":"'Energy Consumption'!M488","v":0},{"$f":"'Energy Consumption'!M569","v":0},{"$f":"'Energy Consumption'!M570","v":0},{"$f":"'Energy Consumption'!M651","v":0},{"$f":"'Energy Consumption'!M652","v":0},{"$f":"'Energy Consumption'!M733","v":0},{"$f":"'Energy Consumption'!M734","v":0},{"$f":"'Energy Consumption'!M815","v":0},{"$f":"'Energy Consumption'!M816","v":0},{"$f":"'Energy Consumption'!M897","v":0},{"$f":"'Energy Consumption'!M898","v":0},{"$f":"'Energy Consumption'!M979","v":0},{"$f":"'Energy Consumption'!M980","v":0},{"$f":"'Energy Consumption'!M1061","v":0},{"$f":"'Energy Consumption'!M1062","v":0},{"$f":"'Energy Consumption'!M1143","v":0},{"$f":"'Energy Consumption'!M1144","v":0},{"$f":"'Energy Consumption'!M1225","v":0},{"$f":"'Energy Consumption'!M1226","v":0},{"$f":"'Energy Consumption'!M1307","v":0},{"$f":"'Energy Consumption'!M1308","v":0},{"$f":"'Energy Consumption'!M1389","v":0},{"$f":"'Energy Consumption'!M1390","v":0},{"$f":"'Energy Consumption'!M1471","v":0},{"$f":"'Energy Consumption'!M1472","v":0},{"$f":"'Energy Consumption'!M1553","v":0},{"$f":"'Energy Consumption'!M1554","v":0},{"$f":"'Energy Consumption'!M1635","v":0},{"$f":"'Energy Consumption'!M1636","v":0},null,{"$f":"'Relevant Variables'!M54","v":0},{"$f":"'Relevant Variables'!M84","v":0},{"$f":"'Relevant Variables'!M114","v":0},{"$f":"'Relevant Variables'!M144","v":0},{"$f":"'Relevant Variables'!M174","v":0},{"$f":"'Relevant Variables'!M204","v":0},{"$f":"'Relevant Variables'!M234","v":0},{"$f":"'Relevant Variables'!M264","v":0},{"$f":"'Relevant Variables'!M294","v":0},{"$f":"'Relevant Variables'!M324","v":0},{"$f":"'Relevant Variables'!M354","v":0},{"$f":"'Relevant Variables'!M384","v":0},{"$f":"'Relevant Variables'!M414","v":0},{"$f":"'Relevant Variables'!M444","v":0},{"$f":"'Relevant Variables'!M474","v":0},{"$f":"'Relevant Variables'!M504","v":0},{"$f":"'Relevant Variables'!M534","v":0},{"$f":"'Relevant Variables'!M564","v":0},{"$f":"'Relevant Variables'!M594","v":0},{"$f":"'Relevant Variables'!M624","v":0}]
["2006-11-01",null,{"$f":"'Energy Consumption'!N77","v":0},{"$f":"'Energy Consumption'!N78","v":0},{"$f":"'Energy Consumption'!N159","v":0},{"$f":"'Energy Consumption'!N160","v":0},{"$f":"'Energy Consumption'!N241","v":0},{"$f":"'Energy Consumption'!N242","v":0},{"$f":"'Energy Consumption'!N323","v":0},{"$f":"'Energy Consumption'!N324","v":0},{"$f":"'Energy Consumption'!N405","v":0},{"$f":"'Energy Consumption'!N406","v":0},{"$f":"'Energy Consumption'!N487","v":0},{"$f":"'Energy Consumption'!N488","v":0},{"$f":"'Energy Consumption'!N569","v":0},{"$f":"'Energy Consumption'!N570","v":0},{"$f":"'Energy Consumption'!N651","v":0},{"$f":"'Energy Consumption'!N652","v":0},{"$f":"'Energy Consumption'!N733","v":0},{"$f":"'Energy Consumption'!N734","v":0},{"$f":"'Energy Consumption'!N815","v":0},{"$f":"'Energy Consumption'!N816","v":0},{"$f":"'Energy Consumption'!N897","v":0},{"$f":"'Energy Consumption'!N898","v":0},{"$f":"'Energy Consumption'!N979","v":0},{"$f":"'Energy Consumption'!N980","v":0},{"$f":"'Energy Consumption'!N1061","v":0},{"$f":"'Energy Consumption'!N1062","v":0},{"$f":"'Energy Consumption'!N1143","v":0},{"$f":"'Energy Consumption'!N1144","v":0},{"$f":"'Energy Consumption'!N1225","v":0},{"$f":"'Energy Consumption'!N1226","v":0},{"$f":"'Energy Consumption'!N1307","v":0},{"$f":"'Energy Consumption'!N1308","v":0},{"$f":"'Energy Consumption'!N1389","v":0},{"$f":"'Energy Consumption'!N1390","v":0},{"$f":"'Energy Consumption'!N1471","v":0},{"$f":"'Energy Consumption'!N1472","v":0},{"$f":"'Energy Consumption'!N1553","v":0},{"$f":"'Energy Consumption'!N1554","v":0},{"$f":"'Energy Consumption'!N1635","v":0},{"$f":"'Energy Consumption'!N1636","v":0},null,{"$f":"'Relevant Variables'!N54","v":0},{"$f":"'Relevant Variables'!N84","v":0},{"$f":"'Relevant Variables'!N114","v":0},{"$f":"'Relevant Variables'!N144","v":0},{"$f":"'Relevant Variables'!N174","v":0},{"$f":"'Relevant Variables'!N204","v":0},{"$f":"'Relevant Variables'!N234","v":0},{"$f":"'Relevant Variables'!N264","v":0},{"$f":"'Relevant Variables'!N294","v":0},{"$f":"'Relevant Variables'!N324","v":0},{"$f":"'Relevant Variables'!N354","v":0},{"$f":"'Relevant Variables'!N384","v":0},{"$f":"'Relevant Variables'!N414","v":0},{"$f":"'Relevant Variables'!N444","v":0},{"$f":"'Relevant Variables'!N474","v":0},{"$f":"'Relevant Variables'!N504","v":0},{"$f":"'Relevant Variables'!N534","v":0},{"$f":"'Relevant Variables'!N564","v":0},{"$f":"'Relevant Variables'!N594","v":0},{"$f":"'Relevant Variables'!N624","v":0}]
["2006-12-01",null,{"$f":"'Energy Consumption'!O77","v":0},{"$f":"'Energy Consumption'!O78","v":0},{"$f":"'Energy Consumption'!O159","v":0},{"$f":"'Energy Consumption'!O160","v":0},{"$f":"'Energy Consumption'!O241","v":0},{"$f":"'Energy Consumption'!O242","v":0},{"$f":"'Energy Consumption'!O323","v":0},{"$f":"'Energy Consumption'!O324","v":0},{"$f":"'Energy Consumption'!O405","v":0},{"$f":"'Energy Consumption'!O406","v":0},{"$f":"'Energy Consumption'!O487","v":0},{"$f":"'Energy Consumption'!O488","v":0},{"$f":"'Energy Consumption'!O569","v":0},{"$f":"'Energy Consumption'!O570","v":0},{"$f":"'Energy Consumption'!O651","v":0},{"$f":"'Energy Consumption'!O652","v":0},{"$f":"'Energy Consumption'!O733","v":0},{"$f":"'Energy Consumption'!O734","v":0},{"$f":"'Energy Consumption'!O815","v":0},{"$f":"'Energy Consumption'!O816","v":0},{"$f":"'Energy Consumption'!O897","v":0},{"$f":"'Energy Consumption'!O898","v":0},{"$f":"'Energy Consumption'!O979","v":0},{"$f":"'Energy Consumption'!O980","v":0},{"$f":"'Energy Consumption'!O1061","v":0},{"$f":"'Energy Consumption'!O1062","v":0},{"$f":"'Energy Consumption'!O1143","v":0},{"$f":"'Energy Consumption'!O1144","v":0},{"$f":"'Energy Consumption'!O1225","v":0},{"$f":"'Energy Consumption'!O1226","v":0},{"$f":"'Energy Consumption'!O1307","v":0},{"$f":"'Energy Consumption'!O1308","v":0},{"$f":"'Energy Consumption'!O1389","v":0},{"$f":"'Energy Consumption'!O1390","v":0},{"$f":"'Energy Consumption'!O1471","v":0},{"$f":"'Energy Consumption'!O1472","v":0},{"$f":"'Energy Consumption'!O1553","v":0},{"$f":"'Energy Consumption'!O1554","v":0},{"$f":"'Energy Consumption'!O1635","v":0},{"$f":"'Energy Consumption'!O1636","v":0},null,{"$f":"'Relevant Variables'!O54","v":0},{"$f":"'Relevant Variables'!O84","v":0},{"$f":"'Relevant Variables'!O114","v":0},{"$f":"'Relevant Variables'!O144","v":0},{"$f":"'Relevant Variables'!O174","v":0},{"$f":"'Relevant Variables'!O204","v":0},{"$f":"'Relevant Variables'!O234","v":0},{"$f":"'Relevant Variables'!O264","v":0},{"$f":"'Relevant Variables'!O294","v":0},{"$f":"'Relevant Variables'!O324","v":0},{"$f":"'Relevant Variables'!O354","v":0},{"$f":"'Relevant Variables'!O384","v":0},{"$f":"'Relevant Variables'!O414","v":0},{"$f":"'Relevant Variables'!O444","v":0},{"$f":"'Relevant Variables'!O474","v":0},{"$f":"'Relevant Variables'!O504","v":0},{"$f":"'Relevant Variables'!O534","v":0},{"$f":"'Relevant Variables'!O564","v":0},{"$f":"'Relevant Variables'!O594","v":0},{"$f":"'Relevant Variables'!O624","v":0}]
["2007-01-01",null,{"$f":"'Energy Consumption'!D75","v":0},{"$f":"'Energy Consumption'!D76","v":0},{"$f":"'Energy Consumption'!D157","v":0},{"$f":"'Energy Consumption'!D158","v":0},{"$f":"'Energy Consumption'!D239","v":0},{"$f":"'Energy Consumption'!D240","v":0},{"$f":"'Energy Consumption'!D321","v":0},{"$f":"'Energy Consumption'!D322","v":0},{"$f":"'Energy Consumption'!D403","v":0},{"$f":"'Energy Consumption'!D404","v":0},{"$f":"'Energy Consumption'!D485","v":0},{"$f":"'Energy Consumption'!D486","v":0},{"$f":"'Energy Consumption'!D567","v":0},{"$f":"'Energy Consumption'!D568","v":0},{"$f":"'Energy Consumption'!D649","v":0},{"$f":"'Energy Consumption'!D650","v":0},{"$f":"'Energy Consumption'!D731","v":0},{"$f":"'Energy Consumption'!D732","v":0},{"$f":"'Energy Consumption'!D813","v":0},{"$f":"'Energy Consumption'!D814","v":0},{"$f":"'Energy Consumption'!D895","v":0},{"$f":"'Energy Consumption'!D896","v":0},{"$f":"'Energy Consumption'!D977","v":0},{"$f":"'Energy Consumption'!D978","v":0},{"$f":"'Energy Consumption'!D1059","v":0},{"$f":"'Energy Consumption'!D1060","v":0},{"$f":"'Energy Consumption'!D1141","v":0},{"$f":"'Energy Consumption'!D1142","v":0},{"$f":"'Energy Consumption'!D1223","v":0},{"$f":"'Energy Consumption'!D1224","v":0},{"$f":"'Energy Consumption'!D1305","v":0},{"$f":"'Energy Consumption'!D1306","v":0},{"$f":"'Energy Consumption'!D1387","v":0},{"$f":"'Energy Consumption'!D1388","v":0},{"$f":"'Energy Consumption'!D1469","v":0},{"$f":"'Energy Consumption'!D1470","v":0},{"$f":"'Energy Consumption'!D1551","v":0},{"$f":"'Energy Consumption'!D1552","v":0},{"$f":"'Energy Consumption'!D1633","v":0},{"$f":"'Energy Consumption'!D1634","v":0},null,{"$f":"'Relevant Variables'!D53","v":0},{"$f":"'Relevant Variables'!D83","v":0},{"$f":"'Relevant Variables'!D113","v":0},{"$f":"'Relevant Variables'!D143","v":0},{"$f":"'Relevant Variables'!D173","v":0},{"$f":"'Relevant Variables'!D203","v":0},{"$f":"'Relevant Variables'!D233","v":0},{"$f":"'Relevant Variables'!D263","v":0},{"$f":"'Relevant Variables'!D293","v":0},{"$f":"'Relevant Variables'!D323","v":0},{"$f":"'Relevant Variables'!D353","v":0},{"$f":"'Relevant Variables'!D383","v":0},{"$f":"'Relevant Variables'!D413","v":0},{"$f":"'Relevant Variables'!D443","v":0},{"$f":"'Relevant Variables'!D473","v":0},{"$f":"'Relevant Variables'!D503","v":0},{"$f":"'Relevant Variables'!D533","v":0},{"$f":"'Relevant Variables'!D563","v":0},{"$f":"'Relevant Variables'!D593","v":0},{"$f":"'Relevant Variables'!D623","v":0}]
["2007-02-01",null,{"$f":"'Energy Consumption'!E75","v":0},{"$f":"'Energy Consumption'!E76","v":0},{"$f":"'Energy Consumption'!E157","v":0},{"$f":"'Energy Consumption'!E158","v":0},{"$f":"'Energy Consumption'!E239","v":0},{"$f":"'Energy Consumption'!E240","v":0},{"$f":"'Energy Consumption'!E321","v":0},{"$f":"'Energy Consumption'!E322","v":0},{"$f":"'Energy Consumption'!E403","v":0},{"$f":"'Energy Consumption'!E404","v":0},{"$f":"'Energy Consumption'!E485","v":0},{"$f":"'Energy Consumption'!E486","v":0},{"$f":"'Energy Consumption'!E567","v":0},{"$f":"'Energy Consumption'!E568","v":0},{"$f":"'Energy Consumption'!E649","v":0},{"$f":"'Energy Consumption'!E650","v":0},{"$f":"'Energy Consumption'!E731","v":0},{"$f":"'Energy Consumption'!E732","v":0},{"$f":"'Energy Consumption'!E813","v":0},{"$f":"'Energy Consumption'!E814","v":0},{"$f":"'Energy Consumption'!E895","v":0},{"$f":"'Energy Consumption'!E896","v":0},{"$f":"'Energy Consumption'!E977","v":0},{"$f":"'Energy Consumption'!E978","v":0},{"$f":"'Energy Consumption'!E1059","v":0},{"$f":"'Energy Consumption'!E1060","v":0},{"$f":"'Energy Consumption'!E1141","v":0},{"$f":"'Energy Consumption'!E1142","v":0},{"$f":"'Energy Consumption'!E1223","v":0},{"$f":"'Energy Consumption'!E1224","v":0},{"$f":"'Energy Consumption'!E1305","v":0},{"$f":"'Energy Consumption'!E1306","v":0},{"$f":"'Energy Consumption'!E1387","v":0},{"$f":"'Energy Consumption'!E1388","v":0},{"$f":"'Energy Consumption'!E1469","v":0},{"$f":"'Energy Consumption'!E1470","v":0},{"$f":"'Energy Consumption'!E1551","v":0},{"$f":"'Energy Consumption'!E1552","v":0},{"$f":"'Energy Consumption'!E1633","v":0},{"$f":"'Energy Consumption'!E1634","v":0},null,{"$f":"'Relevant Variables'!E53","v":0},{"$f":"'Relevant Variables'!E83","v":0},{"$f":"'Relevant Variables'!E113","v":0},{"$f":"'Relevant Variables'!E143","v":0},{"$f":"'Relevant Variables'!E173","v":0},{"$f":"'Relevant Variables'!E203","v":0},{"$f":"'Relevant Variables'!E233","v":0},{"$f":"'Relevant Variables'!E263","v":0},{"$f":"'Relevant Variables'!E293","v":0},{"$f":"'Relevant Variables'!E323","v":0},{"$f":"'Relevant Variables'!E353","v":0},{"$f":"'Relevant Variables'!E383","v":0},{"$f":"'Relevant Variables'!E413","v":0},{"$f":"'Relevant Variables'!E443","v":0},{"$f":"'Relevant Variables'!E473","v":0},{"$f":"'Relevant Variables'!E503","v":0},{"$f":"'Relevant Variables'!E533","v":0},{"$f":"'Relevant Variables'!E563","v":0},{"$f":"'Relevant Variables'!E593","v":0},{"$f":"'Relevant Variables'!E623","v":0}]
["2007-03-01",null,{"$f":"'Energy Consumption'!F75","v":0},{"$f":"'Energy Consumption'!F76","v":0},{"$f":"'Energy Consumption'!F157","v":0},{"$f":"'Energy Consumption'!F158","v":0},{"$f":"'Energy Consumption'!F239","v":0},{"$f":"'Energy Consumption'!F240","v":0},{"$f":"'Energy Consumption'!F321","v":0},{"$f":"'Energy Consumption'!F322","v":0},{"$f":"'Energy Consumption'!F403","v":0},{"$f":"'Energy Consumption'!F404","v":0},{"$f":"'Energy Consumption'!F485","v":0},{"$f":"'Energy Consumption'!F486","v":0},{"$f":"'Energy Consumption'!F567","v":0},{"$f":"'Energy Consumption'!F568","v":0},{"$f":"'Energy Consumption'!F649","v":0},{"$f":"'Energy Consumption'!F650","v":0},{"$f":"'Energy Consumption'!F731","v":0},{"$f":"'Energy Consumption'!F732","v":0},{"$f":"'Energy Consumption'!F813","v":0},{"$f":"'Energy Consumption'!F814","v":0},{"$f":"'Energy Consumption'!F895","v":0},{"$f":"'Energy Consumption'!F896","v":0},{"$f":"'Energy Consumption'!F977","v":0},{"$f":"'Energy Consumption'!F978","v":0},{"$f":"'Energy Consumption'!F1059","v":0},{"$f":"'Energy Consumption'!F1060","v":0},{"$f":"'Energy Consumption'!F1141","v":0},{"$f":"'Energy Consumption'!F1142","v":0},{"$f":"'Energy Consumption'!F1223","v":0},{"$f":"'Energy Consumption'!F1224","v":0},{"$f":"'Energy Consumption'!F1305","v":0},{"$f":"'Energy Consumption'!F1306","v":0},{"$f":"'Energy Consumption'!F1387","v":0},{"$f":"'Energy Consumption'!F1388","v":0},{"$f":"'Energy Consumption'!F1469","v":0},{"$f":"'Energy Consumption'!F1470","v":0},{"$f":"'Energy Consumption'!F1551","v":0},{"$f":"'Energy Consumption'!F1552","v":0},{"$f":"'Energy Consumption'!F1633","v":0},{"$f":"'Energy Consumption'!F1634","v":0},null,{"$f":"'Relevant Variables'!F53","v":0},{"$f":"'Relevant Variables'!F83","v":0},{"$f":"'Relevant Variables'!F113","v":0},{"$f":"'Relevant Variables'!F143","v":0},{"$f":"'Relevant Variables'!F173","v":0},{"$f":"'Relevant Variables'!F203","v":0},{"$f":"'Relevant Variables'!F233","v":0},{"$f":"'Relevant Variables'!F263","v":0},{"$f":"'Relevant Variables'!F293","v":0},{"$f":"'Relevant Variables'!F323","v":0},{"$f":"'Relevant Variables'!F353","v":0},{"$f":"'Relevant Variables'!F383","v":0},{"$f":"'Relevant Variables'!F413","v":0},{"$f":"'Relevant Variables'!F443","v":0},{"$f":"'Relevant Variables'!F473","v":0},{"$f":"'Relevant Variables'!F503","v":0},{"$f":"'Relevant Variables'!F533","v":0},{"$f":"'Relevant Variables'!F563","v":0},{"$f":"'Relevant Variables'!F593","v":0},{"$f":"'Relevant Variables'!F623","v":0}]
["2007-04-01",null,{"$f":"'Energy Consumption'!G75","v":0},{"$f":"'Energy Consumption'!G76","v":0},{"$f":"'Energy Consumption'!G157","v":0},{"$f":"'Energy Consumption'!G158","v":0},{"$f":"'Energy Consumption'!G239","v":0},{"$f":"'Energy Consumption'!G240","v":0},{"$f":"'Energy Consumption'!G321","v":0},{"$f":"'Energy Consumption'!G322","v":0},{"$f":"'Energy Consumption'!G403","v":0},{"$f":"'Energy Consumption'!G404","v":0},{"$f":"'Energy Consumption'!G485","v":0},{"$f":"'Energy Consumption'!G486","v":0},{"$f":"'Energy Consumption'!G567","v":0},{"$f":"'Energy Consumption'!G568","v":0},{"$f":"'Energy Consumption'!G649","v":0},{"$f":"'Energy Consumption'!G650","v":0},{"$f":"'Energy Consumption'!G731","v":0},{"$f":"'Energy Consumption'!G732","v":0},{"$f":"'Energy Consumption'!G813","v":0},{"$f":"'Energy Consumption'!G814","v":0},{"$f":"'Energy Consumption'!G895","v":0},{"$f":"'Energy Consumption'!G896","v":0},{"$f":"'Energy Consumption'!G977","v":0},{"$f":"'Energy Consumption'!G978","v":0},{"$f":"'Energy Consumption'!G1059","v":0},{"$f":"'Energy Consumption'!G1060","v":0},{"$f":"'Energy Consumption'!G1141","v":0},{"$f":"'Energy Consumption'!G1142","v":0},{"$f":"'Energy Consumption'!G1223","v":0},{"$f":"'Energy Consumption'!G1224","v":0},{"$f":"'Energy Consumption'!G1305","v":0},{"$f":"'Energy Consumption'!G1306","v":0},{"$f":"'Energy Consumption'!G1387","v":0},{"$f":"'Energy Consumption'!G1388","v":0},{"$f":"'Energy Consumption'!G1469","v":0},{"$f":"'Energy Consumption'!G1470","v":0},{"$f":"'Energy Consumption'!G1551","v":0},{"$f":"'Energy Consumption'!G1552","v":0},{"$f":"'Energy Consumption'!G1633","v":0},{"$f":"'Energy Consumption'!G1634","v":0},null,{"$f":"'Relevant Variables'!G53","v":0},{"$f":"'Relevant Variables'!G83","v":0},{"$f":"'Relevant Variables'!G113","v":0},{"$f":"'Relevant Variables'!G143","v":0},{"$f":"'Relevant Variables'!G173","v":0},{"$f":"'Relevant Variables'!G203","v":0},{"$f":"'Relevant Variables'!G233","v":0},{"$f":"'Relevant Variables'!G263","v":0},{"$f":"'Relevant Variables'!G293","v":0},{"$f":"'Relevant Variables'!G323","v":0},{"$f":"'Relevant Variables'!G353","v":0},{"$f":"'Relevant Variables'!G383","v":0},{"$f":"'Relevant Variables'!G413","v":0},{"$f":"'Relevant Variables'!G443","v":0},{"$f":"'Relevant Variables'!G473","v":0},{"$f":"'Relevant Variables'!G503","v":0},{"$f":"'Relevant Variables'!G533","v":0},{"$f":"'Relevant Variables'!G563","v":0},{"$f":"'Relevant Variables'!G593","v":0},{"$f":"'Relevant Variables'!G623","v":0}]
["2007-05-01",null,{"$f":"'Energy Consumption'!H75","v":0},{"$f":"'Energy Consumption'!H76","v":0},{"$f":"'Energy Consumption'!H157","v":0},{"$f":"'Energy Consumption'!H158","v":0},{"$f":"'Energy Consumption'!H239","v":0},{"$f":"'Energy Consumption'!H240","v":0},{"$f":"'Energy Consumption'!H321","v":0},{"$f":"'Energy Consumption'!H322","v":0},{"$f":"'Energy Consumption'!H403","v":0},{"$f":"'Energy Consumption'!H404","v":0},{"$f":"'Energy Consumption'!H485","v":0},{"$f":"'Energy Consumption'!H486","v":0},{"$f":"'Energy Consumption'!H567","v":0},{"$f":"'Energy Consumption'!H568","v":0},{"$f":"'Energy Consumption'!H649","v":0},{"$f":"'Energy Consumption'!H650","v":0},{"$f":"'Energy Consumption'!H731","v":0},{"$f":"'Energy Consumption'!H732","v":0},{"$f":"'Energy Consumption'!H813","v":0},{"$f":"'Energy Consumption'!H814","v":0},{"$f":"'Energy Consumption'!H895","v":0},{"$f":"'Energy Consumption'!H896","v":0},{"$f":"'Energy Consumption'!H977","v":0},{"$f":"'Energy Consumption'!H978","v":0},{"$f":"'Energy Consumption'!H1059","v":0},{"$f":"'Energy Consumption'!H1060","v":0},{"$f":"'Energy Consumption'!H1141","v":0},{"$f":"'Energy Consumption'!H1142","v":0},{"$f":"'Energy Consumption'!H1223","v":0},{"$f":"'Energy Consumption'!H1224","v":0},{"$f":"'Energy Consumption'!H1305","v":0},{"$f":"'Energy Consumption'!H1306","v":0},{"$f":"'Energy Consumption'!H1387","v":0},{"$f":"'Energy Consumption'!H1388","v":0},{"$f":"'Energy Consumption'!H1469","v":0},{"$f":"'Energy Consumption'!H1470","v":0},{"$f":"'Energy Consumption'!H1551","v":0},{"$f":"'Energy Consumption'!H1552","v":0},{"$f":"'Energy Consumption'!H1633","v":0},{"$f":"'Energy Consumption'!H1634","v":0},null,{"$f":"'Relevant Variables'!H53","v":0},{"$f":"'Relevant Variables'!H83","v":0},{"$f":"'Relevant Variables'!H113","v":0},{"$f":"'Relevant Variables'!H143","v":0},{"$f":"'Relevant Variables'!H173","v":0},{"$f":"'Relevant Variables'!H203","v":0},{"$f":"'Relevant Variables'!H233","v":0},{"$f":"'Relevant Variables'!H263","v":0},{"$f":"'Relevant Variables'!H293","v":0},{"$f":"'Relevant Variables'!H323","v":0},{"$f":"'Relevant Variables'!H353","v":0},{"$f":"'Relevant Variables'!H383","v":0},{"$f":"'Relevant Variables'!H413","v":0},{"$f":"'Relevant Variables'!H443","v":0},{"$f":"'Relevant Variables'!H473","v":0},{"$f":"'Relevant Variables'!H503","v":0},{"$f":"'Relevant Variables'!H533","v":0},{"$f":"'Relevant Variables'!H563","v":0},{"$f":"'Relevant Variables'!H593","v":0},{"$f":"'Relevant Variables'!H623","v":0}]
["2007-06-01",null,{"$f":"'Energy Consumption'!I75","v":0},{"$f":"'Energy Consumption'!I76","v":0},{"$f":"'Energy Consumption'!I157","v":0},{"$f":"'Energy Consumption'!I158","v":0},{"$f":"'Energy Consumption'!I239","v":0},{"$f":"'Energy Consumption'!I240","v":0},{"$f":"'Energy Consumption'!I321","v":0},{"$f":"'Energy Consumption'!I322","v":0},{"$f":"'Energy Consumption'!I403","v":0},{"$f":"'Energy Consumption'!I404","v":0},{"$f":"'Energy Consumption'!I485","v":0},{"$f":"'Energy Consumption'!I486","v":0},{"$f":"'Energy Consumption'!I567","v":0},{"$f":"'Energy Consumption'!I568","v":0},{"$f":"'Energy Consumption'!I649","v":0},{"$f":"'Energy Consumption'!I650","v":0},{"$f":"'Energy Consumption'!I731","v":0},{"$f":"'Energy Consumption'!I732","v":0},{"$f":"'Energy Consumption'!I813","v":0},{"$f":"'Energy Consumption'!I814","v":0},{"$f":"'Energy Consumption'!I895","v":0},{"$f":"'Energy Consumption'!I896","v":0},{"$f":"'Energy Consumption'!I977","v":0},{"$f":"'Energy Consumption'!I978","v":0},{"$f":"'Energy Consumption'!I1059","v":0},{"$f":"'Energy Consumption'!I1060","v":0},{"$f":"'Energy Consumption'!I1141","v":0},{"$f":"'Energy Consumption'!I1142","v":0},{"$f":"'Energy Consumption'!I1223","v":0},{"$f":"'Energy Consumption'!I1224","v":0},{"$f":"'Energy Consumption'!I1305","v":0},{"$f":"'Energy Consumption'!I1306","v":0},{"$f":"'Energy Consumption'!I1387","v":0},{"$f":"'Energy Consumption'!I1388","v":0},{"$f":"'Energy Consumption'!I1469","v":0},{"$f":"'Energy Consumption'!I1470","v":0},{"$f":"'Energy Consumption'!I1551","v":0},{"$f":"'Energy Consumption'!I1552","v":0},{"$f":"'Energy Consumption'!I1633","v":0},{"$f":"'Energy Consumption'!I1634","v":0},null,{"$f":"'Relevant Variables'!I53","v":0},{"$f":"'Relevant Variables'!I83","v":0},{"$f":"'Relevant Variables'!I113","v":0},{"$f":"'Relevant Variables'!I143","v":0},{"$f":"'Relevant Variables'!I173","v":0},{"$f":"'Relevant Variables'!I203","v":0},{"$f":"'Relevant Variables'!I233","v":0},{"$f":"'Relevant Variables'!I263","v":0},{"$f":"'Relevant Variables'!I293","v":0},{"$f":"'Relevant Variables'!I323","v":0},{"$f":"'Relevant Variables'!I353","v":0},{"$f":"'Relevant Variables'!I383","v":0},{"$f":"'Relevant Variables'!I413","v":0},{"$f":"'Relevant Variables'!I443","v":0},{"$f":"'Relevant Variables'!I473","v":0},{"$f":"'Relevant Variables'!I503","v":0},{"$f":"'Relevant Variables'!I533","v":0},{"$f":"'Relevant Variables'!I563","v":0},{"$f":"'Relevant Variables'!I593","v":0},{"$f":"'Relevant Variables'!I623","v":0}]
["2007-07-01",null,{"$f":"'Energy Consumption'!J75","v":0},{"$f":"'Energy Consumption'!J76","v":0},{"$f":"'Energy Consumption'!J157","v":0},{"$f":"'Energy Consumption'!J158","v":0},{"$f":"'Energy Consumption'!J239","v":0},{"$f":"'Energy Consumption'!J240","v":0},{"$f":"'Energy Consumption'!J321","v":0},{"$f":"'Energy Consumption'!J322","v":0},{"$f":"'Energy Consumption'!J403","v":0},{"$f":"'Energy Consumption'!J404","v":0},{"$f":"'Energy Consumption'!J485","v":0},{"$f":"'Energy Consumption'!J486","v":0},{"$f":"'Energy Consumption'!J567","v":0},{"$f":"'Energy Consumption'!J568","v":0},{"$f":"'Energy Consumption'!J649","v":0},{"$f":"'Energy Consumption'!J650","v":0},{"$f":"'Energy Consumption'!J731","v":0},{"$f":"'Energy Consumption'!J732","v":0},{"$f":"'Energy Consumption'!J813","v":0},{"$f":"'Energy Consumption'!J814","v":0},{"$f":"'Energy Consumption'!J895","v":0},{"$f":"'Energy Consumption'!J896","v":0},{"$f":"'Energy Consumption'!J977","v":0},{"$f":"'Energy Consumption'!J978","v":0},{"$f":"'Energy Consumption'!J1059","v":0},{"$f":"'Energy Consumption'!J1060","v":0},{"$f":"'Energy Consumption'!J1141","v":0},{"$f":"'Energy Consumption'!J1142","v":0},{"$f":"'Energy Consumption'!J1223","v":0},{"$f":"'Energy Consumption'!J1224","v":0},{"$f":"'Energy Consumption'!J1305","v":0},{"$f":"'Energy Consumption'!J1306","v":0},{"$f":"'Energy Consumption'!J1387","v":0},{"$f":"'Energy Consumption'!J1388","v":0},{"$f":"'Energy Consumption'!J1469","v":0},{"$f":"'Energy Consumption'!J1470","v":0},{"$f":"'Energy Consumption'!J1551","v":0},{"$f":"'Energy Consumption'!J1552","v":0},{"$f":"'Energy Consumption'!J1633","v":0},{"$f":"'Energy Consumption'!J1634","v":0},null,{"$f":"'Relevant Variables'!J53","v":0},{"$f":"'Relevant Variables'!J83","v":0},{"$f":"'Relevant Variables'!J113","v":0},{"$f":"'Relevant Variables'!J143","v":0},{"$f":"'Relevant Variables'!J173","v":0},{"$f":"'Relevant Variables'!J203","v":0},{"$f":"'Relevant Variables'!J233","v":0},{"$f":"'Relevant Variables'!J263","v":0},{"$f":"'Relevant Variables'!J293","v":0},{"$f":"'Relevant Variables'!J323","v":0},{"$f":"'Relevant Variables'!J353","v":0},{"$f":"'Relevant Variables'!J383","v":0},{"$f":"'Relevant Variables'!J413","v":0},{"$f":"'Relevant Variables'!J443","v":0},{"$f":"'Relevant Variables'!J473","v":0},{"$f":"'Relevant Variables'!J503","v":0},{"$f":"'Relevant Variables'!J533","v":0},{"$f":"'Relevant Variables'!J563","v":0},{"$f":"'Relevant Variables'!J593","v":0},{"$f":"'Relevant Variables'!J623","v":0}]
["2007-08-01",null,{"$f":"'Energy Consumption'!K75","v":0},{"$f":"'Energy Consumption'!K76","v":0},{"$f":"'Energy Consumption'!K157","v":0},{"$f":"'Energy Consumption'!K158","v":0},{"$f":"'Energy Consumption'!K239","v":0},{"$f":"'Energy Consumption'!K240","v":0},{"$f":"'Energy Consumption'!K321","v":0},{"$f":"'Energy Consumption'!K322","v":0},{"$f":"'Energy Consumption'!K403","v":0},{"$f":"'Energy Consumption'!K404","v":0},{"$f":"'Energy Consumption'!K485","v":0},{"$f":"'Energy Consumption'!K486","v":0},{"$f":"'Energy Consumption'!K567","v":0},{"$f":"'Energy Consumption'!K568","v":0},{"$f":"'Energy Consumption'!K649","v":0},{"$f":"'Energy Consumption'!K650","v":0},{"$f":"'Energy Consumption'!K731","v":0},{"$f":"'Energy Consumption'!K732","v":0},{"$f":"'Energy Consumption'!K813","v":0},{"$f":"'Energy Consumption'!K814","v":0},{"$f":"'Energy Consumption'!K895","v":0},{"$f":"'Energy Consumption'!K896","v":0},{"$f":"'Energy Consumption'!K977","v":0},{"$f":"'Energy Consumption'!K978","v":0},{"$f":"'Energy Consumption'!K1059","v":0},{"$f":"'Energy Consumption'!K1060","v":0},{"$f":"'Energy Consumption'!K1141","v":0},{"$f":"'Energy Consumption'!K1142","v":0},{"$f":"'Energy Consumption'!K1223","v":0},{"$f":"'Energy Consumption'!K1224","v":0},{"$f":"'Energy Consumption'!K1305","v":0},{"$f":"'Energy Consumption'!K1306","v":0},{"$f":"'Energy Consumption'!K1387","v":0},{"$f":"'Energy Consumption'!K1388","v":0},{"$f":"'Energy Consumption'!K1469","v":0},{"$f":"'Energy Consumption'!K1470","v":0},{"$f":"'Energy Consumption'!K1551","v":0},{"$f":"'Energy Consumption'!K1552","v":0},{"$f":"'Energy Consumption'!K1633","v":0},{"$f":"'Energy Consumption'!K1634","v":0},null,{"$f":"'Relevant Variables'!K53","v":0},{"$f":"'Relevant Variables'!K83","v":0},{"$f":"'Relevant Variables'!K113","v":0},{"$f":"'Relevant Variables'!K143","v":0},{"$f":"'Relevant Variables'!K173","v":0},{"$f":"'Relevant Variables'!K203","v":0},{"$f":"'Relevant Variables'!K233","v":0},{"$f":"'Relevant Variables'!K263","v":0},{"$f":"'Relevant Variables'!K293","v":0},{"$f":"'Relevant Variables'!K323","v":0},{"$f":"'Relevant Variables'!K353","v":0},{"$f":"'Relevant Variables'!K383","v":0},{"$f":"'Relevant Variables'!K413","v":0},{"$f":"'Relevant Variables'!K443","v":0},{"$f":"'Relevant Variables'!K473","v":0},{"$f":"'Relevant Variables'!K503","v":0},{"$f":"'Relevant Variables'!K533","v":0},{"$f":"'Relevant Variables'!K563","v":0},{"$f":"'Relevant Variables'!K593","v":0},{"$f":"'Relevant Variables'!K623","v":0}]
["2007-09-01",null,{"$f":"'Energy Consumption'!L75","v":0},{"$f":"'Energy Consumption'!L76","v":0},{"$f":"'Energy Consumption'!L157","v":0},{"$f":"'Energy Consumption'!L158","v":0},{"$f":"'Energy Consumption'!L239","v":0},{"$f":"'Energy Consumption'!L240","v":0},{"$f":"'Energy Consumption'!L321","v":0},{"$f":"'Energy Consumption'!L322","v":0},{"$f":"'Energy Consumption'!L403","v":0},{"$f":"'Energy Consumption'!L404","v":0},{"$f":"'Energy Consumption'!L485","v":0},{"$f":"'Energy Consumption'!L486","v":0},{"$f":"'Energy Consumption'!L567","v":0},{"$f":"'Energy Consumption'!L568","v":0},{"$f":"'Energy Consumption'!L649","v":0},{"$f":"'Energy Consumption'!L650","v":0},{"$f":"'Energy Consumption'!L731","v":0},{"$f":"'Energy Consumption'!L732","v":0},{"$f":"'Energy Consumption'!L813","v":0},{"$f":"'Energy Consumption'!L814","v":0},{"$f":"'Energy Consumption'!L895","v":0},{"$f":"'Energy Consumption'!L896","v":0},{"$f":"'Energy Consumption'!L977","v":0},{"$f":"'Energy Consumption'!L978","v":0},{"$f":"'Energy Consumption'!L1059","v":0},{"$f":"'Energy Consumption'!L1060","v":0},{"$f":"'Energy Consumption'!L1141","v":0},{"$f":"'Energy Consumption'!L1142","v":0},{"$f":"'Energy Consumption'!L1223","v":0},{"$f":"'Energy Consumption'!L1224","v":0},{"$f":"'Energy Consumption'!L1305","v":0},{"$f":"'Energy Consumption'!L1306","v":0},{"$f":"'Energy Consumption'!L1387","v":0},{"$f":"'Energy Consumption'!L1388","v":0},{"$f":"'Energy Consumption'!L1469","v":0},{"$f":"'Energy Consumption'!L1470","v":0},{"$f":"'Energy Consumption'!L1551","v":0},{"$f":"'Energy Consumption'!L1552","v":0},{"$f":"'Energy Consumption'!L1633","v":0},{"$f":"'Energy Consumption'!L1634","v":0},null,{"$f":"'Relevant Variables'!L53","v":0},{"$f":"'Relevant Variables'!L83","v":0},{"$f":"'Relevant Variables'!L113","v":0},{"$f":"'Relevant Variables'!L143","v":0},{"$f":"'Relevant Variables'!L173","v":0},{"$f":"'Relevant Variables'!L203","v":0},{"$f":"'Relevant Variables'!L233","v":0},{"$f":"'Relevant Variables'!L263","v":0},{"$f":"'Relevant Variables'!L293","v":0},{"$f":"'Relevant Variables'!L323","v":0},{"$f":"'Relevant Variables'!L353","v":0},{"$f":"'Relevant Variables'!L383","v":0},{"$f":"'Relevant Variables'!L413","v":0},{"$f":"'Relevant Variables'!L443","v":0},{"$f":"'Relevant Variables'!L473","v":0},{"$f":"'Relevant Variables'!L503","v":0},{"$f":"'Relevant Variables'!L533","v":0},{"$f":"'Relevant Variables'!L563","v":0},{"$f":"'Relevant Variables'!L593","v":0},{"$f":"'Relevant Variables'!L623","v":0}]
["2007-10-01",null,{"$f":"'Energy Consumption'!M75","v":0},{"$f":"'Energy Consumption'!M76","v":0},{"$f":"'Energy Consumption'!M157","v":0},{"$f":"'Energy Consumption'!M158","v":0},{"$f":"'Energy Consumption'!M239","v":0},{"$f":"'Energy Consumption'!M240","v":0},{"$f":"'Energy Consumption'!M321","v":0},{"$f":"'Energy Consumption'!M322","v":0},{"$f":"'Energy Consumption'!M403","v":0},{"$f":"'Energy Consumption'!M404","v":0},{"$f":"'Energy Consumption'!M485","v":0},{"$f":"'Energy Consumption'!M486","v":0},{"$f":"'Energy Consumption'!M567","v":0},{"$f":"'Energy Consumption'!M568","v":0},{"$f":"'Energy Consumption'!M649","v":0},{"$f":"'Energy Consumption'!M650","v":0},{"$f":"'Energy Consumption'!M731","v":0},{"$f":"'Energy Consumption'!M732","v":0},{"$f":"'Energy Consumption'!M813","v":0},{"$f":"'Energy Consumption'!M814","v":0},{"$f":"'Energy Consumption'!M895","v":0},{"$f":"'Energy Consumption'!M896","v":0},{"$f":"'Energy Consumption'!M977","v":0},{"$f":"'Energy Consumption'!M978","v":0},{"$f":"'Energy Consumption'!M1059","v":0},{"$f":"'Energy Consumption'!M1060","v":0},{"$f":"'Energy Consumption'!M1141","v":0},{"$f":"'Energy Consumption'!M1142","v":0},{"$f":"'Energy Consumption'!M1223","v":0},{"$f":"'Energy Consumption'!M1224","v":0},{"$f":"'Energy Consumption'!M1305","v":0},{"$f":"'Energy Consumption'!M1306","v":0},{"$f":"'Energy Consumption'!M1387","v":0},{"$f":"'Energy Consumption'!M1388","v":0},{"$f":"'Energy Consumption'!M1469","v":0},{"$f":"'Energy Consumption'!M1470","v":0},{"$f":"'Energy Consumption'!M1551","v":0},{"$f":"'Energy Consumption'!M1552","v":0},{"$f":"'Energy Consumption'!M1633","v":0},{"$f":"'Energy Consumption'!M1634","v":0},null,{"$f":"'Relevant Variables'!M53","v":0},{"$f":"'Relevant Variables'!M83","v":0},{"$f":"'Relevant Variables'!M113","v":0},{"$f":"'Relevant Variables'!M143","v":0},{"$f":"'Relevant Variables'!M173","v":0},{"$f":"'Relevant Variables'!M203","v":0},{"$f":"'Relevant Variables'!M233","v":0},{"$f":"'Relevant Variables'!M263","v":0},{"$f":"'Relevant Variables'!M293","v":0},{"$f":"'Relevant Variables'!M323","v":0},{"$f":"'Relevant Variables'!M353","v":0},{"$f":"'Relevant Variables'!M383","v":0},{"$f":"'Relevant Variables'!M413","v":0},{"$f":"'Relevant Variables'!M443","v":0},{"$f":"'Relevant Variables'!M473","v":0},{"$f":"'Relevant Variables'!M503","v":0},{"$f":"'Relevant Variables'!M533","v":0},{"$f":"'Relevant Variables'!M563","v":0},{"$f":"'Relevant Variables'!M593","v":0},{"$f":"'Relevant Variables'!M623","v":0}]
["2007-11-01",null,{"$f":"'Energy Consumption'!N75","v":0},{"$f":"'Energy Consumption'!N76","v":0},{"$f":"'Energy Consumption'!N157","v":0},{"$f":"'Energy Consumption'!N158","v":0},{"$f":"'Energy Consumption'!N239","v":0},{"$f":"'Energy Consumption'!N240","v":0},{"$f":"'Energy Consumption'!N321","v":0},{"$f":"'Energy Consumption'!N322","v":0},{"$f":"'Energy Consumption'!N403","v":0},{"$f":"'Energy Consumption'!N404","v":0},{"$f":"'Energy Consumption'!N485","v":0},{"$f":"'Energy Consumption'!N486","v":0},{"$f":"'Energy Consumption'!N567","v":0},{"$f":"'Energy Consumption'!N568","v":0},{"$f":"'Energy Consumption'!N649","v":0},{"$f":"'Energy Consumption'!N650","v":0},{"$f":"'Energy Consumption'!N731","v":0},{"$f":"'Energy Consumption'!N732","v":0},{"$f":"'Energy Consumption'!N813","v":0},{"$f":"'Energy Consumption'!N814","v":0},{"$f":"'Energy Consumption'!N895","v":0},{"$f":"'Energy Consumption'!N896","v":0},{"$f":"'Energy Consumption'!N977","v":0},{"$f":"'Energy Consumption'!N978","v":0},{"$f":"'Energy Consumption'!N1059","v":0},{"$f":"'Energy Consumption'!N1060","v":0},{"$f":"'Energy Consumption'!N1141","v":0},{"$f":"'Energy Consumption'!N1142","v":0},{"$f":"'Energy Consumption'!N1223","v":0},{"$f":"'Energy Consumption'!N1224","v":0},{"$f":"'Energy Consumption'!N1305","v":0},{"$f":"'Energy Consumption'!N1306","v":0},{"$f":"'Energy Consumption'!N1387","v":0},{"$f":"'Energy Consumption'!N1388","v":0},{"$f":"'Energy Consumption'!N1469","v":0},{"$f":"'Energy Consumption'!N1470","v":0},{"$f":"'Energy Consumption'!N1551","v":0},{"$f":"'Energy Consumption'!N1552","v":0},{"$f":"'Energy Consumption'!N1633","v":0},{"$f":"'Energy Consumption'!N1634","v":0},null,{"$f":"'Relevant Variables'!N53","v":0},{"$f":"'Relevant Variables'!N83","v":0},{"$f":"'Relevant Variables'!N113","v":0},{"$f":"'Relevant Variables'!N143","v":0},{"$f":"'Relevant Variables'!N173","v":0},{"$f":"'Relevant Variables'!N203","v":0},{"$f":"'Relevant Variables'!N233","v":0},{"$f":"'Relevant Variables'!N263","v":0},{"$f":"'Relevant Variables'!N293","v":0},{"$f":"'Relevant Variables'!N323","v":0},{"$f":"'Relevant Variables'!N353","v":0},{"$f":"'Relevant Variables'!N383","v":0},{"$f":"'Relevant Variables'!N413","v":0},{"$f":"'Relevant Variables'!N443","v":0},{"$f":"'Relevant Variables'!N473","v":0},{"$f":"'Relevant Variables'!N503","v":0},{"$f":"'Relevant Variables'!N533","v":0},{"$f":"'Relevant Variables'!N563","v":0},{"$f":"'Relevant Variables'!N593","v":0},{"$f":"'Relevant Variables'!N623","v":0}]
["2007-12-01",null,{"$f":"'Energy Consumption'!O75","v":0},{"$f":"'Energy Consumption'!O76","v":0},{"$f":"'Energy Consumption'!O157","v":0},{"$f":"'Energy Consumption'!O158","v":0},{"$f":"'Energy Consumption'!O239","v":0},{"$f":"'Energy Consumption'!O240","v":0},{"$f":"'Energy Consumption'!O321","v":0},{"$f":"'Energy Consumption'!O322","v":0},{"$f":"'Energy Consumption'!O403","v":0},{"$f":"'Energy Consumption'!O404","v":0},{"$f":"'Energy Consumption'!O485","v":0},{"$f":"'Energy Consumption'!O486","v":0},{"$f":"'Energy Consumption'!O567","v":0},{"$f":"'Energy Consumption'!O568","v":0},{"$f":"'Energy Consumption'!O649","v":0},{"$f":"'Energy Consumption'!O650","v":0},{"$f":"'Energy Consumption'!O731","v":0},{"$f":"'Energy Consumption'!O732","v":0},{"$f":"'Energy Consumption'!O813","v":0},{"$f":"'Energy Consumption'!O814","v":0},{"$f":"'Energy Consumption'!O895","v":0},{"$f":"'Energy Consumption'!O896","v":0},{"$f":"'Energy Consumption'!O977","v":0},{"$f":"'Energy Consumption'!O978","v":0},{"$f":"'Energy Consumption'!O1059","v":0},{"$f":"'Energy Consumption'!O1060","v":0},{"$f":"'Energy Consumption'!O1141","v":0},{"$f":"'Energy Consumption'!O1142","v":0},{"$f":"'Energy Consumption'!O1223","v":0},{"$f":"'Energy Consumption'!O1224","v":0},{"$f":"'Energy Consumption'!O1305","v":0},{"$f":"'Energy Consumption'!O1306","v":0},{"$f":"'Energy Consumption'!O1387","v":0},{"$f":"'Energy Consumption'!O1388","v":0},{"$f":"'Energy Consumption'!O1469","v":0},{"$f":"'Energy Consumption'!O1470","v":0},{"$f":"'Energy Consumption'!O1551","v":0},{"$f":"'Energy Consumption'!O1552","v":0},{"$f":"'Energy Consumption'!O1633","v":0},{"$f":"'Energy Consumption'!O1634","v":0},null,{"$f":"'Relevant Variables'!O53","v":0},{"$f":"'Relevant Variables'!O83","v":0},{"$f":"'Relevant Variables'!O113","v":0},{"$f":"'Relevant Variables'!O143","v":0},{"$f":"'Relevant Variables'!O173","v":0},{"$f":"'Relevant Variables'!O203","v":0},{"$f":"'Relevant Variables'!O233","v":0},{"$f":"'Relevant Variables'!O263","v":0},{"$f":"'Relevant Variables'!O293","v":0},{"$f":"'Relevant Variables'!O323","v":0},{"$f":"'Relevant Variables'!O353","v":0},{"$f":"'Relevant Variables'!O383","v":0},{"$f":"'Relevant Variables'!O413","v":0},{"$f":"'Relevant Variables'!O443","v":0},{"$f":"'Relevant Variables'!O473","v":0},{"$f":"'Relevant Variables'!O503","v":0},{"$f":"'Relevant Variables'!O533","v":0},{"$f":"'Relevant Variables'!O563","v":0},{"$f":"'Relevant Variables'!O593","v":0},{"$f":"'Relevant Variables'!O623","v":0}]
["2008-01-01",null,{"$f":"'Energy Consumption'!D73","v":0},{"$f":"'Energy Consumption'!D74","v":0},{"$f":"'Energy Consumption'!D155","v":0},{"$f":"'Energy Consumption'!D156","v":0},{"$f":"'Energy Consumption'!D237","v":0},{"$f":"'Energy Consumption'!D238","v":0},{"$f":"'Energy Consumption'!D319","v":0},{"$f":"'Energy Consumption'!D320","v":0},{"$f":"'Energy Consumption'!D401","v":0},{"$f":"'Energy Consumption'!D402","v":0},{"$f":"'Energy Consumption'!D483","v":0},{"$f":"'Energy Consumption'!D484","v":0},{"$f":"'Energy Consumption'!D565","v":0},{"$f":"'Energy Consumption'!D566","v":0},{"$f":"'Energy Consumption'!D647","v":0},{"$f":"'Energy Consumption'!D648","v":0},{"$f":"'Energy Consumption'!D729","v":0},{"$f":"'Energy Consumption'!D730","v":0},{"$f":"'Energy Consumption'!D811","v":0},{"$f":"'Energy Consumption'!D812","v":0},{"$f":"'Energy Consumption'!D893","v":0},{"$f":"'Energy Consumption'!D894","v":0},{"$f":"'Energy Consumption'!D975","v":0},{"$f":"'Energy Consumption'!D976","v":0},{"$f":"'Energy Consumption'!D1057","v":0},{"$f":"'Energy Consumption'!D1058","v":0},{"$f":"'Energy Consumption'!D1139","v":0},{"$f":"'Energy Consumption'!D1140","v":0},{"$f":"'Energy Consumption'!D1221","v":0},{"$f":"'Energy Consumption'!D1222","v":0},{"$f":"'Energy Consumption'!D1303","v":0},{"$f":"'Energy Consumption'!D1304","v":0},{"$f":"'Energy Consumption'!D1385","v":0},{"$f":"'Energy Consumption'!D1386","v":0},{"$f":"'Energy Consumption'!D1467","v":0},{"$f":"'Energy Consumption'!D1468","v":0},{"$f":"'Energy Consumption'!D1549","v":0},{"$f":"'Energy Consumption'!D1550","v":0},{"$f":"'Energy Consumption'!D1631","v":0},{"$f":"'Energy Consumption'!D1632","v":0},null,{"$f":"'Relevant Variables'!D52","v":0},{"$f":"'Relevant Variables'!D82","v":0},{"$f":"'Relevant Variables'!D112","v":0},{"$f":"'Relevant Variables'!D142","v":0},{"$f":"'Relevant Variables'!D172","v":0},{"$f":"'Relevant Variables'!D202","v":0},{"$f":"'Relevant Variables'!D232","v":0},{"$f":"'Relevant Variables'!D262","v":0},{"$f":"'Relevant Variables'!D292","v":0},{"$f":"'Relevant Variables'!D322","v":0},{"$f":"'Relevant Variables'!D352","v":0},{"$f":"'Relevant Variables'!D382","v":0},{"$f":"'Relevant Variables'!D412","v":0},{"$f":"'Relevant Variables'!D442","v":0},{"$f":"'Relevant Variables'!D472","v":0},{"$f":"'Relevant Variables'!D502","v":0},{"$f":"'Relevant Variables'!D532","v":0},{"$f":"'Relevant Variables'!D562","v":0},{"$f":"'Relevant Variables'!D592","v":0},{"$f":"'Relevant Variables'!D622","v":0}]
["2008-02-01",null,{"$f":"'Energy Consumption'!E73","v":0},{"$f":"'Energy Consumption'!E74","v":0},{"$f":"'Energy Consumption'!E155","v":0},{"$f":"'Energy Consumption'!E156","v":0},{"$f":"'Energy Consumption'!E237","v":0},{"$f":"'Energy Consumption'!E238","v":0},{"$f":"'Energy Consumption'!E319","v":0},{"$f":"'Energy Consumption'!E320","v":0},{"$f":"'Energy Consumption'!E401","v":0},{"$f":"'Energy Consumption'!E402","v":0},{"$f":"'Energy Consumption'!E483","v":0},{"$f":"'Energy Consumption'!E484","v":0},{"$f":"'Energy Consumption'!E565","v":0},{"$f":"'Energy Consumption'!E566","v":0},{"$f":"'Energy Consumption'!E647","v":0},{"$f":"'Energy Consumption'!E648","v":0},{"$f":"'Energy Consumption'!E729","v":0},{"$f":"'Energy Consumption'!E730","v":0},{"$f":"'Energy Consumption'!E811","v":0},{"$f":"'Energy Consumption'!E812","v":0},{"$f":"'Energy Consumption'!E893","v":0},{"$f":"'Energy Consumption'!E894","v":0},{"$f":"'Energy Consumption'!E975","v":0},{"$f":"'Energy Consumption'!E976","v":0},{"$f":"'Energy Consumption'!E1057","v":0},{"$f":"'Energy Consumption'!E1058","v":0},{"$f":"'Energy Consumption'!E1139","v":0},{"$f":"'Energy Consumption'!E1140","v":0},{"$f":"'Energy Consumption'!E1221","v":0},{"$f":"'Energy Consumption'!E1222","v":0},{"$f":"'Energy Consumption'!E1303","v":0},{"$f":"'Energy Consumption'!E1304","v":0},{"$f":"'Energy Consumption'!E1385","v":0},{"$f":"'Energy Consumption'!E1386","v":0},{"$f":"'Energy Consumption'!E1467","v":0},{"$f":"'Energy Consumption'!E1468","v":0},{"$f":"'Energy Consumption'!E1549","v":0},{"$f":"'Energy Consumption'!E1550","v":0},{"$f":"'Energy Consumption'!E1631","v":0},{"$f":"'Energy Consumption'!E1632","v":0},null,{"$f":"'Relevant Variables'!E52","v":0},{"$f":"'Relevant Variables'!E82","v":0},{"$f":"'Relevant Variables'!E112","v":0},{"$f":"'Relevant Variables'!E142","v":0},{"$f":"'Relevant Variables'!E172","v":0},{"$f":"'Relevant Variables'!E202","v":0},{"$f":"'Relevant Variables'!E232","v":0},{"$f":"'Relevant Variables'!E262","v":0},{"$f":"'Relevant Variables'!E292","v":0},{"$f":"'Relevant Variables'!E322","v":0},{"$f":"'Relevant Variables'!E352","v":0},{"$f":"'Relevant Variables'!E382","v":0},{"$f":"'Relevant Variables'!E412","v":0},{"$f":"'Relevant Variables'!E442","v":0},{"$f":"'Relevant Variables'!E472","v":0},{"$f":"'Relevant Variables'!E502","v":0},{"$f":"'Relevant Variables'!E532","v":0},{"$f":"'Relevant Variables'!E562","v":0},{"$f":"'Relevant Variables'!E592","v":0},{"$f":"'Relevant Variables'!E622","v":0}]
["2008-03-01",null,{"$f":"'Energy Consumption'!F73","v":0},{"$f":"'Energy Consumption'!F74","v":0},{"$f":"'Energy Consumption'!F155","v":0},{"$f":"'Energy Consumption'!F156","v":0},{"$f":"'Energy Consumption'!F237","v":0},{"$f":"'Energy Consumption'!F238","v":0},{"$f":"'Energy Consumption'!F319","v":0},{"$f":"'Energy Consumption'!F320","v":0},{"$f":"'Energy Consumption'!F401","v":0},{"$f":"'Energy Consumption'!F402","v":0},{"$f":"'Energy Consumption'!F483","v":0},{"$f":"'Energy Consumption'!F484","v":0},{"$f":"'Energy Consumption'!F565","v":0},{"$f":"'Energy Consumption'!F566","v":0},{"$f":"'Energy Consumption'!F647","v":0},{"$f":"'Energy Consumption'!F648","v":0},{"$f":"'Energy Consumption'!F729","v":0},{"$f":"'Energy Consumption'!F730","v":0},{"$f":"'Energy Consumption'!F811","v":0},{"$f":"'Energy Consumption'!F812","v":0},{"$f":"'Energy Consumption'!F893","v":0},{"$f":"'Energy Consumption'!F894","v":0},{"$f":"'Energy Consumption'!F975","v":0},{"$f":"'Energy Consumption'!F976","v":0},{"$f":"'Energy Consumption'!F1057","v":0},{"$f":"'Energy Consumption'!F1058","v":0},{"$f":"'Energy Consumption'!F1139","v":0},{"$f":"'Energy Consumption'!F1140","v":0},{"$f":"'Energy Consumption'!F1221","v":0},{"$f":"'Energy Consumption'!F1222","v":0},{"$f":"'Energy Consumption'!F1303","v":0},{"$f":"'Energy Consumption'!F1304","v":0},{"$f":"'Energy Consumption'!F1385","v":0},{"$f":"'Energy Consumption'!F1386","v":0},{"$f":"'Energy Consumption'!F1467","v":0},{"$f":"'Energy Consumption'!F1468","v":0},{"$f":"'Energy Consumption'!F1549","v":0},{"$f":"'Energy Consumption'!F1550","v":0},{"$f":"'Energy Consumption'!F1631","v":0},{"$f":"'Energy Consumption'!F1632","v":0},null,{"$f":"'Relevant Variables'!F52","v":0},{"$f":"'Relevant Variables'!F82","v":0},{"$f":"'Relevant Variables'!F112","v":0},{"$f":"'Relevant Variables'!F142","v":0},{"$f":"'Relevant Variables'!F172","v":0},{"$f":"'Relevant Variables'!F202","v":0},{"$f":"'Relevant Variables'!F232","v":0},{"$f":"'Relevant Variables'!F262","v":0},{"$f":"'Relevant Variables'!F292","v":0},{"$f":"'Relevant Variables'!F322","v":0},{"$f":"'Relevant Variables'!F352","v":0},{"$f":"'Relevant Variables'!F382","v":0},{"$f":"'Relevant Variables'!F412","v":0},{"$f":"'Relevant Variables'!F442","v":0},{"$f":"'Relevant Variables'!F472","v":0},{"$f":"'Relevant Variables'!F502","v":0},{"$f":"'Relevant Variables'!F532","v":0},{"$f":"'Relevant Variables'!F562","v":0},{"$f":"'Relevant Variables'!F592","v":0},{"$f":"'Relevant Variables'!F622","v":0}]
["2008-04-01",null,{"$f":"'Energy Consumption'!G73","v":0},{"$f":"'Energy Consumption'!G74","v":0},{"$f":"'Energy Consumption'!G155","v":0},{"$f":"'Energy Consumption'!G156","v":0},{"$f":"'Energy Consumption'!G237","v":0},{"$f":"'Energy Consumption'!G238","v":0},{"$f":"'Energy Consumption'!G319","v":0},{"$f":"'Energy Consumption'!G320","v":0},{"$f":"'Energy Consumption'!G401","v":0},{"$f":"'Energy Consumption'!G402","v":0},{"$f":"'Energy Consumption'!G483","v":0},{"$f":"'Energy Consumption'!G484","v":0},{"$f":"'Energy Consumption'!G565","v":0},{"$f":"'Energy Consumption'!G566","v":0},{"$f":"'Energy Consumption'!G647","v":0},{"$f":"'Energy Consumption'!G648","v":0},{"$f":"'Energy Consumption'!G729","v":0},{"$f":"'Energy Consumption'!G730","v":0},{"$f":"'Energy Consumption'!G811","v":0},{"$f":"'Energy Consumption'!G812","v":0},{"$f":"'Energy Consumption'!G893","v":0},{"$f":"'Energy Consumption'!G894","v":0},{"$f":"'Energy Consumption'!G975","v":0},{"$f":"'Energy Consumption'!G976","v":0},{"$f":"'Energy Consumption'!G1057","v":0},{"$f":"'Energy Consumption'!G1058","v":0},{"$f":"'Energy Consumption'!G1139","v":0},{"$f":"'Energy Consumption'!G1140","v":0},{"$f":"'Energy Consumption'!G1221","v":0},{"$f":"'Energy Consumption'!G1222","v":0},{"$f":"'Energy Consumption'!G1303","v":0},{"$f":"'Energy Consumption'!G1304","v":0},{"$f":"'Energy Consumption'!G1385","v":0},{"$f":"'Energy Consumption'!G1386","v":0},{"$f":"'Energy Consumption'!G1467","v":0},{"$f":"'Energy Consumption'!G1468","v":0},{"$f":"'Energy Consumption'!G1549","v":0},{"$f":"'Energy Consumption'!G1550","v":0},{"$f":"'Energy Consumption'!G1631","v":0},{"$f":"'Energy Consumption'!G1632","v":0},null,{"$f":"'Relevant Variables'!G52","v":0},{"$f":"'Relevant Variables'!G82","v":0},{"$f":"'Relevant Variables'!G112","v":0},{"$f":"'Relevant Variables'!G142","v":0},{"$f":"'Relevant Variables'!G172","v":0},{"$f":"'Relevant Variables'!G202","v":0},{"$f":"'Relevant Variables'!G232","v":0},{"$f":"'Relevant Variables'!G262","v":0},{"$f":"'Relevant Variables'!G292","v":0},{"$f":"'Relevant Variables'!G322","v":0},{"$f":"'Relevant Variables'!G352","v":0},{"$f":"'Relevant Variables'!G382","v":0},{"$f":"'Relevant Variables'!G412","v":0},{"$f":"'Relevant Variables'!G442","v":0},{"$f":"'Relevant Variables'!G472","v":0},{"$f":"'Relevant Variables'!G502","v":0},{"$f":"'Relevant Variables'!G532","v":0},{"$f":"'Relevant Variables'!G562","v":0},{"$f":"'Relevant Variables'!G592","v":0},{"$f":"'Relevant Variables'!G622","v":0}]
["2008-05-01",null,{"$f":"'Energy Consumption'!H73","v":0},{"$f":"'Energy Consumption'!H74","v":0},{"$f":"'Energy Consumption'!H155","v":0},{"$f":"'Energy Consumption'!H156","v":0},{"$f":"'Energy Consumption'!H237","v":0},{"$f":"'Energy Consumption'!H238","v":0},{"$f":"'Energy Consumption'!H319","v":0},{"$f":"'Energy Consumption'!H320","v":0},{"$f":"'Energy Consumption'!H401","v":0},{"$f":"'Energy Consumption'!H402","v":0},{"$f":"'Energy Consumption'!H483","v":0},{"$f":"'Energy Consumption'!H484","v":0},{"$f":"'Energy Consumption'!H565","v":0},{"$f":"'Energy Consumption'!H566","v":0},{"$f":"'Energy Consumption'!H647","v":0},{"$f":"'Energy Consumption'!H648","v":0},{"$f":"'Energy Consumption'!H729","v":0},{"$f":"'Energy Consumption'!H730","v":0},{"$f":"'Energy Consumption'!H811","v":0},{"$f":"'Energy Consumption'!H812","v":0},{"$f":"'Energy Consumption'!H893","v":0},{"$f":"'Energy Consumption'!H894","v":0},{"$f":"'Energy Consumption'!H975","v":0},{"$f":"'Energy Consumption'!H976","v":0},{"$f":"'Energy Consumption'!H1057","v":0},{"$f":"'Energy Consumption'!H1058","v":0},{"$f":"'Energy Consumption'!H1139","v":0},{"$f":"'Energy Consumption'!H1140","v":0},{"$f":"'Energy Consumption'!H1221","v":0},{"$f":"'Energy Consumption'!H1222","v":0},{"$f":"'Energy Consumption'!H1303","v":0},{"$f":"'Energy Consumption'!H1304","v":0},{"$f":"'Energy Consumption'!H1385","v":0},{"$f":"'Energy Consumption'!H1386","v":0},{"$f":"'Energy Consumption'!H1467","v":0},{"$f":"'Energy Consumption'!H1468","v":0},{"$f":"'Energy Consumption'!H1549","v":0},{"$f":"'Energy Consumption'!H1550","v":0},{"$f":"'Energy Consumption'!H1631","v":0},{"$f":"'Energy Consumption'!H1632","v":0},null,{"$f":"'Relevant Variables'!H52","v":0},{"$f":"'Relevant Variables'!H82","v":0},{"$f":"'Relevant Variables'!H112","v":0},{"$f":"'Relevant Variables'!H142","v":0},{"$f":"'Relevant Variables'!H172","v":0},{"$f":"'Relevant Variables'!H202","v":0},{"$f":"'Relevant Variables'!H232","v":0},{"$f":"'Relevant Variables'!H262","v":0},{"$f":"'Relevant Variables'!H292","v":0},{"$f":"'Relevant Variables'!H322","v":0},{"$f":"'Relevant Variables'!H352","v":0},{"$f":"'Relevant Variables'!H382","v":0},{"$f":"'Relevant Variables'!H412","v":0},{"$f":"'Relevant Variables'!H442","v":0},{"$f":"'Relevant Variables'!H472","v":0},{"$f":"'Relevant Variables'!H502","v":0},{"$f":"'Relevant Variables'!H532","v":0},{"$f":"'Relevant Variables'!H562","v":0},{"$f":"'Relevant Variables'!H592","v":0},{"$f":"'Relevant Variables'!H622","v":0}]
["2008-06-01",null,{"$f":"'Energy Consumption'!I73","v":0},{"$f":"'Energy Consumption'!I74","v":0},{"$f":"'Energy Consumption'!I155","v":0},{"$f":"'Energy Consumption'!I156","v":0},{"$f":"'Energy Consumption'!I237","v":0},{"$f":"'Energy Consumption'!I238","v":0},{"$f":"'Energy Consumption'!I319","v":0},{"$f":"'Energy Consumption'!I320","v":0},{"$f":"'Energy Consumption'!I401","v":0},{"$f":"'Energy Consumption'!I402","v":0},{"$f":"'Energy Consumption'!I483","v":0},{"$f":"'Energy Consumption'!I484","v":0},{"$f":"'Energy Consumption'!I565","v":0},{"$f":"'Energy Consumption'!I566","v":0},{"$f":"'Energy Consumption'!I647","v":0},{"$f":"'Energy Consumption'!I648","v":0},{"$f":"'Energy Consumption'!I729","v":0},{"$f":"'Energy Consumption'!I730","v":0},{"$f":"'Energy Consumption'!I811","v":0},{"$f":"'Energy Consumption'!I812","v":0},{"$f":"'Energy Consumption'!I893","v":0},{"$f":"'Energy Consumption'!I894","v":0},{"$f":"'Energy Consumption'!I975","v":0},{"$f":"'Energy Consumption'!I976","v":0},{"$f":"'Energy Consumption'!I1057","v":0},{"$f":"'Energy Consumption'!I1058","v":0},{"$f":"'Energy Consumption'!I1139","v":0},{"$f":"'Energy Consumption'!I1140","v":0},{"$f":"'Energy Consumption'!I1221","v":0},{"$f":"'Energy Consumption'!I1222","v":0},{"$f":"'Energy Consumption'!I1303","v":0},{"$f":"'Energy Consumption'!I1304","v":0},{"$f":"'Energy Consumption'!I1385","v":0},{"$f":"'Energy Consumption'!I1386","v":0},{"$f":"'Energy Consumption'!I1467","v":0},{"$f":"'Energy Consumption'!I1468","v":0},{"$f":"'Energy Consumption'!I1549","v":0},{"$f":"'Energy Consumption'!I1550","v":0},{"$f":"'Energy Consumption'!I1631","v":0},{"$f":"'Energy Consumption'!I1632","v":0},null,{"$f":"'Relevant Variables'!I52","v":0},{"$f":"'Relevant Variables'!I82","v":0},{"$f":"'Relevant Variables'!I112","v":0},{"$f":"'Relevant Variables'!I142","v":0},{"$f":"'Relevant Variables'!I172","v":0},{"$f":"'Relevant Variables'!I202","v":0},{"$f":"'Relevant Variables'!I232","v":0},{"$f":"'Relevant Variables'!I262","v":0},{"$f":"'Relevant Variables'!I292","v":0},{"$f":"'Relevant Variables'!I322","v":0},{"$f":"'Relevant Variables'!I352","v":0},{"$f":"'Relevant Variables'!I382","v":0},{"$f":"'Relevant Variables'!I412","v":0},{"$f":"'Relevant Variables'!I442","v":0},{"$f":"'Relevant Variables'!I472","v":0},{"$f":"'Relevant Variables'!I502","v":0},{"$f":"'Relevant Variables'!I532","v":0},{"$f":"'Relevant Variables'!I562","v":0},{"$f":"'Relevant Variables'!I592","v":0},{"$f":"'Relevant Variables'!I622","v":0}]
["2008-07-01",null,{"$f":"'Energy Consumption'!J73","v":0},{"$f":"'Energy Consumption'!J74","v":0},{"$f":"'Energy Consumption'!J155","v":0},{"$f":"'Energy Consumption'!J156","v":0},{"$f":"'Energy Consumption'!J237","v":0},{"$f":"'Energy Consumption'!J238","v":0},{"$f":"'Energy Consumption'!J319","v":0},{"$f":"'Energy Consumption'!J320","v":0},{"$f":"'Energy Consumption'!J401","v":0},{"$f":"'Energy Consumption'!J402","v":0},{"$f":"'Energy Consumption'!J483","v":0},{"$f":"'Energy Consumption'!J484","v":0},{"$f":"'Energy Consumption'!J565","v":0},{"$f":"'Energy Consumption'!J566","v":0},{"$f":"'Energy Consumption'!J647","v":0},{"$f":"'Energy Consumption'!J648","v":0},{"$f":"'Energy Consumption'!J729","v":0},{"$f":"'Energy Consumption'!J730","v":0},{"$f":"'Energy Consumption'!J811","v":0},{"$f":"'Energy Consumption'!J812","v":0},{"$f":"'Energy Consumption'!J893","v":0},{"$f":"'Energy Consumption'!J894","v":0},{"$f":"'Energy Consumption'!J975","v":0},{"$f":"'Energy Consumption'!J976","v":0},{"$f":"'Energy Consumption'!J1057","v":0},{"$f":"'Energy Consumption'!J1058","v":0},{"$f":"'Energy Consumption'!J1139","v":0},{"$f":"'Energy Consumption'!J1140","v":0},{"$f":"'Energy Consumption'!J1221","v":0},{"$f":"'Energy Consumption'!J1222","v":0},{"$f":"'Energy Consumption'!J1303","v":0},{"$f":"'Energy Consumption'!J1304","v":0},{"$f":"'Energy Consumption'!J1385","v":0},{"$f":"'Energy Consumption'!J1386","v":0},{"$f":"'Energy Consumption'!J1467","v":0},{"$f":"'Energy Consumption'!J1468","v":0},{"$f":"'Energy Consumption'!J1549","v":0},{"$f":"'Energy Consumption'!J1550","v":0},{"$f":"'Energy Consumption'!J1631","v":0},{"$f":"'Energy Consumption'!J1632","v":0},null,{"$f":"'Relevant Variables'!J52","v":0},{"$f":"'Relevant Variables'!J82","v":0},{"$f":"'Relevant Variables'!J112","v":0},{"$f":"'Relevant Variables'!J142","v":0},{"$f":"'Relevant Variables'!J172","v":0},{"$f":"'Relevant Variables'!J202","v":0},{"$f":"'Relevant Variables'!J232","v":0},{"$f":"'Relevant Variables'!J262","v":0},{"$f":"'Relevant Variables'!J292","v":0},{"$f":"'Relevant Variables'!J322","v":0},{"$f":"'Relevant Variables'!J352","v":0},{"$f":"'Relevant Variables'!J382","v":0},{"$f":"'Relevant Variables'!J412","v":0},{"$f":"'Relevant Variables'!J442","v":0},{"$f":"'Relevant Variables'!J472","v":0},{"$f":"'Relevant Variables'!J502","v":0},{"$f":"'Relevant Variables'!J532","v":0},{"$f":"'Relevant Variables'!J562","v":0},{"$f":"'Relevant Variables'!J592","v":0},{"$f":"'Relevant Variables'!J622","v":0}]
["2008-08-01",null,{"$f":"'Energy Consumption'!K73","v":0},{"$f":"'Energy Consumption'!K74","v":0},{"$f":"'Energy Consumption'!K155","v":0},{"$f":"'Energy Consumption'!K156","v":0},{"$f":"'Energy Consumption'!K237","v":0},{"$f":"'Energy Consumption'!K238","v":0},{"$f":"'Energy Consumption'!K319","v":0},{"$f":"'Energy Consumption'!K320","v":0},{"$f":"'Energy Consumption'!K401","v":0},{"$f":"'Energy Consumption'!K402","v":0},{"$f":"'Energy Consumption'!K483","v":0},{"$f":"'Energy Consumption'!K484","v":0},{"$f":"'Energy Consumption'!K565","v":0},{"$f":"'Energy Consumption'!K566","v":0},{"$f":"'Energy Consumption'!K647","v":0},{"$f":"'Energy Consumption'!K648","v":0},{"$f":"'Energy Consumption'!K729","v":0},{"$f":"'Energy Consumption'!K730","v":0},{"$f":"'Energy Consumption'!K811","v":0},{"$f":"'Energy Consumption'!K812","v":0},{"$f":"'Energy Consumption'!K893","v":0},{"$f":"'Energy Consumption'!K894","v":0},{"$f":"'Energy Consumption'!K975","v":0},{"$f":"'Energy Consumption'!K976","v":0},{"$f":"'Energy Consumption'!K1057","v":0},{"$f":"'Energy Consumption'!K1058","v":0},{"$f":"'Energy Consumption'!K1139","v":0},{"$f":"'Energy Consumption'!K1140","v":0},{"$f":"'Energy Consumption'!K1221","v":0},{"$f":"'Energy Consumption'!K1222","v":0},{"$f":"'Energy Consumption'!K1303","v":0},{"$f":"'Energy Consumption'!K1304","v":0},{"$f":"'Energy Consumption'!K1385","v":0},{"$f":"'Energy Consumption'!K1386","v":0},{"$f":"'Energy Consumption'!K1467","v":0},{"$f":"'Energy Consumption'!K1468","v":0},{"$f":"'Energy Consumption'!K1549","v":0},{"$f":"'Energy Consumption'!K1550","v":0},{"$f":"'Energy Consumption'!K1631","v":0},{"$f":"'Energy Consumption'!K1632","v":0},null,{"$f":"'Relevant Variables'!K52","v":0},{"$f":"'Relevant Variables'!K82","v":0},{"$f":"'Relevant Variables'!K112","v":0},{"$f":"'Relevant Variables'!K142","v":0},{"$f":"'Relevant Variables'!K172","v":0},{"$f":"'Relevant Variables'!K202","v":0},{"$f":"'Relevant Variables'!K232","v":0},{"$f":"'Relevant Variables'!K262","v":0},{"$f":"'Relevant Variables'!K292","v":0},{"$f":"'Relevant Variables'!K322","v":0},{"$f":"'Relevant Variables'!K352","v":0},{"$f":"'Relevant Variables'!K382","v":0},{"$f":"'Relevant Variables'!K412","v":0},{"$f":"'Relevant Variables'!K442","v":0},{"$f":"'Relevant Variables'!K472","v":0},{"$f":"'Relevant Variables'!K502","v":0},{"$f":"'Relevant Variables'!K532","v":0},{"$f":"'Relevant Variables'!K562","v":0},{"$f":"'Relevant Variables'!K592","v":0},{"$f":"'Relevant Variables'!K622","v":0}]
["2008-09-01",null,{"$f":"'Energy Consumption'!L73","v":0},{"$f":"'Energy Consumption'!L74","v":0},{"$f":"'Energy Consumption'!L155","v":0},{"$f":"'Energy Consumption'!L156","v":0},{"$f":"'Energy Consumption'!L237","v":0},{"$f":"'Energy Consumption'!L238","v":0},{"$f":"'Energy Consumption'!L319","v":0},{"$f":"'Energy Consumption'!L320","v":0},{"$f":"'Energy Consumption'!L401","v":0},{"$f":"'Energy Consumption'!L402","v":0},{"$f":"'Energy Consumption'!L483","v":0},{"$f":"'Energy Consumption'!L484","v":0},{"$f":"'Energy Consumption'!L565","v":0},{"$f":"'Energy Consumption'!L566","v":0},{"$f":"'Energy Consumption'!L647","v":0},{"$f":"'Energy Consumption'!L648","v":0},{"$f":"'Energy Consumption'!L729","v":0},{"$f":"'Energy Consumption'!L730","v":0},{"$f":"'Energy Consumption'!L811","v":0},{"$f":"'Energy Consumption'!L812","v":0},{"$f":"'Energy Consumption'!L893","v":0},{"$f":"'Energy Consumption'!L894","v":0},{"$f":"'Energy Consumption'!L975","v":0},{"$f":"'Energy Consumption'!L976","v":0},{"$f":"'Energy Consumption'!L1057","v":0},{"$f":"'Energy Consumption'!L1058","v":0},{"$f":"'Energy Consumption'!L1139","v":0},{"$f":"'Energy Consumption'!L1140","v":0},{"$f":"'Energy Consumption'!L1221","v":0},{"$f":"'Energy Consumption'!L1222","v":0},{"$f":"'Energy Consumption'!L1303","v":0},{"$f":"'Energy Consumption'!L1304","v":0},{"$f":"'Energy Consumption'!L1385","v":0},{"$f":"'Energy Consumption'!L1386","v":0},{"$f":"'Energy Consumption'!L1467","v":0},{"$f":"'Energy Consumption'!L1468","v":0},{"$f":"'Energy Consumption'!L1549","v":0},{"$f":"'Energy Consumption'!L1550","v":0},{"$f":"'Energy Consumption'!L1631","v":0},{"$f":"'Energy Consumption'!L1632","v":0},null,{"$f":"'Relevant Variables'!L52","v":0},{"$f":"'Relevant Variables'!L82","v":0},{"$f":"'Relevant Variables'!L112","v":0},{"$f":"'Relevant Variables'!L142","v":0},{"$f":"'Relevant Variables'!L172","v":0},{"$f":"'Relevant Variables'!L202","v":0},{"$f":"'Relevant Variables'!L232","v":0},{"$f":"'Relevant Variables'!L262","v":0},{"$f":"'Relevant Variables'!L292","v":0},{"$f":"'Relevant Variables'!L322","v":0},{"$f":"'Relevant Variables'!L352","v":0},{"$f":"'Relevant Variables'!L382","v":0},{"$f":"'Relevant Variables'!L412","v":0},{"$f":"'Relevant Variables'!L442","v":0},{"$f":"'Relevant Variables'!L472","v":0},{"$f":"'Relevant Variables'!L502","v":0},{"$f":"'Relevant Variables'!L532","v":0},{"$f":"'Relevant Variables'!L562","v":0},{"$f":"'Relevant Variables'!L592","v":0},{"$f":"'Relevant Variables'!L622","v":0}]
["2008-10-01",null,{"$f":"'Energy Consumption'!M73","v":0},{"$f":"'Energy Consumption'!M74","v":0},{"$f":"'Energy Consumption'!M155","v":0},{"$f":"'Energy Consumption'!M156","v":0},{"$f":"'Energy Consumption'!M237","v":0},{"$f":"'Energy Consumption'!M238","v":0},{"$f":"'Energy Consumption'!M319","v":0},{"$f":"'Energy Consumption'!M320","v":0},{"$f":"'Energy Consumption'!M401","v":0},{"$f":"'Energy Consumption'!M402","v":0},{"$f":"'Energy Consumption'!M483","v":0},{"$f":"'Energy Consumption'!M484","v":0},{"$f":"'Energy Consumption'!M565","v":0},{"$f":"'Energy Consumption'!M566","v":0},{"$f":"'Energy Consumption'!M647","v":0},{"$f":"'Energy Consumption'!M648","v":0},{"$f":"'Energy Consumption'!M729","v":0},{"$f":"'Energy Consumption'!M730","v":0},{"$f":"'Energy Consumption'!M811","v":0},{"$f":"'Energy Consumption'!M812","v":0},{"$f":"'Energy Consumption'!M893","v":0},{"$f":"'Energy Consumption'!M894","v":0},{"$f":"'Energy Consumption'!M975","v":0},{"$f":"'Energy Consumption'!M976","v":0},{"$f":"'Energy Consumption'!M1057","v":0},{"$f":"'Energy Consumption'!M1058","v":0},{"$f":"'Energy Consumption'!M1139","v":0},{"$f":"'Energy Consumption'!M1140","v":0},{"$f":"'Energy Consumption'!M1221","v":0},{"$f":"'Energy Consumption'!M1222","v":0},{"$f":"'Energy Consumption'!M1303","v":0},{"$f":"'Energy Consumption'!M1304","v":0},{"$f":"'Energy Consumption'!M1385","v":0},{"$f":"'Energy Consumption'!M1386","v":0},{"$f":"'Energy Consumption'!M1467","v":0},{"$f":"'Energy Consumption'!M1468","v":0},{"$f":"'Energy Consumption'!M1549","v":0},{"$f":"'Energy Consumption'!M1550","v":0},{"$f":"'Energy Consumption'!M1631","v":0},{"$f":"'Energy Consumption'!M1632","v":0},null,{"$f":"'Relevant Variables'!M52","v":0},{"$f":"'Relevant Variables'!M82","v":0},{"$f":"'Relevant Variables'!M112","v":0},{"$f":"'Relevant Variables'!M142","v":0},{"$f":"'Relevant Variables'!M172","v":0},{"$f":"'Relevant Variables'!M202","v":0},{"$f":"'Relevant Variables'!M232","v":0},{"$f":"'Relevant Variables'!M262","v":0},{"$f":"'Relevant Variables'!M292","v":0},{"$f":"'Relevant Variables'!M322","v":0},{"$f":"'Relevant Variables'!M352","v":0},{"$f":"'Relevant Variables'!M382","v":0},{"$f":"'Relevant Variables'!M412","v":0},{"$f":"'Relevant Variables'!M442","v":0},{"$f":"'Relevant Variables'!M472","v":0},{"$f":"'Relevant Variables'!M502","v":0},{"$f":"'Relevant Variables'!M532","v":0},{"$f":"'Relevant Variables'!M562","v":0},{"$f":"'Relevant Variables'!M592","v":0},{"$f":"'Relevant Variables'!M622","v":0}]
["2008-11-01",null,{"$f":"'Energy Consumption'!N73","v":0},{"$f":"'Energy Consumption'!N74","v":0},{"$f":"'Energy Consumption'!N155","v":0},{"$f":"'Energy Consumption'!N156","v":0},{"$f":"'Energy Consumption'!N237","v":0},{"$f":"'Energy Consumption'!N238","v":0},{"$f":"'Energy Consumption'!N319","v":0},{"$f":"'Energy Consumption'!N320","v":0},{"$f":"'Energy Consumption'!N401","v":0},{"$f":"'Energy Consumption'!N402","v":0},{"$f":"'Energy Consumption'!N483","v":0},{"$f":"'Energy Consumption'!N484","v":0},{"$f":"'Energy Consumption'!N565","v":0},{"$f":"'Energy Consumption'!N566","v":0},{"$f":"'Energy Consumption'!N647","v":0},{"$f":"'Energy Consumption'!N648","v":0},{"$f":"'Energy Consumption'!N729","v":0},{"$f":"'Energy Consumption'!N730","v":0},{"$f":"'Energy Consumption'!N811","v":0},{"$f":"'Energy Consumption'!N812","v":0},{"$f":"'Energy Consumption'!N893","v":0},{"$f":"'Energy Consumption'!N894","v":0},{"$f":"'Energy Consumption'!N975","v":0},{"$f":"'Energy Consumption'!N976","v":0},{"$f":"'Energy Consumption'!N1057","v":0},{"$f":"'Energy Consumption'!N1058","v":0},{"$f":"'Energy Consumption'!N1139","v":0},{"$f":"'Energy Consumption'!N1140","v":0},{"$f":"'Energy Consumption'!N1221","v":0},{"$f":"'Energy Consumption'!N1222","v":0},{"$f":"'Energy Consumption'!N1303","v":0},{"$f":"'Energy Consumption'!N1304","v":0},{"$f":"'Energy Consumption'!N1385","v":0},{"$f":"'Energy Consumption'!N1386","v":0},{"$f":"'Energy Consumption'!N1467","v":0},{"$f":"'Energy Consumption'!N1468","v":0},{"$f":"'Energy Consumption'!N1549","v":0},{"$f":"'Energy Consumption'!N1550","v":0},{"$f":"'Energy Consumption'!N1631","v":0},{"$f":"'Energy Consumption'!N1632","v":0},null,{"$f":"'Relevant Variables'!N52","v":0},{"$f":"'Relevant Variables'!N82","v":0},{"$f":"'Relevant Variables'!N112","v":0},{"$f":"'Relevant Variables'!N142","v":0},{"$f":"'Relevant Variables'!N172","v":0},{"$f":"'Relevant Variables'!N202","v":0},{"$f":"'Relevant Variables'!N232","v":0},{"$f":"'Relevant Variables'!N262","v":0},{"$f":"'Relevant Variables'!N292","v":0},{"$f":"'Relevant Variables'!N322","v":0},{"$f":"'Relevant Variables'!N352","v":0},{"$f":"'Relevant Variables'!N382","v":0},{"$f":"'Relevant Variables'!N412","v":0},{"$f":"'Relevant Variables'!N442","v":0},{"$f":"'Relevant Variables'!N472","v":0},{"$f":"'Relevant Variables'!N502","v":0},{"$f":"'Relevant Variables'!N532","v":0},{"$f":"'Relevant Variables'!N562","v":0},{"$f":"'Relevant Variables'!N592","v":0},{"$f":"'Relevant Variables'!N622","v":0}]
["2008-12-01",null,{"$f":"'Energy Consumption'!O73","v":0},{"$f":"'Energy Consumption'!O74","v":0},{"$f":"'Energy Consumption'!O155","v":0},{"$f":"'Energy Consumption'!O156","v":0},{"$f":"'Energy Consumption'!O237","v":0},{"$f":"'Energy Consumption'!O238","v":0},{"$f":"'Energy Consumption'!O319","v":0},{"$f":"'Energy Consumption'!O320","v":0},{"$f":"'Energy Consumption'!O401","v":0},{"$f":"'Energy Consumption'!O402","v":0},{"$f":"'Energy Consumption'!O483","v":0},{"$f":"'Energy Consumption'!O484","v":0},{"$f":"'Energy Consumption'!O565","v":0},{"$f":"'Energy Consumption'!O566","v":0},{"$f":"'Energy Consumption'!O647","v":0},{"$f":"'Energy Consumption'!O648","v":0},{"$f":"'Energy Consumption'!O729","v":0},{"$f":"'Energy Consumption'!O730","v":0},{"$f":"'Energy Consumption'!O811","v":0},{"$f":"'Energy Consumption'!O812","v":0},{"$f":"'Energy Consumption'!O893","v":0},{"$f":"'Energy Consumption'!O894","v":0},{"$f":"'Energy Consumption'!O975","v":0},{"$f":"'Energy Consumption'!O976","v":0},{"$f":"'Energy Consumption'!O1057","v":0},{"$f":"'Energy Consumption'!O1058","v":0},{"$f":"'Energy Consumption'!O1139","v":0},{"$f":"'Energy Consumption'!O1140","v":0},{"$f":"'Energy Consumption'!O1221","v":0},{"$f":"'Energy Consumption'!O1222","v":0},{"$f":"'Energy Consumption'!O1303","v":0},{"$f":"'Energy Consumption'!O1304","v":0},{"$f":"'Energy Consumption'!O1385","v":0},{"$f":"'Energy Consumption'!O1386","v":0},{"$f":"'Energy Consumption'!O1467","v":0},{"$f":"'Energy Consumption'!O1468","v":0},{"$f":"'Energy Consumption'!O1549","v":0},{"$f":"'Energy Consumption'!O1550","v":0},{"$f":"'Energy Consumption'!O1631","v":0},{"$f":"'Energy Consumption'!O1632","v":0},null,{"$f":"'Relevant Variables'!O52","v":0},{"$f":"'Relevant Variables'!O82","v":0},{"$f":"'Relevant Variables'!O112","v":0},{"$f":"'Relevant Variables'!O142","v":0},{"$f":"'Relevant Variables'!O172","v":0},{"$f":"'Relevant Variables'!O202","v":0},{"$f":"'Relevant Variables'!O232","v":0},{"$f":"'Relevant Variables'!O262","v":0},{"$f":"'Relevant Variables'!O292","v":0},{"$f":"'Relevant Variables'!O322","v":0},{"$f":"'Relevant Variables'!O352","v":0},{"$f":"'Relevant Variables'!O382","v":0},{"$f":"'Relevant Variables'!O412","v":0},{"$f":"'Relevant Variables'!O442","v":0},{"$f":"'Relevant Variables'!O472","v":0},{"$f":"'Relevant Variables'!O502","v":0},{"$f":"'Relevant Variables'!O532","v":0},{"$f":"'Relevant Variables'!O562","v":0},{"$f":"'Relevant Variables'!O592","v":0},{"$f":"'Relevant Variables'!O622","v":0}]
["2009-01-01",null,{"$f":"'Energy Consumption'!D71","v":0},{"$f":"'Energy Consumption'!D72","v":0},{"$f":"'Energy Consumption'!D153","v":0},{"$f":"'Energy Consumption'!D154","v":0},{"$f":"'Energy Consumption'!D235","v":0},{"$f":"'Energy Consumption'!D236","v":0},{"$f":"'Energy Consumption'!D317","v":0},{"$f":"'Energy Consumption'!D318","v":0},{"$f":"'Energy Consumption'!D399","v":0},{"$f":"'Energy Consumption'!D400","v":0},{"$f":"'Energy Consumption'!D481","v":0},{"$f":"'Energy Consumption'!D482","v":0},{"$f":"'Energy Consumption'!D563","v":0},{"$f":"'Energy Consumption'!D564","v":0},{"$f":"'Energy Consumption'!D645","v":0},{"$f":"'Energy Consumption'!D646","v":0},{"$f":"'Energy Consumption'!D727","v":0},{"$f":"'Energy Consumption'!D728","v":0},{"$f":"'Energy Consumption'!D809","v":0},{"$f":"'Energy Consumption'!D810","v":0},{"$f":"'Energy Consumption'!D891","v":0},{"$f":"'Energy Consumption'!D892","v":0},{"$f":"'Energy Consumption'!D973","v":0},{"$f":"'Energy Consumption'!D974","v":0},{"$f":"'Energy Consumption'!D1055","v":0},{"$f":"'Energy Consumption'!D1056","v":0},{"$f":"'Energy Consumption'!D1137","v":0},{"$f":"'Energy Consumption'!D1138","v":0},{"$f":"'Energy Consumption'!D1219","v":0},{"$f":"'Energy Consumption'!D1220","v":0},{"$f":"'Energy Consumption'!D1301","v":0},{"$f":"'Energy Consumption'!D1302","v":0},{"$f":"'Energy Consumption'!D1383","v":0},{"$f":"'Energy Consumption'!D1384","v":0},{"$f":"'Energy Consumption'!D1465","v":0},{"$f":"'Energy Consumption'!D1466","v":0},{"$f":"'Energy Consumption'!D1547","v":0},{"$f":"'Energy Consumption'!D1548","v":0},{"$f":"'Energy Consumption'!D1629","v":0},{"$f":"'Energy Consumption'!D1630","v":0},null,{"$f":"'Relevant Variables'!D51","v":0},{"$f":"'Relevant Variables'!D81","v":0},{"$f":"'Relevant Variables'!D111","v":0},{"$f":"'Relevant Variables'!D141","v":0},{"$f":"'Relevant Variables'!D171","v":0},{"$f":"'Relevant Variables'!D201","v":0},{"$f":"'Relevant Variables'!D231","v":0},{"$f":"'Relevant Variables'!D261","v":0},{"$f":"'Relevant Variables'!D291","v":0},{"$f":"'Relevant Variables'!D321","v":0},{"$f":"'Relevant Variables'!D351","v":0},{"$f":"'Relevant Variables'!D381","v":0},{"$f":"'Relevant Variables'!D411","v":0},{"$f":"'Relevant Variables'!D441","v":0},{"$f":"'Relevant Variables'!D471","v":0},{"$f":"'Relevant Variables'!D501","v":0},{"$f":"'Relevant Variables'!D531","v":0},{"$f":"'Relevant Variables'!D561","v":0},{"$f":"'Relevant Variables'!D591","v":0},{"$f":"'Relevant Variables'!D621","v":0}]
["2009-02-01",null,{"$f":"'Energy Consumption'!E71","v":0},{"$f":"'Energy Consumption'!E72","v":0},{"$f":"'Energy Consumption'!E153","v":0},{"$f":"'Energy Consumption'!E154","v":0},{"$f":"'Energy Consumption'!E235","v":0},{"$f":"'Energy Consumption'!E236","v":0},{"$f":"'Energy Consumption'!E317","v":0},{"$f":"'Energy Consumption'!E318","v":0},{"$f":"'Energy Consumption'!E399","v":0},{"$f":"'Energy Consumption'!E400","v":0},{"$f":"'Energy Consumption'!E481","v":0},{"$f":"'Energy Consumption'!E482","v":0},{"$f":"'Energy Consumption'!E563","v":0},{"$f":"'Energy Consumption'!E564","v":0},{"$f":"'Energy Consumption'!E645","v":0},{"$f":"'Energy Consumption'!E646","v":0},{"$f":"'Energy Consumption'!E727","v":0},{"$f":"'Energy Consumption'!E728","v":0},{"$f":"'Energy Consumption'!E809","v":0},{"$f":"'Energy Consumption'!E810","v":0},{"$f":"'Energy Consumption'!E891","v":0},{"$f":"'Energy Consumption'!E892","v":0},{"$f":"'Energy Consumption'!E973","v":0},{"$f":"'Energy Consumption'!E974","v":0},{"$f":"'Energy Consumption'!E1055","v":0},{"$f":"'Energy Consumption'!E1056","v":0},{"$f":"'Energy Consumption'!E1137","v":0},{"$f":"'Energy Consumption'!E1138","v":0},{"$f":"'Energy Consumption'!E1219","v":0},{"$f":"'Energy Consumption'!E1220","v":0},{"$f":"'Energy Consumption'!E1301","v":0},{"$f":"'Energy Consumption'!E1302","v":0},{"$f":"'Energy Consumption'!E1383","v":0},{"$f":"'Energy Consumption'!E1384","v":0},{"$f":"'Energy Consumption'!E1465","v":0},{"$f":"'Energy Consumption'!E1466","v":0},{"$f":"'Energy Consumption'!E1547","v":0},{"$f":"'Energy Consumption'!E1548","v":0},{"$f":"'Energy Consumption'!E1629","v":0},{"$f":"'Energy Consumption'!E1630","v":0},null,{"$f":"'Relevant Variables'!E51","v":0},{"$f":"'Relevant Variables'!E81","v":0},{"$f":"'Relevant Variables'!E111","v":0},{"$f":"'Relevant Variables'!E141","v":0},{"$f":"'Relevant Variables'!E171","v":0},{"$f":"'Relevant Variables'!E201","v":0},{"$f":"'Relevant Variables'!E231","v":0},{"$f":"'Relevant Variables'!E261","v":0},{"$f":"'Relevant Variables'!E291","v":0},{"$f":"'Relevant Variables'!E321","v":0},{"$f":"'Relevant Variables'!E351","v":0},{"$f":"'Relevant Variables'!E381","v":0},{"$f":"'Relevant Variables'!E411","v":0},{"$f":"'Relevant Variables'!E441","v":0},{"$f":"'Relevant Variables'!E471","v":0},{"$f":"'Relevant Variables'!E501","v":0},{"$f":"'Relevant Variables'!E531","v":0},{"$f":"'Relevant Variables'!E561","v":0},{"$f":"'Relevant Variables'!E591","v":0},{"$f":"'Relevant Variables'!E621","v":0}]
["2009-03-01",null,{"$f":"'Energy Consumption'!F71","v":0},{"$f":"'Energy Consumption'!F72","v":0},{"$f":"'Energy Consumption'!F153","v":0},{"$f":"'Energy Consumption'!F154","v":0},{"$f":"'Energy Consumption'!F235","v":0},{"$f":"'Energy Consumption'!F236","v":0},{"$f":"'Energy Consumption'!F317","v":0},{"$f":"'Energy Consumption'!F318","v":0},{"$f":"'Energy Consumption'!F399","v":0},{"$f":"'Energy Consumption'!F400","v":0},{"$f":"'Energy Consumption'!F481","v":0},{"$f":"'Energy Consumption'!F482","v":0},{"$f":"'Energy Consumption'!F563","v":0},{"$f":"'Energy Consumption'!F564","v":0},{"$f":"'Energy Consumption'!F645","v":0},{"$f":"'Energy Consumption'!F646","v":0},{"$f":"'Energy Consumption'!F727","v":0},{"$f":"'Energy Consumption'!F728","v":0},{"$f":"'Energy Consumption'!F809","v":0},{"$f":"'Energy Consumption'!F810","v":0},{"$f":"'Energy Consumption'!F891","v":0},{"$f":"'Energy Consumption'!F892","v":0},{"$f":"'Energy Consumption'!F973","v":0},{"$f":"'Energy Consumption'!F974","v":0},{"$f":"'Energy Consumption'!F1055","v":0},{"$f":"'Energy Consumption'!F1056","v":0},{"$f":"'Energy Consumption'!F1137","v":0},{"$f":"'Energy Consumption'!F1138","v":0},{"$f":"'Energy Consumption'!F1219","v":0},{"$f":"'Energy Consumption'!F1220","v":0},{"$f":"'Energy Consumption'!F1301","v":0},{"$f":"'Energy Consumption'!F1302","v":0},{"$f":"'Energy Consumption'!F1383","v":0},{"$f":"'Energy Consumption'!F1384","v":0},{"$f":"'Energy Consumption'!F1465","v":0},{"$f":"'Energy Consumption'!F1466","v":0},{"$f":"'Energy Consumption'!F1547","v":0},{"$f":"'Energy Consumption'!F1548","v":0},{"$f":"'Energy Consumption'!F1629","v":0},{"$f":"'Energy Consumption'!F1630","v":0},null,{"$f":"'Relevant Variables'!F51","v":0},{"$f":"'Relevant Variables'!F81","v":0},{"$f":"'Relevant Variables'!F111","v":0},{"$f":"'Relevant Variables'!F141","v":0},{"$f":"'Relevant Variables'!F171","v":0},{"$f":"'Relevant Variables'!F201","v":0},{"$f":"'Relevant Variables'!F231","v":0},{"$f":"'Relevant Variables'!F261","v":0},{"$f":"'Relevant Variables'!F291","v":0},{"$f":"'Relevant Variables'!F321","v":0},{"$f":"'Relevant Variables'!F351","v":0},{"$f":"'Relevant Variables'!F381","v":0},{"$f":"'Relevant Variables'!F411","v":0},{"$f":"'Relevant Variables'!F441","v":0},{"$f":"'Relevant Variables'!F471","v":0},{"$f":"'Relevant Variables'!F501","v":0},{"$f":"'Relevant Variables'!F531","v":0},{"$f":"'Relevant Variables'!F561","v":0},{"$f":"'Relevant Variables'!F591","v":0},{"$f":"'Relevant Variables'!F621","v":0}]
["2009-04-01",null,{"$f":"'Energy Consumption'!G71","v":0},{"$f":"'Energy Consumption'!G72","v":0},{"$f":"'Energy Consumption'!G153","v":0},{"$f":"'Energy Consumption'!G154","v":0},{"$f":"'Energy Consumption'!G235","v":0},{"$f":"'Energy Consumption'!G236","v":0},{"$f":"'Energy Consumption'!G317","v":0},{"$f":"'Energy Consumption'!G318","v":0},{"$f":"'Energy Consumption'!G399","v":0},{"$f":"'Energy Consumption'!G400","v":0},{"$f":"'Energy Consumption'!G481","v":0},{"$f":"'Energy Consumption'!G482","v":0},{"$f":"'Energy Consumption'!G563","v":0},{"$f":"'Energy Consumption'!G564","v":0},{"$f":"'Energy Consumption'!G645","v":0},{"$f":"'Energy Consumption'!G646","v":0},{"$f":"'Energy Consumption'!G727","v":0},{"$f":"'Energy Consumption'!G728","v":0},{"$f":"'Energy Consumption'!G809","v":0},{"$f":"'Energy Consumption'!G810","v":0},{"$f":"'Energy Consumption'!G891","v":0},{"$f":"'Energy Consumption'!G892","v":0},{"$f":"'Energy Consumption'!G973","v":0},{"$f":"'Energy Consumption'!G974","v":0},{"$f":"'Energy Consumption'!G1055","v":0},{"$f":"'Energy Consumption'!G1056","v":0},{"$f":"'Energy Consumption'!G1137","v":0},{"$f":"'Energy Consumption'!G1138","v":0},{"$f":"'Energy Consumption'!G1219","v":0},{"$f":"'Energy Consumption'!G1220","v":0},{"$f":"'Energy Consumption'!G1301","v":0},{"$f":"'Energy Consumption'!G1302","v":0},{"$f":"'Energy Consumption'!G1383","v":0},{"$f":"'Energy Consumption'!G1384","v":0},{"$f":"'Energy Consumption'!G1465","v":0},{"$f":"'Energy Consumption'!G1466","v":0},{"$f":"'Energy Consumption'!G1547","v":0},{"$f":"'Energy Consumption'!G1548","v":0},{"$f":"'Energy Consumption'!G1629","v":0},{"$f":"'Energy Consumption'!G1630","v":0},null,{"$f":"'Relevant Variables'!G51","v":0},{"$f":"'Relevant Variables'!G81","v":0},{"$f":"'Relevant Variables'!G111","v":0},{"$f":"'Relevant Variables'!G141","v":0},{"$f":"'Relevant Variables'!G171","v":0},{"$f":"'Relevant Variables'!G201","v":0},{"$f":"'Relevant Variables'!G231","v":0},{"$f":"'Relevant Variables'!G261","v":0},{"$f":"'Relevant Variables'!G291","v":0},{"$f":"'Relevant Variables'!G321","v":0},{"$f":"'Relevant Variables'!G351","v":0},{"$f":"'Relevant Variables'!G381","v":0},{"$f":"'Relevant Variables'!G411","v":0},{"$f":"'Relevant Variables'!G441","v":0},{"$f":"'Relevant Variables'!G471","v":0},{"$f":"'Relevant Variables'!G501","v":0},{"$f":"'Relevant Variables'!G531","v":0},{"$f":"'Relevant Variables'!G561","v":0},{"$f":"'Relevant Variables'!G591","v":0},{"$f":"'Relevant Variables'!G621","v":0}]
["2009-05-01",null,{"$f":"'Energy Consumption'!H71","v":0},{"$f":"'Energy Consumption'!H72","v":0},{"$f":"'Energy Consumption'!H153","v":0},{"$f":"'Energy Consumption'!H154","v":0},{"$f":"'Energy Consumption'!H235","v":0},{"$f":"'Energy Consumption'!H236","v":0},{"$f":"'Energy Consumption'!H317","v":0},{"$f":"'Energy Consumption'!H318","v":0},{"$f":"'Energy Consumption'!H399","v":0},{"$f":"'Energy Consumption'!H400","v":0},{"$f":"'Energy Consumption'!H481","v":0},{"$f":"'Energy Consumption'!H482","v":0},{"$f":"'Energy Consumption'!H563","v":0},{"$f":"'Energy Consumption'!H564","v":0},{"$f":"'Energy Consumption'!H645","v":0},{"$f":"'Energy Consumption'!H646","v":0},{"$f":"'Energy Consumption'!H727","v":0},{"$f":"'Energy Consumption'!H728","v":0},{"$f":"'Energy Consumption'!H809","v":0},{"$f":"'Energy Consumption'!H810","v":0},{"$f":"'Energy Consumption'!H891","v":0},{"$f":"'Energy Consumption'!H892","v":0},{"$f":"'Energy Consumption'!H973","v":0},{"$f":"'Energy Consumption'!H974","v":0},{"$f":"'Energy Consumption'!H1055","v":0},{"$f":"'Energy Consumption'!H1056","v":0},{"$f":"'Energy Consumption'!H1137","v":0},{"$f":"'Energy Consumption'!H1138","v":0},{"$f":"'Energy Consumption'!H1219","v":0},{"$f":"'Energy Consumption'!H1220","v":0},{"$f":"'Energy Consumption'!H1301","v":0},{"$f":"'Energy Consumption'!H1302","v":0},{"$f":"'Energy Consumption'!H1383","v":0},{"$f":"'Energy Consumption'!H1384","v":0},{"$f":"'Energy Consumption'!H1465","v":0},{"$f":"'Energy Consumption'!H1466","v":0},{"$f":"'Energy Consumption'!H1547","v":0},{"$f":"'Energy Consumption'!H1548","v":0},{"$f":"'Energy Consumption'!H1629","v":0},{"$f":"'Energy Consumption'!H1630","v":0},null,{"$f":"'Relevant Variables'!H51","v":0},{"$f":"'Relevant Variables'!H81","v":0},{"$f":"'Relevant Variables'!H111","v":0},{"$f":"'Relevant Variables'!H141","v":0},{"$f":"'Relevant Variables'!H171","v":0},{"$f":"'Relevant Variables'!H201","v":0},{"$f":"'Relevant Variables'!H231","v":0},{"$f":"'Relevant Variables'!H261","v":0},{"$f":"'Relevant Variables'!H291","v":0},{"$f":"'Relevant Variables'!H321","v":0},{"$f":"'Relevant Variables'!H351","v":0},{"$f":"'Relevant Variables'!H381","v":0},{"$f":"'Relevant Variables'!H411","v":0},{"$f":"'Relevant Variables'!H441","v":0},{"$f":"'Relevant Variables'!H471","v":0},{"$f":"'Relevant Variables'!H501","v":0},{"$f":"'Relevant Variables'!H531","v":0},{"$f":"'Relevant Variables'!H561","v":0},{"$f":"'Relevant Variables'!H591","v":0},{"$f":"'Relevant Variables'!H621","v":0}]
["2009-06-01",null,{"$f":"'Energy Consumption'!I71","v":0},{"$f":"'Energy Consumption'!I72","v":0},{"$f":"'Energy Consumption'!I153","v":0},{"$f":"'Energy Consumption'!I154","v":0},{"$f":"'Energy Consumption'!I235","v":0},{"$f":"'Energy Consumption'!I236","v":0},{"$f":"'Energy Consumption'!I317","v":0},{"$f":"'Energy Consumption'!I318","v":0},{"$f":"'Energy Consumption'!I399","v":0},{"$f":"'Energy Consumption'!I400","v":0},{"$f":"'Energy Consumption'!I481","v":0},{"$f":"'Energy Consumption'!I482","v":0},{"$f":"'Energy Consumption'!I563","v":0},{"$f":"'Energy Consumption'!I564","v":0},{"$f":"'Energy Consumption'!I645","v":0},{"$f":"'Energy Consumption'!I646","v":0},{"$f":"'Energy Consumption'!I727","v":0},{"$f":"'Energy Consumption'!I728","v":0},{"$f":"'Energy Consumption'!I809","v":0},{"$f":"'Energy Consumption'!I810","v":0},{"$f":"'Energy Consumption'!I891","v":0},{"$f":"'Energy Consumption'!I892","v":0},{"$f":"'Energy Consumption'!I973","v":0},{"$f":"'Energy Consumption'!I974","v":0},{"$f":"'Energy Consumption'!I1055","v":0},{"$f":"'Energy Consumption'!I1056","v":0},{"$f":"'Energy Consumption'!I1137","v":0},{"$f":"'Energy Consumption'!I1138","v":0},{"$f":"'Energy Consumption'!I1219","v":0},{"$f":"'Energy Consumption'!I1220","v":0},{"$f":"'Energy Consumption'!I1301","v":0},{"$f":"'Energy Consumption'!I1302","v":0},{"$f":"'Energy Consumption'!I1383","v":0},{"$f":"'Energy Consumption'!I1384","v":0},{"$f":"'Energy Consumption'!I1465","v":0},{"$f":"'Energy Consumption'!I1466","v":0},{"$f":"'Energy Consumption'!I1547","v":0},{"$f":"'Energy Consumption'!I1548","v":0},{"$f":"'Energy Consumption'!I1629","v":0},{"$f":"'Energy Consumption'!I1630","v":0},null,{"$f":"'Relevant Variables'!I51","v":0},{"$f":"'Relevant Variables'!I81","v":0},{"$f":"'Relevant Variables'!I111","v":0},{"$f":"'Relevant Variables'!I141","v":0},{"$f":"'Relevant Variables'!I171","v":0},{"$f":"'Relevant Variables'!I201","v":0},{"$f":"'Relevant Variables'!I231","v":0},{"$f":"'Relevant Variables'!I261","v":0},{"$f":"'Relevant Variables'!I291","v":0},{"$f":"'Relevant Variables'!I321","v":0},{"$f":"'Relevant Variables'!I351","v":0},{"$f":"'Relevant Variables'!I381","v":0},{"$f":"'Relevant Variables'!I411","v":0},{"$f":"'Relevant Variables'!I441","v":0},{"$f":"'Relevant Variables'!I471","v":0},{"$f":"'Relevant Variables'!I501","v":0},{"$f":"'Relevant Variables'!I531","v":0},{"$f":"'Relevant Variables'!I561","v":0},{"$f":"'Relevant Variables'!I591","v":0},{"$f":"'Relevant Variables'!I621","v":0}]
["2009-07-01",null,{"$f":"'Energy Consumption'!J71","v":0},{"$f":"'Energy Consumption'!J72","v":0},{"$f":"'Energy Consumption'!J153","v":0},{"$f":"'Energy Consumption'!J154","v":0},{"$f":"'Energy Consumption'!J235","v":0},{"$f":"'Energy Consumption'!J236","v":0},{"$f":"'Energy Consumption'!J317","v":0},{"$f":"'Energy Consumption'!J318","v":0},{"$f":"'Energy Consumption'!J399","v":0},{"$f":"'Energy Consumption'!J400","v":0},{"$f":"'Energy Consumption'!J481","v":0},{"$f":"'Energy Consumption'!J482","v":0},{"$f":"'Energy Consumption'!J563","v":0},{"$f":"'Energy Consumption'!J564","v":0},{"$f":"'Energy Consumption'!J645","v":0},{"$f":"'Energy Consumption'!J646","v":0},{"$f":"'Energy Consumption'!J727","v":0},{"$f":"'Energy Consumption'!J728","v":0},{"$f":"'Energy Consumption'!J809","v":0},{"$f":"'Energy Consumption'!J810","v":0},{"$f":"'Energy Consumption'!J891","v":0},{"$f":"'Energy Consumption'!J892","v":0},{"$f":"'Energy Consumption'!J973","v":0},{"$f":"'Energy Consumption'!J974","v":0},{"$f":"'Energy Consumption'!J1055","v":0},{"$f":"'Energy Consumption'!J1056","v":0},{"$f":"'Energy Consumption'!J1137","v":0},{"$f":"'Energy Consumption'!J1138","v":0},{"$f":"'Energy Consumption'!J1219","v":0},{"$f":"'Energy Consumption'!J1220","v":0},{"$f":"'Energy Consumption'!J1301","v":0},{"$f":"'Energy Consumption'!J1302","v":0},{"$f":"'Energy Consumption'!J1383","v":0},{"$f":"'Energy Consumption'!J1384","v":0},{"$f":"'Energy Consumption'!J1465","v":0},{"$f":"'Energy Consumption'!J1466","v":0},{"$f":"'Energy Consumption'!J1547","v":0},{"$f":"'Energy Consumption'!J1548","v":0},{"$f":"'Energy Consumption'!J1629","v":0},{"$f":"'Energy Consumption'!J1630","v":0},null,{"$f":"'Relevant Variables'!J51","v":0},{"$f":"'Relevant Variables'!J81","v":0},{"$f":"'Relevant Variables'!J111","v":0},{"$f":"'Relevant Variables'!J141","v":0},{"$f":"'Relevant Variables'!J171","v":0},{"$f":"'Relevant Variables'!J201","v":0},{"$f":"'Relevant Variables'!J231","v":0},{"$f":"'Relevant Variables'!J261","v":0},{"$f":"'Relevant Variables'!J291","v":0},{"$f":"'Relevant Variables'!J321","v":0},{"$f":"'Relevant Variables'!J351","v":0},{"$f":"'Relevant Variables'!J381","v":0},{"$f":"'Relevant Variables'!J411","v":0},{"$f":"'Relevant Variables'!J441","v":0},{"$f":"'Relevant Variables'!J471","v":0},{"$f":"'Relevant Variables'!J501","v":0},{"$f":"'Relevant Variables'!J531","v":0},{"$f":"'Relevant Variables'!J561","v":0},{"$f":"'Relevant Variables'!J591","v":0},{"$f":"'Relevant Variables'!J621","v":0}]
["2009-08-01",null,{"$f":"'Energy Consumption'!K71","v":0},{"$f":"'Energy Consumption'!K72","v":0},{"$f":"'Energy Consumption'!K153","v":0},{"$f":"'Energy Consumption'!K154","v":0},{"$f":"'Energy Consumption'!K235","v":0},{"$f":"'Energy Consumption'!K236","v":0},{"$f":"'Energy Consumption'!K317","v":0},{"$f":"'Energy Consumption'!K318","v":0},{"$f":"'Energy Consumption'!K399","v":0},{"$f":"'Energy Consumption'!K400","v":0},{"$f":"'Energy Consumption'!K481","v":0},{"$f":"'Energy Consumption'!K482","v":0},{"$f":"'Energy Consumption'!K563","v":0},{"$f":"'Energy Consumption'!K564","v":0},{"$f":"'Energy Consumption'!K645","v":0},{"$f":"'Energy Consumption'!K646","v":0},{"$f":"'Energy Consumption'!K727","v":0},{"$f":"'Energy Consumption'!K728","v":0},{"$f":"'Energy Consumption'!K809","v":0},{"$f":"'Energy Consumption'!K810","v":0},{"$f":"'Energy Consumption'!K891","v":0},{"$f":"'Energy Consumption'!K892","v":0},{"$f":"'Energy Consumption'!K973","v":0},{"$f":"'Energy Consumption'!K974","v":0},{"$f":"'Energy Consumption'!K1055","v":0},{"$f":"'Energy Consumption'!K1056","v":0},{"$f":"'Energy Consumption'!K1137","v":0},{"$f":"'Energy Consumption'!K1138","v":0},{"$f":"'Energy Consumption'!K1219","v":0},{"$f":"'Energy Consumption'!K1220","v":0},{"$f":"'Energy Consumption'!K1301","v":0},{"$f":"'Energy Consumption'!K1302","v":0},{"$f":"'Energy Consumption'!K1383","v":0},{"$f":"'Energy Consumption'!K1384","v":0},{"$f":"'Energy Consumption'!K1465","v":0},{"$f":"'Energy Consumption'!K1466","v":0},{"$f":"'Energy Consumption'!K1547","v":0},{"$f":"'Energy Consumption'!K1548","v":0},{"$f":"'Energy Consumption'!K1629","v":0},{"$f":"'Energy Consumption'!K1630","v":0},null,{"$f":"'Relevant Variables'!K51","v":0},{"$f":"'Relevant Variables'!K81","v":0},{"$f":"'Relevant Variables'!K111","v":0},{"$f":"'Relevant Variables'!K141","v":0},{"$f":"'Relevant Variables'!K171","v":0},{"$f":"'Relevant Variables'!K201","v":0},{"$f":"'Relevant Variables'!K231","v":0},{"$f":"'Relevant Variables'!K261","v":0},{"$f":"'Relevant Variables'!K291","v":0},{"$f":"'Relevant Variables'!K321","v":0},{"$f":"'Relevant Variables'!K351","v":0},{"$f":"'Relevant Variables'!K381","v":0},{"$f":"'Relevant Variables'!K411","v":0},{"$f":"'Relevant Variables'!K441","v":0},{"$f":"'Relevant Variables'!K471","v":0},{"$f":"'Relevant Variables'!K501","v":0},{"$f":"'Relevant Variables'!K531","v":0},{"$f":"'Relevant Variables'!K561","v":0},{"$f":"'Relevant Variables'!K591","v":0},{"$f":"'Relevant Variables'!K621","v":0}]
["2009-09-01",null,{"$f":"'Energy Consumption'!L71","v":0},{"$f":"'Energy Consumption'!L72","v":0},{"$f":"'Energy Consumption'!L153","v":0},{"$f":"'Energy Consumption'!L154","v":0},{"$f":"'Energy Consumption'!L235","v":0},{"$f":"'Energy Consumption'!L236","v":0},{"$f":"'Energy Consumption'!L317","v":0},{"$f":"'Energy Consumption'!L318","v":0},{"$f":"'Energy Consumption'!L399","v":0},{"$f":"'Energy Consumption'!L400","v":0},{"$f":"'Energy Consumption'!L481","v":0},{"$f":"'Energy Consumption'!L482","v":0},{"$f":"'Energy Consumption'!L563","v":0},{"$f":"'Energy Consumption'!L564","v":0},{"$f":"'Energy Consumption'!L645","v":0},{"$f":"'Energy Consumption'!L646","v":0},{"$f":"'Energy Consumption'!L727","v":0},{"$f":"'Energy Consumption'!L728","v":0},{"$f":"'Energy Consumption'!L809","v":0},{"$f":"'Energy Consumption'!L810","v":0},{"$f":"'Energy Consumption'!L891","v":0},{"$f":"'Energy Consumption'!L892","v":0},{"$f":"'Energy Consumption'!L973","v":0},{"$f":"'Energy Consumption'!L974","v":0},{"$f":"'Energy Consumption'!L1055","v":0},{"$f":"'Energy Consumption'!L1056","v":0},{"$f":"'Energy Consumption'!L1137","v":0},{"$f":"'Energy Consumption'!L1138","v":0},{"$f":"'Energy Consumption'!L1219","v":0},{"$f":"'Energy Consumption'!L1220","v":0},{"$f":"'Energy Consumption'!L1301","v":0},{"$f":"'Energy Consumption'!L1302","v":0},{"$f":"'Energy Consumption'!L1383","v":0},{"$f":"'Energy Consumption'!L1384","v":0},{"$f":"'Energy Consumption'!L1465","v":0},{"$f":"'Energy Consumption'!L1466","v":0},{"$f":"'Energy Consumption'!L1547","v":0},{"$f":"'Energy Consumption'!L1548","v":0},{"$f":"'Energy Consumption'!L1629","v":0},{"$f":"'Energy Consumption'!L1630","v":0},null,{"$f":"'Relevant Variables'!L51","v":0},{"$f":"'Relevant Variables'!L81","v":0},{"$f":"'Relevant Variables'!L111","v":0},{"$f":"'Relevant Variables'!L141","v":0},{"$f":"'Relevant Variables'!L171","v":0},{"$f":"'Relevant Variables'!L201","v":0},{"$f":"'Relevant Variables'!L231","v":0},{"$f":"'Relevant Variables'!L261","v":0},{"$f":"'Relevant Variables'!L291","v":0},{"$f":"'Relevant Variables'!L321","v":0},{"$f":"'Relevant Variables'!L351","v":0},{"$f":"'Relevant Variables'!L381","v":0},{"$f":"'Relevant Variables'!L411","v":0},{"$f":"'Relevant Variables'!L441","v":0},{"$f":"'Relevant Variables'!L471","v":0},{"$f":"'Relevant Variables'!L501","v":0},{"$f":"'Relevant Variables'!L531","v":0},{"$f":"'Relevant Variables'!L561","v":0},{"$f":"'Relevant Variables'!L591","v":0},{"$f":"'Relevant Variables'!L621","v":0}]
["2009-10-01",null,{"$f":"'Energy Consumption'!M71","v":0},{"$f":"'Energy Consumption'!M72","v":0},{"$f":"'Energy Consumption'!M153","v":0},{"$f":"'Energy Consumption'!M154","v":0},{"$f":"'Energy Consumption'!M235","v":0},{"$f":"'Energy Consumption'!M236","v":0},{"$f":"'Energy Consumption'!M317","v":0},{"$f":"'Energy Consumption'!M318","v":0},{"$f":"'Energy Consumption'!M399","v":0},{"$f":"'Energy Consumption'!M400","v":0},{"$f":"'Energy Consumption'!M481","v":0},{"$f":"'Energy Consumption'!M482","v":0},{"$f":"'Energy Consumption'!M563","v":0},{"$f":"'Energy Consumption'!M564","v":0},{"$f":"'Energy Consumption'!M645","v":0},{"$f":"'Energy Consumption'!M646","v":0},{"$f":"'Energy Consumption'!M727","v":0},{"$f":"'Energy Consumption'!M728","v":0},{"$f":"'Energy Consumption'!M809","v":0},{"$f":"'Energy Consumption'!M810","v":0},{"$f":"'Energy Consumption'!M891","v":0},{"$f":"'Energy Consumption'!M892","v":0},{"$f":"'Energy Consumption'!M973","v":0},{"$f":"'Energy Consumption'!M974","v":0},{"$f":"'Energy Consumption'!M1055","v":0},{"$f":"'Energy Consumption'!M1056","v":0},{"$f":"'Energy Consumption'!M1137","v":0},{"$f":"'Energy Consumption'!M1138","v":0},{"$f":"'Energy Consumption'!M1219","v":0},{"$f":"'Energy Consumption'!M1220","v":0},{"$f":"'Energy Consumption'!M1301","v":0},{"$f":"'Energy Consumption'!M1302","v":0},{"$f":"'Energy Consumption'!M1383","v":0},{"$f":"'Energy Consumption'!M1384","v":0},{"$f":"'Energy Consumption'!M1465","v":0},{"$f":"'Energy Consumption'!M1466","v":0},{"$f":"'Energy Consumption'!M1547","v":0},{"$f":"'Energy Consumption'!M1548","v":0},{"$f":"'Energy Consumption'!M1629","v":0},{"$f":"'Energy Consumption'!M1630","v":0},null,{"$f":"'Relevant Variables'!M51","v":0},{"$f":"'Relevant Variables'!M81","v":0},{"$f":"'Relevant Variables'!M111","v":0},{"$f":"'Relevant Variables'!M141","v":0},{"$f":"'Relevant Variables'!M171","v":0},{"$f":"'Relevant Variables'!M201","v":0},{"$f":"'Relevant Variables'!M231","v":0},{"$f":"'Relevant Variables'!M261","v":0},{"$f":"'Relevant Variables'!M291","v":0},{"$f":"'Relevant Variables'!M321","v":0},{"$f":"'Relevant Variables'!M351","v":0},{"$f":"'Relevant Variables'!M381","v":0},{"$f":"'Relevant Variables'!M411","v":0},{"$f":"'Relevant Variables'!M441","v":0},{"$f":"'Relevant Variables'!M471","v":0},{"$f":"'Relevant Variables'!M501","v":0},{"$f":"'Relevant Variables'!M531","v":0},{"$f":"'Relevant Variables'!M561","v":0},{"$f":"'Relevant Variables'!M591","v":0},{"$f":"'Relevant Variables'!M621","v":0}]
["2009-11-01",null,{"$f":"'Energy Consumption'!N71","v":0},{"$f":"'Energy Consumption'!N72","v":0},{"$f":"'Energy Consumption'!N153","v":0},{"$f":"'Energy Consumption'!N154","v":0},{"$f":"'Energy Consumption'!N235","v":0},{"$f":"'Energy Consumption'!N236","v":0},{"$f":"'Energy Consumption'!N317","v":0},{"$f":"'Energy Consumption'!N318","v":0},{"$f":"'Energy Consumption'!N399","v":0},{"$f":"'Energy Consumption'!N400","v":0},{"$f":"'Energy Consumption'!N481","v":0},{"$f":"'Energy Consumption'!N482","v":0},{"$f":"'Energy Consumption'!N563","v":0},{"$f":"'Energy Consumption'!N564","v":0},{"$f":"'Energy Consumption'!N645","v":0},{"$f":"'Energy Consumption'!N646","v":0},{"$f":"'Energy Consumption'!N727","v":0},{"$f":"'Energy Consumption'!N728","v":0},{"$f":"'Energy Consumption'!N809","v":0},{"$f":"'Energy Consumption'!N810","v":0},{"$f":"'Energy Consumption'!N891","v":0},{"$f":"'Energy Consumption'!N892","v":0},{"$f":"'Energy Consumption'!N973","v":0},{"$f":"'Energy Consumption'!N974","v":0},{"$f":"'Energy Consumption'!N1055","v":0},{"$f":"'Energy Consumption'!N1056","v":0},{"$f":"'Energy Consumption'!N1137","v":0},{"$f":"'Energy Consumption'!N1138","v":0},{"$f":"'Energy Consumption'!N1219","v":0},{"$f":"'Energy Consumption'!N1220","v":0},{"$f":"'Energy Consumption'!N1301","v":0},{"$f":"'Energy Consumption'!N1302","v":0},{"$f":"'Energy Consumption'!N1383","v":0},{"$f":"'Energy Consumption'!N1384","v":0},{"$f":"'Energy Consumption'!N1465","v":0},{"$f":"'Energy Consumption'!N1466","v":0},{"$f":"'Energy Consumption'!N1547","v":0},{"$f":"'Energy Consumption'!N1548","v":0},{"$f":"'Energy Consumption'!N1629","v":0},{"$f":"'Energy Consumption'!N1630","v":0},null,{"$f":"'Relevant Variables'!N51","v":0},{"$f":"'Relevant Variables'!N81","v":0},{"$f":"'Relevant Variables'!N111","v":0},{"$f":"'Relevant Variables'!N141","v":0},{"$f":"'Relevant Variables'!N171","v":0},{"$f":"'Relevant Variables'!N201","v":0},{"$f":"'Relevant Variables'!N231","v":0},{"$f":"'Relevant Variables'!N261","v":0},{"$f":"'Relevant Variables'!N291","v":0},{"$f":"'Relevant Variables'!N321","v":0},{"$f":"'Relevant Variables'!N351","v":0},{"$f":"'Relevant Variables'!N381","v":0},{"$f":"'Relevant Variables'!N411","v":0},{"$f":"'Relevant Variables'!N441","v":0},{"$f":"'Relevant Variables'!N471","v":0},{"$f":"'Relevant Variables'!N501","v":0},{"$f":"'Relevant Variables'!N531","v":0},{"$f":"'Relevant Variables'!N561","v":0},{"$f":"'Relevant Variables'!N591","v":0},{"$f":"'Relevant Variables'!N621","v":0}]
["2009-12-01",null,{"$f":"'Energy Consumption'!O71","v":0},{"$f":"'Energy Consumption'!O72","v":0},{"$f":"'Energy Consumption'!O153","v":0},{"$f":"'Energy Consumption'!O154","v":0},{"$f":"'Energy Consumption'!O235","v":0},{"$f":"'Energy Consumption'!O236","v":0},{"$f":"'Energy Consumption'!O317","v":0},{"$f":"'Energy Consumption'!O318","v":0},{"$f":"'Energy Consumption'!O399","v":0},{"$f":"'Energy Consumption'!O400","v":0},{"$f":"'Energy Consumption'!O481","v":0},{"$f":"'Energy Consumption'!O482","v":0},{"$f":"'Energy Consumption'!O563","v":0},{"$f":"'Energy Consumption'!O564","v":0},{"$f":"'Energy Consumption'!O645","v":0},{"$f":"'Energy Consumption'!O646","v":0},{"$f":"'Energy Consumption'!O727","v":0},{"$f":"'Energy Consumption'!O728","v":0},{"$f":"'Energy Consumption'!O809","v":0},{"$f":"'Energy Consumption'!O810","v":0},{"$f":"'Energy Consumption'!O891","v":0},{"$f":"'Energy Consumption'!O892","v":0},{"$f":"'Energy Consumption'!O973","v":0},{"$f":"'Energy Consumption'!O974","v":0},{"$f":"'Energy Consumption'!O1055","v":0},{"$f":"'Energy Consumption'!O1056","v":0},{"$f":"'Energy Consumption'!O1137","v":0},{"$f":"'Energy Consumption'!O1138","v":0},{"$f":"'Energy Consumption'!O1219","v":0},{"$f":"'Energy Consumption'!O1220","v":0},{"$f":"'Energy Consumption'!O1301","v":0},{"$f":"'Energy Consumption'!O1302","v":0},{"$f":"'Energy Consumption'!O1383","v":0},{"$f":"'Energy Consumption'!O1384","v":0},{"$f":"'Energy Consumption'!O1465","v":0},{"$f":"'Energy Consumption'!O1466","v":0},{"$f":"'Energy Consumption'!O1547","v":0},{"$f":"'Energy Consumption'!O1548","v":0},{"$f":"'Energy Consumption'!O1629","v":0},{"$f":"'Energy Consumption'!O1630","v":0},null,{"$f":"'Relevant Variables'!O51","v":0},{"$f":"'Relevant Variables'!O81","v":0},{"$f":"'Relevant Variables'!O111","v":0},{"$f":"'Relevant Variables'!O141","v":0},{"$f":"'Relevant Variables'!O171","v":0},{"$f":"'Relevant Variables'!O201","v":0},{"$f":"'Relevant Variables'!O231","v":0},{"$f":"'Relevant Variables'!O261","v":0},{"$f":"'Relevant Variables'!O291","v":0},{"$f":"'Relevant Variables'!O321","v":0},{"$f":"'Relevant Variables'!O351","v":0},{"$f":"'Relevant Variables'!O381","v":0},{"$f":"'Relevant Variables'!O411","v":0},{"$f":"'Relevant Variables'!O441","v":0},{"$f":"'Relevant Variables'!O471","v":0},{"$f":"'Relevant Variables'!O501","v":0},{"$f":"'Relevant Variables'!O531","v":0},{"$f":"'Relevant Variables'!O561","v":0},{"$f":"'Relevant Variables'!O591","v":0},{"$f":"'Relevant Variables'!O621","v":0}]
["2010-01-01",null,{"$f":"'Energy Consumption'!D69","v":0},{"$f":"'Energy Consumption'!D70","v":0},{"$f":"'Energy Consumption'!D151","v":0},{"$f":"'Energy Consumption'!D152","v":0},{"$f":"'Energy Consumption'!D233","v":0},{"$f":"'Energy Consumption'!D234","v":0},{"$f":"'Energy Consumption'!D315","v":0},{"$f":"'Energy Consumption'!D316","v":0},{"$f":"'Energy Consumption'!D397","v":0},{"$f":"'Energy Consumption'!D398","v":0},{"$f":"'Energy Consumption'!D479","v":0},{"$f":"'Energy Consumption'!D480","v":0},{"$f":"'Energy Consumption'!D561","v":0},{"$f":"'Energy Consumption'!D562","v":0},{"$f":"'Energy Consumption'!D643","v":0},{"$f":"'Energy Consumption'!D644","v":0},{"$f":"'Energy Consumption'!D725","v":0},{"$f":"'Energy Consumption'!D726","v":0},{"$f":"'Energy Consumption'!D807","v":0},{"$f":"'Energy Consumption'!D808","v":0},{"$f":"'Energy Consumption'!D889","v":0},{"$f":"'Energy Consumption'!D890","v":0},{"$f":"'Energy Consumption'!D971","v":0},{"$f":"'Energy Consumption'!D972","v":0},{"$f":"'Energy Consumption'!D1053","v":0},{"$f":"'Energy Consumption'!D1054","v":0},{"$f":"'Energy Consumption'!D1135","v":0},{"$f":"'Energy Consumption'!D1136","v":0},{"$f":"'Energy Consumption'!D1217","v":0},{"$f":"'Energy Consumption'!D1218","v":0},{"$f":"'Energy Consumption'!D1299","v":0},{"$f":"'Energy Consumption'!D1300","v":0},{"$f":"'Energy Consumption'!D1381","v":0},{"$f":"'Energy Consumption'!D1382","v":0},{"$f":"'Energy Consumption'!D1463","v":0},{"$f":"'Energy Consumption'!D1464","v":0},{"$f":"'Energy Consumption'!D1545","v":0},{"$f":"'Energy Consumption'!D1546","v":0},{"$f":"'Energy Consumption'!D1627","v":0},{"$f":"'Energy Consumption'!D1628","v":0},null,{"$f":"'Relevant Variables'!D50","v":0},{"$f":"'Relevant Variables'!D80","v":0},{"$f":"'Relevant Variables'!D110","v":0},{"$f":"'Relevant Variables'!D140","v":0},{"$f":"'Relevant Variables'!D170","v":0},{"$f":"'Relevant Variables'!D200","v":0},{"$f":"'Relevant Variables'!D230","v":0},{"$f":"'Relevant Variables'!D260","v":0},{"$f":"'Relevant Variables'!D290","v":0},{"$f":"'Relevant Variables'!D320","v":0},{"$f":"'Relevant Variables'!D350","v":0},{"$f":"'Relevant Variables'!D380","v":0},{"$f":"'Relevant Variables'!D410","v":0},{"$f":"'Relevant Variables'!D440","v":0},{"$f":"'Relevant Variables'!D470","v":0},{"$f":"'Relevant Variables'!D500","v":0},{"$f":"'Relevant Variables'!D530","v":0},{"$f":"'Relevant Variables'!D560","v":0},{"$f":"'Relevant Variables'!D590","v":0},{"$f":"'Relevant Variables'!D620","v":0}]
["2010-02-01",null,{"$f":"'Energy Consumption'!E69","v":0},{"$f":"'Energy Consumption'!E70","v":0},{"$f":"'Energy Consumption'!E151","v":0},{"$f":"'Energy Consumption'!E152","v":0},{"$f":"'Energy Consumption'!E233","v":0},{"$f":"'Energy Consumption'!E234","v":0},{"$f":"'Energy Consumption'!E315","v":0},{"$f":"'Energy Consumption'!E316","v":0},{"$f":"'Energy Consumption'!E397","v":0},{"$f":"'Energy Consumption'!E398","v":0},{"$f":"'Energy Consumption'!E479","v":0},{"$f":"'Energy Consumption'!E480","v":0},{"$f":"'Energy Consumption'!E561","v":0},{"$f":"'Energy Consumption'!E562","v":0},{"$f":"'Energy Consumption'!E643","v":0},{"$f":"'Energy Consumption'!E644","v":0},{"$f":"'Energy Consumption'!E725","v":0},{"$f":"'Energy Consumption'!E726","v":0},{"$f":"'Energy Consumption'!E807","v":0},{"$f":"'Energy Consumption'!E808","v":0},{"$f":"'Energy Consumption'!E889","v":0},{"$f":"'Energy Consumption'!E890","v":0},{"$f":"'Energy Consumption'!E971","v":0},{"$f":"'Energy Consumption'!E972","v":0},{"$f":"'Energy Consumption'!E1053","v":0},{"$f":"'Energy Consumption'!E1054","v":0},{"$f":"'Energy Consumption'!E1135","v":0},{"$f":"'Energy Consumption'!E1136","v":0},{"$f":"'Energy Consumption'!E1217","v":0},{"$f":"'Energy Consumption'!E1218","v":0},{"$f":"'Energy Consumption'!E1299","v":0},{"$f":"'Energy Consumption'!E1300","v":0},{"$f":"'Energy Consumption'!E1381","v":0},{"$f":"'Energy Consumption'!E1382","v":0},{"$f":"'Energy Consumption'!E1463","v":0},{"$f":"'Energy Consumption'!E1464","v":0},{"$f":"'Energy Consumption'!E1545","v":0},{"$f":"'Energy Consumption'!E1546","v":0},{"$f":"'Energy Consumption'!E1627","v":0},{"$f":"'Energy Consumption'!E1628","v":0},null,{"$f":"'Relevant Variables'!E50","v":0},{"$f":"'Relevant Variables'!E80","v":0},{"$f":"'Relevant Variables'!E110","v":0},{"$f":"'Relevant Variables'!E140","v":0},{"$f":"'Relevant Variables'!E170","v":0},{"$f":"'Relevant Variables'!E200","v":0},{"$f":"'Relevant Variables'!E230","v":0},{"$f":"'Relevant Variables'!E260","v":0},{"$f":"'Relevant Variables'!E290","v":0},{"$f":"'Relevant Variables'!E320","v":0},{"$f":"'Relevant Variables'!E350","v":0},{"$f":"'Relevant Variables'!E380","v":0},{"$f":"'Relevant Variables'!E410","v":0},{"$f":"'Relevant Variables'!E440","v":0},{"$f":"'Relevant Variables'!E470","v":0},{"$f":"'Relevant Variables'!E500","v":0},{"$f":"'Relevant Variables'!E530","v":0},{"$f":"'Relevant Variables'!E560","v":0},{"$f":"'Relevant Variables'!E590","v":0},{"$f":"'Relevant Variables'!E620","v":0}]
["2010-03-01",null,{"$f":"'Energy Consumption'!F69","v":0},{"$f":"'Energy Consumption'!F70","v":0},{"$f":"'Energy Consumption'!F151","v":0},{"$f":"'Energy Consumption'!F152","v":0},{"$f":"'Energy Consumption'!F233","v":0},{"$f":"'Energy Consumption'!F234","v":0},{"$f":"'Energy Consumption'!F315","v":0},{"$f":"'Energy Consumption'!F316","v":0},{"$f":"'Energy Consumption'!F397","v":0},{"$f":"'Energy Consumption'!F398","v":0},{"$f":"'Energy Consumption'!F479","v":0},{"$f":"'Energy Consumption'!F480","v":0},{"$f":"'Energy Consumption'!F561","v":0},{"$f":"'Energy Consumption'!F562","v":0},{"$f":"'Energy Consumption'!F643","v":0},{"$f":"'Energy Consumption'!F644","v":0},{"$f":"'Energy Consumption'!F725","v":0},{"$f":"'Energy Consumption'!F726","v":0},{"$f":"'Energy Consumption'!F807","v":0},{"$f":"'Energy Consumption'!F808","v":0},{"$f":"'Energy Consumption'!F889","v":0},{"$f":"'Energy Consumption'!F890","v":0},{"$f":"'Energy Consumption'!F971","v":0},{"$f":"'Energy Consumption'!F972","v":0},{"$f":"'Energy Consumption'!F1053","v":0},{"$f":"'Energy Consumption'!F1054","v":0},{"$f":"'Energy Consumption'!F1135","v":0},{"$f":"'Energy Consumption'!F1136","v":0},{"$f":"'Energy Consumption'!F1217","v":0},{"$f":"'Energy Consumption'!F1218","v":0},{"$f":"'Energy Consumption'!F1299","v":0},{"$f":"'Energy Consumption'!F1300","v":0},{"$f":"'Energy Consumption'!F1381","v":0},{"$f":"'Energy Consumption'!F1382","v":0},{"$f":"'Energy Consumption'!F1463","v":0},{"$f":"'Energy Consumption'!F1464","v":0},{"$f":"'Energy Consumption'!F1545","v":0},{"$f":"'Energy Consumption'!F1546","v":0},{"$f":"'Energy Consumption'!F1627","v":0},{"$f":"'Energy Consumption'!F1628","v":0},null,{"$f":"'Relevant Variables'!F50","v":0},{"$f":"'Relevant Variables'!F80","v":0},{"$f":"'Relevant Variables'!F110","v":0},{"$f":"'Relevant Variables'!F140","v":0},{"$f":"'Relevant Variables'!F170","v":0},{"$f":"'Relevant Variables'!F200","v":0},{"$f":"'Relevant Variables'!F230","v":0},{"$f":"'Relevant Variables'!F260","v":0},{"$f":"'Relevant Variables'!F290","v":0},{"$f":"'Relevant Variables'!F320","v":0},{"$f":"'Relevant Variables'!F350","v":0},{"$f":"'Relevant Variables'!F380","v":0},{"$f":"'Relevant Variables'!F410","v":0},{"$f":"'Relevant Variables'!F440","v":0},{"$f":"'Relevant Variables'!F470","v":0},{"$f":"'Relevant Variables'!F500","v":0},{"$f":"'Relevant Variables'!F530","v":0},{"$f":"'Relevant Variables'!F560","v":0},{"$f":"'Relevant Variables'!F590","v":0},{"$f":"'Relevant Variables'!F620","v":0}]
["2010-04-01",null,{"$f":"'Energy Consumption'!G69","v":0},{"$f":"'Energy Consumption'!G70","v":0},{"$f":"'Energy Consumption'!G151","v":0},{"$f":"'Energy Consumption'!G152","v":0},{"$f":"'Energy Consumption'!G233","v":0},{"$f":"'Energy Consumption'!G234","v":0},{"$f":"'Energy Consumption'!G315","v":0},{"$f":"'Energy Consumption'!G316","v":0},{"$f":"'Energy Consumption'!G397","v":0},{"$f":"'Energy Consumption'!G398","v":0},{"$f":"'Energy Consumption'!G479","v":0},{"$f":"'Energy Consumption'!G480","v":0},{"$f":"'Energy Consumption'!G561","v":0},{"$f":"'Energy Consumption'!G562","v":0},{"$f":"'Energy Consumption'!G643","v":0},{"$f":"'Energy Consumption'!G644","v":0},{"$f":"'Energy Consumption'!G725","v":0},{"$f":"'Energy Consumption'!G726","v":0},{"$f":"'Energy Consumption'!G807","v":0},{"$f":"'Energy Consumption'!G808","v":0},{"$f":"'Energy Consumption'!G889","v":0},{"$f":"'Energy Consumption'!G890","v":0},{"$f":"'Energy Consumption'!G971","v":0},{"$f":"'Energy Consumption'!G972","v":0},{"$f":"'Energy Consumption'!G1053","v":0},{"$f":"'Energy Consumption'!G1054","v":0},{"$f":"'Energy Consumption'!G1135","v":0},{"$f":"'Energy Consumption'!G1136","v":0},{"$f":"'Energy Consumption'!G1217","v":0},{"$f":"'Energy Consumption'!G1218","v":0},{"$f":"'Energy Consumption'!G1299","v":0},{"$f":"'Energy Consumption'!G1300","v":0},{"$f":"'Energy Consumption'!G1381","v":0},{"$f":"'Energy Consumption'!G1382","v":0},{"$f":"'Energy Consumption'!G1463","v":0},{"$f":"'Energy Consumption'!G1464","v":0},{"$f":"'Energy Consumption'!G1545","v":0},{"$f":"'Energy Consumption'!G1546","v":0},{"$f":"'Energy Consumption'!G1627","v":0},{"$f":"'Energy Consumption'!G1628","v":0},null,{"$f":"'Relevant Variables'!G50","v":0},{"$f":"'Relevant Variables'!G80","v":0},{"$f":"'Relevant Variables'!G110","v":0},{"$f":"'Relevant Variables'!G140","v":0},{"$f":"'Relevant Variables'!G170","v":0},{"$f":"'Relevant Variables'!G200","v":0},{"$f":"'Relevant Variables'!G230","v":0},{"$f":"'Relevant Variables'!G260","v":0},{"$f":"'Relevant Variables'!G290","v":0},{"$f":"'Relevant Variables'!G320","v":0},{"$f":"'Relevant Variables'!G350","v":0},{"$f":"'Relevant Variables'!G380","v":0},{"$f":"'Relevant Variables'!G410","v":0},{"$f":"'Relevant Variables'!G440","v":0},{"$f":"'Relevant Variables'!G470","v":0},{"$f":"'Relevant Variables'!G500","v":0},{"$f":"'Relevant Variables'!G530","v":0},{"$f":"'Relevant Variables'!G560","v":0},{"$f":"'Relevant Variables'!G590","v":0},{"$f":"'Relevant Variables'!G620","v":0}]
["2010-05-01",null,{"$f":"'Energy Consumption'!H69","v":0},{"$f":"'Energy Consumption'!H70","v":0},{"$f":"'Energy Consumption'!H151","v":0},{"$f":"'Energy Consumption'!H152","v":0},{"$f":"'Energy Consumption'!H233","v":0},{"$f":"'Energy Consumption'!H234","v":0},{"$f":"'Energy Consumption'!H315","v":0},{"$f":"'Energy Consumption'!H316","v":0},{"$f":"'Energy Consumption'!H397","v":0},{"$f":"'Energy Consumption'!H398","v":0},{"$f":"'Energy Consumption'!H479","v":0},{"$f":"'Energy Consumption'!H480","v":0},{"$f":"'Energy Consumption'!H561","v":0},{"$f":"'Energy Consumption'!H562","v":0},{"$f":"'Energy Consumption'!H643","v":0},{"$f":"'Energy Consumption'!H644","v":0},{"$f":"'Energy Consumption'!H725","v":0},{"$f":"'Energy Consumption'!H726","v":0},{"$f":"'Energy Consumption'!H807","v":0},{"$f":"'Energy Consumption'!H808","v":0},{"$f":"'Energy Consumption'!H889","v":0},{"$f":"'Energy Consumption'!H890","v":0},{"$f":"'Energy Consumption'!H971","v":0},{"$f":"'Energy Consumption'!H972","v":0},{"$f":"'Energy Consumption'!H1053","v":0},{"$f":"'Energy Consumption'!H1054","v":0},{"$f":"'Energy Consumption'!H1135","v":0},{"$f":"'Energy Consumption'!H1136","v":0},{"$f":"'Energy Consumption'!H1217","v":0},{"$f":"'Energy Consumption'!H1218","v":0},{"$f":"'Energy Consumption'!H1299","v":0},{"$f":"'Energy Consumption'!H1300","v":0},{"$f":"'Energy Consumption'!H1381","v":0},{"$f":"'Energy Consumption'!H1382","v":0},{"$f":"'Energy Consumption'!H1463","v":0},{"$f":"'Energy Consumption'!H1464","v":0},{"$f":"'Energy Consumption'!H1545","v":0},{"$f":"'Energy Consumption'!H1546","v":0},{"$f":"'Energy Consumption'!H1627","v":0},{"$f":"'Energy Consumption'!H1628","v":0},null,{"$f":"'Relevant Variables'!H50","v":0},{"$f":"'Relevant Variables'!H80","v":0},{"$f":"'Relevant Variables'!H110","v":0},{"$f":"'Relevant Variables'!H140","v":0},{"$f":"'Relevant Variables'!H170","v":0},{"$f":"'Relevant Variables'!H200","v":0},{"$f":"'Relevant Variables'!H230","v":0},{"$f":"'Relevant Variables'!H260","v":0},{"$f":"'Relevant Variables'!H290","v":0},{"$f":"'Relevant Variables'!H320","v":0},{"$f":"'Relevant Variables'!H350","v":0},{"$f":"'Relevant Variables'!H380","v":0},{"$f":"'Relevant Variables'!H410","v":0},{"$f":"'Relevant Variables'!H440","v":0},{"$f":"'Relevant Variables'!H470","v":0},{"$f":"'Relevant Variables'!H500","v":0},{"$f":"'Relevant Variables'!H530","v":0},{"$f":"'Relevant Variables'!H560","v":0},{"$f":"'Relevant Variables'!H590","v":0},{"$f":"'Relevant Variables'!H620","v":0}]
["2010-06-01",null,{"$f":"'Energy Consumption'!I69","v":0},{"$f":"'Energy Consumption'!I70","v":0},{"$f":"'Energy Consumption'!I151","v":0},{"$f":"'Energy Consumption'!I152","v":0},{"$f":"'Energy Consumption'!I233","v":0},{"$f":"'Energy Consumption'!I234","v":0},{"$f":"'Energy Consumption'!I315","v":0},{"$f":"'Energy Consumption'!I316","v":0},{"$f":"'Energy Consumption'!I397","v":0},{"$f":"'Energy Consumption'!I398","v":0},{"$f":"'Energy Consumption'!I479","v":0},{"$f":"'Energy Consumption'!I480","v":0},{"$f":"'Energy Consumption'!I561","v":0},{"$f":"'Energy Consumption'!I562","v":0},{"$f":"'Energy Consumption'!I643","v":0},{"$f":"'Energy Consumption'!I644","v":0},{"$f":"'Energy Consumption'!I725","v":0},{"$f":"'Energy Consumption'!I726","v":0},{"$f":"'Energy Consumption'!I807","v":0},{"$f":"'Energy Consumption'!I808","v":0},{"$f":"'Energy Consumption'!I889","v":0},{"$f":"'Energy Consumption'!I890","v":0},{"$f":"'Energy Consumption'!I971","v":0},{"$f":"'Energy Consumption'!I972","v":0},{"$f":"'Energy Consumption'!I1053","v":0},{"$f":"'Energy Consumption'!I1054","v":0},{"$f":"'Energy Consumption'!I1135","v":0},{"$f":"'Energy Consumption'!I1136","v":0},{"$f":"'Energy Consumption'!I1217","v":0},{"$f":"'Energy Consumption'!I1218","v":0},{"$f":"'Energy Consumption'!I1299","v":0},{"$f":"'Energy Consumption'!I1300","v":0},{"$f":"'Energy Consumption'!I1381","v":0},{"$f":"'Energy Consumption'!I1382","v":0},{"$f":"'Energy Consumption'!I1463","v":0},{"$f":"'Energy Consumption'!I1464","v":0},{"$f":"'Energy Consumption'!I1545","v":0},{"$f":"'Energy Consumption'!I1546","v":0},{"$f":"'Energy Consumption'!I1627","v":0},{"$f":"'Energy Consumption'!I1628","v":0},null,{"$f":"'Relevant Variables'!I50","v":0},{"$f":"'Relevant Variables'!I80","v":0},{"$f":"'Relevant Variables'!I110","v":0},{"$f":"'Relevant Variables'!I140","v":0},{"$f":"'Relevant Variables'!I170","v":0},{"$f":"'Relevant Variables'!I200","v":0},{"$f":"'Relevant Variables'!I230","v":0},{"$f":"'Relevant Variables'!I260","v":0},{"$f":"'Relevant Variables'!I290","v":0},{"$f":"'Relevant Variables'!I320","v":0},{"$f":"'Relevant Variables'!I350","v":0},{"$f":"'Relevant Variables'!I380","v":0},{"$f":"'Relevant Variables'!I410","v":0},{"$f":"'Relevant Variables'!I440","v":0},{"$f":"'Relevant Variables'!I470","v":0},{"$f":"'Relevant Variables'!I500","v":0},{"$f":"'Relevant Variables'!I530","v":0},{"$f":"'Relevant Variables'!I560","v":0},{"$f":"'Relevant Variables'!I590","v":0},{"$f":"'Relevant Variables'!I620","v":0}]
[{"$f":"DATE(YEAR(A77),MONTH(A77)+1,1)","v":"2010-07-01"},null,{"$f":"'Energy Consumption'!J69","v":0},{"$f":"'Energy Consumption'!J70","v":0},{"$f":"'Energy Consumption'!J151","v":0},{"$f":"'Energy Consumption'!J152","v":0},{"$f":"'Energy Consumption'!J233","v":0},{"$f":"'Energy Consumption'!J234","v":0},{"$f":"'Energy Consumption'!J315","v":0},{"$f":"'Energy Consumption'!J316","v":0},{"$f":"'Energy Consumption'!J397","v":0},{"$f":"'Energy Consumption'!J398","v":0},{"$f":"'Energy Consumption'!J479","v":0},{"$f":"'Energy Consumption'!J480","v":0},{"$f":"'Energy Consumption'!J561","v":0},{"$f":"'Energy Consumption'!J562","v":0},{"$f":"'Energy Consumption'!J643","v":0},{"$f":"'Energy Consumption'!J644","v":0},{"$f":"'Energy Consumption'!J725","v":0},{"$f":"'Energy Consumption'!J726","v":0},{"$f":"'Energy Consumption'!J807","v":0},{"$f":"'Energy Consumption'!J808","v":0},{"$f":"'Energy Consumption'!J889","v":0},{"$f":"'Energy Consumption'!J890","v":0},{"$f":"'Energy Consumption'!J971","v":0},{"$f":"'Energy Consumption'!J972","v":0},{"$f":"'Energy Consumption'!J1053","v":0},{"$f":"'Energy Consumption'!J1054","v":0},{"$f":"'Energy Consumption'!J1135","v":0},{"$f":"'Energy Consumption'!J1136","v":0},{"$f":"'Energy Consumption'!J1217","v":0},{"$f":"'Energy Consumption'!J1218","v":0},{"$f":"'Energy Consumption'!J1299","v":0},{"$f":"'Energy Consumption'!J1300","v":0},{"$f":"'Energy Consumption'!J1381","v":0},{"$f":"'Energy Consumption'!J1382","v":0},{"$f":"'Energy Consumption'!J1463","v":0},{"$f":"'Energy Consumption'!J1464","v":0},{"$f":"'Energy Consumption'!J1545","v":0},{"$f":"'Energy Consumption'!J1546","v":0},{"$f":"'Energy Consumption'!J1627","v":0},{"$f":"'Energy Consumption'!J1628","v":0},null,{"$f":"'Relevant Variables'!J50","v":0},{"$f":"'Relevant Variables'!J80","v":0},{"$f":"'Relevant Variables'!J110","v":0},{"$f":"'Relevant Variables'!J140","v":0},{"$f":"'Relevant Variables'!J170","v":0},{"$f":"'Relevant Variables'!J200","v":0},{"$f":"'Relevant Variables'!J230","v":0},{"$f":"'Relevant Variables'!J260","v":0},{"$f":"'Relevant Variables'!J290","v":0},{"$f":"'Relevant Variables'!J320","v":0},{"$f":"'Relevant Variables'!J350","v":0},{"$f":"'Relevant Variables'!J380","v":0},{"$f":"'Relevant Variables'!J410","v":0},{"$f":"'Relevant Variables'!J440","v":0},{"$f":"'Relevant Variables'!J470","v":0},{"$f":"'Relevant Variables'!J500","v":0},{"$f":"'Relevant Variables'!J530","v":0},{"$f":"'Relevant Variables'!J560","v":0},{"$f":"'Relevant Variables'!J590","v":0},{"$f":"'Relevant Variables'!J620","v":0}]
["2010-08-01",null,{"$f":"'Energy Consumption'!K69","v":0},{"$f":"'Energy Consumption'!K70","v":0},{"$f":"'Energy Consumption'!K151","v":0},{"$f":"'Energy Consumption'!K152","v":0},{"$f":"'Energy Consumption'!K233","v":0},{"$f":"'Energy Consumption'!K234","v":0},{"$f":"'Energy Consumption'!K315","v":0},{"$f":"'Energy Consumption'!K316","v":0},{"$f":"'Energy Consumption'!K397","v":0},{"$f":"'Energy Consumption'!K398","v":0},{"$f":"'Energy Consumption'!K479","v":0},{"$f":"'Energy Consumption'!K480","v":0},{"$f":"'Energy Consumption'!K561","v":0},{"$f":"'Energy Consumption'!K562","v":0},{"$f":"'Energy Consumption'!K643","v":0},{"$f":"'Energy Consumption'!K644","v":0},{"$f":"'Energy Consumption'!K725","v":0},{"$f":"'Energy Consumption'!K726","v":0},{"$f":"'Energy Consumption'!K807","v":0},{"$f":"'Energy Consumption'!K808","v":0},{"$f":"'Energy Consumption'!K889","v":0},{"$f":"'Energy Consumption'!K890","v":0},{"$f":"'Energy Consumption'!K971","v":0},{"$f":"'Energy Consumption'!K972","v":0},{"$f":"'Energy Consumption'!K1053","v":0},{"$f":"'Energy Consumption'!K1054","v":0},{"$f":"'Energy Consumption'!K1135","v":0},{"$f":"'Energy Consumption'!K1136","v":0},{"$f":"'Energy Consumption'!K1217","v":0},{"$f":"'Energy Consumption'!K1218","v":0},{"$f":"'Energy Consumption'!K1299","v":0},{"$f":"'Energy Consumption'!K1300","v":0},{"$f":"'Energy Consumption'!K1381","v":0},{"$f":"'Energy Consumption'!K1382","v":0},{"$f":"'Energy Consumption'!K1463","v":0},{"$f":"'Energy Consumption'!K1464","v":0},{"$f":"'Energy Consumption'!K1545","v":0},{"$f":"'Energy Consumption'!K1546","v":0},{"$f":"'Energy Consumption'!K1627","v":0},{"$f":"'Energy Consumption'!K1628","v":0},null,{"$f":"'Relevant Variables'!K50","v":0},{"$f":"'Relevant Variables'!K80","v":0},{"$f":"'Relevant Variables'!K110","v":0},{"$f":"'Relevant Variables'!K140","v":0},{"$f":"'Relevant Variables'!K170","v":0},{"$f":"'Relevant Variables'!K200","v":0},{"$f":"'Relevant Variables'!K230","v":0},{"$f":"'Relevant Variables'!K260","v":0},{"$f":"'Relevant Variables'!K290","v":0},{"$f":"'Relevant Variables'!K320","v":0},{"$f":"'Relevant Variables'!K350","v":0},{"$f":"'Relevant Variables'!K380","v":0},{"$f":"'Relevant Variables'!K410","v":0},{"$f":"'Relevant Variables'!K440","v":0},{"$f":"'Relevant Variables'!K470","v":0},{"$f":"'Relevant Variables'!K500","v":0},{"$f":"'Relevant Variables'!K530","v":0},{"$f":"'Relevant Variables'!K560","v":0},{"$f":"'Relevant Variables'!K590","v":0},{"$f":"'Relevant Variables'!K620","v":0}]
["2010-09-01",null,{"$f":"'Energy Consumption'!L69","v":0},{"$f":"'Energy Consumption'!L70","v":0},{"$f":"'Energy Consumption'!L151","v":0},{"$f":"'Energy Consumption'!L152","v":0},{"$f":"'Energy Consumption'!L233","v":0},{"$f":"'Energy Consumption'!L234","v":0},{"$f":"'Energy Consumption'!L315","v":0},{"$f":"'Energy Consumption'!L316","v":0},{"$f":"'Energy Consumption'!L397","v":0},{"$f":"'Energy Consumption'!L398","v":0},{"$f":"'Energy Consumption'!L479","v":0},{"$f":"'Energy Consumption'!L480","v":0},{"$f":"'Energy Consumption'!L561","v":0},{"$f":"'Energy Consumption'!L562","v":0},{"$f":"'Energy Consumption'!L643","v":0},{"$f":"'Energy Consumption'!L644","v":0},{"$f":"'Energy Consumption'!L725","v":0},{"$f":"'Energy Consumption'!L726","v":0},{"$f":"'Energy Consumption'!L807","v":0},{"$f":"'Energy Consumption'!L808","v":0},{"$f":"'Energy Consumption'!L889","v":0},{"$f":"'Energy Consumption'!L890","v":0},{"$f":"'Energy Consumption'!L971","v":0},{"$f":"'Energy Consumption'!L972","v":0},{"$f":"'Energy Consumption'!L1053","v":0},{"$f":"'Energy Consumption'!L1054","v":0},{"$f":"'Energy Consumption'!L1135","v":0},{"$f":"'Energy Consumption'!L1136","v":0},{"$f":"'Energy Consumption'!L1217","v":0},{"$f":"'Energy Consumption'!L1218","v":0},{"$f":"'Energy Consumption'!L1299","v":0},{"$f":"'Energy Consumption'!L1300","v":0},{"$f":"'Energy Consumption'!L1381","v":0},{"$f":"'Energy Consumption'!L1382","v":0},{"$f":"'Energy Consumption'!L1463","v":0},{"$f":"'Energy Consumption'!L1464","v":0},{"$f":"'Energy Consumption'!L1545","v":0},{"$f":"'Energy Consumption'!L1546","v":0},{"$f":"'Energy Consumption'!L1627","v":0},{"$f":"'Energy Consumption'!L1628","v":0},null,{"$f":"'Relevant Variables'!L50","v":0},{"$f":"'Relevant Variables'!L80","v":0},{"$f":"'Relevant Variables'!L110","v":0},{"$f":"'Relevant Variables'!L140","v":0},{"$f":"'Relevant Variables'!L170","v":0},{"$f":"'Relevant Variables'!L200","v":0},{"$f":"'Relevant Variables'!L230","v":0},{"$f":"'Relevant Variables'!L260","v":0},{"$f":"'Relevant Variables'!L290","v":0},{"$f":"'Relevant Variables'!L320","v":0},{"$f":"'Relevant Variables'!L350","v":0},{"$f":"'Relevant Variables'!L380","v":0},{"$f":"'Relevant Variables'!L410","v":0},{"$f":"'Relevant Variables'!L440","v":0},{"$f":"'Relevant Variables'!L470","v":0},{"$f":"'Relevant Variables'!L500","v":0},{"$f":"'Relevant Variables'!L530","v":0},{"$f":"'Relevant Variables'!L560","v":0},{"$f":"'Relevant Variables'!L590","v":0},{"$f":"'Relevant Variables'!L620","v":0}]
["2010-10-01",null,{"$f":"'Energy Consumption'!M69","v":0},{"$f":"'Energy Consumption'!M70","v":0},{"$f":"'Energy Consumption'!M151","v":0},{"$f":"'Energy Consumption'!M152","v":0},{"$f":"'Energy Consumption'!M233","v":0},{"$f":"'Energy Consumption'!M234","v":0},{"$f":"'Energy Consumption'!M315","v":0},{"$f":"'Energy Consumption'!M316","v":0},{"$f":"'Energy Consumption'!M397","v":0},{"$f":"'Energy Consumption'!M398","v":0},{"$f":"'Energy Consumption'!M479","v":0},{"$f":"'Energy Consumption'!M480","v":0},{"$f":"'Energy Consumption'!M561","v":0},{"$f":"'Energy Consumption'!M562","v":0},{"$f":"'Energy Consumption'!M643","v":0},{"$f":"'Energy Consumption'!M644","v":0},{"$f":"'Energy Consumption'!M725","v":0},{"$f":"'Energy Consumption'!M726","v":0},{"$f":"'Energy Consumption'!M807","v":0},{"$f":"'Energy Consumption'!M808","v":0},{"$f":"'Energy Consumption'!M889","v":0},{"$f":"'Energy Consumption'!M890","v":0},{"$f":"'Energy Consumption'!M971","v":0},{"$f":"'Energy Consumption'!M972","v":0},{"$f":"'Energy Consumption'!M1053","v":0},{"$f":"'Energy Consumption'!M1054","v":0},{"$f":"'Energy Consumption'!M1135","v":0},{"$f":"'Energy Consumption'!M1136","v":0},{"$f":"'Energy Consumption'!M1217","v":0},{"$f":"'Energy Consumption'!M1218","v":0},{"$f":"'Energy Consumption'!M1299","v":0},{"$f":"'Energy Consumption'!M1300","v":0},{"$f":"'Energy Consumption'!M1381","v":0},{"$f":"'Energy Consumption'!M1382","v":0},{"$f":"'Energy Consumption'!M1463","v":0},{"$f":"'Energy Consumption'!M1464","v":0},{"$f":"'Energy Consumption'!M1545","v":0},{"$f":"'Energy Consumption'!M1546","v":0},{"$f":"'Energy Consumption'!M1627","v":0},{"$f":"'Energy Consumption'!M1628","v":0},null,{"$f":"'Relevant Variables'!M50","v":0},{"$f":"'Relevant Variables'!M80","v":0},{"$f":"'Relevant Variables'!M110","v":0},{"$f":"'Relevant Variables'!M140","v":0},{"$f":"'Relevant Variables'!M170","v":0},{"$f":"'Relevant Variables'!M200","v":0},{"$f":"'Relevant Variables'!M230","v":0},{"$f":"'Relevant Variables'!M260","v":0},{"$f":"'Relevant Variables'!M290","v":0},{"$f":"'Relevant Variables'!M320","v":0},{"$f":"'Relevant Variables'!M350","v":0},{"$f":"'Relevant Variables'!M380","v":0},{"$f":"'Relevant Variables'!M410","v":0},{"$f":"'Relevant Variables'!M440","v":0},{"$f":"'Relevant Variables'!M470","v":0},{"$f":"'Relevant Variables'!M500","v":0},{"$f":"'Relevant Variables'!M530","v":0},{"$f":"'Relevant Variables'!M560","v":0},{"$f":"'Relevant Variables'!M590","v":0},{"$f":"'Relevant Variables'!M620","v":0}]
["2010-11-01",null,{"$f":"'Energy Consumption'!N69","v":0},{"$f":"'Energy Consumption'!N70","v":0},{"$f":"'Energy Consumption'!N151","v":0},{"$f":"'Energy Consumption'!N152","v":0},{"$f":"'Energy Consumption'!N233","v":0},{"$f":"'Energy Consumption'!N234","v":0},{"$f":"'Energy Consumption'!N315","v":0},{"$f":"'Energy Consumption'!N316","v":0},{"$f":"'Energy Consumption'!N397","v":0},{"$f":"'Energy Consumption'!N398","v":0},{"$f":"'Energy Consumption'!N479","v":0},{"$f":"'Energy Consumption'!N480","v":0},{"$f":"'Energy Consumption'!N561","v":0},{"$f":"'Energy Consumption'!N562","v":0},{"$f":"'Energy Consumption'!N643","v":0},{"$f":"'Energy Consumption'!N644","v":0},{"$f":"'Energy Consumption'!N725","v":0},{"$f":"'Energy Consumption'!N726","v":0},{"$f":"'Energy Consumption'!N807","v":0},{"$f":"'Energy Consumption'!N808","v":0},{"$f":"'Energy Consumption'!N889","v":0},{"$f":"'Energy Consumption'!N890","v":0},{"$f":"'Energy Consumption'!N971","v":0},{"$f":"'Energy Consumption'!N972","v":0},{"$f":"'Energy Consumption'!N1053","v":0},{"$f":"'Energy Consumption'!N1054","v":0},{"$f":"'Energy Consumption'!N1135","v":0},{"$f":"'Energy Consumption'!N1136","v":0},{"$f":"'Energy Consumption'!N1217","v":0},{"$f":"'Energy Consumption'!N1218","v":0},{"$f":"'Energy Consumption'!N1299","v":0},{"$f":"'Energy Consumption'!N1300","v":0},{"$f":"'Energy Consumption'!N1381","v":0},{"$f":"'Energy Consumption'!N1382","v":0},{"$f":"'Energy Consumption'!N1463","v":0},{"$f":"'Energy Consumption'!N1464","v":0},{"$f":"'Energy Consumption'!N1545","v":0},{"$f":"'Energy Consumption'!N1546","v":0},{"$f":"'Energy Consumption'!N1627","v":0},{"$f":"'Energy Consumption'!N1628","v":0},null,{"$f":"'Relevant Variables'!N50","v":0},{"$f":"'Relevant Variables'!N80","v":0},{"$f":"'Relevant Variables'!N110","v":0},{"$f":"'Relevant Variables'!N140","v":0},{"$f":"'Relevant Variables'!N170","v":0},{"$f":"'Relevant Variables'!N200","v":0},{"$f":"'Relevant Variables'!N230","v":0},{"$f":"'Relevant Variables'!N260","v":0},{"$f":"'Relevant Variables'!N290","v":0},{"$f":"'Relevant Variables'!N320","v":0},{"$f":"'Relevant Variables'!N350","v":0},{"$f":"'Relevant Variables'!N380","v":0},{"$f":"'Relevant Variables'!N410","v":0},{"$f":"'Relevant Variables'!N440","v":0},{"$f":"'Relevant Variables'!N470","v":0},{"$f":"'Relevant Variables'!N500","v":0},{"$f":"'Relevant Variables'!N530","v":0},{"$f":"'Relevant Variables'!N560","v":0},{"$f":"'Relevant Variables'!N590","v":0},{"$f":"'Relevant Variables'!N620","v":0}]
["2010-12-01",null,{"$f":"'Energy Consumption'!O69","v":0},{"$f":"'Energy Consumption'!O70","v":0},{"$f":"'Energy Consumption'!O151","v":0},{"$f":"'Energy Consumption'!O152","v":0},{"$f":"'Energy Consumption'!O233","v":0},{"$f":"'Energy Consumption'!O234","v":0},{"$f":"'Energy Consumption'!O315","v":0},{"$f":"'Energy Consumption'!O316","v":0},{"$f":"'Energy Consumption'!O397","v":0},{"$f":"'Energy Consumption'!O398","v":0},{"$f":"'Energy Consumption'!O479","v":0},{"$f":"'Energy Consumption'!O480","v":0},{"$f":"'Energy Consumption'!O561","v":0},{"$f":"'Energy Consumption'!O562","v":0},{"$f":"'Energy Consumption'!O643","v":0},{"$f":"'Energy Consumption'!O644","v":0},{"$f":"'Energy Consumption'!O725","v":0},{"$f":"'Energy Consumption'!O726","v":0},{"$f":"'Energy Consumption'!O807","v":0},{"$f":"'Energy Consumption'!O808","v":0},{"$f":"'Energy Consumption'!O889","v":0},{"$f":"'Energy Consumption'!O890","v":0},{"$f":"'Energy Consumption'!O971","v":0},{"$f":"'Energy Consumption'!O972","v":0},{"$f":"'Energy Consumption'!O1053","v":0},{"$f":"'Energy Consumption'!O1054","v":0},{"$f":"'Energy Consumption'!O1135","v":0},{"$f":"'Energy Consumption'!O1136","v":0},{"$f":"'Energy Consumption'!O1217","v":0},{"$f":"'Energy Consumption'!O1218","v":0},{"$f":"'Energy Consumption'!O1299","v":0},{"$f":"'Energy Consumption'!O1300","v":0},{"$f":"'Energy Consumption'!O1381","v":0},{"$f":"'Energy Consumption'!O1382","v":0},{"$f":"'Energy Consumption'!O1463","v":0},{"$f":"'Energy Consumption'!O1464","v":0},{"$f":"'Energy Consumption'!O1545","v":0},{"$f":"'Energy Consumption'!O1546","v":0},{"$f":"'Energy Consumption'!O1627","v":0},{"$f":"'Energy Consumption'!O1628","v":0},null,{"$f":"'Relevant Variables'!O50","v":0},{"$f":"'Relevant Variables'!O80","v":0},{"$f":"'Relevant Variables'!O110","v":0},{"$f":"'Relevant Variables'!O140","v":0},{"$f":"'Relevant Variables'!O170","v":0},{"$f":"'Relevant Variables'!O200","v":0},{"$f":"'Relevant Variables'!O230","v":0},{"$f":"'Relevant Variables'!O260","v":0},{"$f":"'Relevant Variables'!O290","v":0},{"$f":"'Relevant Variables'!O320","v":0},{"$f":"'Relevant Variables'!O350","v":0},{"$f":"'Relevant Variables'!O380","v":0},{"$f":"'Relevant Variables'!O410","v":0},{"$f":"'Relevant Variables'!O440","v":0},{"$f":"'Relevant Variables'!O470","v":0},{"$f":"'Relevant Variables'!O500","v":0},{"$f":"'Relevant Variables'!O530","v":0},{"$f":"'Relevant Variables'!O560","v":0},{"$f":"'Relevant Variables'!O590","v":0},{"$f":"'Relevant Variables'!O620","v":0}]
["2011-01-01",null,{"$f":"'Energy Consumption'!D67","v":0},{"$f":"'Energy Consumption'!D68","v":0},{"$f":"'Energy Consumption'!D149","v":0},{"$f":"'Energy Consumption'!D150","v":0},{"$f":"'Energy Consumption'!D231","v":0},{"$f":"'Energy Consumption'!D232","v":0},{"$f":"'Energy Consumption'!D313","v":0},{"$f":"'Energy Consumption'!D314","v":0},{"$f":"'Energy Consumption'!D395","v":0},{"$f":"'Energy Consumption'!D396","v":0},{"$f":"'Energy Consumption'!D477","v":0},{"$f":"'Energy Consumption'!D478","v":0},{"$f":"'Energy Consumption'!D559","v":0},{"$f":"'Energy Consumption'!D560","v":0},{"$f":"'Energy Consumption'!D641","v":0},{"$f":"'Energy Consumption'!D642","v":0},{"$f":"'Energy Consumption'!D723","v":0},{"$f":"'Energy Consumption'!D724","v":0},{"$f":"'Energy Consumption'!D805","v":0},{"$f":"'Energy Consumption'!D806","v":0},{"$f":"'Energy Consumption'!D887","v":0},{"$f":"'Energy Consumption'!D888","v":0},{"$f":"'Energy Consumption'!D969","v":0},{"$f":"'Energy Consumption'!D970","v":0},{"$f":"'Energy Consumption'!D1051","v":0},{"$f":"'Energy Consumption'!D1052","v":0},{"$f":"'Energy Consumption'!D1133","v":0},{"$f":"'Energy Consumption'!D1134","v":0},{"$f":"'Energy Consumption'!D1215","v":0},{"$f":"'Energy Consumption'!D1216","v":0},{"$f":"'Energy Consumption'!D1297","v":0},{"$f":"'Energy Consumption'!D1298","v":0},{"$f":"'Energy Consumption'!D1379","v":0},{"$f":"'Energy Consumption'!D1380","v":0},{"$f":"'Energy Consumption'!D1461","v":0},{"$f":"'Energy Consumption'!D1462","v":0},{"$f":"'Energy Consumption'!D1543","v":0},{"$f":"'Energy Consumption'!D1544","v":0},{"$f":"'Energy Consumption'!D1625","v":0},{"$f":"'Energy Consumption'!D1626","v":0},null,{"$f":"'Relevant Variables'!D49","v":0},{"$f":"'Relevant Variables'!D79","v":0},{"$f":"'Relevant Variables'!D109","v":0},{"$f":"'Relevant Variables'!D139","v":0},{"$f":"'Relevant Variables'!D169","v":0},{"$f":"'Relevant Variables'!D199","v":0},{"$f":"'Relevant Variables'!D229","v":0},{"$f":"'Relevant Variables'!D259","v":0},{"$f":"'Relevant Variables'!D289","v":0},{"$f":"'Relevant Variables'!D319","v":0},{"$f":"'Relevant Variables'!D349","v":0},{"$f":"'Relevant Variables'!D379","v":0},{"$f":"'Relevant Variables'!D409","v":0},{"$f":"'Relevant Variables'!D439","v":0},{"$f":"'Relevant Variables'!D469","v":0},{"$f":"'Relevant Variables'!D499","v":0},{"$f":"'Relevant Variables'!D529","v":0},{"$f":"'Relevant Variables'!D559","v":0},{"$f":"'Relevant Variables'!D589","v":0},{"$f":"'Relevant Variables'!D619","v":0}]
["2011-02-01",null,{"$f":"'Energy Consumption'!E67","v":0},{"$f":"'Energy Consumption'!E68","v":0},{"$f":"'Energy Consumption'!E149","v":0},{"$f":"'Energy Consumption'!E150","v":0},{"$f":"'Energy Consumption'!E231","v":0},{"$f":"'Energy Consumption'!E232","v":0},{"$f":"'Energy Consumption'!E313","v":0},{"$f":"'Energy Consumption'!E314","v":0},{"$f":"'Energy Consumption'!E395","v":0},{"$f":"'Energy Consumption'!E396","v":0},{"$f":"'Energy Consumption'!E477","v":0},{"$f":"'Energy Consumption'!E478","v":0},{"$f":"'Energy Consumption'!E559","v":0},{"$f":"'Energy Consumption'!E560","v":0},{"$f":"'Energy Consumption'!E641","v":0},{"$f":"'Energy Consumption'!E642","v":0},{"$f":"'Energy Consumption'!E723","v":0},{"$f":"'Energy Consumption'!E724","v":0},{"$f":"'Energy Consumption'!E805","v":0},{"$f":"'Energy Consumption'!E806","v":0},{"$f":"'Energy Consumption'!E887","v":0},{"$f":"'Energy Consumption'!E888","v":0},{"$f":"'Energy Consumption'!E969","v":0},{"$f":"'Energy Consumption'!E970","v":0},{"$f":"'Energy Consumption'!E1051","v":0},{"$f":"'Energy Consumption'!E1052","v":0},{"$f":"'Energy Consumption'!E1133","v":0},{"$f":"'Energy Consumption'!E1134","v":0},{"$f":"'Energy Consumption'!E1215","v":0},{"$f":"'Energy Consumption'!E1216","v":0},{"$f":"'Energy Consumption'!E1297","v":0},{"$f":"'Energy Consumption'!E1298","v":0},{"$f":"'Energy Consumption'!E1379","v":0},{"$f":"'Energy Consumption'!E1380","v":0},{"$f":"'Energy Consumption'!E1461","v":0},{"$f":"'Energy Consumption'!E1462","v":0},{"$f":"'Energy Consumption'!E1543","v":0},{"$f":"'Energy Consumption'!E1544","v":0},{"$f":"'Energy Consumption'!E1625","v":0},{"$f":"'Energy Consumption'!E1626","v":0},null,{"$f":"'Relevant Variables'!E49","v":0},{"$f":"'Relevant Variables'!E79","v":0},{"$f":"'Relevant Variables'!E109","v":0},{"$f":"'Relevant Variables'!E139","v":0},{"$f":"'Relevant Variables'!E169","v":0},{"$f":"'Relevant Variables'!E199","v":0},{"$f":"'Relevant Variables'!E229","v":0},{"$f":"'Relevant Variables'!E259","v":0},{"$f":"'Relevant Variables'!E289","v":0},{"$f":"'Relevant Variables'!E319","v":0},{"$f":"'Relevant Variables'!E349","v":0},{"$f":"'Relevant Variables'!E379","v":0},{"$f":"'Relevant Variables'!E409","v":0},{"$f":"'Relevant Variables'!E439","v":0},{"$f":"'Relevant Variables'!E469","v":0},{"$f":"'Relevant Variables'!E499","v":0},{"$f":"'Relevant Variables'!E529","v":0},{"$f":"'Relevant Variables'!E559","v":0},{"$f":"'Relevant Variables'!E589","v":0},{"$f":"'Relevant Variables'!E619","v":0}]
["2011-03-01",null,{"$f":"'Energy Consumption'!F67","v":0},{"$f":"'Energy Consumption'!F68","v":0},{"$f":"'Energy Consumption'!F149","v":0},{"$f":"'Energy Consumption'!F150","v":0},{"$f":"'Energy Consumption'!F231","v":0},{"$f":"'Energy Consumption'!F232","v":0},{"$f":"'Energy Consumption'!F313","v":0},{"$f":"'Energy Consumption'!F314","v":0},{"$f":"'Energy Consumption'!F395","v":0},{"$f":"'Energy Consumption'!F396","v":0},{"$f":"'Energy Consumption'!F477","v":0},{"$f":"'Energy Consumption'!F478","v":0},{"$f":"'Energy Consumption'!F559","v":0},{"$f":"'Energy Consumption'!F560","v":0},{"$f":"'Energy Consumption'!F641","v":0},{"$f":"'Energy Consumption'!F642","v":0},{"$f":"'Energy Consumption'!F723","v":0},{"$f":"'Energy Consumption'!F724","v":0},{"$f":"'Energy Consumption'!F805","v":0},{"$f":"'Energy Consumption'!F806","v":0},{"$f":"'Energy Consumption'!F887","v":0},{"$f":"'Energy Consumption'!F888","v":0},{"$f":"'Energy Consumption'!F969","v":0},{"$f":"'Energy Consumption'!F970","v":0},{"$f":"'Energy Consumption'!F1051","v":0},{"$f":"'Energy Consumption'!F1052","v":0},{"$f":"'Energy Consumption'!F1133","v":0},{"$f":"'Energy Consumption'!F1134","v":0},{"$f":"'Energy Consumption'!F1215","v":0},{"$f":"'Energy Consumption'!F1216","v":0},{"$f":"'Energy Consumption'!F1297","v":0},{"$f":"'Energy Consumption'!F1298","v":0},{"$f":"'Energy Consumption'!F1379","v":0},{"$f":"'Energy Consumption'!F1380","v":0},{"$f":"'Energy Consumption'!F1461","v":0},{"$f":"'Energy Consumption'!F1462","v":0},{"$f":"'Energy Consumption'!F1543","v":0},{"$f":"'Energy Consumption'!F1544","v":0},{"$f":"'Energy Consumption'!F1625","v":0},{"$f":"'Energy Consumption'!F1626","v":0},null,{"$f":"'Relevant Variables'!F49","v":0},{"$f":"'Relevant Variables'!F79","v":0},{"$f":"'Relevant Variables'!F109","v":0},{"$f":"'Relevant Variables'!F139","v":0},{"$f":"'Relevant Variables'!F169","v":0},{"$f":"'Relevant Variables'!F199","v":0},{"$f":"'Relevant Variables'!F229","v":0},{"$f":"'Relevant Variables'!F259","v":0},{"$f":"'Relevant Variables'!F289","v":0},{"$f":"'Relevant Variables'!F319","v":0},{"$f":"'Relevant Variables'!F349","v":0},{"$f":"'Relevant Variables'!F379","v":0},{"$f":"'Relevant Variables'!F409","v":0},{"$f":"'Relevant Variables'!F439","v":0},{"$f":"'Relevant Variables'!F469","v":0},{"$f":"'Relevant Variables'!F499","v":0},{"$f":"'Relevant Variables'!F529","v":0},{"$f":"'Relevant Variables'!F559","v":0},{"$f":"'Relevant Variables'!F589","v":0},{"$f":"'Relevant Variables'!F619","v":0}]
["2011-04-01",null,{"$f":"'Energy Consumption'!G67","v":0},{"$f":"'Energy Consumption'!G68","v":0},{"$f":"'Energy Consumption'!G149","v":0},{"$f":"'Energy Consumption'!G150","v":0},{"$f":"'Energy Consumption'!G231","v":0},{"$f":"'Energy Consumption'!G232","v":0},{"$f":"'Energy Consumption'!G313","v":0},{"$f":"'Energy Consumption'!G314","v":0},{"$f":"'Energy Consumption'!G395","v":0},{"$f":"'Energy Consumption'!G396","v":0},{"$f":"'Energy Consumption'!G477","v":0},{"$f":"'Energy Consumption'!G478","v":0},{"$f":"'Energy Consumption'!G559","v":0},{"$f":"'Energy Consumption'!G560","v":0},{"$f":"'Energy Consumption'!G641","v":0},{"$f":"'Energy Consumption'!G642","v":0},{"$f":"'Energy Consumption'!G723","v":0},{"$f":"'Energy Consumption'!G724","v":0},{"$f":"'Energy Consumption'!G805","v":0},{"$f":"'Energy Consumption'!G806","v":0},{"$f":"'Energy Consumption'!G887","v":0},{"$f":"'Energy Consumption'!G888","v":0},{"$f":"'Energy Consumption'!G969","v":0},{"$f":"'Energy Consumption'!G970","v":0},{"$f":"'Energy Consumption'!G1051","v":0},{"$f":"'Energy Consumption'!G1052","v":0},{"$f":"'Energy Consumption'!G1133","v":0},{"$f":"'Energy Consumption'!G1134","v":0},{"$f":"'Energy Consumption'!G1215","v":0},{"$f":"'Energy Consumption'!G1216","v":0},{"$f":"'Energy Consumption'!G1297","v":0},{"$f":"'Energy Consumption'!G1298","v":0},{"$f":"'Energy Consumption'!G1379","v":0},{"$f":"'Energy Consumption'!G1380","v":0},{"$f":"'Energy Consumption'!G1461","v":0},{"$f":"'Energy Consumption'!G1462","v":0},{"$f":"'Energy Consumption'!G1543","v":0},{"$f":"'Energy Consumption'!G1544","v":0},{"$f":"'Energy Consumption'!G1625","v":0},{"$f":"'Energy Consumption'!G1626","v":0},null,{"$f":"'Relevant Variables'!G49","v":0},{"$f":"'Relevant Variables'!G79","v":0},{"$f":"'Relevant Variables'!G109","v":0},{"$f":"'Relevant Variables'!G139","v":0},{"$f":"'Relevant Variables'!G169","v":0},{"$f":"'Relevant Variables'!G199","v":0},{"$f":"'Relevant Variables'!G229","v":0},{"$f":"'Relevant Variables'!G259","v":0},{"$f":"'Relevant Variables'!G289","v":0},{"$f":"'Relevant Variables'!G319","v":0},{"$f":"'Relevant Variables'!G349","v":0},{"$f":"'Relevant Variables'!G379","v":0},{"$f":"'Relevant Variables'!G409","v":0},{"$f":"'Relevant Variables'!G439","v":0},{"$f":"'Relevant Variables'!G469","v":0},{"$f":"'Relevant Variables'!G499","v":0},{"$f":"'Relevant Variables'!G529","v":0},{"$f":"'Relevant Variables'!G559","v":0},{"$f":"'Relevant Variables'!G589","v":0},{"$f":"'Relevant Variables'!G619","v":0}]
["2011-05-01",null,{"$f":"'Energy Consumption'!H67","v":0},{"$f":"'Energy Consumption'!H68","v":0},{"$f":"'Energy Consumption'!H149","v":0},{"$f":"'Energy Consumption'!H150","v":0},{"$f":"'Energy Consumption'!H231","v":0},{"$f":"'Energy Consumption'!H232","v":0},{"$f":"'Energy Consumption'!H313","v":0},{"$f":"'Energy Consumption'!H314","v":0},{"$f":"'Energy Consumption'!H395","v":0},{"$f":"'Energy Consumption'!H396","v":0},{"$f":"'Energy Consumption'!H477","v":0},{"$f":"'Energy Consumption'!H478","v":0},{"$f":"'Energy Consumption'!H559","v":0},{"$f":"'Energy Consumption'!H560","v":0},{"$f":"'Energy Consumption'!H641","v":0},{"$f":"'Energy Consumption'!H642","v":0},{"$f":"'Energy Consumption'!H723","v":0},{"$f":"'Energy Consumption'!H724","v":0},{"$f":"'Energy Consumption'!H805","v":0},{"$f":"'Energy Consumption'!H806","v":0},{"$f":"'Energy Consumption'!H887","v":0},{"$f":"'Energy Consumption'!H888","v":0},{"$f":"'Energy Consumption'!H969","v":0},{"$f":"'Energy Consumption'!H970","v":0},{"$f":"'Energy Consumption'!H1051","v":0},{"$f":"'Energy Consumption'!H1052","v":0},{"$f":"'Energy Consumption'!H1133","v":0},{"$f":"'Energy Consumption'!H1134","v":0},{"$f":"'Energy Consumption'!H1215","v":0},{"$f":"'Energy Consumption'!H1216","v":0},{"$f":"'Energy Consumption'!H1297","v":0},{"$f":"'Energy Consumption'!H1298","v":0},{"$f":"'Energy Consumption'!H1379","v":0},{"$f":"'Energy Consumption'!H1380","v":0},{"$f":"'Energy Consumption'!H1461","v":0},{"$f":"'Energy Consumption'!H1462","v":0},{"$f":"'Energy Consumption'!H1543","v":0},{"$f":"'Energy Consumption'!H1544","v":0},{"$f":"'Energy Consumption'!H1625","v":0},{"$f":"'Energy Consumption'!H1626","v":0},null,{"$f":"'Relevant Variables'!H49","v":0},{"$f":"'Relevant Variables'!H79","v":0},{"$f":"'Relevant Variables'!H109","v":0},{"$f":"'Relevant Variables'!H139","v":0},{"$f":"'Relevant Variables'!H169","v":0},{"$f":"'Relevant Variables'!H199","v":0},{"$f":"'Relevant Variables'!H229","v":0},{"$f":"'Relevant Variables'!H259","v":0},{"$f":"'Relevant Variables'!H289","v":0},{"$f":"'Relevant Variables'!H319","v":0},{"$f":"'Relevant Variables'!H349","v":0},{"$f":"'Relevant Variables'!H379","v":0},{"$f":"'Relevant Variables'!H409","v":0},{"$f":"'Relevant Variables'!H439","v":0},{"$f":"'Relevant Variables'!H469","v":0},{"$f":"'Relevant Variables'!H499","v":0},{"$f":"'Relevant Variables'!H529","v":0},{"$f":"'Relevant Variables'!H559","v":0},{"$f":"'Relevant Variables'!H589","v":0},{"$f":"'Relevant Variables'!H619","v":0}]
["2011-06-01",null,{"$f":"'Energy Consumption'!I67","v":0},{"$f":"'Energy Consumption'!I68","v":0},{"$f":"'Energy Consumption'!I149","v":0},{"$f":"'Energy Consumption'!I150","v":0},{"$f":"'Energy Consumption'!I231","v":0},{"$f":"'Energy Consumption'!I232","v":0},{"$f":"'Energy Consumption'!I313","v":0},{"$f":"'Energy Consumption'!I314","v":0},{"$f":"'Energy Consumption'!I395","v":0},{"$f":"'Energy Consumption'!I396","v":0},{"$f":"'Energy Consumption'!I477","v":0},{"$f":"'Energy Consumption'!I478","v":0},{"$f":"'Energy Consumption'!I559","v":0},{"$f":"'Energy Consumption'!I560","v":0},{"$f":"'Energy Consumption'!I641","v":0},{"$f":"'Energy Consumption'!I642","v":0},{"$f":"'Energy Consumption'!I723","v":0},{"$f":"'Energy Consumption'!I724","v":0},{"$f":"'Energy Consumption'!I805","v":0},{"$f":"'Energy Consumption'!I806","v":0},{"$f":"'Energy Consumption'!I887","v":0},{"$f":"'Energy Consumption'!I888","v":0},{"$f":"'Energy Consumption'!I969","v":0},{"$f":"'Energy Consumption'!I970","v":0},{"$f":"'Energy Consumption'!I1051","v":0},{"$f":"'Energy Consumption'!I1052","v":0},{"$f":"'Energy Consumption'!I1133","v":0},{"$f":"'Energy Consumption'!I1134","v":0},{"$f":"'Energy Consumption'!I1215","v":0},{"$f":"'Energy Consumption'!I1216","v":0},{"$f":"'Energy Consumption'!I1297","v":0},{"$f":"'Energy Consumption'!I1298","v":0},{"$f":"'Energy Consumption'!I1379","v":0},{"$f":"'Energy Consumption'!I1380","v":0},{"$f":"'Energy Consumption'!I1461","v":0},{"$f":"'Energy Consumption'!I1462","v":0},{"$f":"'Energy Consumption'!I1543","v":0},{"$f":"'Energy Consumption'!I1544","v":0},{"$f":"'Energy Consumption'!I1625","v":0},{"$f":"'Energy Consumption'!I1626","v":0},null,{"$f":"'Relevant Variables'!I49","v":0},{"$f":"'Relevant Variables'!I79","v":0},{"$f":"'Relevant Variables'!I109","v":0},{"$f":"'Relevant Variables'!I139","v":0},{"$f":"'Relevant Variables'!I169","v":0},{"$f":"'Relevant Variables'!I199","v":0},{"$f":"'Relevant Variables'!I229","v":0},{"$f":"'Relevant Variables'!I259","v":0},{"$f":"'Relevant Variables'!I289","v":0},{"$f":"'Relevant Variables'!I319","v":0},{"$f":"'Relevant Variables'!I349","v":0},{"$f":"'Relevant Variables'!I379","v":0},{"$f":"'Relevant Variables'!I409","v":0},{"$f":"'Relevant Variables'!I439","v":0},{"$f":"'Relevant Variables'!I469","v":0},{"$f":"'Relevant Variables'!I499","v":0},{"$f":"'Relevant Variables'!I529","v":0},{"$f":"'Relevant Variables'!I559","v":0},{"$f":"'Relevant Variables'!I589","v":0},{"$f":"'Relevant Variables'!I619","v":0}]
["2011-07-01",null,{"$f":"'Energy Consumption'!J67","v":0},{"$f":"'Energy Consumption'!J68","v":0},{"$f":"'Energy Consumption'!J149","v":0},{"$f":"'Energy Consumption'!J150","v":0},{"$f":"'Energy Consumption'!J231","v":0},{"$f":"'Energy Consumption'!J232","v":0},{"$f":"'Energy Consumption'!J313","v":0},{"$f":"'Energy Consumption'!J314","v":0},{"$f":"'Energy Consumption'!J395","v":0},{"$f":"'Energy Consumption'!J396","v":0},{"$f":"'Energy Consumption'!J477","v":0},{"$f":"'Energy Consumption'!J478","v":0},{"$f":"'Energy Consumption'!J559","v":0},{"$f":"'Energy Consumption'!J560","v":0},{"$f":"'Energy Consumption'!J641","v":0},{"$f":"'Energy Consumption'!J642","v":0},{"$f":"'Energy Consumption'!J723","v":0},{"$f":"'Energy Consumption'!J724","v":0},{"$f":"'Energy Consumption'!J805","v":0},{"$f":"'Energy Consumption'!J806","v":0},{"$f":"'Energy Consumption'!J887","v":0},{"$f":"'Energy Consumption'!J888","v":0},{"$f":"'Energy Consumption'!J969","v":0},{"$f":"'Energy Consumption'!J970","v":0},{"$f":"'Energy Consumption'!J1051","v":0},{"$f":"'Energy Consumption'!J1052","v":0},{"$f":"'Energy Consumption'!J1133","v":0},{"$f":"'Energy Consumption'!J1134","v":0},{"$f":"'Energy Consumption'!J1215","v":0},{"$f":"'Energy Consumption'!J1216","v":0},{"$f":"'Energy Consumption'!J1297","v":0},{"$f":"'Energy Consumption'!J1298","v":0},{"$f":"'Energy Consumption'!J1379","v":0},{"$f":"'Energy Consumption'!J1380","v":0},{"$f":"'Energy Consumption'!J1461","v":0},{"$f":"'Energy Consumption'!J1462","v":0},{"$f":"'Energy Consumption'!J1543","v":0},{"$f":"'Energy Consumption'!J1544","v":0},{"$f":"'Energy Consumption'!J1625","v":0},{"$f":"'Energy Consumption'!J1626","v":0},null,{"$f":"'Relevant Variables'!J49","v":0},{"$f":"'Relevant Variables'!J79","v":0},{"$f":"'Relevant Variables'!J109","v":0},{"$f":"'Relevant Variables'!J139","v":0},{"$f":"'Relevant Variables'!J169","v":0},{"$f":"'Relevant Variables'!J199","v":0},{"$f":"'Relevant Variables'!J229","v":0},{"$f":"'Relevant Variables'!J259","v":0},{"$f":"'Relevant Variables'!J289","v":0},{"$f":"'Relevant Variables'!J319","v":0},{"$f":"'Relevant Variables'!J349","v":0},{"$f":"'Relevant Variables'!J379","v":0},{"$f":"'Relevant Variables'!J409","v":0},{"$f":"'Relevant Variables'!J439","v":0},{"$f":"'Relevant Variables'!J469","v":0},{"$f":"'Relevant Variables'!J499","v":0},{"$f":"'Relevant Variables'!J529","v":0},{"$f":"'Relevant Variables'!J559","v":0},{"$f":"'Relevant Variables'!J589","v":0},{"$f":"'Relevant Variables'!J619","v":0}]
["2011-08-01",null,{"$f":"'Energy Consumption'!K67","v":0},{"$f":"'Energy Consumption'!K68","v":0},{"$f":"'Energy Consumption'!K149","v":0},{"$f":"'Energy Consumption'!K150","v":0},{"$f":"'Energy Consumption'!K231","v":0},{"$f":"'Energy Consumption'!K232","v":0},{"$f":"'Energy Consumption'!K313","v":0},{"$f":"'Energy Consumption'!K314","v":0},{"$f":"'Energy Consumption'!K395","v":0},{"$f":"'Energy Consumption'!K396","v":0},{"$f":"'Energy Consumption'!K477","v":0},{"$f":"'Energy Consumption'!K478","v":0},{"$f":"'Energy Consumption'!K559","v":0},{"$f":"'Energy Consumption'!K560","v":0},{"$f":"'Energy Consumption'!K641","v":0},{"$f":"'Energy Consumption'!K642","v":0},{"$f":"'Energy Consumption'!K723","v":0},{"$f":"'Energy Consumption'!K724","v":0},{"$f":"'Energy Consumption'!K805","v":0},{"$f":"'Energy Consumption'!K806","v":0},{"$f":"'Energy Consumption'!K887","v":0},{"$f":"'Energy Consumption'!K888","v":0},{"$f":"'Energy Consumption'!K969","v":0},{"$f":"'Energy Consumption'!K970","v":0},{"$f":"'Energy Consumption'!K1051","v":0},{"$f":"'Energy Consumption'!K1052","v":0},{"$f":"'Energy Consumption'!K1133","v":0},{"$f":"'Energy Consumption'!K1134","v":0},{"$f":"'Energy Consumption'!K1215","v":0},{"$f":"'Energy Consumption'!K1216","v":0},{"$f":"'Energy Consumption'!K1297","v":0},{"$f":"'Energy Consumption'!K1298","v":0},{"$f":"'Energy Consumption'!K1379","v":0},{"$f":"'Energy Consumption'!K1380","v":0},{"$f":"'Energy Consumption'!K1461","v":0},{"$f":"'Energy Consumption'!K1462","v":0},{"$f":"'Energy Consumption'!K1543","v":0},{"$f":"'Energy Consumption'!K1544","v":0},{"$f":"'Energy Consumption'!K1625","v":0},{"$f":"'Energy Consumption'!K1626","v":0},null,{"$f":"'Relevant Variables'!K49","v":0},{"$f":"'Relevant Variables'!K79","v":0},{"$f":"'Relevant Variables'!K109","v":0},{"$f":"'Relevant Variables'!K139","v":0},{"$f":"'Relevant Variables'!K169","v":0},{"$f":"'Relevant Variables'!K199","v":0},{"$f":"'Relevant Variables'!K229","v":0},{"$f":"'Relevant Variables'!K259","v":0},{"$f":"'Relevant Variables'!K289","v":0},{"$f":"'Relevant Variables'!K319","v":0},{"$f":"'Relevant Variables'!K349","v":0},{"$f":"'Relevant Variables'!K379","v":0},{"$f":"'Relevant Variables'!K409","v":0},{"$f":"'Relevant Variables'!K439","v":0},{"$f":"'Relevant Variables'!K469","v":0},{"$f":"'Relevant Variables'!K499","v":0},{"$f":"'Relevant Variables'!K529","v":0},{"$f":"'Relevant Variables'!K559","v":0},{"$f":"'Relevant Variables'!K589","v":0},{"$f":"'Relevant Variables'!K619","v":0}]
["2011-09-01",null,{"$f":"'Energy Consumption'!L67","v":0},{"$f":"'Energy Consumption'!L68","v":0},{"$f":"'Energy Consumption'!L149","v":0},{"$f":"'Energy Consumption'!L150","v":0},{"$f":"'Energy Consumption'!L231","v":0},{"$f":"'Energy Consumption'!L232","v":0},{"$f":"'Energy Consumption'!L313","v":0},{"$f":"'Energy Consumption'!L314","v":0},{"$f":"'Energy Consumption'!L395","v":0},{"$f":"'Energy Consumption'!L396","v":0},{"$f":"'Energy Consumption'!L477","v":0},{"$f":"'Energy Consumption'!L478","v":0},{"$f":"'Energy Consumption'!L559","v":0},{"$f":"'Energy Consumption'!L560","v":0},{"$f":"'Energy Consumption'!L641","v":0},{"$f":"'Energy Consumption'!L642","v":0},{"$f":"'Energy Consumption'!L723","v":0},{"$f":"'Energy Consumption'!L724","v":0},{"$f":"'Energy Consumption'!L805","v":0},{"$f":"'Energy Consumption'!L806","v":0},{"$f":"'Energy Consumption'!L887","v":0},{"$f":"'Energy Consumption'!L888","v":0},{"$f":"'Energy Consumption'!L969","v":0},{"$f":"'Energy Consumption'!L970","v":0},{"$f":"'Energy Consumption'!L1051","v":0},{"$f":"'Energy Consumption'!L1052","v":0},{"$f":"'Energy Consumption'!L1133","v":0},{"$f":"'Energy Consumption'!L1134","v":0},{"$f":"'Energy Consumption'!L1215","v":0},{"$f":"'Energy Consumption'!L1216","v":0},{"$f":"'Energy Consumption'!L1297","v":0},{"$f":"'Energy Consumption'!L1298","v":0},{"$f":"'Energy Consumption'!L1379","v":0},{"$f":"'Energy Consumption'!L1380","v":0},{"$f":"'Energy Consumption'!L1461","v":0},{"$f":"'Energy Consumption'!L1462","v":0},{"$f":"'Energy Consumption'!L1543","v":0},{"$f":"'Energy Consumption'!L1544","v":0},{"$f":"'Energy Consumption'!L1625","v":0},{"$f":"'Energy Consumption'!L1626","v":0},null,{"$f":"'Relevant Variables'!L49","v":0},{"$f":"'Relevant Variables'!L79","v":0},{"$f":"'Relevant Variables'!L109","v":0},{"$f":"'Relevant Variables'!L139","v":0},{"$f":"'Relevant Variables'!L169","v":0},{"$f":"'Relevant Variables'!L199","v":0},{"$f":"'Relevant Variables'!L229","v":0},{"$f":"'Relevant Variables'!L259","v":0},{"$f":"'Relevant Variables'!L289","v":0},{"$f":"'Relevant Variables'!L319","v":0},{"$f":"'Relevant Variables'!L349","v":0},{"$f":"'Relevant Variables'!L379","v":0},{"$f":"'Relevant Variables'!L409","v":0},{"$f":"'Relevant Variables'!L439","v":0},{"$f":"'Relevant Variables'!L469","v":0},{"$f":"'Relevant Variables'!L499","v":0},{"$f":"'Relevant Variables'!L529","v":0},{"$f":"'Relevant Variables'!L559","v":0},{"$f":"'Relevant Variables'!L589","v":0},{"$f":"'Relevant Variables'!L619","v":0}]
["2011-10-01",null,{"$f":"'Energy Consumption'!M67","v":0},{"$f":"'Energy Consumption'!M68","v":0},{"$f":"'Energy Consumption'!M149","v":0},{"$f":"'Energy Consumption'!M150","v":0},{"$f":"'Energy Consumption'!M231","v":0},{"$f":"'Energy Consumption'!M232","v":0},{"$f":"'Energy Consumption'!M313","v":0},{"$f":"'Energy Consumption'!M314","v":0},{"$f":"'Energy Consumption'!M395","v":0},{"$f":"'Energy Consumption'!M396","v":0},{"$f":"'Energy Consumption'!M477","v":0},{"$f":"'Energy Consumption'!M478","v":0},{"$f":"'Energy Consumption'!M559","v":0},{"$f":"'Energy Consumption'!M560","v":0},{"$f":"'Energy Consumption'!M641","v":0},{"$f":"'Energy Consumption'!M642","v":0},{"$f":"'Energy Consumption'!M723","v":0},{"$f":"'Energy Consumption'!M724","v":0},{"$f":"'Energy Consumption'!M805","v":0},{"$f":"'Energy Consumption'!M806","v":0},{"$f":"'Energy Consumption'!M887","v":0},{"$f":"'Energy Consumption'!M888","v":0},{"$f":"'Energy Consumption'!M969","v":0},{"$f":"'Energy Consumption'!M970","v":0},{"$f":"'Energy Consumption'!M1051","v":0},{"$f":"'Energy Consumption'!M1052","v":0},{"$f":"'Energy Consumption'!M1133","v":0},{"$f":"'Energy Consumption'!M1134","v":0},{"$f":"'Energy Consumption'!M1215","v":0},{"$f":"'Energy Consumption'!M1216","v":0},{"$f":"'Energy Consumption'!M1297","v":0},{"$f":"'Energy Consumption'!M1298","v":0},{"$f":"'Energy Consumption'!M1379","v":0},{"$f":"'Energy Consumption'!M1380","v":0},{"$f":"'Energy Consumption'!M1461","v":0},{"$f":"'Energy Consumption'!M1462","v":0},{"$f":"'Energy Consumption'!M1543","v":0},{"$f":"'Energy Consumption'!M1544","v":0},{"$f":"'Energy Consumption'!M1625","v":0},{"$f":"'Energy Consumption'!M1626","v":0},null,{"$f":"'Relevant Variables'!M49","v":0},{"$f":"'Relevant Variables'!M79","v":0},{"$f":"'Relevant Variables'!M109","v":0},{"$f":"'Relevant Variables'!M139","v":0},{"$f":"'Relevant Variables'!M169","v":0},{"$f":"'Relevant Variables'!M199","v":0},{"$f":"'Relevant Variables'!M229","v":0},{"$f":"'Relevant Variables'!M259","v":0},{"$f":"'Relevant Variables'!M289","v":0},{"$f":"'Relevant Variables'!M319","v":0},{"$f":"'Relevant Variables'!M349","v":0},{"$f":"'Relevant Variables'!M379","v":0},{"$f":"'Relevant Variables'!M409","v":0},{"$f":"'Relevant Variables'!M439","v":0},{"$f":"'Relevant Variables'!M469","v":0},{"$f":"'Relevant Variables'!M499","v":0},{"$f":"'Relevant Variables'!M529","v":0},{"$f":"'Relevant Variables'!M559","v":0},{"$f":"'Relevant Variables'!M589","v":0},{"$f":"'Relevant Variables'!M619","v":0}]
["2011-11-01",null,{"$f":"'Energy Consumption'!N67","v":0},{"$f":"'Energy Consumption'!N68","v":0},{"$f":"'Energy Consumption'!N149","v":0},{"$f":"'Energy Consumption'!N150","v":0},{"$f":"'Energy Consumption'!N231","v":0},{"$f":"'Energy Consumption'!N232","v":0},{"$f":"'Energy Consumption'!N313","v":0},{"$f":"'Energy Consumption'!N314","v":0},{"$f":"'Energy Consumption'!N395","v":0},{"$f":"'Energy Consumption'!N396","v":0},{"$f":"'Energy Consumption'!N477","v":0},{"$f":"'Energy Consumption'!N478","v":0},{"$f":"'Energy Consumption'!N559","v":0},{"$f":"'Energy Consumption'!N560","v":0},{"$f":"'Energy Consumption'!N641","v":0},{"$f":"'Energy Consumption'!N642","v":0},{"$f":"'Energy Consumption'!N723","v":0},{"$f":"'Energy Consumption'!N724","v":0},{"$f":"'Energy Consumption'!N805","v":0},{"$f":"'Energy Consumption'!N806","v":0},{"$f":"'Energy Consumption'!N887","v":0},{"$f":"'Energy Consumption'!N888","v":0},{"$f":"'Energy Consumption'!N969","v":0},{"$f":"'Energy Consumption'!N970","v":0},{"$f":"'Energy Consumption'!N1051","v":0},{"$f":"'Energy Consumption'!N1052","v":0},{"$f":"'Energy Consumption'!N1133","v":0},{"$f":"'Energy Consumption'!N1134","v":0},{"$f":"'Energy Consumption'!N1215","v":0},{"$f":"'Energy Consumption'!N1216","v":0},{"$f":"'Energy Consumption'!N1297","v":0},{"$f":"'Energy Consumption'!N1298","v":0},{"$f":"'Energy Consumption'!N1379","v":0},{"$f":"'Energy Consumption'!N1380","v":0},{"$f":"'Energy Consumption'!N1461","v":0},{"$f":"'Energy Consumption'!N1462","v":0},{"$f":"'Energy Consumption'!N1543","v":0},{"$f":"'Energy Consumption'!N1544","v":0},{"$f":"'Energy Consumption'!N1625","v":0},{"$f":"'Energy Consumption'!N1626","v":0},null,{"$f":"'Relevant Variables'!N49","v":0},{"$f":"'Relevant Variables'!N79","v":0},{"$f":"'Relevant Variables'!N109","v":0},{"$f":"'Relevant Variables'!N139","v":0},{"$f":"'Relevant Variables'!N169","v":0},{"$f":"'Relevant Variables'!N199","v":0},{"$f":"'Relevant Variables'!N229","v":0},{"$f":"'Relevant Variables'!N259","v":0},{"$f":"'Relevant Variables'!N289","v":0},{"$f":"'Relevant Variables'!N319","v":0},{"$f":"'Relevant Variables'!N349","v":0},{"$f":"'Relevant Variables'!N379","v":0},{"$f":"'Relevant Variables'!N409","v":0},{"$f":"'Relevant Variables'!N439","v":0},{"$f":"'Relevant Variables'!N469","v":0},{"$f":"'Relevant Variables'!N499","v":0},{"$f":"'Relevant Variables'!N529","v":0},{"$f":"'Relevant Variables'!N559","v":0},{"$f":"'Relevant Variables'!N589","v":0},{"$f":"'Relevant Variables'!N619","v":0}]
["2011-12-01",null,{"$f":"'Energy Consumption'!O67","v":0},{"$f":"'Energy Consumption'!O68","v":0},{"$f":"'Energy Consumption'!O149","v":0},{"$f":"'Energy Consumption'!O150","v":0},{"$f":"'Energy Consumption'!O231","v":0},{"$f":"'Energy Consumption'!O232","v":0},{"$f":"'Energy Consumption'!O313","v":0},{"$f":"'Energy Consumption'!O314","v":0},{"$f":"'Energy Consumption'!O395","v":0},{"$f":"'Energy Consumption'!O396","v":0},{"$f":"'Energy Consumption'!O477","v":0},{"$f":"'Energy Consumption'!O478","v":0},{"$f":"'Energy Consumption'!O559","v":0},{"$f":"'Energy Consumption'!O560","v":0},{"$f":"'Energy Consumption'!O641","v":0},{"$f":"'Energy Consumption'!O642","v":0},{"$f":"'Energy Consumption'!O723","v":0},{"$f":"'Energy Consumption'!O724","v":0},{"$f":"'Energy Consumption'!O805","v":0},{"$f":"'Energy Consumption'!O806","v":0},{"$f":"'Energy Consumption'!O887","v":0},{"$f":"'Energy Consumption'!O888","v":0},{"$f":"'Energy Consumption'!O969","v":0},{"$f":"'Energy Consumption'!O970","v":0},{"$f":"'Energy Consumption'!O1051","v":0},{"$f":"'Energy Consumption'!O1052","v":0},{"$f":"'Energy Consumption'!O1133","v":0},{"$f":"'Energy Consumption'!O1134","v":0},{"$f":"'Energy Consumption'!O1215","v":0},{"$f":"'Energy Consumption'!O1216","v":0},{"$f":"'Energy Consumption'!O1297","v":0},{"$f":"'Energy Consumption'!O1298","v":0},{"$f":"'Energy Consumption'!O1379","v":0},{"$f":"'Energy Consumption'!O1380","v":0},{"$f":"'Energy Consumption'!O1461","v":0},{"$f":"'Energy Consumption'!O1462","v":0},{"$f":"'Energy Consumption'!O1543","v":0},{"$f":"'Energy Consumption'!O1544","v":0},{"$f":"'Energy Consumption'!O1625","v":0},{"$f":"'Energy Consumption'!O1626","v":0},null,{"$f":"'Relevant Variables'!O49","v":0},{"$f":"'Relevant Variables'!O79","v":0},{"$f":"'Relevant Variables'!O109","v":0},{"$f":"'Relevant Variables'!O139","v":0},{"$f":"'Relevant Variables'!O169","v":0},{"$f":"'Relevant Variables'!O199","v":0},{"$f":"'Relevant Variables'!O229","v":0},{"$f":"'Relevant Variables'!O259","v":0},{"$f":"'Relevant Variables'!O289","v":0},{"$f":"'Relevant Variables'!O319","v":0},{"$f":"'Relevant Variables'!O349","v":0},{"$f":"'Relevant Variables'!O379","v":0},{"$f":"'Relevant Variables'!O409","v":0},{"$f":"'Relevant Variables'!O439","v":0},{"$f":"'Relevant Variables'!O469","v":0},{"$f":"'Relevant Variables'!O499","v":0},{"$f":"'Relevant Variables'!O529","v":0},{"$f":"'Relevant Variables'!O559","v":0},{"$f":"'Relevant Variables'!O589","v":0},{"$f":"'Relevant Variables'!O619","v":0}]
["2012-01-01",null,{"$f":"'Energy Consumption'!D65","v":0},{"$f":"'Energy Consumption'!D66","v":0},{"$f":"'Energy Consumption'!D147","v":0},{"$f":"'Energy Consumption'!D148","v":0},{"$f":"'Energy Consumption'!D229","v":0},{"$f":"'Energy Consumption'!D230","v":0},{"$f":"'Energy Consumption'!D311","v":0},{"$f":"'Energy Consumption'!D312","v":0},{"$f":"'Energy Consumption'!D393","v":0},{"$f":"'Energy Consumption'!D394","v":0},{"$f":"'Energy Consumption'!D475","v":0},{"$f":"'Energy Consumption'!D476","v":0},{"$f":"'Energy Consumption'!D557","v":0},{"$f":"'Energy Consumption'!D558","v":0},{"$f":"'Energy Consumption'!D639","v":0},{"$f":"'Energy Consumption'!D640","v":0},{"$f":"'Energy Consumption'!D721","v":0},{"$f":"'Energy Consumption'!D722","v":0},{"$f":"'Energy Consumption'!D803","v":0},{"$f":"'Energy Consumption'!D804","v":0},{"$f":"'Energy Consumption'!D885","v":0},{"$f":"'Energy Consumption'!D886","v":0},{"$f":"'Energy Consumption'!D967","v":0},{"$f":"'Energy Consumption'!D968","v":0},{"$f":"'Energy Consumption'!D1049","v":0},{"$f":"'Energy Consumption'!D1050","v":0},{"$f":"'Energy Consumption'!D1131","v":0},{"$f":"'Energy Consumption'!D1132","v":0},{"$f":"'Energy Consumption'!D1213","v":0},{"$f":"'Energy Consumption'!D1214","v":0},{"$f":"'Energy Consumption'!D1295","v":0},{"$f":"'Energy Consumption'!D1296","v":0},{"$f":"'Energy Consumption'!D1377","v":0},{"$f":"'Energy Consumption'!D1378","v":0},{"$f":"'Energy Consumption'!D1459","v":0},{"$f":"'Energy Consumption'!D1460","v":0},{"$f":"'Energy Consumption'!D1541","v":0},{"$f":"'Energy Consumption'!D1542","v":0},{"$f":"'Energy Consumption'!D1623","v":0},{"$f":"'Energy Consumption'!D1624","v":0},null,{"$f":"'Relevant Variables'!D48","v":0},{"$f":"'Relevant Variables'!D78","v":0},{"$f":"'Relevant Variables'!D108","v":0},{"$f":"'Relevant Variables'!D138","v":0},{"$f":"'Relevant Variables'!D168","v":0},{"$f":"'Relevant Variables'!D198","v":0},{"$f":"'Relevant Variables'!D228","v":0},{"$f":"'Relevant Variables'!D258","v":0},{"$f":"'Relevant Variables'!D288","v":0},{"$f":"'Relevant Variables'!D318","v":0},{"$f":"'Relevant Variables'!D348","v":0},{"$f":"'Relevant Variables'!D378","v":0},{"$f":"'Relevant Variables'!D408","v":0},{"$f":"'Relevant Variables'!D438","v":0},{"$f":"'Relevant Variables'!D468","v":0},{"$f":"'Relevant Variables'!D498","v":0},{"$f":"'Relevant Variables'!D528","v":0},{"$f":"'Relevant Variables'!D558","v":0},{"$f":"'Relevant Variables'!D588","v":0},{"$f":"'Relevant Variables'!D618","v":0}]
["2012-02-01",null,{"$f":"'Energy Consumption'!E65","v":0},{"$f":"'Energy Consumption'!E66","v":0},{"$f":"'Energy Consumption'!E147","v":0},{"$f":"'Energy Consumption'!E148","v":0},{"$f":"'Energy Consumption'!E229","v":0},{"$f":"'Energy Consumption'!E230","v":0},{"$f":"'Energy Consumption'!E311","v":0},{"$f":"'Energy Consumption'!E312","v":0},{"$f":"'Energy Consumption'!E393","v":0},{"$f":"'Energy Consumption'!E394","v":0},{"$f":"'Energy Consumption'!E475","v":0},{"$f":"'Energy Consumption'!E476","v":0},{"$f":"'Energy Consumption'!E557","v":0},{"$f":"'Energy Consumption'!E558","v":0},{"$f":"'Energy Consumption'!E639","v":0},{"$f":"'Energy Consumption'!E640","v":0},{"$f":"'Energy Consumption'!E721","v":0},{"$f":"'Energy Consumption'!E722","v":0},{"$f":"'Energy Consumption'!E803","v":0},{"$f":"'Energy Consumption'!E804","v":0},{"$f":"'Energy Consumption'!E885","v":0},{"$f":"'Energy Consumption'!E886","v":0},{"$f":"'Energy Consumption'!E967","v":0},{"$f":"'Energy Consumption'!E968","v":0},{"$f":"'Energy Consumption'!E1049","v":0},{"$f":"'Energy Consumption'!E1050","v":0},{"$f":"'Energy Consumption'!E1131","v":0},{"$f":"'Energy Consumption'!E1132","v":0},{"$f":"'Energy Consumption'!E1213","v":0},{"$f":"'Energy Consumption'!E1214","v":0},{"$f":"'Energy Consumption'!E1295","v":0},{"$f":"'Energy Consumption'!E1296","v":0},{"$f":"'Energy Consumption'!E1377","v":0},{"$f":"'Energy Consumption'!E1378","v":0},{"$f":"'Energy Consumption'!E1459","v":0},{"$f":"'Energy Consumption'!E1460","v":0},{"$f":"'Energy Consumption'!E1541","v":0},{"$f":"'Energy Consumption'!E1542","v":0},{"$f":"'Energy Consumption'!E1623","v":0},{"$f":"'Energy Consumption'!E1624","v":0},null,{"$f":"'Relevant Variables'!E48","v":0},{"$f":"'Relevant Variables'!E78","v":0},{"$f":"'Relevant Variables'!E108","v":0},{"$f":"'Relevant Variables'!E138","v":0},{"$f":"'Relevant Variables'!E168","v":0},{"$f":"'Relevant Variables'!E198","v":0},{"$f":"'Relevant Variables'!E228","v":0},{"$f":"'Relevant Variables'!E258","v":0},{"$f":"'Relevant Variables'!E288","v":0},{"$f":"'Relevant Variables'!E318","v":0},{"$f":"'Relevant Variables'!E348","v":0},{"$f":"'Relevant Variables'!E378","v":0},{"$f":"'Relevant Variables'!E408","v":0},{"$f":"'Relevant Variables'!E438","v":0},{"$f":"'Relevant Variables'!E468","v":0},{"$f":"'Relevant Variables'!E498","v":0},{"$f":"'Relevant Variables'!E528","v":0},{"$f":"'Relevant Variables'!E558","v":0},{"$f":"'Relevant Variables'!E588","v":0},{"$f":"'Relevant Variables'!E618","v":0}]
["2012-03-01",null,{"$f":"'Energy Consumption'!F65","v":0},{"$f":"'Energy Consumption'!F66","v":0},{"$f":"'Energy Consumption'!F147","v":0},{"$f":"'Energy Consumption'!F148","v":0},{"$f":"'Energy Consumption'!F229","v":0},{"$f":"'Energy Consumption'!F230","v":0},{"$f":"'Energy Consumption'!F311","v":0},{"$f":"'Energy Consumption'!F312","v":0},{"$f":"'Energy Consumption'!F393","v":0},{"$f":"'Energy Consumption'!F394","v":0},{"$f":"'Energy Consumption'!F475","v":0},{"$f":"'Energy Consumption'!F476","v":0},{"$f":"'Energy Consumption'!F557","v":0},{"$f":"'Energy Consumption'!F558","v":0},{"$f":"'Energy Consumption'!F639","v":0},{"$f":"'Energy Consumption'!F640","v":0},{"$f":"'Energy Consumption'!F721","v":0},{"$f":"'Energy Consumption'!F722","v":0},{"$f":"'Energy Consumption'!F803","v":0},{"$f":"'Energy Consumption'!F804","v":0},{"$f":"'Energy Consumption'!F885","v":0},{"$f":"'Energy Consumption'!F886","v":0},{"$f":"'Energy Consumption'!F967","v":0},{"$f":"'Energy Consumption'!F968","v":0},{"$f":"'Energy Consumption'!F1049","v":0},{"$f":"'Energy Consumption'!F1050","v":0},{"$f":"'Energy Consumption'!F1131","v":0},{"$f":"'Energy Consumption'!F1132","v":0},{"$f":"'Energy Consumption'!F1213","v":0},{"$f":"'Energy Consumption'!F1214","v":0},{"$f":"'Energy Consumption'!F1295","v":0},{"$f":"'Energy Consumption'!F1296","v":0},{"$f":"'Energy Consumption'!F1377","v":0},{"$f":"'Energy Consumption'!F1378","v":0},{"$f":"'Energy Consumption'!F1459","v":0},{"$f":"'Energy Consumption'!F1460","v":0},{"$f":"'Energy Consumption'!F1541","v":0},{"$f":"'Energy Consumption'!F1542","v":0},{"$f":"'Energy Consumption'!F1623","v":0},{"$f":"'Energy Consumption'!F1624","v":0},null,{"$f":"'Relevant Variables'!F48","v":0},{"$f":"'Relevant Variables'!F78","v":0},{"$f":"'Relevant Variables'!F108","v":0},{"$f":"'Relevant Variables'!F138","v":0},{"$f":"'Relevant Variables'!F168","v":0},{"$f":"'Relevant Variables'!F198","v":0},{"$f":"'Relevant Variables'!F228","v":0},{"$f":"'Relevant Variables'!F258","v":0},{"$f":"'Relevant Variables'!F288","v":0},{"$f":"'Relevant Variables'!F318","v":0},{"$f":"'Relevant Variables'!F348","v":0},{"$f":"'Relevant Variables'!F378","v":0},{"$f":"'Relevant Variables'!F408","v":0},{"$f":"'Relevant Variables'!F438","v":0},{"$f":"'Relevant Variables'!F468","v":0},{"$f":"'Relevant Variables'!F498","v":0},{"$f":"'Relevant Variables'!F528","v":0},{"$f":"'Relevant Variables'!F558","v":0},{"$f":"'Relevant Variables'!F588","v":0},{"$f":"'Relevant Variables'!F618","v":0}]
["2012-04-01",null,{"$f":"'Energy Consumption'!G65","v":0},{"$f":"'Energy Consumption'!G66","v":0},{"$f":"'Energy Consumption'!G147","v":0},{"$f":"'Energy Consumption'!G148","v":0},{"$f":"'Energy Consumption'!G229","v":0},{"$f":"'Energy Consumption'!G230","v":0},{"$f":"'Energy Consumption'!G311","v":0},{"$f":"'Energy Consumption'!G312","v":0},{"$f":"'Energy Consumption'!G393","v":0},{"$f":"'Energy Consumption'!G394","v":0},{"$f":"'Energy Consumption'!G475","v":0},{"$f":"'Energy Consumption'!G476","v":0},{"$f":"'Energy Consumption'!G557","v":0},{"$f":"'Energy Consumption'!G558","v":0},{"$f":"'Energy Consumption'!G639","v":0},{"$f":"'Energy Consumption'!G640","v":0},{"$f":"'Energy Consumption'!G721","v":0},{"$f":"'Energy Consumption'!G722","v":0},{"$f":"'Energy Consumption'!G803","v":0},{"$f":"'Energy Consumption'!G804","v":0},{"$f":"'Energy Consumption'!G885","v":0},{"$f":"'Energy Consumption'!G886","v":0},{"$f":"'Energy Consumption'!G967","v":0},{"$f":"'Energy Consumption'!G968","v":0},{"$f":"'Energy Consumption'!G1049","v":0},{"$f":"'Energy Consumption'!G1050","v":0},{"$f":"'Energy Consumption'!G1131","v":0},{"$f":"'Energy Consumption'!G1132","v":0},{"$f":"'Energy Consumption'!G1213","v":0},{"$f":"'Energy Consumption'!G1214","v":0},{"$f":"'Energy Consumption'!G1295","v":0},{"$f":"'Energy Consumption'!G1296","v":0},{"$f":"'Energy Consumption'!G1377","v":0},{"$f":"'Energy Consumption'!G1378","v":0},{"$f":"'Energy Consumption'!G1459","v":0},{"$f":"'Energy Consumption'!G1460","v":0},{"$f":"'Energy Consumption'!G1541","v":0},{"$f":"'Energy Consumption'!G1542","v":0},{"$f":"'Energy Consumption'!G1623","v":0},{"$f":"'Energy Consumption'!G1624","v":0},null,{"$f":"'Relevant Variables'!G48","v":0},{"$f":"'Relevant Variables'!G78","v":0},{"$f":"'Relevant Variables'!G108","v":0},{"$f":"'Relevant Variables'!G138","v":0},{"$f":"'Relevant Variables'!G168","v":0},{"$f":"'Relevant Variables'!G198","v":0},{"$f":"'Relevant Variables'!G228","v":0},{"$f":"'Relevant Variables'!G258","v":0},{"$f":"'Relevant Variables'!G288","v":0},{"$f":"'Relevant Variables'!G318","v":0},{"$f":"'Relevant Variables'!G348","v":0},{"$f":"'Relevant Variables'!G378","v":0},{"$f":"'Relevant Variables'!G408","v":0},{"$f":"'Relevant Variables'!G438","v":0},{"$f":"'Relevant Variables'!G468","v":0},{"$f":"'Relevant Variables'!G498","v":0},{"$f":"'Relevant Variables'!G528","v":0},{"$f":"'Relevant Variables'!G558","v":0},{"$f":"'Relevant Variables'!G588","v":0},{"$f":"'Relevant Variables'!G618","v":0}]
["2012-05-01",null,{"$f":"'Energy Consumption'!H65","v":0},{"$f":"'Energy Consumption'!H66","v":0},{"$f":"'Energy Consumption'!H147","v":0},{"$f":"'Energy Consumption'!H148","v":0},{"$f":"'Energy Consumption'!H229","v":0},{"$f":"'Energy Consumption'!H230","v":0},{"$f":"'Energy Consumption'!H311","v":0},{"$f":"'Energy Consumption'!H312","v":0},{"$f":"'Energy Consumption'!H393","v":0},{"$f":"'Energy Consumption'!H394","v":0},{"$f":"'Energy Consumption'!H475","v":0},{"$f":"'Energy Consumption'!H476","v":0},{"$f":"'Energy Consumption'!H557","v":0},{"$f":"'Energy Consumption'!H558","v":0},{"$f":"'Energy Consumption'!H639","v":0},{"$f":"'Energy Consumption'!H640","v":0},{"$f":"'Energy Consumption'!H721","v":0},{"$f":"'Energy Consumption'!H722","v":0},{"$f":"'Energy Consumption'!H803","v":0},{"$f":"'Energy Consumption'!H804","v":0},{"$f":"'Energy Consumption'!H885","v":0},{"$f":"'Energy Consumption'!H886","v":0},{"$f":"'Energy Consumption'!H967","v":0},{"$f":"'Energy Consumption'!H968","v":0},{"$f":"'Energy Consumption'!H1049","v":0},{"$f":"'Energy Consumption'!H1050","v":0},{"$f":"'Energy Consumption'!H1131","v":0},{"$f":"'Energy Consumption'!H1132","v":0},{"$f":"'Energy Consumption'!H1213","v":0},{"$f":"'Energy Consumption'!H1214","v":0},{"$f":"'Energy Consumption'!H1295","v":0},{"$f":"'Energy Consumption'!H1296","v":0},{"$f":"'Energy Consumption'!H1377","v":0},{"$f":"'Energy Consumption'!H1378","v":0},{"$f":"'Energy Consumption'!H1459","v":0},{"$f":"'Energy Consumption'!H1460","v":0},{"$f":"'Energy Consumption'!H1541","v":0},{"$f":"'Energy Consumption'!H1542","v":0},{"$f":"'Energy Consumption'!H1623","v":0},{"$f":"'Energy Consumption'!H1624","v":0},null,{"$f":"'Relevant Variables'!H48","v":0},{"$f":"'Relevant Variables'!H78","v":0},{"$f":"'Relevant Variables'!H108","v":0},{"$f":"'Relevant Variables'!H138","v":0},{"$f":"'Relevant Variables'!H168","v":0},{"$f":"'Relevant Variables'!H198","v":0},{"$f":"'Relevant Variables'!H228","v":0},{"$f":"'Relevant Variables'!H258","v":0},{"$f":"'Relevant Variables'!H288","v":0},{"$f":"'Relevant Variables'!H318","v":0},{"$f":"'Relevant Variables'!H348","v":0},{"$f":"'Relevant Variables'!H378","v":0},{"$f":"'Relevant Variables'!H408","v":0},{"$f":"'Relevant Variables'!H438","v":0},{"$f":"'Relevant Variables'!H468","v":0},{"$f":"'Relevant Variables'!H498","v":0},{"$f":"'Relevant Variables'!H528","v":0},{"$f":"'Relevant Variables'!H558","v":0},{"$f":"'Relevant Variables'!H588","v":0},{"$f":"'Relevant Variables'!H618","v":0}]
["2012-06-01",null,{"$f":"'Energy Consumption'!I65","v":0},{"$f":"'Energy Consumption'!I66","v":0},{"$f":"'Energy Consumption'!I147","v":0},{"$f":"'Energy Consumption'!I148","v":0},{"$f":"'Energy Consumption'!I229","v":0},{"$f":"'Energy Consumption'!I230","v":0},{"$f":"'Energy Consumption'!I311","v":0},{"$f":"'Energy Consumption'!I312","v":0},{"$f":"'Energy Consumption'!I393","v":0},{"$f":"'Energy Consumption'!I394","v":0},{"$f":"'Energy Consumption'!I475","v":0},{"$f":"'Energy Consumption'!I476","v":0},{"$f":"'Energy Consumption'!I557","v":0},{"$f":"'Energy Consumption'!I558","v":0},{"$f":"'Energy Consumption'!I639","v":0},{"$f":"'Energy Consumption'!I640","v":0},{"$f":"'Energy Consumption'!I721","v":0},{"$f":"'Energy Consumption'!I722","v":0},{"$f":"'Energy Consumption'!I803","v":0},{"$f":"'Energy Consumption'!I804","v":0},{"$f":"'Energy Consumption'!I885","v":0},{"$f":"'Energy Consumption'!I886","v":0},{"$f":"'Energy Consumption'!I967","v":0},{"$f":"'Energy Consumption'!I968","v":0},{"$f":"'Energy Consumption'!I1049","v":0},{"$f":"'Energy Consumption'!I1050","v":0},{"$f":"'Energy Consumption'!I1131","v":0},{"$f":"'Energy Consumption'!I1132","v":0},{"$f":"'Energy Consumption'!I1213","v":0},{"$f":"'Energy Consumption'!I1214","v":0},{"$f":"'Energy Consumption'!I1295","v":0},{"$f":"'Energy Consumption'!I1296","v":0},{"$f":"'Energy Consumption'!I1377","v":0},{"$f":"'Energy Consumption'!I1378","v":0},{"$f":"'Energy Consumption'!I1459","v":0},{"$f":"'Energy Consumption'!I1460","v":0},{"$f":"'Energy Consumption'!I1541","v":0},{"$f":"'Energy Consumption'!I1542","v":0},{"$f":"'Energy Consumption'!I1623","v":0},{"$f":"'Energy Consumption'!I1624","v":0},null,{"$f":"'Relevant Variables'!I48","v":0},{"$f":"'Relevant Variables'!I78","v":0},{"$f":"'Relevant Variables'!I108","v":0},{"$f":"'Relevant Variables'!I138","v":0},{"$f":"'Relevant Variables'!I168","v":0},{"$f":"'Relevant Variables'!I198","v":0},{"$f":"'Relevant Variables'!I228","v":0},{"$f":"'Relevant Variables'!I258","v":0},{"$f":"'Relevant Variables'!I288","v":0},{"$f":"'Relevant Variables'!I318","v":0},{"$f":"'Relevant Variables'!I348","v":0},{"$f":"'Relevant Variables'!I378","v":0},{"$f":"'Relevant Variables'!I408","v":0},{"$f":"'Relevant Variables'!I438","v":0},{"$f":"'Relevant Variables'!I468","v":0},{"$f":"'Relevant Variables'!I498","v":0},{"$f":"'Relevant Variables'!I528","v":0},{"$f":"'Relevant Variables'!I558","v":0},{"$f":"'Relevant Variables'!I588","v":0},{"$f":"'Relevant Variables'!I618","v":0}]
["2012-07-01",null,{"$f":"'Energy Consumption'!J65","v":0},{"$f":"'Energy Consumption'!J66","v":0},{"$f":"'Energy Consumption'!J147","v":0},{"$f":"'Energy Consumption'!J148","v":0},{"$f":"'Energy Consumption'!J229","v":0},{"$f":"'Energy Consumption'!J230","v":0},{"$f":"'Energy Consumption'!J311","v":0},{"$f":"'Energy Consumption'!J312","v":0},{"$f":"'Energy Consumption'!J393","v":0},{"$f":"'Energy Consumption'!J394","v":0},{"$f":"'Energy Consumption'!J475","v":0},{"$f":"'Energy Consumption'!J476","v":0},{"$f":"'Energy Consumption'!J557","v":0},{"$f":"'Energy Consumption'!J558","v":0},{"$f":"'Energy Consumption'!J639","v":0},{"$f":"'Energy Consumption'!J640","v":0},{"$f":"'Energy Consumption'!J721","v":0},{"$f":"'Energy Consumption'!J722","v":0},{"$f":"'Energy Consumption'!J803","v":0},{"$f":"'Energy Consumption'!J804","v":0},{"$f":"'Energy Consumption'!J885","v":0},{"$f":"'Energy Consumption'!J886","v":0},{"$f":"'Energy Consumption'!J967","v":0},{"$f":"'Energy Consumption'!J968","v":0},{"$f":"'Energy Consumption'!J1049","v":0},{"$f":"'Energy Consumption'!J1050","v":0},{"$f":"'Energy Consumption'!J1131","v":0},{"$f":"'Energy Consumption'!J1132","v":0},{"$f":"'Energy Consumption'!J1213","v":0},{"$f":"'Energy Consumption'!J1214","v":0},{"$f":"'Energy Consumption'!J1295","v":0},{"$f":"'Energy Consumption'!J1296","v":0},{"$f":"'Energy Consumption'!J1377","v":0},{"$f":"'Energy Consumption'!J1378","v":0},{"$f":"'Energy Consumption'!J1459","v":0},{"$f":"'Energy Consumption'!J1460","v":0},{"$f":"'Energy Consumption'!J1541","v":0},{"$f":"'Energy Consumption'!J1542","v":0},{"$f":"'Energy Consumption'!J1623","v":0},{"$f":"'Energy Consumption'!J1624","v":0},null,{"$f":"'Relevant Variables'!J48","v":0},{"$f":"'Relevant Variables'!J78","v":0},{"$f":"'Relevant Variables'!J108","v":0},{"$f":"'Relevant Variables'!J138","v":0},{"$f":"'Relevant Variables'!J168","v":0},{"$f":"'Relevant Variables'!J198","v":0},{"$f":"'Relevant Variables'!J228","v":0},{"$f":"'Relevant Variables'!J258","v":0},{"$f":"'Relevant Variables'!J288","v":0},{"$f":"'Relevant Variables'!J318","v":0},{"$f":"'Relevant Variables'!J348","v":0},{"$f":"'Relevant Variables'!J378","v":0},{"$f":"'Relevant Variables'!J408","v":0},{"$f":"'Relevant Variables'!J438","v":0},{"$f":"'Relevant Variables'!J468","v":0},{"$f":"'Relevant Variables'!J498","v":0},{"$f":"'Relevant Variables'!J528","v":0},{"$f":"'Relevant Variables'!J558","v":0},{"$f":"'Relevant Variables'!J588","v":0},{"$f":"'Relevant Variables'!J618","v":0}]
["2012-08-01",null,{"$f":"'Energy Consumption'!K65","v":0},{"$f":"'Energy Consumption'!K66","v":0},{"$f":"'Energy Consumption'!K147","v":0},{"$f":"'Energy Consumption'!K148","v":0},{"$f":"'Energy Consumption'!K229","v":0},{"$f":"'Energy Consumption'!K230","v":0},{"$f":"'Energy Consumption'!K311","v":0},{"$f":"'Energy Consumption'!K312","v":0},{"$f":"'Energy Consumption'!K393","v":0},{"$f":"'Energy Consumption'!K394","v":0},{"$f":"'Energy Consumption'!K475","v":0},{"$f":"'Energy Consumption'!K476","v":0},{"$f":"'Energy Consumption'!K557","v":0},{"$f":"'Energy Consumption'!K558","v":0},{"$f":"'Energy Consumption'!K639","v":0},{"$f":"'Energy Consumption'!K640","v":0},{"$f":"'Energy Consumption'!K721","v":0},{"$f":"'Energy Consumption'!K722","v":0},{"$f":"'Energy Consumption'!K803","v":0},{"$f":"'Energy Consumption'!K804","v":0},{"$f":"'Energy Consumption'!K885","v":0},{"$f":"'Energy Consumption'!K886","v":0},{"$f":"'Energy Consumption'!K967","v":0},{"$f":"'Energy Consumption'!K968","v":0},{"$f":"'Energy Consumption'!K1049","v":0},{"$f":"'Energy Consumption'!K1050","v":0},{"$f":"'Energy Consumption'!K1131","v":0},{"$f":"'Energy Consumption'!K1132","v":0},{"$f":"'Energy Consumption'!K1213","v":0},{"$f":"'Energy Consumption'!K1214","v":0},{"$f":"'Energy Consumption'!K1295","v":0},{"$f":"'Energy Consumption'!K1296","v":0},{"$f":"'Energy Consumption'!K1377","v":0},{"$f":"'Energy Consumption'!K1378","v":0},{"$f":"'Energy Consumption'!K1459","v":0},{"$f":"'Energy Consumption'!K1460","v":0},{"$f":"'Energy Consumption'!K1541","v":0},{"$f":"'Energy Consumption'!K1542","v":0},{"$f":"'Energy Consumption'!K1623","v":0},{"$f":"'Energy Consumption'!K1624","v":0},null,{"$f":"'Relevant Variables'!K48","v":0},{"$f":"'Relevant Variables'!K78","v":0},{"$f":"'Relevant Variables'!K108","v":0},{"$f":"'Relevant Variables'!K138","v":0},{"$f":"'Relevant Variables'!K168","v":0},{"$f":"'Relevant Variables'!K198","v":0},{"$f":"'Relevant Variables'!K228","v":0},{"$f":"'Relevant Variables'!K258","v":0},{"$f":"'Relevant Variables'!K288","v":0},{"$f":"'Relevant Variables'!K318","v":0},{"$f":"'Relevant Variables'!K348","v":0},{"$f":"'Relevant Variables'!K378","v":0},{"$f":"'Relevant Variables'!K408","v":0},{"$f":"'Relevant Variables'!K438","v":0},{"$f":"'Relevant Variables'!K468","v":0},{"$f":"'Relevant Variables'!K498","v":0},{"$f":"'Relevant Variables'!K528","v":0},{"$f":"'Relevant Variables'!K558","v":0},{"$f":"'Relevant Variables'!K588","v":0},{"$f":"'Relevant Variables'!K618","v":0}]
["2012-09-01",null,{"$f":"'Energy Consumption'!L65","v":0},{"$f":"'Energy Consumption'!L66","v":0},{"$f":"'Energy Consumption'!L147","v":0},{"$f":"'Energy Consumption'!L148","v":0},{"$f":"'Energy Consumption'!L229","v":0},{"$f":"'Energy Consumption'!L230","v":0},{"$f":"'Energy Consumption'!L311","v":0},{"$f":"'Energy Consumption'!L312","v":0},{"$f":"'Energy Consumption'!L393","v":0},{"$f":"'Energy Consumption'!L394","v":0},{"$f":"'Energy Consumption'!L475","v":0},{"$f":"'Energy Consumption'!L476","v":0},{"$f":"'Energy Consumption'!L557","v":0},{"$f":"'Energy Consumption'!L558","v":0},{"$f":"'Energy Consumption'!L639","v":0},{"$f":"'Energy Consumption'!L640","v":0},{"$f":"'Energy Consumption'!L721","v":0},{"$f":"'Energy Consumption'!L722","v":0},{"$f":"'Energy Consumption'!L803","v":0},{"$f":"'Energy Consumption'!L804","v":0},{"$f":"'Energy Consumption'!L885","v":0},{"$f":"'Energy Consumption'!L886","v":0},{"$f":"'Energy Consumption'!L967","v":0},{"$f":"'Energy Consumption'!L968","v":0},{"$f":"'Energy Consumption'!L1049","v":0},{"$f":"'Energy Consumption'!L1050","v":0},{"$f":"'Energy Consumption'!L1131","v":0},{"$f":"'Energy Consumption'!L1132","v":0},{"$f":"'Energy Consumption'!L1213","v":0},{"$f":"'Energy Consumption'!L1214","v":0},{"$f":"'Energy Consumption'!L1295","v":0},{"$f":"'Energy Consumption'!L1296","v":0},{"$f":"'Energy Consumption'!L1377","v":0},{"$f":"'Energy Consumption'!L1378","v":0},{"$f":"'Energy Consumption'!L1459","v":0},{"$f":"'Energy Consumption'!L1460","v":0},{"$f":"'Energy Consumption'!L1541","v":0},{"$f":"'Energy Consumption'!L1542","v":0},{"$f":"'Energy Consumption'!L1623","v":0},{"$f":"'Energy Consumption'!L1624","v":0},null,{"$f":"'Relevant Variables'!L48","v":0},{"$f":"'Relevant Variables'!L78","v":0},{"$f":"'Relevant Variables'!L108","v":0},{"$f":"'Relevant Variables'!L138","v":0},{"$f":"'Relevant Variables'!L168","v":0},{"$f":"'Relevant Variables'!L198","v":0},{"$f":"'Relevant Variables'!L228","v":0},{"$f":"'Relevant Variables'!L258","v":0},{"$f":"'Relevant Variables'!L288","v":0},{"$f":"'Relevant Variables'!L318","v":0},{"$f":"'Relevant Variables'!L348","v":0},{"$f":"'Relevant Variables'!L378","v":0},{"$f":"'Relevant Variables'!L408","v":0},{"$f":"'Relevant Variables'!L438","v":0},{"$f":"'Relevant Variables'!L468","v":0},{"$f":"'Relevant Variables'!L498","v":0},{"$f":"'Relevant Variables'!L528","v":0},{"$f":"'Relevant Variables'!L558","v":0},{"$f":"'Relevant Variables'!L588","v":0},{"$f":"'Relevant Variables'!L618","v":0}]
["2012-10-01",null,{"$f":"'Energy Consumption'!M65","v":0},{"$f":"'Energy Consumption'!M66","v":0},{"$f":"'Energy Consumption'!M147","v":0},{"$f":"'Energy Consumption'!M148","v":0},{"$f":"'Energy Consumption'!M229","v":0},{"$f":"'Energy Consumption'!M230","v":0},{"$f":"'Energy Consumption'!M311","v":0},{"$f":"'Energy Consumption'!M312","v":0},{"$f":"'Energy Consumption'!M393","v":0},{"$f":"'Energy Consumption'!M394","v":0},{"$f":"'Energy Consumption'!M475","v":0},{"$f":"'Energy Consumption'!M476","v":0},{"$f":"'Energy Consumption'!M557","v":0},{"$f":"'Energy Consumption'!M558","v":0},{"$f":"'Energy Consumption'!M639","v":0},{"$f":"'Energy Consumption'!M640","v":0},{"$f":"'Energy Consumption'!M721","v":0},{"$f":"'Energy Consumption'!M722","v":0},{"$f":"'Energy Consumption'!M803","v":0},{"$f":"'Energy Consumption'!M804","v":0},{"$f":"'Energy Consumption'!M885","v":0},{"$f":"'Energy Consumption'!M886","v":0},{"$f":"'Energy Consumption'!M967","v":0},{"$f":"'Energy Consumption'!M968","v":0},{"$f":"'Energy Consumption'!M1049","v":0},{"$f":"'Energy Consumption'!M1050","v":0},{"$f":"'Energy Consumption'!M1131","v":0},{"$f":"'Energy Consumption'!M1132","v":0},{"$f":"'Energy Consumption'!M1213","v":0},{"$f":"'Energy Consumption'!M1214","v":0},{"$f":"'Energy Consumption'!M1295","v":0},{"$f":"'Energy Consumption'!M1296","v":0},{"$f":"'Energy Consumption'!M1377","v":0},{"$f":"'Energy Consumption'!M1378","v":0},{"$f":"'Energy Consumption'!M1459","v":0},{"$f":"'Energy Consumption'!M1460","v":0},{"$f":"'Energy Consumption'!M1541","v":0},{"$f":"'Energy Consumption'!M1542","v":0},{"$f":"'Energy Consumption'!M1623","v":0},{"$f":"'Energy Consumption'!M1624","v":0},null,{"$f":"'Relevant Variables'!M48","v":0},{"$f":"'Relevant Variables'!M78","v":0},{"$f":"'Relevant Variables'!M108","v":0},{"$f":"'Relevant Variables'!M138","v":0},{"$f":"'Relevant Variables'!M168","v":0},{"$f":"'Relevant Variables'!M198","v":0},{"$f":"'Relevant Variables'!M228","v":0},{"$f":"'Relevant Variables'!M258","v":0},{"$f":"'Relevant Variables'!M288","v":0},{"$f":"'Relevant Variables'!M318","v":0},{"$f":"'Relevant Variables'!M348","v":0},{"$f":"'Relevant Variables'!M378","v":0},{"$f":"'Relevant Variables'!M408","v":0},{"$f":"'Relevant Variables'!M438","v":0},{"$f":"'Relevant Variables'!M468","v":0},{"$f":"'Relevant Variables'!M498","v":0},{"$f":"'Relevant Variables'!M528","v":0},{"$f":"'Relevant Variables'!M558","v":0},{"$f":"'Relevant Variables'!M588","v":0},{"$f":"'Relevant Variables'!M618","v":0}]
["2012-11-01",null,{"$f":"'Energy Consumption'!N65","v":0},{"$f":"'Energy Consumption'!N66","v":0},{"$f":"'Energy Consumption'!N147","v":0},{"$f":"'Energy Consumption'!N148","v":0},{"$f":"'Energy Consumption'!N229","v":0},{"$f":"'Energy Consumption'!N230","v":0},{"$f":"'Energy Consumption'!N311","v":0},{"$f":"'Energy Consumption'!N312","v":0},{"$f":"'Energy Consumption'!N393","v":0},{"$f":"'Energy Consumption'!N394","v":0},{"$f":"'Energy Consumption'!N475","v":0},{"$f":"'Energy Consumption'!N476","v":0},{"$f":"'Energy Consumption'!N557","v":0},{"$f":"'Energy Consumption'!N558","v":0},{"$f":"'Energy Consumption'!N639","v":0},{"$f":"'Energy Consumption'!N640","v":0},{"$f":"'Energy Consumption'!N721","v":0},{"$f":"'Energy Consumption'!N722","v":0},{"$f":"'Energy Consumption'!N803","v":0},{"$f":"'Energy Consumption'!N804","v":0},{"$f":"'Energy Consumption'!N885","v":0},{"$f":"'Energy Consumption'!N886","v":0},{"$f":"'Energy Consumption'!N967","v":0},{"$f":"'Energy Consumption'!N968","v":0},{"$f":"'Energy Consumption'!N1049","v":0},{"$f":"'Energy Consumption'!N1050","v":0},{"$f":"'Energy Consumption'!N1131","v":0},{"$f":"'Energy Consumption'!N1132","v":0},{"$f":"'Energy Consumption'!N1213","v":0},{"$f":"'Energy Consumption'!N1214","v":0},{"$f":"'Energy Consumption'!N1295","v":0},{"$f":"'Energy Consumption'!N1296","v":0},{"$f":"'Energy Consumption'!N1377","v":0},{"$f":"'Energy Consumption'!N1378","v":0},{"$f":"'Energy Consumption'!N1459","v":0},{"$f":"'Energy Consumption'!N1460","v":0},{"$f":"'Energy Consumption'!N1541","v":0},{"$f":"'Energy Consumption'!N1542","v":0},{"$f":"'Energy Consumption'!N1623","v":0},{"$f":"'Energy Consumption'!N1624","v":0},null,{"$f":"'Relevant Variables'!N48","v":0},{"$f":"'Relevant Variables'!N78","v":0},{"$f":"'Relevant Variables'!N108","v":0},{"$f":"'Relevant Variables'!N138","v":0},{"$f":"'Relevant Variables'!N168","v":0},{"$f":"'Relevant Variables'!N198","v":0},{"$f":"'Relevant Variables'!N228","v":0},{"$f":"'Relevant Variables'!N258","v":0},{"$f":"'Relevant Variables'!N288","v":0},{"$f":"'Relevant Variables'!N318","v":0},{"$f":"'Relevant Variables'!N348","v":0},{"$f":"'Relevant Variables'!N378","v":0},{"$f":"'Relevant Variables'!N408","v":0},{"$f":"'Relevant Variables'!N438","v":0},{"$f":"'Relevant Variables'!N468","v":0},{"$f":"'Relevant Variables'!N498","v":0},{"$f":"'Relevant Variables'!N528","v":0},{"$f":"'Relevant Variables'!N558","v":0},{"$f":"'Relevant Variables'!N588","v":0},{"$f":"'Relevant Variables'!N618","v":0}]
["2012-12-01",null,{"$f":"'Energy Consumption'!O65","v":0},{"$f":"'Energy Consumption'!O66","v":0},{"$f":"'Energy Consumption'!O147","v":0},{"$f":"'Energy Consumption'!O148","v":0},{"$f":"'Energy Consumption'!O229","v":0},{"$f":"'Energy Consumption'!O230","v":0},{"$f":"'Energy Consumption'!O311","v":0},{"$f":"'Energy Consumption'!O312","v":0},{"$f":"'Energy Consumption'!O393","v":0},{"$f":"'Energy Consumption'!O394","v":0},{"$f":"'Energy Consumption'!O475","v":0},{"$f":"'Energy Consumption'!O476","v":0},{"$f":"'Energy Consumption'!O557","v":0},{"$f":"'Energy Consumption'!O558","v":0},{"$f":"'Energy Consumption'!O639","v":0},{"$f":"'Energy Consumption'!O640","v":0},{"$f":"'Energy Consumption'!O721","v":0},{"$f":"'Energy Consumption'!O722","v":0},{"$f":"'Energy Consumption'!O803","v":0},{"$f":"'Energy Consumption'!O804","v":0},{"$f":"'Energy Consumption'!O885","v":0},{"$f":"'Energy Consumption'!O886","v":0},{"$f":"'Energy Consumption'!O967","v":0},{"$f":"'Energy Consumption'!O968","v":0},{"$f":"'Energy Consumption'!O1049","v":0},{"$f":"'Energy Consumption'!O1050","v":0},{"$f":"'Energy Consumption'!O1131","v":0},{"$f":"'Energy Consumption'!O1132","v":0},{"$f":"'Energy Consumption'!O1213","v":0},{"$f":"'Energy Consumption'!O1214","v":0},{"$f":"'Energy Consumption'!O1295","v":0},{"$f":"'Energy Consumption'!O1296","v":0},{"$f":"'Energy Consumption'!O1377","v":0},{"$f":"'Energy Consumption'!O1378","v":0},{"$f":"'Energy Consumption'!O1459","v":0},{"$f":"'Energy Consumption'!O1460","v":0},{"$f":"'Energy Consumption'!O1541","v":0},{"$f":"'Energy Consumption'!O1542","v":0},{"$f":"'Energy Consumption'!O1623","v":0},{"$f":"'Energy Consumption'!O1624","v":0},null,{"$f":"'Relevant Variables'!O48","v":0},{"$f":"'Relevant Variables'!O78","v":0},{"$f":"'Relevant Variables'!O108","v":0},{"$f":"'Relevant Variables'!O138","v":0},{"$f":"'Relevant Variables'!O168","v":0},{"$f":"'Relevant Variables'!O198","v":0},{"$f":"'Relevant Variables'!O228","v":0},{"$f":"'Relevant Variables'!O258","v":0},{"$f":"'Relevant Variables'!O288","v":0},{"$f":"'Relevant Variables'!O318","v":0},{"$f":"'Relevant Variables'!O348","v":0},{"$f":"'Relevant Variables'!O378","v":0},{"$f":"'Relevant Variables'!O408","v":0},{"$f":"'Relevant Variables'!O438","v":0},{"$f":"'Relevant Variables'!O468","v":0},{"$f":"'Relevant Variables'!O498","v":0},{"$f":"'Relevant Variables'!O528","v":0},{"$f":"'Relevant Variables'!O558","v":0},{"$f":"'Relevant Variables'!O588","v":0},{"$f":"'Relevant Variables'!O618","v":0}]
["2013-01-01",null,{"$f":"'Energy Consumption'!D63","v":0},{"$f":"'Energy Consumption'!D64","v":0},{"$f":"'Energy Consumption'!D145","v":0},{"$f":"'Energy Consumption'!D146","v":0},{"$f":"'Energy Consumption'!D227","v":0},{"$f":"'Energy Consumption'!D228","v":0},{"$f":"'Energy Consumption'!D309","v":0},{"$f":"'Energy Consumption'!D310","v":0},{"$f":"'Energy Consumption'!D391","v":0},{"$f":"'Energy Consumption'!D392","v":0},{"$f":"'Energy Consumption'!D473","v":0},{"$f":"'Energy Consumption'!D474","v":0},{"$f":"'Energy Consumption'!D555","v":0},{"$f":"'Energy Consumption'!D556","v":0},{"$f":"'Energy Consumption'!D637","v":0},{"$f":"'Energy Consumption'!D638","v":0},{"$f":"'Energy Consumption'!D719","v":0},{"$f":"'Energy Consumption'!D720","v":0},{"$f":"'Energy Consumption'!D801","v":0},{"$f":"'Energy Consumption'!D802","v":0},{"$f":"'Energy Consumption'!D883","v":0},{"$f":"'Energy Consumption'!D884","v":0},{"$f":"'Energy Consumption'!D965","v":0},{"$f":"'Energy Consumption'!D966","v":0},{"$f":"'Energy Consumption'!D1047","v":0},{"$f":"'Energy Consumption'!D1048","v":0},{"$f":"'Energy Consumption'!D1129","v":0},{"$f":"'Energy Consumption'!D1130","v":0},{"$f":"'Energy Consumption'!D1211","v":0},{"$f":"'Energy Consumption'!D1212","v":0},{"$f":"'Energy Consumption'!D1293","v":0},{"$f":"'Energy Consumption'!D1294","v":0},{"$f":"'Energy Consumption'!D1375","v":0},{"$f":"'Energy Consumption'!D1376","v":0},{"$f":"'Energy Consumption'!D1457","v":0},{"$f":"'Energy Consumption'!D1458","v":0},{"$f":"'Energy Consumption'!D1539","v":0},{"$f":"'Energy Consumption'!D1540","v":0},{"$f":"'Energy Consumption'!D1621","v":0},{"$f":"'Energy Consumption'!D1622","v":0},null,{"$f":"'Relevant Variables'!D47","v":0},{"$f":"'Relevant Variables'!D77","v":0},{"$f":"'Relevant Variables'!D107","v":0},{"$f":"'Relevant Variables'!D137","v":0},{"$f":"'Relevant Variables'!D167","v":0},{"$f":"'Relevant Variables'!D197","v":0},{"$f":"'Relevant Variables'!D227","v":0},{"$f":"'Relevant Variables'!D257","v":0},{"$f":"'Relevant Variables'!D287","v":0},{"$f":"'Relevant Variables'!D317","v":0},{"$f":"'Relevant Variables'!D347","v":0},{"$f":"'Relevant Variables'!D377","v":0},{"$f":"'Relevant Variables'!D407","v":0},{"$f":"'Relevant Variables'!D437","v":0},{"$f":"'Relevant Variables'!D467","v":0},{"$f":"'Relevant Variables'!D497","v":0},{"$f":"'Relevant Variables'!D527","v":0},{"$f":"'Relevant Variables'!D557","v":0},{"$f":"'Relevant Variables'!D587","v":0},{"$f":"'Relevant Variables'!D617","v":0}]
["2013-02-01",null,{"$f":"'Energy Consumption'!E63","v":0},{"$f":"'Energy Consumption'!E64","v":0},{"$f":"'Energy Consumption'!E145","v":0},{"$f":"'Energy Consumption'!E146","v":0},{"$f":"'Energy Consumption'!E227","v":0},{"$f":"'Energy Consumption'!E228","v":0},{"$f":"'Energy Consumption'!E309","v":0},{"$f":"'Energy Consumption'!E310","v":0},{"$f":"'Energy Consumption'!E391","v":0},{"$f":"'Energy Consumption'!E392","v":0},{"$f":"'Energy Consumption'!E473","v":0},{"$f":"'Energy Consumption'!E474","v":0},{"$f":"'Energy Consumption'!E555","v":0},{"$f":"'Energy Consumption'!E556","v":0},{"$f":"'Energy Consumption'!E637","v":0},{"$f":"'Energy Consumption'!E638","v":0},{"$f":"'Energy Consumption'!E719","v":0},{"$f":"'Energy Consumption'!E720","v":0},{"$f":"'Energy Consumption'!E801","v":0},{"$f":"'Energy Consumption'!E802","v":0},{"$f":"'Energy Consumption'!E883","v":0},{"$f":"'Energy Consumption'!E884","v":0},{"$f":"'Energy Consumption'!E965","v":0},{"$f":"'Energy Consumption'!E966","v":0},{"$f":"'Energy Consumption'!E1047","v":0},{"$f":"'Energy Consumption'!E1048","v":0},{"$f":"'Energy Consumption'!E1129","v":0},{"$f":"'Energy Consumption'!E1130","v":0},{"$f":"'Energy Consumption'!E1211","v":0},{"$f":"'Energy Consumption'!E1212","v":0},{"$f":"'Energy Consumption'!E1293","v":0},{"$f":"'Energy Consumption'!E1294","v":0},{"$f":"'Energy Consumption'!E1375","v":0},{"$f":"'Energy Consumption'!E1376","v":0},{"$f":"'Energy Consumption'!E1457","v":0},{"$f":"'Energy Consumption'!E1458","v":0},{"$f":"'Energy Consumption'!E1539","v":0},{"$f":"'Energy Consumption'!E1540","v":0},{"$f":"'Energy Consumption'!E1621","v":0},{"$f":"'Energy Consumption'!E1622","v":0},null,{"$f":"'Relevant Variables'!E47","v":0},{"$f":"'Relevant Variables'!E77","v":0},{"$f":"'Relevant Variables'!E107","v":0},{"$f":"'Relevant Variables'!E137","v":0},{"$f":"'Relevant Variables'!E167","v":0},{"$f":"'Relevant Variables'!E197","v":0},{"$f":"'Relevant Variables'!E227","v":0},{"$f":"'Relevant Variables'!E257","v":0},{"$f":"'Relevant Variables'!E287","v":0},{"$f":"'Relevant Variables'!E317","v":0},{"$f":"'Relevant Variables'!E347","v":0},{"$f":"'Relevant Variables'!E377","v":0},{"$f":"'Relevant Variables'!E407","v":0},{"$f":"'Relevant Variables'!E437","v":0},{"$f":"'Relevant Variables'!E467","v":0},{"$f":"'Relevant Variables'!E497","v":0},{"$f":"'Relevant Variables'!E527","v":0},{"$f":"'Relevant Variables'!E557","v":0},{"$f":"'Relevant Variables'!E587","v":0},{"$f":"'Relevant Variables'!E617","v":0}]
["2013-03-01",null,{"$f":"'Energy Consumption'!F63","v":0},{"$f":"'Energy Consumption'!F64","v":0},{"$f":"'Energy Consumption'!F145","v":0},{"$f":"'Energy Consumption'!F146","v":0},{"$f":"'Energy Consumption'!F227","v":0},{"$f":"'Energy Consumption'!F228","v":0},{"$f":"'Energy Consumption'!F309","v":0},{"$f":"'Energy Consumption'!F310","v":0},{"$f":"'Energy Consumption'!F391","v":0},{"$f":"'Energy Consumption'!F392","v":0},{"$f":"'Energy Consumption'!F473","v":0},{"$f":"'Energy Consumption'!F474","v":0},{"$f":"'Energy Consumption'!F555","v":0},{"$f":"'Energy Consumption'!F556","v":0},{"$f":"'Energy Consumption'!F637","v":0},{"$f":"'Energy Consumption'!F638","v":0},{"$f":"'Energy Consumption'!F719","v":0},{"$f":"'Energy Consumption'!F720","v":0},{"$f":"'Energy Consumption'!F801","v":0},{"$f":"'Energy Consumption'!F802","v":0},{"$f":"'Energy Consumption'!F883","v":0},{"$f":"'Energy Consumption'!F884","v":0},{"$f":"'Energy Consumption'!F965","v":0},{"$f":"'Energy Consumption'!F966","v":0},{"$f":"'Energy Consumption'!F1047","v":0},{"$f":"'Energy Consumption'!F1048","v":0},{"$f":"'Energy Consumption'!F1129","v":0},{"$f":"'Energy Consumption'!F1130","v":0},{"$f":"'Energy Consumption'!F1211","v":0},{"$f":"'Energy Consumption'!F1212","v":0},{"$f":"'Energy Consumption'!F1293","v":0},{"$f":"'Energy Consumption'!F1294","v":0},{"$f":"'Energy Consumption'!F1375","v":0},{"$f":"'Energy Consumption'!F1376","v":0},{"$f":"'Energy Consumption'!F1457","v":0},{"$f":"'Energy Consumption'!F1458","v":0},{"$f":"'Energy Consumption'!F1539","v":0},{"$f":"'Energy Consumption'!F1540","v":0},{"$f":"'Energy Consumption'!F1621","v":0},{"$f":"'Energy Consumption'!F1622","v":0},null,{"$f":"'Relevant Variables'!F47","v":0},{"$f":"'Relevant Variables'!F77","v":0},{"$f":"'Relevant Variables'!F107","v":0},{"$f":"'Relevant Variables'!F137","v":0},{"$f":"'Relevant Variables'!F167","v":0},{"$f":"'Relevant Variables'!F197","v":0},{"$f":"'Relevant Variables'!F227","v":0},{"$f":"'Relevant Variables'!F257","v":0},{"$f":"'Relevant Variables'!F287","v":0},{"$f":"'Relevant Variables'!F317","v":0},{"$f":"'Relevant Variables'!F347","v":0},{"$f":"'Relevant Variables'!F377","v":0},{"$f":"'Relevant Variables'!F407","v":0},{"$f":"'Relevant Variables'!F437","v":0},{"$f":"'Relevant Variables'!F467","v":0},{"$f":"'Relevant Variables'!F497","v":0},{"$f":"'Relevant Variables'!F527","v":0},{"$f":"'Relevant Variables'!F557","v":0},{"$f":"'Relevant Variables'!F587","v":0},{"$f":"'Relevant Variables'!F617","v":0}]
["2013-04-01",null,{"$f":"'Energy Consumption'!G63","v":0},{"$f":"'Energy Consumption'!G64","v":0},{"$f":"'Energy Consumption'!G145","v":0},{"$f":"'Energy Consumption'!G146","v":0},{"$f":"'Energy Consumption'!G227","v":0},{"$f":"'Energy Consumption'!G228","v":0},{"$f":"'Energy Consumption'!G309","v":0},{"$f":"'Energy Consumption'!G310","v":0},{"$f":"'Energy Consumption'!G391","v":0},{"$f":"'Energy Consumption'!G392","v":0},{"$f":"'Energy Consumption'!G473","v":0},{"$f":"'Energy Consumption'!G474","v":0},{"$f":"'Energy Consumption'!G555","v":0},{"$f":"'Energy Consumption'!G556","v":0},{"$f":"'Energy Consumption'!G637","v":0},{"$f":"'Energy Consumption'!G638","v":0},{"$f":"'Energy Consumption'!G719","v":0},{"$f":"'Energy Consumption'!G720","v":0},{"$f":"'Energy Consumption'!G801","v":0},{"$f":"'Energy Consumption'!G802","v":0},{"$f":"'Energy Consumption'!G883","v":0},{"$f":"'Energy Consumption'!G884","v":0},{"$f":"'Energy Consumption'!G965","v":0},{"$f":"'Energy Consumption'!G966","v":0},{"$f":"'Energy Consumption'!G1047","v":0},{"$f":"'Energy Consumption'!G1048","v":0},{"$f":"'Energy Consumption'!G1129","v":0},{"$f":"'Energy Consumption'!G1130","v":0},{"$f":"'Energy Consumption'!G1211","v":0},{"$f":"'Energy Consumption'!G1212","v":0},{"$f":"'Energy Consumption'!G1293","v":0},{"$f":"'Energy Consumption'!G1294","v":0},{"$f":"'Energy Consumption'!G1375","v":0},{"$f":"'Energy Consumption'!G1376","v":0},{"$f":"'Energy Consumption'!G1457","v":0},{"$f":"'Energy Consumption'!G1458","v":0},{"$f":"'Energy Consumption'!G1539","v":0},{"$f":"'Energy Consumption'!G1540","v":0},{"$f":"'Energy Consumption'!G1621","v":0},{"$f":"'Energy Consumption'!G1622","v":0},null,{"$f":"'Relevant Variables'!G47","v":0},{"$f":"'Relevant Variables'!G77","v":0},{"$f":"'Relevant Variables'!G107","v":0},{"$f":"'Relevant Variables'!G137","v":0},{"$f":"'Relevant Variables'!G167","v":0},{"$f":"'Relevant Variables'!G197","v":0},{"$f":"'Relevant Variables'!G227","v":0},{"$f":"'Relevant Variables'!G257","v":0},{"$f":"'Relevant Variables'!G287","v":0},{"$f":"'Relevant Variables'!G317","v":0},{"$f":"'Relevant Variables'!G347","v":0},{"$f":"'Relevant Variables'!G377","v":0},{"$f":"'Relevant Variables'!G407","v":0},{"$f":"'Relevant Variables'!G437","v":0},{"$f":"'Relevant Variables'!G467","v":0},{"$f":"'Relevant Variables'!G497","v":0},{"$f":"'Relevant Variables'!G527","v":0},{"$f":"'Relevant Variables'!G557","v":0},{"$f":"'Relevant Variables'!G587","v":0},{"$f":"'Relevant Variables'!G617","v":0}]
["2013-05-01",null,{"$f":"'Energy Consumption'!H63","v":0},{"$f":"'Energy Consumption'!H64","v":0},{"$f":"'Energy Consumption'!H145","v":0},{"$f":"'Energy Consumption'!H146","v":0},{"$f":"'Energy Consumption'!H227","v":0},{"$f":"'Energy Consumption'!H228","v":0},{"$f":"'Energy Consumption'!H309","v":0},{"$f":"'Energy Consumption'!H310","v":0},{"$f":"'Energy Consumption'!H391","v":0},{"$f":"'Energy Consumption'!H392","v":0},{"$f":"'Energy Consumption'!H473","v":0},{"$f":"'Energy Consumption'!H474","v":0},{"$f":"'Energy Consumption'!H555","v":0},{"$f":"'Energy Consumption'!H556","v":0},{"$f":"'Energy Consumption'!H637","v":0},{"$f":"'Energy Consumption'!H638","v":0},{"$f":"'Energy Consumption'!H719","v":0},{"$f":"'Energy Consumption'!H720","v":0},{"$f":"'Energy Consumption'!H801","v":0},{"$f":"'Energy Consumption'!H802","v":0},{"$f":"'Energy Consumption'!H883","v":0},{"$f":"'Energy Consumption'!H884","v":0},{"$f":"'Energy Consumption'!H965","v":0},{"$f":"'Energy Consumption'!H966","v":0},{"$f":"'Energy Consumption'!H1047","v":0},{"$f":"'Energy Consumption'!H1048","v":0},{"$f":"'Energy Consumption'!H1129","v":0},{"$f":"'Energy Consumption'!H1130","v":0},{"$f":"'Energy Consumption'!H1211","v":0},{"$f":"'Energy Consumption'!H1212","v":0},{"$f":"'Energy Consumption'!H1293","v":0},{"$f":"'Energy Consumption'!H1294","v":0},{"$f":"'Energy Consumption'!H1375","v":0},{"$f":"'Energy Consumption'!H1376","v":0},{"$f":"'Energy Consumption'!H1457","v":0},{"$f":"'Energy Consumption'!H1458","v":0},{"$f":"'Energy Consumption'!H1539","v":0},{"$f":"'Energy Consumption'!H1540","v":0},{"$f":"'Energy Consumption'!H1621","v":0},{"$f":"'Energy Consumption'!H1622","v":0},null,{"$f":"'Relevant Variables'!H47","v":0},{"$f":"'Relevant Variables'!H77","v":0},{"$f":"'Relevant Variables'!H107","v":0},{"$f":"'Relevant Variables'!H137","v":0},{"$f":"'Relevant Variables'!H167","v":0},{"$f":"'Relevant Variables'!H197","v":0},{"$f":"'Relevant Variables'!H227","v":0},{"$f":"'Relevant Variables'!H257","v":0},{"$f":"'Relevant Variables'!H287","v":0},{"$f":"'Relevant Variables'!H317","v":0},{"$f":"'Relevant Variables'!H347","v":0},{"$f":"'Relevant Variables'!H377","v":0},{"$f":"'Relevant Variables'!H407","v":0},{"$f":"'Relevant Variables'!H437","v":0},{"$f":"'Relevant Variables'!H467","v":0},{"$f":"'Relevant Variables'!H497","v":0},{"$f":"'Relevant Variables'!H527","v":0},{"$f":"'Relevant Variables'!H557","v":0},{"$f":"'Relevant Variables'!H587","v":0},{"$f":"'Relevant Variables'!H617","v":0}]
["2013-06-01",null,{"$f":"'Energy Consumption'!I63","v":0},{"$f":"'Energy Consumption'!I64","v":0},{"$f":"'Energy Consumption'!I145","v":0},{"$f":"'Energy Consumption'!I146","v":0},{"$f":"'Energy Consumption'!I227","v":0},{"$f":"'Energy Consumption'!I228","v":0},{"$f":"'Energy Consumption'!I309","v":0},{"$f":"'Energy Consumption'!I310","v":0},{"$f":"'Energy Consumption'!I391","v":0},{"$f":"'Energy Consumption'!I392","v":0},{"$f":"'Energy Consumption'!I473","v":0},{"$f":"'Energy Consumption'!I474","v":0},{"$f":"'Energy Consumption'!I555","v":0},{"$f":"'Energy Consumption'!I556","v":0},{"$f":"'Energy Consumption'!I637","v":0},{"$f":"'Energy Consumption'!I638","v":0},{"$f":"'Energy Consumption'!I719","v":0},{"$f":"'Energy Consumption'!I720","v":0},{"$f":"'Energy Consumption'!I801","v":0},{"$f":"'Energy Consumption'!I802","v":0},{"$f":"'Energy Consumption'!I883","v":0},{"$f":"'Energy Consumption'!I884","v":0},{"$f":"'Energy Consumption'!I965","v":0},{"$f":"'Energy Consumption'!I966","v":0},{"$f":"'Energy Consumption'!I1047","v":0},{"$f":"'Energy Consumption'!I1048","v":0},{"$f":"'Energy Consumption'!I1129","v":0},{"$f":"'Energy Consumption'!I1130","v":0},{"$f":"'Energy Consumption'!I1211","v":0},{"$f":"'Energy Consumption'!I1212","v":0},{"$f":"'Energy Consumption'!I1293","v":0},{"$f":"'Energy Consumption'!I1294","v":0},{"$f":"'Energy Consumption'!I1375","v":0},{"$f":"'Energy Consumption'!I1376","v":0},{"$f":"'Energy Consumption'!I1457","v":0},{"$f":"'Energy Consumption'!I1458","v":0},{"$f":"'Energy Consumption'!I1539","v":0},{"$f":"'Energy Consumption'!I1540","v":0},{"$f":"'Energy Consumption'!I1621","v":0},{"$f":"'Energy Consumption'!I1622","v":0},null,{"$f":"'Relevant Variables'!I47","v":0},{"$f":"'Relevant Variables'!I77","v":0},{"$f":"'Relevant Variables'!I107","v":0},{"$f":"'Relevant Variables'!I137","v":0},{"$f":"'Relevant Variables'!I167","v":0},{"$f":"'Relevant Variables'!I197","v":0},{"$f":"'Relevant Variables'!I227","v":0},{"$f":"'Relevant Variables'!I257","v":0},{"$f":"'Relevant Variables'!I287","v":0},{"$f":"'Relevant Variables'!I317","v":0},{"$f":"'Relevant Variables'!I347","v":0},{"$f":"'Relevant Variables'!I377","v":0},{"$f":"'Relevant Variables'!I407","v":0},{"$f":"'Relevant Variables'!I437","v":0},{"$f":"'Relevant Variables'!I467","v":0},{"$f":"'Relevant Variables'!I497","v":0},{"$f":"'Relevant Variables'!I527","v":0},{"$f":"'Relevant Variables'!I557","v":0},{"$f":"'Relevant Variables'!I587","v":0},{"$f":"'Relevant Variables'!I617","v":0}]
["2013-07-01",null,{"$f":"'Energy Consumption'!J63","v":0},{"$f":"'Energy Consumption'!J64","v":0},{"$f":"'Energy Consumption'!J145","v":0},{"$f":"'Energy Consumption'!J146","v":0},{"$f":"'Energy Consumption'!J227","v":0},{"$f":"'Energy Consumption'!J228","v":0},{"$f":"'Energy Consumption'!J309","v":0},{"$f":"'Energy Consumption'!J310","v":0},{"$f":"'Energy Consumption'!J391","v":0},{"$f":"'Energy Consumption'!J392","v":0},{"$f":"'Energy Consumption'!J473","v":0},{"$f":"'Energy Consumption'!J474","v":0},{"$f":"'Energy Consumption'!J555","v":0},{"$f":"'Energy Consumption'!J556","v":0},{"$f":"'Energy Consumption'!J637","v":0},{"$f":"'Energy Consumption'!J638","v":0},{"$f":"'Energy Consumption'!J719","v":0},{"$f":"'Energy Consumption'!J720","v":0},{"$f":"'Energy Consumption'!J801","v":0},{"$f":"'Energy Consumption'!J802","v":0},{"$f":"'Energy Consumption'!J883","v":0},{"$f":"'Energy Consumption'!J884","v":0},{"$f":"'Energy Consumption'!J965","v":0},{"$f":"'Energy Consumption'!J966","v":0},{"$f":"'Energy Consumption'!J1047","v":0},{"$f":"'Energy Consumption'!J1048","v":0},{"$f":"'Energy Consumption'!J1129","v":0},{"$f":"'Energy Consumption'!J1130","v":0},{"$f":"'Energy Consumption'!J1211","v":0},{"$f":"'Energy Consumption'!J1212","v":0},{"$f":"'Energy Consumption'!J1293","v":0},{"$f":"'Energy Consumption'!J1294","v":0},{"$f":"'Energy Consumption'!J1375","v":0},{"$f":"'Energy Consumption'!J1376","v":0},{"$f":"'Energy Consumption'!J1457","v":0},{"$f":"'Energy Consumption'!J1458","v":0},{"$f":"'Energy Consumption'!J1539","v":0},{"$f":"'Energy Consumption'!J1540","v":0},{"$f":"'Energy Consumption'!J1621","v":0},{"$f":"'Energy Consumption'!J1622","v":0},null,{"$f":"'Relevant Variables'!J47","v":0},{"$f":"'Relevant Variables'!J77","v":0},{"$f":"'Relevant Variables'!J107","v":0},{"$f":"'Relevant Variables'!J137","v":0},{"$f":"'Relevant Variables'!J167","v":0},{"$f":"'Relevant Variables'!J197","v":0},{"$f":"'Relevant Variables'!J227","v":0},{"$f":"'Relevant Variables'!J257","v":0},{"$f":"'Relevant Variables'!J287","v":0},{"$f":"'Relevant Variables'!J317","v":0},{"$f":"'Relevant Variables'!J347","v":0},{"$f":"'Relevant Variables'!J377","v":0},{"$f":"'Relevant Variables'!J407","v":0},{"$f":"'Relevant Variables'!J437","v":0},{"$f":"'Relevant Variables'!J467","v":0},{"$f":"'Relevant Variables'!J497","v":0},{"$f":"'Relevant Variables'!J527","v":0},{"$f":"'Relevant Variables'!J557","v":0},{"$f":"'Relevant Variables'!J587","v":0},{"$f":"'Relevant Variables'!J617","v":0}]
["2013-08-01",null,{"$f":"'Energy Consumption'!K63","v":0},{"$f":"'Energy Consumption'!K64","v":0},{"$f":"'Energy Consumption'!K145","v":0},{"$f":"'Energy Consumption'!K146","v":0},{"$f":"'Energy Consumption'!K227","v":0},{"$f":"'Energy Consumption'!K228","v":0},{"$f":"'Energy Consumption'!K309","v":0},{"$f":"'Energy Consumption'!K310","v":0},{"$f":"'Energy Consumption'!K391","v":0},{"$f":"'Energy Consumption'!K392","v":0},{"$f":"'Energy Consumption'!K473","v":0},{"$f":"'Energy Consumption'!K474","v":0},{"$f":"'Energy Consumption'!K555","v":0},{"$f":"'Energy Consumption'!K556","v":0},{"$f":"'Energy Consumption'!K637","v":0},{"$f":"'Energy Consumption'!K638","v":0},{"$f":"'Energy Consumption'!K719","v":0},{"$f":"'Energy Consumption'!K720","v":0},{"$f":"'Energy Consumption'!K801","v":0},{"$f":"'Energy Consumption'!K802","v":0},{"$f":"'Energy Consumption'!K883","v":0},{"$f":"'Energy Consumption'!K884","v":0},{"$f":"'Energy Consumption'!K965","v":0},{"$f":"'Energy Consumption'!K966","v":0},{"$f":"'Energy Consumption'!K1047","v":0},{"$f":"'Energy Consumption'!K1048","v":0},{"$f":"'Energy Consumption'!K1129","v":0},{"$f":"'Energy Consumption'!K1130","v":0},{"$f":"'Energy Consumption'!K1211","v":0},{"$f":"'Energy Consumption'!K1212","v":0},{"$f":"'Energy Consumption'!K1293","v":0},{"$f":"'Energy Consumption'!K1294","v":0},{"$f":"'Energy Consumption'!K1375","v":0},{"$f":"'Energy Consumption'!K1376","v":0},{"$f":"'Energy Consumption'!K1457","v":0},{"$f":"'Energy Consumption'!K1458","v":0},{"$f":"'Energy Consumption'!K1539","v":0},{"$f":"'Energy Consumption'!K1540","v":0},{"$f":"'Energy Consumption'!K1621","v":0},{"$f":"'Energy Consumption'!K1622","v":0},null,{"$f":"'Relevant Variables'!K47","v":0},{"$f":"'Relevant Variables'!K77","v":0},{"$f":"'Relevant Variables'!K107","v":0},{"$f":"'Relevant Variables'!K137","v":0},{"$f":"'Relevant Variables'!K167","v":0},{"$f":"'Relevant Variables'!K197","v":0},{"$f":"'Relevant Variables'!K227","v":0},{"$f":"'Relevant Variables'!K257","v":0},{"$f":"'Relevant Variables'!K287","v":0},{"$f":"'Relevant Variables'!K317","v":0},{"$f":"'Relevant Variables'!K347","v":0},{"$f":"'Relevant Variables'!K377","v":0},{"$f":"'Relevant Variables'!K407","v":0},{"$f":"'Relevant Variables'!K437","v":0},{"$f":"'Relevant Variables'!K467","v":0},{"$f":"'Relevant Variables'!K497","v":0},{"$f":"'Relevant Variables'!K527","v":0},{"$f":"'Relevant Variables'!K557","v":0},{"$f":"'Relevant Variables'!K587","v":0},{"$f":"'Relevant Variables'!K617","v":0}]
["2013-09-01",null,{"$f":"'Energy Consumption'!L63","v":0},{"$f":"'Energy Consumption'!L64","v":0},{"$f":"'Energy Consumption'!L145","v":0},{"$f":"'Energy Consumption'!L146","v":0},{"$f":"'Energy Consumption'!L227","v":0},{"$f":"'Energy Consumption'!L228","v":0},{"$f":"'Energy Consumption'!L309","v":0},{"$f":"'Energy Consumption'!L310","v":0},{"$f":"'Energy Consumption'!L391","v":0},{"$f":"'Energy Consumption'!L392","v":0},{"$f":"'Energy Consumption'!L473","v":0},{"$f":"'Energy Consumption'!L474","v":0},{"$f":"'Energy Consumption'!L555","v":0},{"$f":"'Energy Consumption'!L556","v":0},{"$f":"'Energy Consumption'!L637","v":0},{"$f":"'Energy Consumption'!L638","v":0},{"$f":"'Energy Consumption'!L719","v":0},{"$f":"'Energy Consumption'!L720","v":0},{"$f":"'Energy Consumption'!L801","v":0},{"$f":"'Energy Consumption'!L802","v":0},{"$f":"'Energy Consumption'!L883","v":0},{"$f":"'Energy Consumption'!L884","v":0},{"$f":"'Energy Consumption'!L965","v":0},{"$f":"'Energy Consumption'!L966","v":0},{"$f":"'Energy Consumption'!L1047","v":0},{"$f":"'Energy Consumption'!L1048","v":0},{"$f":"'Energy Consumption'!L1129","v":0},{"$f":"'Energy Consumption'!L1130","v":0},{"$f":"'Energy Consumption'!L1211","v":0},{"$f":"'Energy Consumption'!L1212","v":0},{"$f":"'Energy Consumption'!L1293","v":0},{"$f":"'Energy Consumption'!L1294","v":0},{"$f":"'Energy Consumption'!L1375","v":0},{"$f":"'Energy Consumption'!L1376","v":0},{"$f":"'Energy Consumption'!L1457","v":0},{"$f":"'Energy Consumption'!L1458","v":0},{"$f":"'Energy Consumption'!L1539","v":0},{"$f":"'Energy Consumption'!L1540","v":0},{"$f":"'Energy Consumption'!L1621","v":0},{"$f":"'Energy Consumption'!L1622","v":0},null,{"$f":"'Relevant Variables'!L47","v":0},{"$f":"'Relevant Variables'!L77","v":0},{"$f":"'Relevant Variables'!L107","v":0},{"$f":"'Relevant Variables'!L137","v":0},{"$f":"'Relevant Variables'!L167","v":0},{"$f":"'Relevant Variables'!L197","v":0},{"$f":"'Relevant Variables'!L227","v":0},{"$f":"'Relevant Variables'!L257","v":0},{"$f":"'Relevant Variables'!L287","v":0},{"$f":"'Relevant Variables'!L317","v":0},{"$f":"'Relevant Variables'!L347","v":0},{"$f":"'Relevant Variables'!L377","v":0},{"$f":"'Relevant Variables'!L407","v":0},{"$f":"'Relevant Variables'!L437","v":0},{"$f":"'Relevant Variables'!L467","v":0},{"$f":"'Relevant Variables'!L497","v":0},{"$f":"'Relevant Variables'!L527","v":0},{"$f":"'Relevant Variables'!L557","v":0},{"$f":"'Relevant Variables'!L587","v":0},{"$f":"'Relevant Variables'!L617","v":0}]
["2013-10-01",null,{"$f":"'Energy Consumption'!M63","v":0},{"$f":"'Energy Consumption'!M64","v":0},{"$f":"'Energy Consumption'!M145","v":0},{"$f":"'Energy Consumption'!M146","v":0},{"$f":"'Energy Consumption'!M227","v":0},{"$f":"'Energy Consumption'!M228","v":0},{"$f":"'Energy Consumption'!M309","v":0},{"$f":"'Energy Consumption'!M310","v":0},{"$f":"'Energy Consumption'!M391","v":0},{"$f":"'Energy Consumption'!M392","v":0},{"$f":"'Energy Consumption'!M473","v":0},{"$f":"'Energy Consumption'!M474","v":0},{"$f":"'Energy Consumption'!M555","v":0},{"$f":"'Energy Consumption'!M556","v":0},{"$f":"'Energy Consumption'!M637","v":0},{"$f":"'Energy Consumption'!M638","v":0},{"$f":"'Energy Consumption'!M719","v":0},{"$f":"'Energy Consumption'!M720","v":0},{"$f":"'Energy Consumption'!M801","v":0},{"$f":"'Energy Consumption'!M802","v":0},{"$f":"'Energy Consumption'!M883","v":0},{"$f":"'Energy Consumption'!M884","v":0},{"$f":"'Energy Consumption'!M965","v":0},{"$f":"'Energy Consumption'!M966","v":0},{"$f":"'Energy Consumption'!M1047","v":0},{"$f":"'Energy Consumption'!M1048","v":0},{"$f":"'Energy Consumption'!M1129","v":0},{"$f":"'Energy Consumption'!M1130","v":0},{"$f":"'Energy Consumption'!M1211","v":0},{"$f":"'Energy Consumption'!M1212","v":0},{"$f":"'Energy Consumption'!M1293","v":0},{"$f":"'Energy Consumption'!M1294","v":0},{"$f":"'Energy Consumption'!M1375","v":0},{"$f":"'Energy Consumption'!M1376","v":0},{"$f":"'Energy Consumption'!M1457","v":0},{"$f":"'Energy Consumption'!M1458","v":0},{"$f":"'Energy Consumption'!M1539","v":0},{"$f":"'Energy Consumption'!M1540","v":0},{"$f":"'Energy Consumption'!M1621","v":0},{"$f":"'Energy Consumption'!M1622","v":0},null,{"$f":"'Relevant Variables'!M47","v":0},{"$f":"'Relevant Variables'!M77","v":0},{"$f":"'Relevant Variables'!M107","v":0},{"$f":"'Relevant Variables'!M137","v":0},{"$f":"'Relevant Variables'!M167","v":0},{"$f":"'Relevant Variables'!M197","v":0},{"$f":"'Relevant Variables'!M227","v":0},{"$f":"'Relevant Variables'!M257","v":0},{"$f":"'Relevant Variables'!M287","v":0},{"$f":"'Relevant Variables'!M317","v":0},{"$f":"'Relevant Variables'!M347","v":0},{"$f":"'Relevant Variables'!M377","v":0},{"$f":"'Relevant Variables'!M407","v":0},{"$f":"'Relevant Variables'!M437","v":0},{"$f":"'Relevant Variables'!M467","v":0},{"$f":"'Relevant Variables'!M497","v":0},{"$f":"'Relevant Variables'!M527","v":0},{"$f":"'Relevant Variables'!M557","v":0},{"$f":"'Relevant Variables'!M587","v":0},{"$f":"'Relevant Variables'!M617","v":0}]
["2013-11-01",null,{"$f":"'Energy Consumption'!N63","v":0},{"$f":"'Energy Consumption'!N64","v":0},{"$f":"'Energy Consumption'!N145","v":0},{"$f":"'Energy Consumption'!N146","v":0},{"$f":"'Energy Consumption'!N227","v":0},{"$f":"'Energy Consumption'!N228","v":0},{"$f":"'Energy Consumption'!N309","v":0},{"$f":"'Energy Consumption'!N310","v":0},{"$f":"'Energy Consumption'!N391","v":0},{"$f":"'Energy Consumption'!N392","v":0},{"$f":"'Energy Consumption'!N473","v":0},{"$f":"'Energy Consumption'!N474","v":0},{"$f":"'Energy Consumption'!N555","v":0},{"$f":"'Energy Consumption'!N556","v":0},{"$f":"'Energy Consumption'!N637","v":0},{"$f":"'Energy Consumption'!N638","v":0},{"$f":"'Energy Consumption'!N719","v":0},{"$f":"'Energy Consumption'!N720","v":0},{"$f":"'Energy Consumption'!N801","v":0},{"$f":"'Energy Consumption'!N802","v":0},{"$f":"'Energy Consumption'!N883","v":0},{"$f":"'Energy Consumption'!N884","v":0},{"$f":"'Energy Consumption'!N965","v":0},{"$f":"'Energy Consumption'!N966","v":0},{"$f":"'Energy Consumption'!N1047","v":0},{"$f":"'Energy Consumption'!N1048","v":0},{"$f":"'Energy Consumption'!N1129","v":0},{"$f":"'Energy Consumption'!N1130","v":0},{"$f":"'Energy Consumption'!N1211","v":0},{"$f":"'Energy Consumption'!N1212","v":0},{"$f":"'Energy Consumption'!N1293","v":0},{"$f":"'Energy Consumption'!N1294","v":0},{"$f":"'Energy Consumption'!N1375","v":0},{"$f":"'Energy Consumption'!N1376","v":0},{"$f":"'Energy Consumption'!N1457","v":0},{"$f":"'Energy Consumption'!N1458","v":0},{"$f":"'Energy Consumption'!N1539","v":0},{"$f":"'Energy Consumption'!N1540","v":0},{"$f":"'Energy Consumption'!N1621","v":0},{"$f":"'Energy Consumption'!N1622","v":0},null,{"$f":"'Relevant Variables'!N47","v":0},{"$f":"'Relevant Variables'!N77","v":0},{"$f":"'Relevant Variables'!N107","v":0},{"$f":"'Relevant Variables'!N137","v":0},{"$f":"'Relevant Variables'!N167","v":0},{"$f":"'Relevant Variables'!N197","v":0},{"$f":"'Relevant Variables'!N227","v":0},{"$f":"'Relevant Variables'!N257","v":0},{"$f":"'Relevant Variables'!N287","v":0},{"$f":"'Relevant Variables'!N317","v":0},{"$f":"'Relevant Variables'!N347","v":0},{"$f":"'Relevant Variables'!N377","v":0},{"$f":"'Relevant Variables'!N407","v":0},{"$f":"'Relevant Variables'!N437","v":0},{"$f":"'Relevant Variables'!N467","v":0},{"$f":"'Relevant Variables'!N497","v":0},{"$f":"'Relevant Variables'!N527","v":0},{"$f":"'Relevant Variables'!N557","v":0},{"$f":"'Relevant Variables'!N587","v":0},{"$f":"'Relevant Variables'!N617","v":0}]
["2013-12-01",null,{"$f":"'Energy Consumption'!O63","v":0},{"$f":"'Energy Consumption'!O64","v":0},{"$f":"'Energy Consumption'!O145","v":0},{"$f":"'Energy Consumption'!O146","v":0},{"$f":"'Energy Consumption'!O227","v":0},{"$f":"'Energy Consumption'!O228","v":0},{"$f":"'Energy Consumption'!O309","v":0},{"$f":"'Energy Consumption'!O310","v":0},{"$f":"'Energy Consumption'!O391","v":0},{"$f":"'Energy Consumption'!O392","v":0},{"$f":"'Energy Consumption'!O473","v":0},{"$f":"'Energy Consumption'!O474","v":0},{"$f":"'Energy Consumption'!O555","v":0},{"$f":"'Energy Consumption'!O556","v":0},{"$f":"'Energy Consumption'!O637","v":0},{"$f":"'Energy Consumption'!O638","v":0},{"$f":"'Energy Consumption'!O719","v":0},{"$f":"'Energy Consumption'!O720","v":0},{"$f":"'Energy Consumption'!O801","v":0},{"$f":"'Energy Consumption'!O802","v":0},{"$f":"'Energy Consumption'!O883","v":0},{"$f":"'Energy Consumption'!O884","v":0},{"$f":"'Energy Consumption'!O965","v":0},{"$f":"'Energy Consumption'!O966","v":0},{"$f":"'Energy Consumption'!O1047","v":0},{"$f":"'Energy Consumption'!O1048","v":0},{"$f":"'Energy Consumption'!O1129","v":0},{"$f":"'Energy Consumption'!O1130","v":0},{"$f":"'Energy Consumption'!O1211","v":0},{"$f":"'Energy Consumption'!O1212","v":0},{"$f":"'Energy Consumption'!O1293","v":0},{"$f":"'Energy Consumption'!O1294","v":0},{"$f":"'Energy Consumption'!O1375","v":0},{"$f":"'Energy Consumption'!O1376","v":0},{"$f":"'Energy Consumption'!O1457","v":0},{"$f":"'Energy Consumption'!O1458","v":0},{"$f":"'Energy Consumption'!O1539","v":0},{"$f":"'Energy Consumption'!O1540","v":0},{"$f":"'Energy Consumption'!O1621","v":0},{"$f":"'Energy Consumption'!O1622","v":0},null,{"$f":"'Relevant Variables'!O47","v":0},{"$f":"'Relevant Variables'!O77","v":0},{"$f":"'Relevant Variables'!O107","v":0},{"$f":"'Relevant Variables'!O137","v":0},{"$f":"'Relevant Variables'!O167","v":0},{"$f":"'Relevant Variables'!O197","v":0},{"$f":"'Relevant Variables'!O227","v":0},{"$f":"'Relevant Variables'!O257","v":0},{"$f":"'Relevant Variables'!O287","v":0},{"$f":"'Relevant Variables'!O317","v":0},{"$f":"'Relevant Variables'!O347","v":0},{"$f":"'Relevant Variables'!O377","v":0},{"$f":"'Relevant Variables'!O407","v":0},{"$f":"'Relevant Variables'!O437","v":0},{"$f":"'Relevant Variables'!O467","v":0},{"$f":"'Relevant Variables'!O497","v":0},{"$f":"'Relevant Variables'!O527","v":0},{"$f":"'Relevant Variables'!O557","v":0},{"$f":"'Relevant Variables'!O587","v":0},{"$f":"'Relevant Variables'!O617","v":0}]
["2014-01-01",null,{"$f":"'Energy Consumption'!D61","v":0},{"$f":"'Energy Consumption'!D62","v":0},{"$f":"'Energy Consumption'!D143","v":0},{"$f":"'Energy Consumption'!D144","v":0},{"$f":"'Energy Consumption'!D225","v":0},{"$f":"'Energy Consumption'!D226","v":0},{"$f":"'Energy Consumption'!D307","v":0},{"$f":"'Energy Consumption'!D308","v":0},{"$f":"'Energy Consumption'!D389","v":0},{"$f":"'Energy Consumption'!D390","v":0},{"$f":"'Energy Consumption'!D471","v":0},{"$f":"'Energy Consumption'!D472","v":0},{"$f":"'Energy Consumption'!D553","v":0},{"$f":"'Energy Consumption'!D554","v":0},{"$f":"'Energy Consumption'!D635","v":0},{"$f":"'Energy Consumption'!D636","v":0},{"$f":"'Energy Consumption'!D717","v":0},{"$f":"'Energy Consumption'!D718","v":0},{"$f":"'Energy Consumption'!D799","v":0},{"$f":"'Energy Consumption'!D800","v":0},{"$f":"'Energy Consumption'!D881","v":0},{"$f":"'Energy Consumption'!D882","v":0},{"$f":"'Energy Consumption'!D963","v":0},{"$f":"'Energy Consumption'!D964","v":0},{"$f":"'Energy Consumption'!D1045","v":0},{"$f":"'Energy Consumption'!D1046","v":0},{"$f":"'Energy Consumption'!D1127","v":0},{"$f":"'Energy Consumption'!D1128","v":0},{"$f":"'Energy Consumption'!D1209","v":0},{"$f":"'Energy Consumption'!D1210","v":0},{"$f":"'Energy Consumption'!D1291","v":0},{"$f":"'Energy Consumption'!D1292","v":0},{"$f":"'Energy Consumption'!D1373","v":0},{"$f":"'Energy Consumption'!D1374","v":0},{"$f":"'Energy Consumption'!D1455","v":0},{"$f":"'Energy Consumption'!D1456","v":0},{"$f":"'Energy Consumption'!D1537","v":0},{"$f":"'Energy Consumption'!D1538","v":0},{"$f":"'Energy Consumption'!D1619","v":0},{"$f":"'Energy Consumption'!D1620","v":0},null,{"$f":"'Relevant Variables'!D46","v":0},{"$f":"'Relevant Variables'!D76","v":0},{"$f":"'Relevant Variables'!D106","v":0},{"$f":"'Relevant Variables'!D136","v":0},{"$f":"'Relevant Variables'!D166","v":0},{"$f":"'Relevant Variables'!D196","v":0},{"$f":"'Relevant Variables'!D226","v":0},{"$f":"'Relevant Variables'!D256","v":0},{"$f":"'Relevant Variables'!D286","v":0},{"$f":"'Relevant Variables'!D316","v":0},{"$f":"'Relevant Variables'!D346","v":0},{"$f":"'Relevant Variables'!D376","v":0},{"$f":"'Relevant Variables'!D406","v":0},{"$f":"'Relevant Variables'!D436","v":0},{"$f":"'Relevant Variables'!D466","v":0},{"$f":"'Relevant Variables'!D496","v":0},{"$f":"'Relevant Variables'!D526","v":0},{"$f":"'Relevant Variables'!D556","v":0},{"$f":"'Relevant Variables'!D586","v":0},{"$f":"'Relevant Variables'!D616","v":0}]
["2014-02-01",null,{"$f":"'Energy Consumption'!E61","v":0},{"$f":"'Energy Consumption'!E62","v":0},{"$f":"'Energy Consumption'!E143","v":0},{"$f":"'Energy Consumption'!E144","v":0},{"$f":"'Energy Consumption'!E225","v":0},{"$f":"'Energy Consumption'!E226","v":0},{"$f":"'Energy Consumption'!E307","v":0},{"$f":"'Energy Consumption'!E308","v":0},{"$f":"'Energy Consumption'!E389","v":0},{"$f":"'Energy Consumption'!E390","v":0},{"$f":"'Energy Consumption'!E471","v":0},{"$f":"'Energy Consumption'!E472","v":0},{"$f":"'Energy Consumption'!E553","v":0},{"$f":"'Energy Consumption'!E554","v":0},{"$f":"'Energy Consumption'!E635","v":0},{"$f":"'Energy Consumption'!E636","v":0},{"$f":"'Energy Consumption'!E717","v":0},{"$f":"'Energy Consumption'!E718","v":0},{"$f":"'Energy Consumption'!E799","v":0},{"$f":"'Energy Consumption'!E800","v":0},{"$f":"'Energy Consumption'!E881","v":0},{"$f":"'Energy Consumption'!E882","v":0},{"$f":"'Energy Consumption'!E963","v":0},{"$f":"'Energy Consumption'!E964","v":0},{"$f":"'Energy Consumption'!E1045","v":0},{"$f":"'Energy Consumption'!E1046","v":0},{"$f":"'Energy Consumption'!E1127","v":0},{"$f":"'Energy Consumption'!E1128","v":0},{"$f":"'Energy Consumption'!E1209","v":0},{"$f":"'Energy Consumption'!E1210","v":0},{"$f":"'Energy Consumption'!E1291","v":0},{"$f":"'Energy Consumption'!E1292","v":0},{"$f":"'Energy Consumption'!E1373","v":0},{"$f":"'Energy Consumption'!E1374","v":0},{"$f":"'Energy Consumption'!E1455","v":0},{"$f":"'Energy Consumption'!E1456","v":0},{"$f":"'Energy Consumption'!E1537","v":0},{"$f":"'Energy Consumption'!E1538","v":0},{"$f":"'Energy Consumption'!E1619","v":0},{"$f":"'Energy Consumption'!E1620","v":0},null,{"$f":"'Relevant Variables'!E46","v":0},{"$f":"'Relevant Variables'!E76","v":0},{"$f":"'Relevant Variables'!E106","v":0},{"$f":"'Relevant Variables'!E136","v":0},{"$f":"'Relevant Variables'!E166","v":0},{"$f":"'Relevant Variables'!E196","v":0},{"$f":"'Relevant Variables'!E226","v":0},{"$f":"'Relevant Variables'!E256","v":0},{"$f":"'Relevant Variables'!E286","v":0},{"$f":"'Relevant Variables'!E316","v":0},{"$f":"'Relevant Variables'!E346","v":0},{"$f":"'Relevant Variables'!E376","v":0},{"$f":"'Relevant Variables'!E406","v":0},{"$f":"'Relevant Variables'!E436","v":0},{"$f":"'Relevant Variables'!E466","v":0},{"$f":"'Relevant Variables'!E496","v":0},{"$f":"'Relevant Variables'!E526","v":0},{"$f":"'Relevant Variables'!E556","v":0},{"$f":"'Relevant Variables'!E586","v":0},{"$f":"'Relevant Variables'!E616","v":0}]
["2014-03-01",null,{"$f":"'Energy Consumption'!F61","v":0},{"$f":"'Energy Consumption'!F62","v":0},{"$f":"'Energy Consumption'!F143","v":0},{"$f":"'Energy Consumption'!F144","v":0},{"$f":"'Energy Consumption'!F225","v":0},{"$f":"'Energy Consumption'!F226","v":0},{"$f":"'Energy Consumption'!F307","v":0},{"$f":"'Energy Consumption'!F308","v":0},{"$f":"'Energy Consumption'!F389","v":0},{"$f":"'Energy Consumption'!F390","v":0},{"$f":"'Energy Consumption'!F471","v":0},{"$f":"'Energy Consumption'!F472","v":0},{"$f":"'Energy Consumption'!F553","v":0},{"$f":"'Energy Consumption'!F554","v":0},{"$f":"'Energy Consumption'!F635","v":0},{"$f":"'Energy Consumption'!F636","v":0},{"$f":"'Energy Consumption'!F717","v":0},{"$f":"'Energy Consumption'!F718","v":0},{"$f":"'Energy Consumption'!F799","v":0},{"$f":"'Energy Consumption'!F800","v":0},{"$f":"'Energy Consumption'!F881","v":0},{"$f":"'Energy Consumption'!F882","v":0},{"$f":"'Energy Consumption'!F963","v":0},{"$f":"'Energy Consumption'!F964","v":0},{"$f":"'Energy Consumption'!F1045","v":0},{"$f":"'Energy Consumption'!F1046","v":0},{"$f":"'Energy Consumption'!F1127","v":0},{"$f":"'Energy Consumption'!F1128","v":0},{"$f":"'Energy Consumption'!F1209","v":0},{"$f":"'Energy Consumption'!F1210","v":0},{"$f":"'Energy Consumption'!F1291","v":0},{"$f":"'Energy Consumption'!F1292","v":0},{"$f":"'Energy Consumption'!F1373","v":0},{"$f":"'Energy Consumption'!F1374","v":0},{"$f":"'Energy Consumption'!F1455","v":0},{"$f":"'Energy Consumption'!F1456","v":0},{"$f":"'Energy Consumption'!F1537","v":0},{"$f":"'Energy Consumption'!F1538","v":0},{"$f":"'Energy Consumption'!F1619","v":0},{"$f":"'Energy Consumption'!F1620","v":0},null,{"$f":"'Relevant Variables'!F46","v":0},{"$f":"'Relevant Variables'!F76","v":0},{"$f":"'Relevant Variables'!F106","v":0},{"$f":"'Relevant Variables'!F136","v":0},{"$f":"'Relevant Variables'!F166","v":0},{"$f":"'Relevant Variables'!F196","v":0},{"$f":"'Relevant Variables'!F226","v":0},{"$f":"'Relevant Variables'!F256","v":0},{"$f":"'Relevant Variables'!F286","v":0},{"$f":"'Relevant Variables'!F316","v":0},{"$f":"'Relevant Variables'!F346","v":0},{"$f":"'Relevant Variables'!F376","v":0},{"$f":"'Relevant Variables'!F406","v":0},{"$f":"'Relevant Variables'!F436","v":0},{"$f":"'Relevant Variables'!F466","v":0},{"$f":"'Relevant Variables'!F496","v":0},{"$f":"'Relevant Variables'!F526","v":0},{"$f":"'Relevant Variables'!F556","v":0},{"$f":"'Relevant Variables'!F586","v":0},{"$f":"'Relevant Variables'!F616","v":0}]
["2014-04-01",null,{"$f":"'Energy Consumption'!G61","v":0},{"$f":"'Energy Consumption'!G62","v":0},{"$f":"'Energy Consumption'!G143","v":0},{"$f":"'Energy Consumption'!G144","v":0},{"$f":"'Energy Consumption'!G225","v":0},{"$f":"'Energy Consumption'!G226","v":0},{"$f":"'Energy Consumption'!G307","v":0},{"$f":"'Energy Consumption'!G308","v":0},{"$f":"'Energy Consumption'!G389","v":0},{"$f":"'Energy Consumption'!G390","v":0},{"$f":"'Energy Consumption'!G471","v":0},{"$f":"'Energy Consumption'!G472","v":0},{"$f":"'Energy Consumption'!G553","v":0},{"$f":"'Energy Consumption'!G554","v":0},{"$f":"'Energy Consumption'!G635","v":0},{"$f":"'Energy Consumption'!G636","v":0},{"$f":"'Energy Consumption'!G717","v":0},{"$f":"'Energy Consumption'!G718","v":0},{"$f":"'Energy Consumption'!G799","v":0},{"$f":"'Energy Consumption'!G800","v":0},{"$f":"'Energy Consumption'!G881","v":0},{"$f":"'Energy Consumption'!G882","v":0},{"$f":"'Energy Consumption'!G963","v":0},{"$f":"'Energy Consumption'!G964","v":0},{"$f":"'Energy Consumption'!G1045","v":0},{"$f":"'Energy Consumption'!G1046","v":0},{"$f":"'Energy Consumption'!G1127","v":0},{"$f":"'Energy Consumption'!G1128","v":0},{"$f":"'Energy Consumption'!G1209","v":0},{"$f":"'Energy Consumption'!G1210","v":0},{"$f":"'Energy Consumption'!G1291","v":0},{"$f":"'Energy Consumption'!G1292","v":0},{"$f":"'Energy Consumption'!G1373","v":0},{"$f":"'Energy Consumption'!G1374","v":0},{"$f":"'Energy Consumption'!G1455","v":0},{"$f":"'Energy Consumption'!G1456","v":0},{"$f":"'Energy Consumption'!G1537","v":0},{"$f":"'Energy Consumption'!G1538","v":0},{"$f":"'Energy Consumption'!G1619","v":0},{"$f":"'Energy Consumption'!G1620","v":0},null,{"$f":"'Relevant Variables'!G46","v":0},{"$f":"'Relevant Variables'!G76","v":0},{"$f":"'Relevant Variables'!G106","v":0},{"$f":"'Relevant Variables'!G136","v":0},{"$f":"'Relevant Variables'!G166","v":0},{"$f":"'Relevant Variables'!G196","v":0},{"$f":"'Relevant Variables'!G226","v":0},{"$f":"'Relevant Variables'!G256","v":0},{"$f":"'Relevant Variables'!G286","v":0},{"$f":"'Relevant Variables'!G316","v":0},{"$f":"'Relevant Variables'!G346","v":0},{"$f":"'Relevant Variables'!G376","v":0},{"$f":"'Relevant Variables'!G406","v":0},{"$f":"'Relevant Variables'!G436","v":0},{"$f":"'Relevant Variables'!G466","v":0},{"$f":"'Relevant Variables'!G496","v":0},{"$f":"'Relevant Variables'!G526","v":0},{"$f":"'Relevant Variables'!G556","v":0},{"$f":"'Relevant Variables'!G586","v":0},{"$f":"'Relevant Variables'!G616","v":0}]
["2014-05-01",null,{"$f":"'Energy Consumption'!H61","v":0},{"$f":"'Energy Consumption'!H62","v":0},{"$f":"'Energy Consumption'!H143","v":0},{"$f":"'Energy Consumption'!H144","v":0},{"$f":"'Energy Consumption'!H225","v":0},{"$f":"'Energy Consumption'!H226","v":0},{"$f":"'Energy Consumption'!H307","v":0},{"$f":"'Energy Consumption'!H308","v":0},{"$f":"'Energy Consumption'!H389","v":0},{"$f":"'Energy Consumption'!H390","v":0},{"$f":"'Energy Consumption'!H471","v":0},{"$f":"'Energy Consumption'!H472","v":0},{"$f":"'Energy Consumption'!H553","v":0},{"$f":"'Energy Consumption'!H554","v":0},{"$f":"'Energy Consumption'!H635","v":0},{"$f":"'Energy Consumption'!H636","v":0},{"$f":"'Energy Consumption'!H717","v":0},{"$f":"'Energy Consumption'!H718","v":0},{"$f":"'Energy Consumption'!H799","v":0},{"$f":"'Energy Consumption'!H800","v":0},{"$f":"'Energy Consumption'!H881","v":0},{"$f":"'Energy Consumption'!H882","v":0},{"$f":"'Energy Consumption'!H963","v":0},{"$f":"'Energy Consumption'!H964","v":0},{"$f":"'Energy Consumption'!H1045","v":0},{"$f":"'Energy Consumption'!H1046","v":0},{"$f":"'Energy Consumption'!H1127","v":0},{"$f":"'Energy Consumption'!H1128","v":0},{"$f":"'Energy Consumption'!H1209","v":0},{"$f":"'Energy Consumption'!H1210","v":0},{"$f":"'Energy Consumption'!H1291","v":0},{"$f":"'Energy Consumption'!H1292","v":0},{"$f":"'Energy Consumption'!H1373","v":0},{"$f":"'Energy Consumption'!H1374","v":0},{"$f":"'Energy Consumption'!H1455","v":0},{"$f":"'Energy Consumption'!H1456","v":0},{"$f":"'Energy Consumption'!H1537","v":0},{"$f":"'Energy Consumption'!H1538","v":0},{"$f":"'Energy Consumption'!H1619","v":0},{"$f":"'Energy Consumption'!H1620","v":0},null,{"$f":"'Relevant Variables'!H46","v":0},{"$f":"'Relevant Variables'!H76","v":0},{"$f":"'Relevant Variables'!H106","v":0},{"$f":"'Relevant Variables'!H136","v":0},{"$f":"'Relevant Variables'!H166","v":0},{"$f":"'Relevant Variables'!H196","v":0},{"$f":"'Relevant Variables'!H226","v":0},{"$f":"'Relevant Variables'!H256","v":0},{"$f":"'Relevant Variables'!H286","v":0},{"$f":"'Relevant Variables'!H316","v":0},{"$f":"'Relevant Variables'!H346","v":0},{"$f":"'Relevant Variables'!H376","v":0},{"$f":"'Relevant Variables'!H406","v":0},{"$f":"'Relevant Variables'!H436","v":0},{"$f":"'Relevant Variables'!H466","v":0},{"$f":"'Relevant Variables'!H496","v":0},{"$f":"'Relevant Variables'!H526","v":0},{"$f":"'Relevant Variables'!H556","v":0},{"$f":"'Relevant Variables'!H586","v":0},{"$f":"'Relevant Variables'!H616","v":0}]
["2014-06-01",null,{"$f":"'Energy Consumption'!I61","v":0},{"$f":"'Energy Consumption'!I62","v":0},{"$f":"'Energy Consumption'!I143","v":0},{"$f":"'Energy Consumption'!I144","v":0},{"$f":"'Energy Consumption'!I225","v":0},{"$f":"'Energy Consumption'!I226","v":0},{"$f":"'Energy Consumption'!I307","v":0},{"$f":"'Energy Consumption'!I308","v":0},{"$f":"'Energy Consumption'!I389","v":0},{"$f":"'Energy Consumption'!I390","v":0},{"$f":"'Energy Consumption'!I471","v":0},{"$f":"'Energy Consumption'!I472","v":0},{"$f":"'Energy Consumption'!I553","v":0},{"$f":"'Energy Consumption'!I554","v":0},{"$f":"'Energy Consumption'!I635","v":0},{"$f":"'Energy Consumption'!I636","v":0},{"$f":"'Energy Consumption'!I717","v":0},{"$f":"'Energy Consumption'!I718","v":0},{"$f":"'Energy Consumption'!I799","v":0},{"$f":"'Energy Consumption'!I800","v":0},{"$f":"'Energy Consumption'!I881","v":0},{"$f":"'Energy Consumption'!I882","v":0},{"$f":"'Energy Consumption'!I963","v":0},{"$f":"'Energy Consumption'!I964","v":0},{"$f":"'Energy Consumption'!I1045","v":0},{"$f":"'Energy Consumption'!I1046","v":0},{"$f":"'Energy Consumption'!I1127","v":0},{"$f":"'Energy Consumption'!I1128","v":0},{"$f":"'Energy Consumption'!I1209","v":0},{"$f":"'Energy Consumption'!I1210","v":0},{"$f":"'Energy Consumption'!I1291","v":0},{"$f":"'Energy Consumption'!I1292","v":0},{"$f":"'Energy Consumption'!I1373","v":0},{"$f":"'Energy Consumption'!I1374","v":0},{"$f":"'Energy Consumption'!I1455","v":0},{"$f":"'Energy Consumption'!I1456","v":0},{"$f":"'Energy Consumption'!I1537","v":0},{"$f":"'Energy Consumption'!I1538","v":0},{"$f":"'Energy Consumption'!I1619","v":0},{"$f":"'Energy Consumption'!I1620","v":0},null,{"$f":"'Relevant Variables'!I46","v":0},{"$f":"'Relevant Variables'!I76","v":0},{"$f":"'Relevant Variables'!I106","v":0},{"$f":"'Relevant Variables'!I136","v":0},{"$f":"'Relevant Variables'!I166","v":0},{"$f":"'Relevant Variables'!I196","v":0},{"$f":"'Relevant Variables'!I226","v":0},{"$f":"'Relevant Variables'!I256","v":0},{"$f":"'Relevant Variables'!I286","v":0},{"$f":"'Relevant Variables'!I316","v":0},{"$f":"'Relevant Variables'!I346","v":0},{"$f":"'Relevant Variables'!I376","v":0},{"$f":"'Relevant Variables'!I406","v":0},{"$f":"'Relevant Variables'!I436","v":0},{"$f":"'Relevant Variables'!I466","v":0},{"$f":"'Relevant Variables'!I496","v":0},{"$f":"'Relevant Variables'!I526","v":0},{"$f":"'Relevant Variables'!I556","v":0},{"$f":"'Relevant Variables'!I586","v":0},{"$f":"'Relevant Variables'!I616","v":0}]
["2014-07-01",null,{"$f":"'Energy Consumption'!J61","v":0},{"$f":"'Energy Consumption'!J62","v":0},{"$f":"'Energy Consumption'!J143","v":0},{"$f":"'Energy Consumption'!J144","v":0},{"$f":"'Energy Consumption'!J225","v":0},{"$f":"'Energy Consumption'!J226","v":0},{"$f":"'Energy Consumption'!J307","v":0},{"$f":"'Energy Consumption'!J308","v":0},{"$f":"'Energy Consumption'!J389","v":0},{"$f":"'Energy Consumption'!J390","v":0},{"$f":"'Energy Consumption'!J471","v":0},{"$f":"'Energy Consumption'!J472","v":0},{"$f":"'Energy Consumption'!J553","v":0},{"$f":"'Energy Consumption'!J554","v":0},{"$f":"'Energy Consumption'!J635","v":0},{"$f":"'Energy Consumption'!J636","v":0},{"$f":"'Energy Consumption'!J717","v":0},{"$f":"'Energy Consumption'!J718","v":0},{"$f":"'Energy Consumption'!J799","v":0},{"$f":"'Energy Consumption'!J800","v":0},{"$f":"'Energy Consumption'!J881","v":0},{"$f":"'Energy Consumption'!J882","v":0},{"$f":"'Energy Consumption'!J963","v":0},{"$f":"'Energy Consumption'!J964","v":0},{"$f":"'Energy Consumption'!J1045","v":0},{"$f":"'Energy Consumption'!J1046","v":0},{"$f":"'Energy Consumption'!J1127","v":0},{"$f":"'Energy Consumption'!J1128","v":0},{"$f":"'Energy Consumption'!J1209","v":0},{"$f":"'Energy Consumption'!J1210","v":0},{"$f":"'Energy Consumption'!J1291","v":0},{"$f":"'Energy Consumption'!J1292","v":0},{"$f":"'Energy Consumption'!J1373","v":0},{"$f":"'Energy Consumption'!J1374","v":0},{"$f":"'Energy Consumption'!J1455","v":0},{"$f":"'Energy Consumption'!J1456","v":0},{"$f":"'Energy Consumption'!J1537","v":0},{"$f":"'Energy Consumption'!J1538","v":0},{"$f":"'Energy Consumption'!J1619","v":0},{"$f":"'Energy Consumption'!J1620","v":0},null,{"$f":"'Relevant Variables'!J46","v":0},{"$f":"'Relevant Variables'!J76","v":0},{"$f":"'Relevant Variables'!J106","v":0},{"$f":"'Relevant Variables'!J136","v":0},{"$f":"'Relevant Variables'!J166","v":0},{"$f":"'Relevant Variables'!J196","v":0},{"$f":"'Relevant Variables'!J226","v":0},{"$f":"'Relevant Variables'!J256","v":0},{"$f":"'Relevant Variables'!J286","v":0},{"$f":"'Relevant Variables'!J316","v":0},{"$f":"'Relevant Variables'!J346","v":0},{"$f":"'Relevant Variables'!J376","v":0},{"$f":"'Relevant Variables'!J406","v":0},{"$f":"'Relevant Variables'!J436","v":0},{"$f":"'Relevant Variables'!J466","v":0},{"$f":"'Relevant Variables'!J496","v":0},{"$f":"'Relevant Variables'!J526","v":0},{"$f":"'Relevant Variables'!J556","v":0},{"$f":"'Relevant Variables'!J586","v":0},{"$f":"'Relevant Variables'!J616","v":0}]
["2014-08-01",null,{"$f":"'Energy Consumption'!K61","v":0},{"$f":"'Energy Consumption'!K62","v":0},{"$f":"'Energy Consumption'!K143","v":0},{"$f":"'Energy Consumption'!K144","v":0},{"$f":"'Energy Consumption'!K225","v":0},{"$f":"'Energy Consumption'!K226","v":0},{"$f":"'Energy Consumption'!K307","v":0},{"$f":"'Energy Consumption'!K308","v":0},{"$f":"'Energy Consumption'!K389","v":0},{"$f":"'Energy Consumption'!K390","v":0},{"$f":"'Energy Consumption'!K471","v":0},{"$f":"'Energy Consumption'!K472","v":0},{"$f":"'Energy Consumption'!K553","v":0},{"$f":"'Energy Consumption'!K554","v":0},{"$f":"'Energy Consumption'!K635","v":0},{"$f":"'Energy Consumption'!K636","v":0},{"$f":"'Energy Consumption'!K717","v":0},{"$f":"'Energy Consumption'!K718","v":0},{"$f":"'Energy Consumption'!K799","v":0},{"$f":"'Energy Consumption'!K800","v":0},{"$f":"'Energy Consumption'!K881","v":0},{"$f":"'Energy Consumption'!K882","v":0},{"$f":"'Energy Consumption'!K963","v":0},{"$f":"'Energy Consumption'!K964","v":0},{"$f":"'Energy Consumption'!K1045","v":0},{"$f":"'Energy Consumption'!K1046","v":0},{"$f":"'Energy Consumption'!K1127","v":0},{"$f":"'Energy Consumption'!K1128","v":0},{"$f":"'Energy Consumption'!K1209","v":0},{"$f":"'Energy Consumption'!K1210","v":0},{"$f":"'Energy Consumption'!K1291","v":0},{"$f":"'Energy Consumption'!K1292","v":0},{"$f":"'Energy Consumption'!K1373","v":0},{"$f":"'Energy Consumption'!K1374","v":0},{"$f":"'Energy Consumption'!K1455","v":0},{"$f":"'Energy Consumption'!K1456","v":0},{"$f":"'Energy Consumption'!K1537","v":0},{"$f":"'Energy Consumption'!K1538","v":0},{"$f":"'Energy Consumption'!K1619","v":0},{"$f":"'Energy Consumption'!K1620","v":0},null,{"$f":"'Relevant Variables'!K46","v":0},{"$f":"'Relevant Variables'!K76","v":0},{"$f":"'Relevant Variables'!K106","v":0},{"$f":"'Relevant Variables'!K136","v":0},{"$f":"'Relevant Variables'!K166","v":0},{"$f":"'Relevant Variables'!K196","v":0},{"$f":"'Relevant Variables'!K226","v":0},{"$f":"'Relevant Variables'!K256","v":0},{"$f":"'Relevant Variables'!K286","v":0},{"$f":"'Relevant Variables'!K316","v":0},{"$f":"'Relevant Variables'!K346","v":0},{"$f":"'Relevant Variables'!K376","v":0},{"$f":"'Relevant Variables'!K406","v":0},{"$f":"'Relevant Variables'!K436","v":0},{"$f":"'Relevant Variables'!K466","v":0},{"$f":"'Relevant Variables'!K496","v":0},{"$f":"'Relevant Variables'!K526","v":0},{"$f":"'Relevant Variables'!K556","v":0},{"$f":"'Relevant Variables'!K586","v":0},{"$f":"'Relevant Variables'!K616","v":0}]
["2014-09-01",null,{"$f":"'Energy Consumption'!L61","v":0},{"$f":"'Energy Consumption'!L62","v":0},{"$f":"'Energy Consumption'!L143","v":0},{"$f":"'Energy Consumption'!L144","v":0},{"$f":"'Energy Consumption'!L225","v":0},{"$f":"'Energy Consumption'!L226","v":0},{"$f":"'Energy Consumption'!L307","v":0},{"$f":"'Energy Consumption'!L308","v":0},{"$f":"'Energy Consumption'!L389","v":0},{"$f":"'Energy Consumption'!L390","v":0},{"$f":"'Energy Consumption'!L471","v":0},{"$f":"'Energy Consumption'!L472","v":0},{"$f":"'Energy Consumption'!L553","v":0},{"$f":"'Energy Consumption'!L554","v":0},{"$f":"'Energy Consumption'!L635","v":0},{"$f":"'Energy Consumption'!L636","v":0},{"$f":"'Energy Consumption'!L717","v":0},{"$f":"'Energy Consumption'!L718","v":0},{"$f":"'Energy Consumption'!L799","v":0},{"$f":"'Energy Consumption'!L800","v":0},{"$f":"'Energy Consumption'!L881","v":0},{"$f":"'Energy Consumption'!L882","v":0},{"$f":"'Energy Consumption'!L963","v":0},{"$f":"'Energy Consumption'!L964","v":0},{"$f":"'Energy Consumption'!L1045","v":0},{"$f":"'Energy Consumption'!L1046","v":0},{"$f":"'Energy Consumption'!L1127","v":0},{"$f":"'Energy Consumption'!L1128","v":0},{"$f":"'Energy Consumption'!L1209","v":0},{"$f":"'Energy Consumption'!L1210","v":0},{"$f":"'Energy Consumption'!L1291","v":0},{"$f":"'Energy Consumption'!L1292","v":0},{"$f":"'Energy Consumption'!L1373","v":0},{"$f":"'Energy Consumption'!L1374","v":0},{"$f":"'Energy Consumption'!L1455","v":0},{"$f":"'Energy Consumption'!L1456","v":0},{"$f":"'Energy Consumption'!L1537","v":0},{"$f":"'Energy Consumption'!L1538","v":0},{"$f":"'Energy Consumption'!L1619","v":0},{"$f":"'Energy Consumption'!L1620","v":0},null,{"$f":"'Relevant Variables'!L46","v":0},{"$f":"'Relevant Variables'!L76","v":0},{"$f":"'Relevant Variables'!L106","v":0},{"$f":"'Relevant Variables'!L136","v":0},{"$f":"'Relevant Variables'!L166","v":0},{"$f":"'Relevant Variables'!L196","v":0},{"$f":"'Relevant Variables'!L226","v":0},{"$f":"'Relevant Variables'!L256","v":0},{"$f":"'Relevant Variables'!L286","v":0},{"$f":"'Relevant Variables'!L316","v":0},{"$f":"'Relevant Variables'!L346","v":0},{"$f":"'Relevant Variables'!L376","v":0},{"$f":"'Relevant Variables'!L406","v":0},{"$f":"'Relevant Variables'!L436","v":0},{"$f":"'Relevant Variables'!L466","v":0},{"$f":"'Relevant Variables'!L496","v":0},{"$f":"'Relevant Variables'!L526","v":0},{"$f":"'Relevant Variables'!L556","v":0},{"$f":"'Relevant Variables'!L586","v":0},{"$f":"'Relevant Variables'!L616","v":0}]
["2014-10-01",null,{"$f":"'Energy Consumption'!M61","v":0},{"$f":"'Energy Consumption'!M62","v":0},{"$f":"'Energy Consumption'!M143","v":0},{"$f":"'Energy Consumption'!M144","v":0},{"$f":"'Energy Consumption'!M225","v":0},{"$f":"'Energy Consumption'!M226","v":0},{"$f":"'Energy Consumption'!M307","v":0},{"$f":"'Energy Consumption'!M308","v":0},{"$f":"'Energy Consumption'!M389","v":0},{"$f":"'Energy Consumption'!M390","v":0},{"$f":"'Energy Consumption'!M471","v":0},{"$f":"'Energy Consumption'!M472","v":0},{"$f":"'Energy Consumption'!M553","v":0},{"$f":"'Energy Consumption'!M554","v":0},{"$f":"'Energy Consumption'!M635","v":0},{"$f":"'Energy Consumption'!M636","v":0},{"$f":"'Energy Consumption'!M717","v":0},{"$f":"'Energy Consumption'!M718","v":0},{"$f":"'Energy Consumption'!M799","v":0},{"$f":"'Energy Consumption'!M800","v":0},{"$f":"'Energy Consumption'!M881","v":0},{"$f":"'Energy Consumption'!M882","v":0},{"$f":"'Energy Consumption'!M963","v":0},{"$f":"'Energy Consumption'!M964","v":0},{"$f":"'Energy Consumption'!M1045","v":0},{"$f":"'Energy Consumption'!M1046","v":0},{"$f":"'Energy Consumption'!M1127","v":0},{"$f":"'Energy Consumption'!M1128","v":0},{"$f":"'Energy Consumption'!M1209","v":0},{"$f":"'Energy Consumption'!M1210","v":0},{"$f":"'Energy Consumption'!M1291","v":0},{"$f":"'Energy Consumption'!M1292","v":0},{"$f":"'Energy Consumption'!M1373","v":0},{"$f":"'Energy Consumption'!M1374","v":0},{"$f":"'Energy Consumption'!M1455","v":0},{"$f":"'Energy Consumption'!M1456","v":0},{"$f":"'Energy Consumption'!M1537","v":0},{"$f":"'Energy Consumption'!M1538","v":0},{"$f":"'Energy Consumption'!M1619","v":0},{"$f":"'Energy Consumption'!M1620","v":0},null,{"$f":"'Relevant Variables'!M46","v":0},{"$f":"'Relevant Variables'!M76","v":0},{"$f":"'Relevant Variables'!M106","v":0},{"$f":"'Relevant Variables'!M136","v":0},{"$f":"'Relevant Variables'!M166","v":0},{"$f":"'Relevant Variables'!M196","v":0},{"$f":"'Relevant Variables'!M226","v":0},{"$f":"'Relevant Variables'!M256","v":0},{"$f":"'Relevant Variables'!M286","v":0},{"$f":"'Relevant Variables'!M316","v":0},{"$f":"'Relevant Variables'!M346","v":0},{"$f":"'Relevant Variables'!M376","v":0},{"$f":"'Relevant Variables'!M406","v":0},{"$f":"'Relevant Variables'!M436","v":0},{"$f":"'Relevant Variables'!M466","v":0},{"$f":"'Relevant Variables'!M496","v":0},{"$f":"'Relevant Variables'!M526","v":0},{"$f":"'Relevant Variables'!M556","v":0},{"$f":"'Relevant Variables'!M586","v":0},{"$f":"'Relevant Variables'!M616","v":0}]
["2014-11-01",null,{"$f":"'Energy Consumption'!N61","v":0},{"$f":"'Energy Consumption'!N62","v":0},{"$f":"'Energy Consumption'!N143","v":0},{"$f":"'Energy Consumption'!N144","v":0},{"$f":"'Energy Consumption'!N225","v":0},{"$f":"'Energy Consumption'!N226","v":0},{"$f":"'Energy Consumption'!N307","v":0},{"$f":"'Energy Consumption'!N308","v":0},{"$f":"'Energy Consumption'!N389","v":0},{"$f":"'Energy Consumption'!N390","v":0},{"$f":"'Energy Consumption'!N471","v":0},{"$f":"'Energy Consumption'!N472","v":0},{"$f":"'Energy Consumption'!N553","v":0},{"$f":"'Energy Consumption'!N554","v":0},{"$f":"'Energy Consumption'!N635","v":0},{"$f":"'Energy Consumption'!N636","v":0},{"$f":"'Energy Consumption'!N717","v":0},{"$f":"'Energy Consumption'!N718","v":0},{"$f":"'Energy Consumption'!N799","v":0},{"$f":"'Energy Consumption'!N800","v":0},{"$f":"'Energy Consumption'!N881","v":0},{"$f":"'Energy Consumption'!N882","v":0},{"$f":"'Energy Consumption'!N963","v":0},{"$f":"'Energy Consumption'!N964","v":0},{"$f":"'Energy Consumption'!N1045","v":0},{"$f":"'Energy Consumption'!N1046","v":0},{"$f":"'Energy Consumption'!N1127","v":0},{"$f":"'Energy Consumption'!N1128","v":0},{"$f":"'Energy Consumption'!N1209","v":0},{"$f":"'Energy Consumption'!N1210","v":0},{"$f":"'Energy Consumption'!N1291","v":0},{"$f":"'Energy Consumption'!N1292","v":0},{"$f":"'Energy Consumption'!N1373","v":0},{"$f":"'Energy Consumption'!N1374","v":0},{"$f":"'Energy Consumption'!N1455","v":0},{"$f":"'Energy Consumption'!N1456","v":0},{"$f":"'Energy Consumption'!N1537","v":0},{"$f":"'Energy Consumption'!N1538","v":0},{"$f":"'Energy Consumption'!N1619","v":0},{"$f":"'Energy Consumption'!N1620","v":0},null,{"$f":"'Relevant Variables'!N46","v":0},{"$f":"'Relevant Variables'!N76","v":0},{"$f":"'Relevant Variables'!N106","v":0},{"$f":"'Relevant Variables'!N136","v":0},{"$f":"'Relevant Variables'!N166","v":0},{"$f":"'Relevant Variables'!N196","v":0},{"$f":"'Relevant Variables'!N226","v":0},{"$f":"'Relevant Variables'!N256","v":0},{"$f":"'Relevant Variables'!N286","v":0},{"$f":"'Relevant Variables'!N316","v":0},{"$f":"'Relevant Variables'!N346","v":0},{"$f":"'Relevant Variables'!N376","v":0},{"$f":"'Relevant Variables'!N406","v":0},{"$f":"'Relevant Variables'!N436","v":0},{"$f":"'Relevant Variables'!N466","v":0},{"$f":"'Relevant Variables'!N496","v":0},{"$f":"'Relevant Variables'!N526","v":0},{"$f":"'Relevant Variables'!N556","v":0},{"$f":"'Relevant Variables'!N586","v":0},{"$f":"'Relevant Variables'!N616","v":0}]
["2014-12-01",null,{"$f":"'Energy Consumption'!O61","v":0},{"$f":"'Energy Consumption'!O62","v":0},{"$f":"'Energy Consumption'!O143","v":0},{"$f":"'Energy Consumption'!O144","v":0},{"$f":"'Energy Consumption'!O225","v":0},{"$f":"'Energy Consumption'!O226","v":0},{"$f":"'Energy Consumption'!O307","v":0},{"$f":"'Energy Consumption'!O308","v":0},{"$f":"'Energy Consumption'!O389","v":0},{"$f":"'Energy Consumption'!O390","v":0},{"$f":"'Energy Consumption'!O471","v":0},{"$f":"'Energy Consumption'!O472","v":0},{"$f":"'Energy Consumption'!O553","v":0},{"$f":"'Energy Consumption'!O554","v":0},{"$f":"'Energy Consumption'!O635","v":0},{"$f":"'Energy Consumption'!O636","v":0},{"$f":"'Energy Consumption'!O717","v":0},{"$f":"'Energy Consumption'!O718","v":0},{"$f":"'Energy Consumption'!O799","v":0},{"$f":"'Energy Consumption'!O800","v":0},{"$f":"'Energy Consumption'!O881","v":0},{"$f":"'Energy Consumption'!O882","v":0},{"$f":"'Energy Consumption'!O963","v":0},{"$f":"'Energy Consumption'!O964","v":0},{"$f":"'Energy Consumption'!O1045","v":0},{"$f":"'Energy Consumption'!O1046","v":0},{"$f":"'Energy Consumption'!O1127","v":0},{"$f":"'Energy Consumption'!O1128","v":0},{"$f":"'Energy Consumption'!O1209","v":0},{"$f":"'Energy Consumption'!O1210","v":0},{"$f":"'Energy Consumption'!O1291","v":0},{"$f":"'Energy Consumption'!O1292","v":0},{"$f":"'Energy Consumption'!O1373","v":0},{"$f":"'Energy Consumption'!O1374","v":0},{"$f":"'Energy Consumption'!O1455","v":0},{"$f":"'Energy Consumption'!O1456","v":0},{"$f":"'Energy Consumption'!O1537","v":0},{"$f":"'Energy Consumption'!O1538","v":0},{"$f":"'Energy Consumption'!O1619","v":0},{"$f":"'Energy Consumption'!O1620","v":0},null,{"$f":"'Relevant Variables'!O46","v":0},{"$f":"'Relevant Variables'!O76","v":0},{"$f":"'Relevant Variables'!O106","v":0},{"$f":"'Relevant Variables'!O136","v":0},{"$f":"'Relevant Variables'!O166","v":0},{"$f":"'Relevant Variables'!O196","v":0},{"$f":"'Relevant Variables'!O226","v":0},{"$f":"'Relevant Variables'!O256","v":0},{"$f":"'Relevant Variables'!O286","v":0},{"$f":"'Relevant Variables'!O316","v":0},{"$f":"'Relevant Variables'!O346","v":0},{"$f":"'Relevant Variables'!O376","v":0},{"$f":"'Relevant Variables'!O406","v":0},{"$f":"'Relevant Variables'!O436","v":0},{"$f":"'Relevant Variables'!O466","v":0},{"$f":"'Relevant Variables'!O496","v":0},{"$f":"'Relevant Variables'!O526","v":0},{"$f":"'Relevant Variables'!O556","v":0},{"$f":"'Relevant Variables'!O586","v":0},{"$f":"'Relevant Variables'!O616","v":0}]
["2015-01-01",null,{"$f":"'Energy Consumption'!D59","v":0},{"$f":"'Energy Consumption'!D60","v":0},{"$f":"'Energy Consumption'!D141","v":0},{"$f":"'Energy Consumption'!D142","v":0},{"$f":"'Energy Consumption'!D223","v":0},{"$f":"'Energy Consumption'!D224","v":0},{"$f":"'Energy Consumption'!D305","v":0},{"$f":"'Energy Consumption'!D306","v":0},{"$f":"'Energy Consumption'!D387","v":0},{"$f":"'Energy Consumption'!D388","v":0},{"$f":"'Energy Consumption'!D469","v":0},{"$f":"'Energy Consumption'!D470","v":0},{"$f":"'Energy Consumption'!D551","v":0},{"$f":"'Energy Consumption'!D552","v":0},{"$f":"'Energy Consumption'!D633","v":0},{"$f":"'Energy Consumption'!D634","v":0},{"$f":"'Energy Consumption'!D715","v":0},{"$f":"'Energy Consumption'!D716","v":0},{"$f":"'Energy Consumption'!D797","v":0},{"$f":"'Energy Consumption'!D798","v":0},{"$f":"'Energy Consumption'!D879","v":0},{"$f":"'Energy Consumption'!D880","v":0},{"$f":"'Energy Consumption'!D961","v":0},{"$f":"'Energy Consumption'!D962","v":0},{"$f":"'Energy Consumption'!D1043","v":0},{"$f":"'Energy Consumption'!D1044","v":0},{"$f":"'Energy Consumption'!D1125","v":0},{"$f":"'Energy Consumption'!D1126","v":0},{"$f":"'Energy Consumption'!D1207","v":0},{"$f":"'Energy Consumption'!D1208","v":0},{"$f":"'Energy Consumption'!D1289","v":0},{"$f":"'Energy Consumption'!D1290","v":0},{"$f":"'Energy Consumption'!D1371","v":0},{"$f":"'Energy Consumption'!D1372","v":0},{"$f":"'Energy Consumption'!D1453","v":0},{"$f":"'Energy Consumption'!D1454","v":0},{"$f":"'Energy Consumption'!D1535","v":0},{"$f":"'Energy Consumption'!D1536","v":0},{"$f":"'Energy Consumption'!D1617","v":0},{"$f":"'Energy Consumption'!D1618","v":0},null,{"$f":"'Relevant Variables'!D45","v":0},{"$f":"'Relevant Variables'!D75","v":0},{"$f":"'Relevant Variables'!D105","v":0},{"$f":"'Relevant Variables'!D135","v":0},{"$f":"'Relevant Variables'!D165","v":0},{"$f":"'Relevant Variables'!D195","v":0},{"$f":"'Relevant Variables'!D225","v":0},{"$f":"'Relevant Variables'!D255","v":0},{"$f":"'Relevant Variables'!D285","v":0},{"$f":"'Relevant Variables'!D315","v":0},{"$f":"'Relevant Variables'!D345","v":0},{"$f":"'Relevant Variables'!D375","v":0},{"$f":"'Relevant Variables'!D405","v":0},{"$f":"'Relevant Variables'!D435","v":0},{"$f":"'Relevant Variables'!D465","v":0},{"$f":"'Relevant Variables'!D495","v":0},{"$f":"'Relevant Variables'!D525","v":0},{"$f":"'Relevant Variables'!D555","v":0},{"$f":"'Relevant Variables'!D585","v":0},{"$f":"'Relevant Variables'!D615","v":0}]
["2015-02-01",null,{"$f":"'Energy Consumption'!E59","v":0},{"$f":"'Energy Consumption'!E60","v":0},{"$f":"'Energy Consumption'!E141","v":0},{"$f":"'Energy Consumption'!E142","v":0},{"$f":"'Energy Consumption'!E223","v":0},{"$f":"'Energy Consumption'!E224","v":0},{"$f":"'Energy Consumption'!E305","v":0},{"$f":"'Energy Consumption'!E306","v":0},{"$f":"'Energy Consumption'!E387","v":0},{"$f":"'Energy Consumption'!E388","v":0},{"$f":"'Energy Consumption'!E469","v":0},{"$f":"'Energy Consumption'!E470","v":0},{"$f":"'Energy Consumption'!E551","v":0},{"$f":"'Energy Consumption'!E552","v":0},{"$f":"'Energy Consumption'!E633","v":0},{"$f":"'Energy Consumption'!E634","v":0},{"$f":"'Energy Consumption'!E715","v":0},{"$f":"'Energy Consumption'!E716","v":0},{"$f":"'Energy Consumption'!E797","v":0},{"$f":"'Energy Consumption'!E798","v":0},{"$f":"'Energy Consumption'!E879","v":0},{"$f":"'Energy Consumption'!E880","v":0},{"$f":"'Energy Consumption'!E961","v":0},{"$f":"'Energy Consumption'!E962","v":0},{"$f":"'Energy Consumption'!E1043","v":0},{"$f":"'Energy Consumption'!E1044","v":0},{"$f":"'Energy Consumption'!E1125","v":0},{"$f":"'Energy Consumption'!E1126","v":0},{"$f":"'Energy Consumption'!E1207","v":0},{"$f":"'Energy Consumption'!E1208","v":0},{"$f":"'Energy Consumption'!E1289","v":0},{"$f":"'Energy Consumption'!E1290","v":0},{"$f":"'Energy Consumption'!E1371","v":0},{"$f":"'Energy Consumption'!E1372","v":0},{"$f":"'Energy Consumption'!E1453","v":0},{"$f":"'Energy Consumption'!E1454","v":0},{"$f":"'Energy Consumption'!E1535","v":0},{"$f":"'Energy Consumption'!E1536","v":0},{"$f":"'Energy Consumption'!E1617","v":0},{"$f":"'Energy Consumption'!E1618","v":0},null,{"$f":"'Relevant Variables'!E45","v":0},{"$f":"'Relevant Variables'!E75","v":0},{"$f":"'Relevant Variables'!E105","v":0},{"$f":"'Relevant Variables'!E135","v":0},{"$f":"'Relevant Variables'!E165","v":0},{"$f":"'Relevant Variables'!E195","v":0},{"$f":"'Relevant Variables'!E225","v":0},{"$f":"'Relevant Variables'!E255","v":0},{"$f":"'Relevant Variables'!E285","v":0},{"$f":"'Relevant Variables'!E315","v":0},{"$f":"'Relevant Variables'!E345","v":0},{"$f":"'Relevant Variables'!E375","v":0},{"$f":"'Relevant Variables'!E405","v":0},{"$f":"'Relevant Variables'!E435","v":0},{"$f":"'Relevant Variables'!E465","v":0},{"$f":"'Relevant Variables'!E495","v":0},{"$f":"'Relevant Variables'!E525","v":0},{"$f":"'Relevant Variables'!E555","v":0},{"$f":"'Relevant Variables'!E585","v":0},{"$f":"'Relevant Variables'!E615","v":0}]
["2015-03-01",null,{"$f":"'Energy Consumption'!F59","v":0},{"$f":"'Energy Consumption'!F60","v":0},{"$f":"'Energy Consumption'!F141","v":0},{"$f":"'Energy Consumption'!F142","v":0},{"$f":"'Energy Consumption'!F223","v":0},{"$f":"'Energy Consumption'!F224","v":0},{"$f":"'Energy Consumption'!F305","v":0},{"$f":"'Energy Consumption'!F306","v":0},{"$f":"'Energy Consumption'!F387","v":0},{"$f":"'Energy Consumption'!F388","v":0},{"$f":"'Energy Consumption'!F469","v":0},{"$f":"'Energy Consumption'!F470","v":0},{"$f":"'Energy Consumption'!F551","v":0},{"$f":"'Energy Consumption'!F552","v":0},{"$f":"'Energy Consumption'!F633","v":0},{"$f":"'Energy Consumption'!F634","v":0},{"$f":"'Energy Consumption'!F715","v":0},{"$f":"'Energy Consumption'!F716","v":0},{"$f":"'Energy Consumption'!F797","v":0},{"$f":"'Energy Consumption'!F798","v":0},{"$f":"'Energy Consumption'!F879","v":0},{"$f":"'Energy Consumption'!F880","v":0},{"$f":"'Energy Consumption'!F961","v":0},{"$f":"'Energy Consumption'!F962","v":0},{"$f":"'Energy Consumption'!F1043","v":0},{"$f":"'Energy Consumption'!F1044","v":0},{"$f":"'Energy Consumption'!F1125","v":0},{"$f":"'Energy Consumption'!F1126","v":0},{"$f":"'Energy Consumption'!F1207","v":0},{"$f":"'Energy Consumption'!F1208","v":0},{"$f":"'Energy Consumption'!F1289","v":0},{"$f":"'Energy Consumption'!F1290","v":0},{"$f":"'Energy Consumption'!F1371","v":0},{"$f":"'Energy Consumption'!F1372","v":0},{"$f":"'Energy Consumption'!F1453","v":0},{"$f":"'Energy Consumption'!F1454","v":0},{"$f":"'Energy Consumption'!F1535","v":0},{"$f":"'Energy Consumption'!F1536","v":0},{"$f":"'Energy Consumption'!F1617","v":0},{"$f":"'Energy Consumption'!F1618","v":0},null,{"$f":"'Relevant Variables'!F45","v":0},{"$f":"'Relevant Variables'!F75","v":0},{"$f":"'Relevant Variables'!F105","v":0},{"$f":"'Relevant Variables'!F135","v":0},{"$f":"'Relevant Variables'!F165","v":0},{"$f":"'Relevant Variables'!F195","v":0},{"$f":"'Relevant Variables'!F225","v":0},{"$f":"'Relevant Variables'!F255","v":0},{"$f":"'Relevant Variables'!F285","v":0},{"$f":"'Relevant Variables'!F315","v":0},{"$f":"'Relevant Variables'!F345","v":0},{"$f":"'Relevant Variables'!F375","v":0},{"$f":"'Relevant Variables'!F405","v":0},{"$f":"'Relevant Variables'!F435","v":0},{"$f":"'Relevant Variables'!F465","v":0},{"$f":"'Relevant Variables'!F495","v":0},{"$f":"'Relevant Variables'!F525","v":0},{"$f":"'Relevant Variables'!F555","v":0},{"$f":"'Relevant Variables'!F585","v":0},{"$f":"'Relevant Variables'!F615","v":0}]
["2015-04-01",null,{"$f":"'Energy Consumption'!G59","v":0},{"$f":"'Energy Consumption'!G60","v":0},{"$f":"'Energy Consumption'!G141","v":0},{"$f":"'Energy Consumption'!G142","v":0},{"$f":"'Energy Consumption'!G223","v":0},{"$f":"'Energy Consumption'!G224","v":0},{"$f":"'Energy Consumption'!G305","v":0},{"$f":"'Energy Consumption'!G306","v":0},{"$f":"'Energy Consumption'!G387","v":0},{"$f":"'Energy Consumption'!G388","v":0},{"$f":"'Energy Consumption'!G469","v":0},{"$f":"'Energy Consumption'!G470","v":0},{"$f":"'Energy Consumption'!G551","v":0},{"$f":"'Energy Consumption'!G552","v":0},{"$f":"'Energy Consumption'!G633","v":0},{"$f":"'Energy Consumption'!G634","v":0},{"$f":"'Energy Consumption'!G715","v":0},{"$f":"'Energy Consumption'!G716","v":0},{"$f":"'Energy Consumption'!G797","v":0},{"$f":"'Energy Consumption'!G798","v":0},{"$f":"'Energy Consumption'!G879","v":0},{"$f":"'Energy Consumption'!G880","v":0},{"$f":"'Energy Consumption'!G961","v":0},{"$f":"'Energy Consumption'!G962","v":0},{"$f":"'Energy Consumption'!G1043","v":0},{"$f":"'Energy Consumption'!G1044","v":0},{"$f":"'Energy Consumption'!G1125","v":0},{"$f":"'Energy Consumption'!G1126","v":0},{"$f":"'Energy Consumption'!G1207","v":0},{"$f":"'Energy Consumption'!G1208","v":0},{"$f":"'Energy Consumption'!G1289","v":0},{"$f":"'Energy Consumption'!G1290","v":0},{"$f":"'Energy Consumption'!G1371","v":0},{"$f":"'Energy Consumption'!G1372","v":0},{"$f":"'Energy Consumption'!G1453","v":0},{"$f":"'Energy Consumption'!G1454","v":0},{"$f":"'Energy Consumption'!G1535","v":0},{"$f":"'Energy Consumption'!G1536","v":0},{"$f":"'Energy Consumption'!G1617","v":0},{"$f":"'Energy Consumption'!G1618","v":0},null,{"$f":"'Relevant Variables'!G45","v":0},{"$f":"'Relevant Variables'!G75","v":0},{"$f":"'Relevant Variables'!G105","v":0},{"$f":"'Relevant Variables'!G135","v":0},{"$f":"'Relevant Variables'!G165","v":0},{"$f":"'Relevant Variables'!G195","v":0},{"$f":"'Relevant Variables'!G225","v":0},{"$f":"'Relevant Variables'!G255","v":0},{"$f":"'Relevant Variables'!G285","v":0},{"$f":"'Relevant Variables'!G315","v":0},{"$f":"'Relevant Variables'!G345","v":0},{"$f":"'Relevant Variables'!G375","v":0},{"$f":"'Relevant Variables'!G405","v":0},{"$f":"'Relevant Variables'!G435","v":0},{"$f":"'Relevant Variables'!G465","v":0},{"$f":"'Relevant Variables'!G495","v":0},{"$f":"'Relevant Variables'!G525","v":0},{"$f":"'Relevant Variables'!G555","v":0},{"$f":"'Relevant Variables'!G585","v":0},{"$f":"'Relevant Variables'!G615","v":0}]
["2015-05-01",null,{"$f":"'Energy Consumption'!H59","v":0},{"$f":"'Energy Consumption'!H60","v":0},{"$f":"'Energy Consumption'!H141","v":0},{"$f":"'Energy Consumption'!H142","v":0},{"$f":"'Energy Consumption'!H223","v":0},{"$f":"'Energy Consumption'!H224","v":0},{"$f":"'Energy Consumption'!H305","v":0},{"$f":"'Energy Consumption'!H306","v":0},{"$f":"'Energy Consumption'!H387","v":0},{"$f":"'Energy Consumption'!H388","v":0},{"$f":"'Energy Consumption'!H469","v":0},{"$f":"'Energy Consumption'!H470","v":0},{"$f":"'Energy Consumption'!H551","v":0},{"$f":"'Energy Consumption'!H552","v":0},{"$f":"'Energy Consumption'!H633","v":0},{"$f":"'Energy Consumption'!H634","v":0},{"$f":"'Energy Consumption'!H715","v":0},{"$f":"'Energy Consumption'!H716","v":0},{"$f":"'Energy Consumption'!H797","v":0},{"$f":"'Energy Consumption'!H798","v":0},{"$f":"'Energy Consumption'!H879","v":0},{"$f":"'Energy Consumption'!H880","v":0},{"$f":"'Energy Consumption'!H961","v":0},{"$f":"'Energy Consumption'!H962","v":0},{"$f":"'Energy Consumption'!H1043","v":0},{"$f":"'Energy Consumption'!H1044","v":0},{"$f":"'Energy Consumption'!H1125","v":0},{"$f":"'Energy Consumption'!H1126","v":0},{"$f":"'Energy Consumption'!H1207","v":0},{"$f":"'Energy Consumption'!H1208","v":0},{"$f":"'Energy Consumption'!H1289","v":0},{"$f":"'Energy Consumption'!H1290","v":0},{"$f":"'Energy Consumption'!H1371","v":0},{"$f":"'Energy Consumption'!H1372","v":0},{"$f":"'Energy Consumption'!H1453","v":0},{"$f":"'Energy Consumption'!H1454","v":0},{"$f":"'Energy Consumption'!H1535","v":0},{"$f":"'Energy Consumption'!H1536","v":0},{"$f":"'Energy Consumption'!H1617","v":0},{"$f":"'Energy Consumption'!H1618","v":0},null,{"$f":"'Relevant Variables'!H45","v":0},{"$f":"'Relevant Variables'!H75","v":0},{"$f":"'Relevant Variables'!H105","v":0},{"$f":"'Relevant Variables'!H135","v":0},{"$f":"'Relevant Variables'!H165","v":0},{"$f":"'Relevant Variables'!H195","v":0},{"$f":"'Relevant Variables'!H225","v":0},{"$f":"'Relevant Variables'!H255","v":0},{"$f":"'Relevant Variables'!H285","v":0},{"$f":"'Relevant Variables'!H315","v":0},{"$f":"'Relevant Variables'!H345","v":0},{"$f":"'Relevant Variables'!H375","v":0},{"$f":"'Relevant Variables'!H405","v":0},{"$f":"'Relevant Variables'!H435","v":0},{"$f":"'Relevant Variables'!H465","v":0},{"$f":"'Relevant Variables'!H495","v":0},{"$f":"'Relevant Variables'!H525","v":0},{"$f":"'Relevant Variables'!H555","v":0},{"$f":"'Relevant Variables'!H585","v":0},{"$f":"'Relevant Variables'!H615","v":0}]
["2015-06-01",null,{"$f":"'Energy Consumption'!I59","v":0},{"$f":"'Energy Consumption'!I60","v":0},{"$f":"'Energy Consumption'!I141","v":0},{"$f":"'Energy Consumption'!I142","v":0},{"$f":"'Energy Consumption'!I223","v":0},{"$f":"'Energy Consumption'!I224","v":0},{"$f":"'Energy Consumption'!I305","v":0},{"$f":"'Energy Consumption'!I306","v":0},{"$f":"'Energy Consumption'!I387","v":0},{"$f":"'Energy Consumption'!I388","v":0},{"$f":"'Energy Consumption'!I469","v":0},{"$f":"'Energy Consumption'!I470","v":0},{"$f":"'Energy Consumption'!I551","v":0},{"$f":"'Energy Consumption'!I552","v":0},{"$f":"'Energy Consumption'!I633","v":0},{"$f":"'Energy Consumption'!I634","v":0},{"$f":"'Energy Consumption'!I715","v":0},{"$f":"'Energy Consumption'!I716","v":0},{"$f":"'Energy Consumption'!I797","v":0},{"$f":"'Energy Consumption'!I798","v":0},{"$f":"'Energy Consumption'!I879","v":0},{"$f":"'Energy Consumption'!I880","v":0},{"$f":"'Energy Consumption'!I961","v":0},{"$f":"'Energy Consumption'!I962","v":0},{"$f":"'Energy Consumption'!I1043","v":0},{"$f":"'Energy Consumption'!I1044","v":0},{"$f":"'Energy Consumption'!I1125","v":0},{"$f":"'Energy Consumption'!I1126","v":0},{"$f":"'Energy Consumption'!I1207","v":0},{"$f":"'Energy Consumption'!I1208","v":0},{"$f":"'Energy Consumption'!I1289","v":0},{"$f":"'Energy Consumption'!I1290","v":0},{"$f":"'Energy Consumption'!I1371","v":0},{"$f":"'Energy Consumption'!I1372","v":0},{"$f":"'Energy Consumption'!I1453","v":0},{"$f":"'Energy Consumption'!I1454","v":0},{"$f":"'Energy Consumption'!I1535","v":0},{"$f":"'Energy Consumption'!I1536","v":0},{"$f":"'Energy Consumption'!I1617","v":0},{"$f":"'Energy Consumption'!I1618","v":0},null,{"$f":"'Relevant Variables'!I45","v":0},{"$f":"'Relevant Variables'!I75","v":0},{"$f":"'Relevant Variables'!I105","v":0},{"$f":"'Relevant Variables'!I135","v":0},{"$f":"'Relevant Variables'!I165","v":0},{"$f":"'Relevant Variables'!I195","v":0},{"$f":"'Relevant Variables'!I225","v":0},{"$f":"'Relevant Variables'!I255","v":0},{"$f":"'Relevant Variables'!I285","v":0},{"$f":"'Relevant Variables'!I315","v":0},{"$f":"'Relevant Variables'!I345","v":0},{"$f":"'Relevant Variables'!I375","v":0},{"$f":"'Relevant Variables'!I405","v":0},{"$f":"'Relevant Variables'!I435","v":0},{"$f":"'Relevant Variables'!I465","v":0},{"$f":"'Relevant Variables'!I495","v":0},{"$f":"'Relevant Variables'!I525","v":0},{"$f":"'Relevant Variables'!I555","v":0},{"$f":"'Relevant Variables'!I585","v":0},{"$f":"'Relevant Variables'!I615","v":0}]
["2015-07-01",null,{"$f":"'Energy Consumption'!J59","v":0},{"$f":"'Energy Consumption'!J60","v":0},{"$f":"'Energy Consumption'!J141","v":0},{"$f":"'Energy Consumption'!J142","v":0},{"$f":"'Energy Consumption'!J223","v":0},{"$f":"'Energy Consumption'!J224","v":0},{"$f":"'Energy Consumption'!J305","v":0},{"$f":"'Energy Consumption'!J306","v":0},{"$f":"'Energy Consumption'!J387","v":0},{"$f":"'Energy Consumption'!J388","v":0},{"$f":"'Energy Consumption'!J469","v":0},{"$f":"'Energy Consumption'!J470","v":0},{"$f":"'Energy Consumption'!J551","v":0},{"$f":"'Energy Consumption'!J552","v":0},{"$f":"'Energy Consumption'!J633","v":0},{"$f":"'Energy Consumption'!J634","v":0},{"$f":"'Energy Consumption'!J715","v":0},{"$f":"'Energy Consumption'!J716","v":0},{"$f":"'Energy Consumption'!J797","v":0},{"$f":"'Energy Consumption'!J798","v":0},{"$f":"'Energy Consumption'!J879","v":0},{"$f":"'Energy Consumption'!J880","v":0},{"$f":"'Energy Consumption'!J961","v":0},{"$f":"'Energy Consumption'!J962","v":0},{"$f":"'Energy Consumption'!J1043","v":0},{"$f":"'Energy Consumption'!J1044","v":0},{"$f":"'Energy Consumption'!J1125","v":0},{"$f":"'Energy Consumption'!J1126","v":0},{"$f":"'Energy Consumption'!J1207","v":0},{"$f":"'Energy Consumption'!J1208","v":0},{"$f":"'Energy Consumption'!J1289","v":0},{"$f":"'Energy Consumption'!J1290","v":0},{"$f":"'Energy Consumption'!J1371","v":0},{"$f":"'Energy Consumption'!J1372","v":0},{"$f":"'Energy Consumption'!J1453","v":0},{"$f":"'Energy Consumption'!J1454","v":0},{"$f":"'Energy Consumption'!J1535","v":0},{"$f":"'Energy Consumption'!J1536","v":0},{"$f":"'Energy Consumption'!J1617","v":0},{"$f":"'Energy Consumption'!J1618","v":0},null,{"$f":"'Relevant Variables'!J45","v":0},{"$f":"'Relevant Variables'!J75","v":0},{"$f":"'Relevant Variables'!J105","v":0},{"$f":"'Relevant Variables'!J135","v":0},{"$f":"'Relevant Variables'!J165","v":0},{"$f":"'Relevant Variables'!J195","v":0},{"$f":"'Relevant Variables'!J225","v":0},{"$f":"'Relevant Variables'!J255","v":0},{"$f":"'Relevant Variables'!J285","v":0},{"$f":"'Relevant Variables'!J315","v":0},{"$f":"'Relevant Variables'!J345","v":0},{"$f":"'Relevant Variables'!J375","v":0},{"$f":"'Relevant Variables'!J405","v":0},{"$f":"'Relevant Variables'!J435","v":0},{"$f":"'Relevant Variables'!J465","v":0},{"$f":"'Relevant Variables'!J495","v":0},{"$f":"'Relevant Variables'!J525","v":0},{"$f":"'Relevant Variables'!J555","v":0},{"$f":"'Relevant Variables'!J585","v":0},{"$f":"'Relevant Variables'!J615","v":0}]
["2015-08-01",null,{"$f":"'Energy Consumption'!K59","v":0},{"$f":"'Energy Consumption'!K60","v":0},{"$f":"'Energy Consumption'!K141","v":0},{"$f":"'Energy Consumption'!K142","v":0},{"$f":"'Energy Consumption'!K223","v":0},{"$f":"'Energy Consumption'!K224","v":0},{"$f":"'Energy Consumption'!K305","v":0},{"$f":"'Energy Consumption'!K306","v":0},{"$f":"'Energy Consumption'!K387","v":0},{"$f":"'Energy Consumption'!K388","v":0},{"$f":"'Energy Consumption'!K469","v":0},{"$f":"'Energy Consumption'!K470","v":0},{"$f":"'Energy Consumption'!K551","v":0},{"$f":"'Energy Consumption'!K552","v":0},{"$f":"'Energy Consumption'!K633","v":0},{"$f":"'Energy Consumption'!K634","v":0},{"$f":"'Energy Consumption'!K715","v":0},{"$f":"'Energy Consumption'!K716","v":0},{"$f":"'Energy Consumption'!K797","v":0},{"$f":"'Energy Consumption'!K798","v":0},{"$f":"'Energy Consumption'!K879","v":0},{"$f":"'Energy Consumption'!K880","v":0},{"$f":"'Energy Consumption'!K961","v":0},{"$f":"'Energy Consumption'!K962","v":0},{"$f":"'Energy Consumption'!K1043","v":0},{"$f":"'Energy Consumption'!K1044","v":0},{"$f":"'Energy Consumption'!K1125","v":0},{"$f":"'Energy Consumption'!K1126","v":0},{"$f":"'Energy Consumption'!K1207","v":0},{"$f":"'Energy Consumption'!K1208","v":0},{"$f":"'Energy Consumption'!K1289","v":0},{"$f":"'Energy Consumption'!K1290","v":0},{"$f":"'Energy Consumption'!K1371","v":0},{"$f":"'Energy Consumption'!K1372","v":0},{"$f":"'Energy Consumption'!K1453","v":0},{"$f":"'Energy Consumption'!K1454","v":0},{"$f":"'Energy Consumption'!K1535","v":0},{"$f":"'Energy Consumption'!K1536","v":0},{"$f":"'Energy Consumption'!K1617","v":0},{"$f":"'Energy Consumption'!K1618","v":0},null,{"$f":"'Relevant Variables'!K45","v":0},{"$f":"'Relevant Variables'!K75","v":0},{"$f":"'Relevant Variables'!K105","v":0},{"$f":"'Relevant Variables'!K135","v":0},{"$f":"'Relevant Variables'!K165","v":0},{"$f":"'Relevant Variables'!K195","v":0},{"$f":"'Relevant Variables'!K225","v":0},{"$f":"'Relevant Variables'!K255","v":0},{"$f":"'Relevant Variables'!K285","v":0},{"$f":"'Relevant Variables'!K315","v":0},{"$f":"'Relevant Variables'!K345","v":0},{"$f":"'Relevant Variables'!K375","v":0},{"$f":"'Relevant Variables'!K405","v":0},{"$f":"'Relevant Variables'!K435","v":0},{"$f":"'Relevant Variables'!K465","v":0},{"$f":"'Relevant Variables'!K495","v":0},{"$f":"'Relevant Variables'!K525","v":0},{"$f":"'Relevant Variables'!K555","v":0},{"$f":"'Relevant Variables'!K585","v":0},{"$f":"'Relevant Variables'!K615","v":0}]
["2015-09-01",null,{"$f":"'Energy Consumption'!L59","v":0},{"$f":"'Energy Consumption'!L60","v":0},{"$f":"'Energy Consumption'!L141","v":0},{"$f":"'Energy Consumption'!L142","v":0},{"$f":"'Energy Consumption'!L223","v":0},{"$f":"'Energy Consumption'!L224","v":0},{"$f":"'Energy Consumption'!L305","v":0},{"$f":"'Energy Consumption'!L306","v":0},{"$f":"'Energy Consumption'!L387","v":0},{"$f":"'Energy Consumption'!L388","v":0},{"$f":"'Energy Consumption'!L469","v":0},{"$f":"'Energy Consumption'!L470","v":0},{"$f":"'Energy Consumption'!L551","v":0},{"$f":"'Energy Consumption'!L552","v":0},{"$f":"'Energy Consumption'!L633","v":0},{"$f":"'Energy Consumption'!L634","v":0},{"$f":"'Energy Consumption'!L715","v":0},{"$f":"'Energy Consumption'!L716","v":0},{"$f":"'Energy Consumption'!L797","v":0},{"$f":"'Energy Consumption'!L798","v":0},{"$f":"'Energy Consumption'!L879","v":0},{"$f":"'Energy Consumption'!L880","v":0},{"$f":"'Energy Consumption'!L961","v":0},{"$f":"'Energy Consumption'!L962","v":0},{"$f":"'Energy Consumption'!L1043","v":0},{"$f":"'Energy Consumption'!L1044","v":0},{"$f":"'Energy Consumption'!L1125","v":0},{"$f":"'Energy Consumption'!L1126","v":0},{"$f":"'Energy Consumption'!L1207","v":0},{"$f":"'Energy Consumption'!L1208","v":0},{"$f":"'Energy Consumption'!L1289","v":0},{"$f":"'Energy Consumption'!L1290","v":0},{"$f":"'Energy Consumption'!L1371","v":0},{"$f":"'Energy Consumption'!L1372","v":0},{"$f":"'Energy Consumption'!L1453","v":0},{"$f":"'Energy Consumption'!L1454","v":0},{"$f":"'Energy Consumption'!L1535","v":0},{"$f":"'Energy Consumption'!L1536","v":0},{"$f":"'Energy Consumption'!L1617","v":0},{"$f":"'Energy Consumption'!L1618","v":0},null,{"$f":"'Relevant Variables'!L45","v":0},{"$f":"'Relevant Variables'!L75","v":0},{"$f":"'Relevant Variables'!L105","v":0},{"$f":"'Relevant Variables'!L135","v":0},{"$f":"'Relevant Variables'!L165","v":0},{"$f":"'Relevant Variables'!L195","v":0},{"$f":"'Relevant Variables'!L225","v":0},{"$f":"'Relevant Variables'!L255","v":0},{"$f":"'Relevant Variables'!L285","v":0},{"$f":"'Relevant Variables'!L315","v":0},{"$f":"'Relevant Variables'!L345","v":0},{"$f":"'Relevant Variables'!L375","v":0},{"$f":"'Relevant Variables'!L405","v":0},{"$f":"'Relevant Variables'!L435","v":0},{"$f":"'Relevant Variables'!L465","v":0},{"$f":"'Relevant Variables'!L495","v":0},{"$f":"'Relevant Variables'!L525","v":0},{"$f":"'Relevant Variables'!L555","v":0},{"$f":"'Relevant Variables'!L585","v":0},{"$f":"'Relevant Variables'!L615","v":0}]
["2015-10-01",null,{"$f":"'Energy Consumption'!M59","v":0},{"$f":"'Energy Consumption'!M60","v":0},{"$f":"'Energy Consumption'!M141","v":0},{"$f":"'Energy Consumption'!M142","v":0},{"$f":"'Energy Consumption'!M223","v":0},{"$f":"'Energy Consumption'!M224","v":0},{"$f":"'Energy Consumption'!M305","v":0},{"$f":"'Energy Consumption'!M306","v":0},{"$f":"'Energy Consumption'!M387","v":0},{"$f":"'Energy Consumption'!M388","v":0},{"$f":"'Energy Consumption'!M469","v":0},{"$f":"'Energy Consumption'!M470","v":0},{"$f":"'Energy Consumption'!M551","v":0},{"$f":"'Energy Consumption'!M552","v":0},{"$f":"'Energy Consumption'!M633","v":0},{"$f":"'Energy Consumption'!M634","v":0},{"$f":"'Energy Consumption'!M715","v":0},{"$f":"'Energy Consumption'!M716","v":0},{"$f":"'Energy Consumption'!M797","v":0},{"$f":"'Energy Consumption'!M798","v":0},{"$f":"'Energy Consumption'!M879","v":0},{"$f":"'Energy Consumption'!M880","v":0},{"$f":"'Energy Consumption'!M961","v":0},{"$f":"'Energy Consumption'!M962","v":0},{"$f":"'Energy Consumption'!M1043","v":0},{"$f":"'Energy Consumption'!M1044","v":0},{"$f":"'Energy Consumption'!M1125","v":0},{"$f":"'Energy Consumption'!M1126","v":0},{"$f":"'Energy Consumption'!M1207","v":0},{"$f":"'Energy Consumption'!M1208","v":0},{"$f":"'Energy Consumption'!M1289","v":0},{"$f":"'Energy Consumption'!M1290","v":0},{"$f":"'Energy Consumption'!M1371","v":0},{"$f":"'Energy Consumption'!M1372","v":0},{"$f":"'Energy Consumption'!M1453","v":0},{"$f":"'Energy Consumption'!M1454","v":0},{"$f":"'Energy Consumption'!M1535","v":0},{"$f":"'Energy Consumption'!M1536","v":0},{"$f":"'Energy Consumption'!M1617","v":0},{"$f":"'Energy Consumption'!M1618","v":0},null,{"$f":"'Relevant Variables'!M45","v":0},{"$f":"'Relevant Variables'!M75","v":0},{"$f":"'Relevant Variables'!M105","v":0},{"$f":"'Relevant Variables'!M135","v":0},{"$f":"'Relevant Variables'!M165","v":0},{"$f":"'Relevant Variables'!M195","v":0},{"$f":"'Relevant Variables'!M225","v":0},{"$f":"'Relevant Variables'!M255","v":0},{"$f":"'Relevant Variables'!M285","v":0},{"$f":"'Relevant Variables'!M315","v":0},{"$f":"'Relevant Variables'!M345","v":0},{"$f":"'Relevant Variables'!M375","v":0},{"$f":"'Relevant Variables'!M405","v":0},{"$f":"'Relevant Variables'!M435","v":0},{"$f":"'Relevant Variables'!M465","v":0},{"$f":"'Relevant Variables'!M495","v":0},{"$f":"'Relevant Variables'!M525","v":0},{"$f":"'Relevant Variables'!M555","v":0},{"$f":"'Relevant Variables'!M585","v":0},{"$f":"'Relevant Variables'!M615","v":0}]
[{"$f":"DATE(YEAR(A141),MONTH(A141)+1,1)","v":"2015-11-01"},null,{"$f":"'Energy Consumption'!N59","v":0},{"$f":"'Energy Consumption'!N60","v":0},{"$f":"'Energy Consumption'!N141","v":0},{"$f":"'Energy Consumption'!N142","v":0},{"$f":"'Energy Consumption'!N223","v":0},{"$f":"'Energy Consumption'!N224","v":0},{"$f":"'Energy Consumption'!N305","v":0},{"$f":"'Energy Consumption'!N306","v":0},{"$f":"'Energy Consumption'!N387","v":0},{"$f":"'Energy Consumption'!N388","v":0},{"$f":"'Energy Consumption'!N469","v":0},{"$f":"'Energy Consumption'!N470","v":0},{"$f":"'Energy Consumption'!N551","v":0},{"$f":"'Energy Consumption'!N552","v":0},{"$f":"'Energy Consumption'!N633","v":0},{"$f":"'Energy Consumption'!N634","v":0},{"$f":"'Energy Consumption'!N715","v":0},{"$f":"'Energy Consumption'!N716","v":0},{"$f":"'Energy Consumption'!N797","v":0},{"$f":"'Energy Consumption'!N798","v":0},{"$f":"'Energy Consumption'!N879","v":0},{"$f":"'Energy Consumption'!N880","v":0},{"$f":"'Energy Consumption'!N961","v":0},{"$f":"'Energy Consumption'!N962","v":0},{"$f":"'Energy Consumption'!N1043","v":0},{"$f":"'Energy Consumption'!N1044","v":0},{"$f":"'Energy Consumption'!N1125","v":0},{"$f":"'Energy Consumption'!N1126","v":0},{"$f":"'Energy Consumption'!N1207","v":0},{"$f":"'Energy Consumption'!N1208","v":0},{"$f":"'Energy Consumption'!N1289","v":0},{"$f":"'Energy Consumption'!N1290","v":0},{"$f":"'Energy Consumption'!N1371","v":0},{"$f":"'Energy Consumption'!N1372","v":0},{"$f":"'Energy Consumption'!N1453","v":0},{"$f":"'Energy Consumption'!N1454","v":0},{"$f":"'Energy Consumption'!N1535","v":0},{"$f":"'Energy Consumption'!N1536","v":0},{"$f":"'Energy Consumption'!N1617","v":0},{"$f":"'Energy Consumption'!N1618","v":0},null,{"$f":"'Relevant Variables'!N45","v":0},{"$f":"'Relevant Variables'!N75","v":0},{"$f":"'Relevant Variables'!N105","v":0},{"$f":"'Relevant Variables'!N135","v":0},{"$f":"'Relevant Variables'!N165","v":0},{"$f":"'Relevant Variables'!N195","v":0},{"$f":"'Relevant Variables'!N225","v":0},{"$f":"'Relevant Variables'!N255","v":0},{"$f":"'Relevant Variables'!N285","v":0},{"$f":"'Relevant Variables'!N315","v":0},{"$f":"'Relevant Variables'!N345","v":0},{"$f":"'Relevant Variables'!N375","v":0},{"$f":"'Relevant Variables'!N405","v":0},{"$f":"'Relevant Variables'!N435","v":0},{"$f":"'Relevant Variables'!N465","v":0},{"$f":"'Relevant Variables'!N495","v":0},{"$f":"'Relevant Variables'!N525","v":0},{"$f":"'Relevant Variables'!N555","v":0},{"$f":"'Relevant Variables'!N585","v":0},{"$f":"'Relevant Variables'!N615","v":0}]
["2015-12-01",null,{"$f":"'Energy Consumption'!O59","v":0},{"$f":"'Energy Consumption'!O60","v":0},{"$f":"'Energy Consumption'!O141","v":0},{"$f":"'Energy Consumption'!O142","v":0},{"$f":"'Energy Consumption'!O223","v":0},{"$f":"'Energy Consumption'!O224","v":0},{"$f":"'Energy Consumption'!O305","v":0},{"$f":"'Energy Consumption'!O306","v":0},{"$f":"'Energy Consumption'!O387","v":0},{"$f":"'Energy Consumption'!O388","v":0},{"$f":"'Energy Consumption'!O469","v":0},{"$f":"'Energy Consumption'!O470","v":0},{"$f":"'Energy Consumption'!O551","v":0},{"$f":"'Energy Consumption'!O552","v":0},{"$f":"'Energy Consumption'!O633","v":0},{"$f":"'Energy Consumption'!O634","v":0},{"$f":"'Energy Consumption'!O715","v":0},{"$f":"'Energy Consumption'!O716","v":0},{"$f":"'Energy Consumption'!O797","v":0},{"$f":"'Energy Consumption'!O798","v":0},{"$f":"'Energy Consumption'!O879","v":0},{"$f":"'Energy Consumption'!O880","v":0},{"$f":"'Energy Consumption'!O961","v":0},{"$f":"'Energy Consumption'!O962","v":0},{"$f":"'Energy Consumption'!O1043","v":0},{"$f":"'Energy Consumption'!O1044","v":0},{"$f":"'Energy Consumption'!O1125","v":0},{"$f":"'Energy Consumption'!O1126","v":0},{"$f":"'Energy Consumption'!O1207","v":0},{"$f":"'Energy Consumption'!O1208","v":0},{"$f":"'Energy Consumption'!O1289","v":0},{"$f":"'Energy Consumption'!O1290","v":0},{"$f":"'Energy Consumption'!O1371","v":0},{"$f":"'Energy Consumption'!O1372","v":0},{"$f":"'Energy Consumption'!O1453","v":0},{"$f":"'Energy Consumption'!O1454","v":0},{"$f":"'Energy Consumption'!O1535","v":0},{"$f":"'Energy Consumption'!O1536","v":0},{"$f":"'Energy Consumption'!O1617","v":0},{"$f":"'Energy Consumption'!O1618","v":0},null,{"$f":"'Relevant Variables'!O45","v":0},{"$f":"'Relevant Variables'!O75","v":0},{"$f":"'Relevant Variables'!O105","v":0},{"$f":"'Relevant Variables'!O135","v":0},{"$f":"'Relevant Variables'!O165","v":0},{"$f":"'Relevant Variables'!O195","v":0},{"$f":"'Relevant Variables'!O225","v":0},{"$f":"'Relevant Variables'!O255","v":0},{"$f":"'Relevant Variables'!O285","v":0},{"$f":"'Relevant Variables'!O315","v":0},{"$f":"'Relevant Variables'!O345","v":0},{"$f":"'Relevant Variables'!O375","v":0},{"$f":"'Relevant Variables'!O405","v":0},{"$f":"'Relevant Variables'!O435","v":0},{"$f":"'Relevant Variables'!O465","v":0},{"$f":"'Relevant Variables'!O495","v":0},{"$f":"'Relevant Variables'!O525","v":0},{"$f":"'Relevant Variables'!O555","v":0},{"$f":"'Relevant Variables'!O585","v":0},{"$f":"'Relevant Variables'!O615","v":0}]
["2016-01-01",null,{"$f":"'Energy Consumption'!D57","v":0},{"$f":"'Energy Consumption'!D58","v":0},{"$f":"'Energy Consumption'!D139","v":0},{"$f":"'Energy Consumption'!D140","v":0},{"$f":"'Energy Consumption'!D221","v":0},{"$f":"'Energy Consumption'!D222","v":0},{"$f":"'Energy Consumption'!D303","v":0},{"$f":"'Energy Consumption'!D304","v":0},{"$f":"'Energy Consumption'!D385","v":0},{"$f":"'Energy Consumption'!D386","v":0},{"$f":"'Energy Consumption'!D467","v":0},{"$f":"'Energy Consumption'!D468","v":0},{"$f":"'Energy Consumption'!D549","v":0},{"$f":"'Energy Consumption'!D550","v":0},{"$f":"'Energy Consumption'!D631","v":0},{"$f":"'Energy Consumption'!D632","v":0},{"$f":"'Energy Consumption'!D713","v":0},{"$f":"'Energy Consumption'!D714","v":0},{"$f":"'Energy Consumption'!D795","v":0},{"$f":"'Energy Consumption'!D796","v":0},{"$f":"'Energy Consumption'!D877","v":0},{"$f":"'Energy Consumption'!D878","v":0},{"$f":"'Energy Consumption'!D959","v":0},{"$f":"'Energy Consumption'!D960","v":0},{"$f":"'Energy Consumption'!D1041","v":0},{"$f":"'Energy Consumption'!D1042","v":0},{"$f":"'Energy Consumption'!D1123","v":0},{"$f":"'Energy Consumption'!D1124","v":0},{"$f":"'Energy Consumption'!D1205","v":0},{"$f":"'Energy Consumption'!D1206","v":0},{"$f":"'Energy Consumption'!D1287","v":0},{"$f":"'Energy Consumption'!D1288","v":0},{"$f":"'Energy Consumption'!D1369","v":0},{"$f":"'Energy Consumption'!D1370","v":0},{"$f":"'Energy Consumption'!D1451","v":0},{"$f":"'Energy Consumption'!D1452","v":0},{"$f":"'Energy Consumption'!D1533","v":0},{"$f":"'Energy Consumption'!D1534","v":0},{"$f":"'Energy Consumption'!D1615","v":0},{"$f":"'Energy Consumption'!D1616","v":0},null,{"$f":"'Relevant Variables'!D44","v":0},{"$f":"'Relevant Variables'!D74","v":0},{"$f":"'Relevant Variables'!D104","v":0},{"$f":"'Relevant Variables'!D134","v":0},{"$f":"'Relevant Variables'!D164","v":0},{"$f":"'Relevant Variables'!D194","v":0},{"$f":"'Relevant Variables'!D224","v":0},{"$f":"'Relevant Variables'!D254","v":0},{"$f":"'Relevant Variables'!D284","v":0},{"$f":"'Relevant Variables'!D314","v":0},{"$f":"'Relevant Variables'!D344","v":0},{"$f":"'Relevant Variables'!D374","v":0},{"$f":"'Relevant Variables'!D404","v":0},{"$f":"'Relevant Variables'!D434","v":0},{"$f":"'Relevant Variables'!D464","v":0},{"$f":"'Relevant Variables'!D494","v":0},{"$f":"'Relevant Variables'!D524","v":0},{"$f":"'Relevant Variables'!D554","v":0},{"$f":"'Relevant Variables'!D584","v":0},{"$f":"'Relevant Variables'!D614","v":0}]
["2016-02-01",null,{"$f":"'Energy Consumption'!E57","v":0},{"$f":"'Energy Consumption'!E58","v":0},{"$f":"'Energy Consumption'!E139","v":0},{"$f":"'Energy Consumption'!E140","v":0},{"$f":"'Energy Consumption'!E221","v":0},{"$f":"'Energy Consumption'!E222","v":0},{"$f":"'Energy Consumption'!E303","v":0},{"$f":"'Energy Consumption'!E304","v":0},{"$f":"'Energy Consumption'!E385","v":0},{"$f":"'Energy Consumption'!E386","v":0},{"$f":"'Energy Consumption'!E467","v":0},{"$f":"'Energy Consumption'!E468","v":0},{"$f":"'Energy Consumption'!E549","v":0},{"$f":"'Energy Consumption'!E550","v":0},{"$f":"'Energy Consumption'!E631","v":0},{"$f":"'Energy Consumption'!E632","v":0},{"$f":"'Energy Consumption'!E713","v":0},{"$f":"'Energy Consumption'!E714","v":0},{"$f":"'Energy Consumption'!E795","v":0},{"$f":"'Energy Consumption'!E796","v":0},{"$f":"'Energy Consumption'!E877","v":0},{"$f":"'Energy Consumption'!E878","v":0},{"$f":"'Energy Consumption'!E959","v":0},{"$f":"'Energy Consumption'!E960","v":0},{"$f":"'Energy Consumption'!E1041","v":0},{"$f":"'Energy Consumption'!E1042","v":0},{"$f":"'Energy Consumption'!E1123","v":0},{"$f":"'Energy Consumption'!E1124","v":0},{"$f":"'Energy Consumption'!E1205","v":0},{"$f":"'Energy Consumption'!E1206","v":0},{"$f":"'Energy Consumption'!E1287","v":0},{"$f":"'Energy Consumption'!E1288","v":0},{"$f":"'Energy Consumption'!E1369","v":0},{"$f":"'Energy Consumption'!E1370","v":0},{"$f":"'Energy Consumption'!E1451","v":0},{"$f":"'Energy Consumption'!E1452","v":0},{"$f":"'Energy Consumption'!E1533","v":0},{"$f":"'Energy Consumption'!E1534","v":0},{"$f":"'Energy Consumption'!E1615","v":0},{"$f":"'Energy Consumption'!E1616","v":0},null,{"$f":"'Relevant Variables'!E44","v":0},{"$f":"'Relevant Variables'!E74","v":0},{"$f":"'Relevant Variables'!E104","v":0},{"$f":"'Relevant Variables'!E134","v":0},{"$f":"'Relevant Variables'!E164","v":0},{"$f":"'Relevant Variables'!E194","v":0},{"$f":"'Relevant Variables'!E224","v":0},{"$f":"'Relevant Variables'!E254","v":0},{"$f":"'Relevant Variables'!E284","v":0},{"$f":"'Relevant Variables'!E314","v":0},{"$f":"'Relevant Variables'!E344","v":0},{"$f":"'Relevant Variables'!E374","v":0},{"$f":"'Relevant Variables'!E404","v":0},{"$f":"'Relevant Variables'!E434","v":0},{"$f":"'Relevant Variables'!E464","v":0},{"$f":"'Relevant Variables'!E494","v":0},{"$f":"'Relevant Variables'!E524","v":0},{"$f":"'Relevant Variables'!E554","v":0},{"$f":"'Relevant Variables'!E584","v":0},{"$f":"'Relevant Variables'!E614","v":0}]
["2016-03-01",null,{"$f":"'Energy Consumption'!F57","v":0},{"$f":"'Energy Consumption'!F58","v":0},{"$f":"'Energy Consumption'!F139","v":0},{"$f":"'Energy Consumption'!F140","v":0},{"$f":"'Energy Consumption'!F221","v":0},{"$f":"'Energy Consumption'!F222","v":0},{"$f":"'Energy Consumption'!F303","v":0},{"$f":"'Energy Consumption'!F304","v":0},{"$f":"'Energy Consumption'!F385","v":0},{"$f":"'Energy Consumption'!F386","v":0},{"$f":"'Energy Consumption'!F467","v":0},{"$f":"'Energy Consumption'!F468","v":0},{"$f":"'Energy Consumption'!F549","v":0},{"$f":"'Energy Consumption'!F550","v":0},{"$f":"'Energy Consumption'!F631","v":0},{"$f":"'Energy Consumption'!F632","v":0},{"$f":"'Energy Consumption'!F713","v":0},{"$f":"'Energy Consumption'!F714","v":0},{"$f":"'Energy Consumption'!F795","v":0},{"$f":"'Energy Consumption'!F796","v":0},{"$f":"'Energy Consumption'!F877","v":0},{"$f":"'Energy Consumption'!F878","v":0},{"$f":"'Energy Consumption'!F959","v":0},{"$f":"'Energy Consumption'!F960","v":0},{"$f":"'Energy Consumption'!F1041","v":0},{"$f":"'Energy Consumption'!F1042","v":0},{"$f":"'Energy Consumption'!F1123","v":0},{"$f":"'Energy Consumption'!F1124","v":0},{"$f":"'Energy Consumption'!F1205","v":0},{"$f":"'Energy Consumption'!F1206","v":0},{"$f":"'Energy Consumption'!F1287","v":0},{"$f":"'Energy Consumption'!F1288","v":0},{"$f":"'Energy Consumption'!F1369","v":0},{"$f":"'Energy Consumption'!F1370","v":0},{"$f":"'Energy Consumption'!F1451","v":0},{"$f":"'Energy Consumption'!F1452","v":0},{"$f":"'Energy Consumption'!F1533","v":0},{"$f":"'Energy Consumption'!F1534","v":0},{"$f":"'Energy Consumption'!F1615","v":0},{"$f":"'Energy Consumption'!F1616","v":0},null,{"$f":"'Relevant Variables'!F44","v":0},{"$f":"'Relevant Variables'!F74","v":0},{"$f":"'Relevant Variables'!F104","v":0},{"$f":"'Relevant Variables'!F134","v":0},{"$f":"'Relevant Variables'!F164","v":0},{"$f":"'Relevant Variables'!F194","v":0},{"$f":"'Relevant Variables'!F224","v":0},{"$f":"'Relevant Variables'!F254","v":0},{"$f":"'Relevant Variables'!F284","v":0},{"$f":"'Relevant Variables'!F314","v":0},{"$f":"'Relevant Variables'!F344","v":0},{"$f":"'Relevant Variables'!F374","v":0},{"$f":"'Relevant Variables'!F404","v":0},{"$f":"'Relevant Variables'!F434","v":0},{"$f":"'Relevant Variables'!F464","v":0},{"$f":"'Relevant Variables'!F494","v":0},{"$f":"'Relevant Variables'!F524","v":0},{"$f":"'Relevant Variables'!F554","v":0},{"$f":"'Relevant Variables'!F584","v":0},{"$f":"'Relevant Variables'!F614","v":0}]
["2016-04-01",null,{"$f":"'Energy Consumption'!G57","v":0},{"$f":"'Energy Consumption'!G58","v":0},{"$f":"'Energy Consumption'!G139","v":0},{"$f":"'Energy Consumption'!G140","v":0},{"$f":"'Energy Consumption'!G221","v":0},{"$f":"'Energy Consumption'!G222","v":0},{"$f":"'Energy Consumption'!G303","v":0},{"$f":"'Energy Consumption'!G304","v":0},{"$f":"'Energy Consumption'!G385","v":0},{"$f":"'Energy Consumption'!G386","v":0},{"$f":"'Energy Consumption'!G467","v":0},{"$f":"'Energy Consumption'!G468","v":0},{"$f":"'Energy Consumption'!G549","v":0},{"$f":"'Energy Consumption'!G550","v":0},{"$f":"'Energy Consumption'!G631","v":0},{"$f":"'Energy Consumption'!G632","v":0},{"$f":"'Energy Consumption'!G713","v":0},{"$f":"'Energy Consumption'!G714","v":0},{"$f":"'Energy Consumption'!G795","v":0},{"$f":"'Energy Consumption'!G796","v":0},{"$f":"'Energy Consumption'!G877","v":0},{"$f":"'Energy Consumption'!G878","v":0},{"$f":"'Energy Consumption'!G959","v":0},{"$f":"'Energy Consumption'!G960","v":0},{"$f":"'Energy Consumption'!G1041","v":0},{"$f":"'Energy Consumption'!G1042","v":0},{"$f":"'Energy Consumption'!G1123","v":0},{"$f":"'Energy Consumption'!G1124","v":0},{"$f":"'Energy Consumption'!G1205","v":0},{"$f":"'Energy Consumption'!G1206","v":0},{"$f":"'Energy Consumption'!G1287","v":0},{"$f":"'Energy Consumption'!G1288","v":0},{"$f":"'Energy Consumption'!G1369","v":0},{"$f":"'Energy Consumption'!G1370","v":0},{"$f":"'Energy Consumption'!G1451","v":0},{"$f":"'Energy Consumption'!G1452","v":0},{"$f":"'Energy Consumption'!G1533","v":0},{"$f":"'Energy Consumption'!G1534","v":0},{"$f":"'Energy Consumption'!G1615","v":0},{"$f":"'Energy Consumption'!G1616","v":0},null,{"$f":"'Relevant Variables'!G44","v":0},{"$f":"'Relevant Variables'!G74","v":0},{"$f":"'Relevant Variables'!G104","v":0},{"$f":"'Relevant Variables'!G134","v":0},{"$f":"'Relevant Variables'!G164","v":0},{"$f":"'Relevant Variables'!G194","v":0},{"$f":"'Relevant Variables'!G224","v":0},{"$f":"'Relevant Variables'!G254","v":0},{"$f":"'Relevant Variables'!G284","v":0},{"$f":"'Relevant Variables'!G314","v":0},{"$f":"'Relevant Variables'!G344","v":0},{"$f":"'Relevant Variables'!G374","v":0},{"$f":"'Relevant Variables'!G404","v":0},{"$f":"'Relevant Variables'!G434","v":0},{"$f":"'Relevant Variables'!G464","v":0},{"$f":"'Relevant Variables'!G494","v":0},{"$f":"'Relevant Variables'!G524","v":0},{"$f":"'Relevant Variables'!G554","v":0},{"$f":"'Relevant Variables'!G584","v":0},{"$f":"'Relevant Variables'!G614","v":0}]
["2016-05-01",null,{"$f":"'Energy Consumption'!H57","v":0},{"$f":"'Energy Consumption'!H58","v":0},{"$f":"'Energy Consumption'!H139","v":0},{"$f":"'Energy Consumption'!H140","v":0},{"$f":"'Energy Consumption'!H221","v":0},{"$f":"'Energy Consumption'!H222","v":0},{"$f":"'Energy Consumption'!H303","v":0},{"$f":"'Energy Consumption'!H304","v":0},{"$f":"'Energy Consumption'!H385","v":0},{"$f":"'Energy Consumption'!H386","v":0},{"$f":"'Energy Consumption'!H467","v":0},{"$f":"'Energy Consumption'!H468","v":0},{"$f":"'Energy Consumption'!H549","v":0},{"$f":"'Energy Consumption'!H550","v":0},{"$f":"'Energy Consumption'!H631","v":0},{"$f":"'Energy Consumption'!H632","v":0},{"$f":"'Energy Consumption'!H713","v":0},{"$f":"'Energy Consumption'!H714","v":0},{"$f":"'Energy Consumption'!H795","v":0},{"$f":"'Energy Consumption'!H796","v":0},{"$f":"'Energy Consumption'!H877","v":0},{"$f":"'Energy Consumption'!H878","v":0},{"$f":"'Energy Consumption'!H959","v":0},{"$f":"'Energy Consumption'!H960","v":0},{"$f":"'Energy Consumption'!H1041","v":0},{"$f":"'Energy Consumption'!H1042","v":0},{"$f":"'Energy Consumption'!H1123","v":0},{"$f":"'Energy Consumption'!H1124","v":0},{"$f":"'Energy Consumption'!H1205","v":0},{"$f":"'Energy Consumption'!H1206","v":0},{"$f":"'Energy Consumption'!H1287","v":0},{"$f":"'Energy Consumption'!H1288","v":0},{"$f":"'Energy Consumption'!H1369","v":0},{"$f":"'Energy Consumption'!H1370","v":0},{"$f":"'Energy Consumption'!H1451","v":0},{"$f":"'Energy Consumption'!H1452","v":0},{"$f":"'Energy Consumption'!H1533","v":0},{"$f":"'Energy Consumption'!H1534","v":0},{"$f":"'Energy Consumption'!H1615","v":0},{"$f":"'Energy Consumption'!H1616","v":0},null,{"$f":"'Relevant Variables'!H44","v":0},{"$f":"'Relevant Variables'!H74","v":0},{"$f":"'Relevant Variables'!H104","v":0},{"$f":"'Relevant Variables'!H134","v":0},{"$f":"'Relevant Variables'!H164","v":0},{"$f":"'Relevant Variables'!H194","v":0},{"$f":"'Relevant Variables'!H224","v":0},{"$f":"'Relevant Variables'!H254","v":0},{"$f":"'Relevant Variables'!H284","v":0},{"$f":"'Relevant Variables'!H314","v":0},{"$f":"'Relevant Variables'!H344","v":0},{"$f":"'Relevant Variables'!H374","v":0},{"$f":"'Relevant Variables'!H404","v":0},{"$f":"'Relevant Variables'!H434","v":0},{"$f":"'Relevant Variables'!H464","v":0},{"$f":"'Relevant Variables'!H494","v":0},{"$f":"'Relevant Variables'!H524","v":0},{"$f":"'Relevant Variables'!H554","v":0},{"$f":"'Relevant Variables'!H584","v":0},{"$f":"'Relevant Variables'!H614","v":0}]
["2016-06-01",null,{"$f":"'Energy Consumption'!I57","v":0},{"$f":"'Energy Consumption'!I58","v":0},{"$f":"'Energy Consumption'!I139","v":0},{"$f":"'Energy Consumption'!I140","v":0},{"$f":"'Energy Consumption'!I221","v":0},{"$f":"'Energy Consumption'!I222","v":0},{"$f":"'Energy Consumption'!I303","v":0},{"$f":"'Energy Consumption'!I304","v":0},{"$f":"'Energy Consumption'!I385","v":0},{"$f":"'Energy Consumption'!I386","v":0},{"$f":"'Energy Consumption'!I467","v":0},{"$f":"'Energy Consumption'!I468","v":0},{"$f":"'Energy Consumption'!I549","v":0},{"$f":"'Energy Consumption'!I550","v":0},{"$f":"'Energy Consumption'!I631","v":0},{"$f":"'Energy Consumption'!I632","v":0},{"$f":"'Energy Consumption'!I713","v":0},{"$f":"'Energy Consumption'!I714","v":0},{"$f":"'Energy Consumption'!I795","v":0},{"$f":"'Energy Consumption'!I796","v":0},{"$f":"'Energy Consumption'!I877","v":0},{"$f":"'Energy Consumption'!I878","v":0},{"$f":"'Energy Consumption'!I959","v":0},{"$f":"'Energy Consumption'!I960","v":0},{"$f":"'Energy Consumption'!I1041","v":0},{"$f":"'Energy Consumption'!I1042","v":0},{"$f":"'Energy Consumption'!I1123","v":0},{"$f":"'Energy Consumption'!I1124","v":0},{"$f":"'Energy Consumption'!I1205","v":0},{"$f":"'Energy Consumption'!I1206","v":0},{"$f":"'Energy Consumption'!I1287","v":0},{"$f":"'Energy Consumption'!I1288","v":0},{"$f":"'Energy Consumption'!I1369","v":0},{"$f":"'Energy Consumption'!I1370","v":0},{"$f":"'Energy Consumption'!I1451","v":0},{"$f":"'Energy Consumption'!I1452","v":0},{"$f":"'Energy Consumption'!I1533","v":0},{"$f":"'Energy Consumption'!I1534","v":0},{"$f":"'Energy Consumption'!I1615","v":0},{"$f":"'Energy Consumption'!I1616","v":0},null,{"$f":"'Relevant Variables'!I44","v":0},{"$f":"'Relevant Variables'!I74","v":0},{"$f":"'Relevant Variables'!I104","v":0},{"$f":"'Relevant Variables'!I134","v":0},{"$f":"'Relevant Variables'!I164","v":0},{"$f":"'Relevant Variables'!I194","v":0},{"$f":"'Relevant Variables'!I224","v":0},{"$f":"'Relevant Variables'!I254","v":0},{"$f":"'Relevant Variables'!I284","v":0},{"$f":"'Relevant Variables'!I314","v":0},{"$f":"'Relevant Variables'!I344","v":0},{"$f":"'Relevant Variables'!I374","v":0},{"$f":"'Relevant Variables'!I404","v":0},{"$f":"'Relevant Variables'!I434","v":0},{"$f":"'Relevant Variables'!I464","v":0},{"$f":"'Relevant Variables'!I494","v":0},{"$f":"'Relevant Variables'!I524","v":0},{"$f":"'Relevant Variables'!I554","v":0},{"$f":"'Relevant Variables'!I584","v":0},{"$f":"'Relevant Variables'!I614","v":0}]
["2016-07-01",null,{"$f":"'Energy Consumption'!J57","v":0},{"$f":"'Energy Consumption'!J58","v":0},{"$f":"'Energy Consumption'!J139","v":0},{"$f":"'Energy Consumption'!J140","v":0},{"$f":"'Energy Consumption'!J221","v":0},{"$f":"'Energy Consumption'!J222","v":0},{"$f":"'Energy Consumption'!J303","v":0},{"$f":"'Energy Consumption'!J304","v":0},{"$f":"'Energy Consumption'!J385","v":0},{"$f":"'Energy Consumption'!J386","v":0},{"$f":"'Energy Consumption'!J467","v":0},{"$f":"'Energy Consumption'!J468","v":0},{"$f":"'Energy Consumption'!J549","v":0},{"$f":"'Energy Consumption'!J550","v":0},{"$f":"'Energy Consumption'!J631","v":0},{"$f":"'Energy Consumption'!J632","v":0},{"$f":"'Energy Consumption'!J713","v":0},{"$f":"'Energy Consumption'!J714","v":0},{"$f":"'Energy Consumption'!J795","v":0},{"$f":"'Energy Consumption'!J796","v":0},{"$f":"'Energy Consumption'!J877","v":0},{"$f":"'Energy Consumption'!J878","v":0},{"$f":"'Energy Consumption'!J959","v":0},{"$f":"'Energy Consumption'!J960","v":0},{"$f":"'Energy Consumption'!J1041","v":0},{"$f":"'Energy Consumption'!J1042","v":0},{"$f":"'Energy Consumption'!J1123","v":0},{"$f":"'Energy Consumption'!J1124","v":0},{"$f":"'Energy Consumption'!J1205","v":0},{"$f":"'Energy Consumption'!J1206","v":0},{"$f":"'Energy Consumption'!J1287","v":0},{"$f":"'Energy Consumption'!J1288","v":0},{"$f":"'Energy Consumption'!J1369","v":0},{"$f":"'Energy Consumption'!J1370","v":0},{"$f":"'Energy Consumption'!J1451","v":0},{"$f":"'Energy Consumption'!J1452","v":0},{"$f":"'Energy Consumption'!J1533","v":0},{"$f":"'Energy Consumption'!J1534","v":0},{"$f":"'Energy Consumption'!J1615","v":0},{"$f":"'Energy Consumption'!J1616","v":0},null,{"$f":"'Relevant Variables'!J44","v":0},{"$f":"'Relevant Variables'!J74","v":0},{"$f":"'Relevant Variables'!J104","v":0},{"$f":"'Relevant Variables'!J134","v":0},{"$f":"'Relevant Variables'!J164","v":0},{"$f":"'Relevant Variables'!J194","v":0},{"$f":"'Relevant Variables'!J224","v":0},{"$f":"'Relevant Variables'!J254","v":0},{"$f":"'Relevant Variables'!J284","v":0},{"$f":"'Relevant Variables'!J314","v":0},{"$f":"'Relevant Variables'!J344","v":0},{"$f":"'Relevant Variables'!J374","v":0},{"$f":"'Relevant Variables'!J404","v":0},{"$f":"'Relevant Variables'!J434","v":0},{"$f":"'Relevant Variables'!J464","v":0},{"$f":"'Relevant Variables'!J494","v":0},{"$f":"'Relevant Variables'!J524","v":0},{"$f":"'Relevant Variables'!J554","v":0},{"$f":"'Relevant Variables'!J584","v":0},{"$f":"'Relevant Variables'!J614","v":0}]
["2016-08-01",null,{"$f":"'Energy Consumption'!K57","v":0},{"$f":"'Energy Consumption'!K58","v":0},{"$f":"'Energy Consumption'!K139","v":0},{"$f":"'Energy Consumption'!K140","v":0},{"$f":"'Energy Consumption'!K221","v":0},{"$f":"'Energy Consumption'!K222","v":0},{"$f":"'Energy Consumption'!K303","v":0},{"$f":"'Energy Consumption'!K304","v":0},{"$f":"'Energy Consumption'!K385","v":0},{"$f":"'Energy Consumption'!K386","v":0},{"$f":"'Energy Consumption'!K467","v":0},{"$f":"'Energy Consumption'!K468","v":0},{"$f":"'Energy Consumption'!K549","v":0},{"$f":"'Energy Consumption'!K550","v":0},{"$f":"'Energy Consumption'!K631","v":0},{"$f":"'Energy Consumption'!K632","v":0},{"$f":"'Energy Consumption'!K713","v":0},{"$f":"'Energy Consumption'!K714","v":0},{"$f":"'Energy Consumption'!K795","v":0},{"$f":"'Energy Consumption'!K796","v":0},{"$f":"'Energy Consumption'!K877","v":0},{"$f":"'Energy Consumption'!K878","v":0},{"$f":"'Energy Consumption'!K959","v":0},{"$f":"'Energy Consumption'!K960","v":0},{"$f":"'Energy Consumption'!K1041","v":0},{"$f":"'Energy Consumption'!K1042","v":0},{"$f":"'Energy Consumption'!K1123","v":0},{"$f":"'Energy Consumption'!K1124","v":0},{"$f":"'Energy Consumption'!K1205","v":0},{"$f":"'Energy Consumption'!K1206","v":0},{"$f":"'Energy Consumption'!K1287","v":0},{"$f":"'Energy Consumption'!K1288","v":0},{"$f":"'Energy Consumption'!K1369","v":0},{"$f":"'Energy Consumption'!K1370","v":0},{"$f":"'Energy Consumption'!K1451","v":0},{"$f":"'Energy Consumption'!K1452","v":0},{"$f":"'Energy Consumption'!K1533","v":0},{"$f":"'Energy Consumption'!K1534","v":0},{"$f":"'Energy Consumption'!K1615","v":0},{"$f":"'Energy Consumption'!K1616","v":0},null,{"$f":"'Relevant Variables'!K44","v":0},{"$f":"'Relevant Variables'!K74","v":0},{"$f":"'Relevant Variables'!K104","v":0},{"$f":"'Relevant Variables'!K134","v":0},{"$f":"'Relevant Variables'!K164","v":0},{"$f":"'Relevant Variables'!K194","v":0},{"$f":"'Relevant Variables'!K224","v":0},{"$f":"'Relevant Variables'!K254","v":0},{"$f":"'Relevant Variables'!K284","v":0},{"$f":"'Relevant Variables'!K314","v":0},{"$f":"'Relevant Variables'!K344","v":0},{"$f":"'Relevant Variables'!K374","v":0},{"$f":"'Relevant Variables'!K404","v":0},{"$f":"'Relevant Variables'!K434","v":0},{"$f":"'Relevant Variables'!K464","v":0},{"$f":"'Relevant Variables'!K494","v":0},{"$f":"'Relevant Variables'!K524","v":0},{"$f":"'Relevant Variables'!K554","v":0},{"$f":"'Relevant Variables'!K584","v":0},{"$f":"'Relevant Variables'!K614","v":0}]
["2016-09-01",null,{"$f":"'Energy Consumption'!L57","v":0},{"$f":"'Energy Consumption'!L58","v":0},{"$f":"'Energy Consumption'!L139","v":0},{"$f":"'Energy Consumption'!L140","v":0},{"$f":"'Energy Consumption'!L221","v":0},{"$f":"'Energy Consumption'!L222","v":0},{"$f":"'Energy Consumption'!L303","v":0},{"$f":"'Energy Consumption'!L304","v":0},{"$f":"'Energy Consumption'!L385","v":0},{"$f":"'Energy Consumption'!L386","v":0},{"$f":"'Energy Consumption'!L467","v":0},{"$f":"'Energy Consumption'!L468","v":0},{"$f":"'Energy Consumption'!L549","v":0},{"$f":"'Energy Consumption'!L550","v":0},{"$f":"'Energy Consumption'!L631","v":0},{"$f":"'Energy Consumption'!L632","v":0},{"$f":"'Energy Consumption'!L713","v":0},{"$f":"'Energy Consumption'!L714","v":0},{"$f":"'Energy Consumption'!L795","v":0},{"$f":"'Energy Consumption'!L796","v":0},{"$f":"'Energy Consumption'!L877","v":0},{"$f":"'Energy Consumption'!L878","v":0},{"$f":"'Energy Consumption'!L959","v":0},{"$f":"'Energy Consumption'!L960","v":0},{"$f":"'Energy Consumption'!L1041","v":0},{"$f":"'Energy Consumption'!L1042","v":0},{"$f":"'Energy Consumption'!L1123","v":0},{"$f":"'Energy Consumption'!L1124","v":0},{"$f":"'Energy Consumption'!L1205","v":0},{"$f":"'Energy Consumption'!L1206","v":0},{"$f":"'Energy Consumption'!L1287","v":0},{"$f":"'Energy Consumption'!L1288","v":0},{"$f":"'Energy Consumption'!L1369","v":0},{"$f":"'Energy Consumption'!L1370","v":0},{"$f":"'Energy Consumption'!L1451","v":0},{"$f":"'Energy Consumption'!L1452","v":0},{"$f":"'Energy Consumption'!L1533","v":0},{"$f":"'Energy Consumption'!L1534","v":0},{"$f":"'Energy Consumption'!L1615","v":0},{"$f":"'Energy Consumption'!L1616","v":0},null,{"$f":"'Relevant Variables'!L44","v":0},{"$f":"'Relevant Variables'!L74","v":0},{"$f":"'Relevant Variables'!L104","v":0},{"$f":"'Relevant Variables'!L134","v":0},{"$f":"'Relevant Variables'!L164","v":0},{"$f":"'Relevant Variables'!L194","v":0},{"$f":"'Relevant Variables'!L224","v":0},{"$f":"'Relevant Variables'!L254","v":0},{"$f":"'Relevant Variables'!L284","v":0},{"$f":"'Relevant Variables'!L314","v":0},{"$f":"'Relevant Variables'!L344","v":0},{"$f":"'Relevant Variables'!L374","v":0},{"$f":"'Relevant Variables'!L404","v":0},{"$f":"'Relevant Variables'!L434","v":0},{"$f":"'Relevant Variables'!L464","v":0},{"$f":"'Relevant Variables'!L494","v":0},{"$f":"'Relevant Variables'!L524","v":0},{"$f":"'Relevant Variables'!L554","v":0},{"$f":"'Relevant Variables'!L584","v":0},{"$f":"'Relevant Variables'!L614","v":0}]
["2016-10-01",null,{"$f":"'Energy Consumption'!M57","v":0},{"$f":"'Energy Consumption'!M58","v":0},{"$f":"'Energy Consumption'!M139","v":0},{"$f":"'Energy Consumption'!M140","v":0},{"$f":"'Energy Consumption'!M221","v":0},{"$f":"'Energy Consumption'!M222","v":0},{"$f":"'Energy Consumption'!M303","v":0},{"$f":"'Energy Consumption'!M304","v":0},{"$f":"'Energy Consumption'!M385","v":0},{"$f":"'Energy Consumption'!M386","v":0},{"$f":"'Energy Consumption'!M467","v":0},{"$f":"'Energy Consumption'!M468","v":0},{"$f":"'Energy Consumption'!M549","v":0},{"$f":"'Energy Consumption'!M550","v":0},{"$f":"'Energy Consumption'!M631","v":0},{"$f":"'Energy Consumption'!M632","v":0},{"$f":"'Energy Consumption'!M713","v":0},{"$f":"'Energy Consumption'!M714","v":0},{"$f":"'Energy Consumption'!M795","v":0},{"$f":"'Energy Consumption'!M796","v":0},{"$f":"'Energy Consumption'!M877","v":0},{"$f":"'Energy Consumption'!M878","v":0},{"$f":"'Energy Consumption'!M959","v":0},{"$f":"'Energy Consumption'!M960","v":0},{"$f":"'Energy Consumption'!M1041","v":0},{"$f":"'Energy Consumption'!M1042","v":0},{"$f":"'Energy Consumption'!M1123","v":0},{"$f":"'Energy Consumption'!M1124","v":0},{"$f":"'Energy Consumption'!M1205","v":0},{"$f":"'Energy Consumption'!M1206","v":0},{"$f":"'Energy Consumption'!M1287","v":0},{"$f":"'Energy Consumption'!M1288","v":0},{"$f":"'Energy Consumption'!M1369","v":0},{"$f":"'Energy Consumption'!M1370","v":0},{"$f":"'Energy Consumption'!M1451","v":0},{"$f":"'Energy Consumption'!M1452","v":0},{"$f":"'Energy Consumption'!M1533","v":0},{"$f":"'Energy Consumption'!M1534","v":0},{"$f":"'Energy Consumption'!M1615","v":0},{"$f":"'Energy Consumption'!M1616","v":0},null,{"$f":"'Relevant Variables'!M44","v":0},{"$f":"'Relevant Variables'!M74","v":0},{"$f":"'Relevant Variables'!M104","v":0},{"$f":"'Relevant Variables'!M134","v":0},{"$f":"'Relevant Variables'!M164","v":0},{"$f":"'Relevant Variables'!M194","v":0},{"$f":"'Relevant Variables'!M224","v":0},{"$f":"'Relevant Variables'!M254","v":0},{"$f":"'Relevant Variables'!M284","v":0},{"$f":"'Relevant Variables'!M314","v":0},{"$f":"'Relevant Variables'!M344","v":0},{"$f":"'Relevant Variables'!M374","v":0},{"$f":"'Relevant Variables'!M404","v":0},{"$f":"'Relevant Variables'!M434","v":0},{"$f":"'Relevant Variables'!M464","v":0},{"$f":"'Relevant Variables'!M494","v":0},{"$f":"'Relevant Variables'!M524","v":0},{"$f":"'Relevant Variables'!M554","v":0},{"$f":"'Relevant Variables'!M584","v":0},{"$f":"'Relevant Variables'!M614","v":0}]
["2016-11-01",null,{"$f":"'Energy Consumption'!N57","v":0},{"$f":"'Energy Consumption'!N58","v":0},{"$f":"'Energy Consumption'!N139","v":0},{"$f":"'Energy Consumption'!N140","v":0},{"$f":"'Energy Consumption'!N221","v":0},{"$f":"'Energy Consumption'!N222","v":0},{"$f":"'Energy Consumption'!N303","v":0},{"$f":"'Energy Consumption'!N304","v":0},{"$f":"'Energy Consumption'!N385","v":0},{"$f":"'Energy Consumption'!N386","v":0},{"$f":"'Energy Consumption'!N467","v":0},{"$f":"'Energy Consumption'!N468","v":0},{"$f":"'Energy Consumption'!N549","v":0},{"$f":"'Energy Consumption'!N550","v":0},{"$f":"'Energy Consumption'!N631","v":0},{"$f":"'Energy Consumption'!N632","v":0},{"$f":"'Energy Consumption'!N713","v":0},{"$f":"'Energy Consumption'!N714","v":0},{"$f":"'Energy Consumption'!N795","v":0},{"$f":"'Energy Consumption'!N796","v":0},{"$f":"'Energy Consumption'!N877","v":0},{"$f":"'Energy Consumption'!N878","v":0},{"$f":"'Energy Consumption'!N959","v":0},{"$f":"'Energy Consumption'!N960","v":0},{"$f":"'Energy Consumption'!N1041","v":0},{"$f":"'Energy Consumption'!N1042","v":0},{"$f":"'Energy Consumption'!N1123","v":0},{"$f":"'Energy Consumption'!N1124","v":0},{"$f":"'Energy Consumption'!N1205","v":0},{"$f":"'Energy Consumption'!N1206","v":0},{"$f":"'Energy Consumption'!N1287","v":0},{"$f":"'Energy Consumption'!N1288","v":0},{"$f":"'Energy Consumption'!N1369","v":0},{"$f":"'Energy Consumption'!N1370","v":0},{"$f":"'Energy Consumption'!N1451","v":0},{"$f":"'Energy Consumption'!N1452","v":0},{"$f":"'Energy Consumption'!N1533","v":0},{"$f":"'Energy Consumption'!N1534","v":0},{"$f":"'Energy Consumption'!N1615","v":0},{"$f":"'Energy Consumption'!N1616","v":0},null,{"$f":"'Relevant Variables'!N44","v":0},{"$f":"'Relevant Variables'!N74","v":0},{"$f":"'Relevant Variables'!N104","v":0},{"$f":"'Relevant Variables'!N134","v":0},{"$f":"'Relevant Variables'!N164","v":0},{"$f":"'Relevant Variables'!N194","v":0},{"$f":"'Relevant Variables'!N224","v":0},{"$f":"'Relevant Variables'!N254","v":0},{"$f":"'Relevant Variables'!N284","v":0},{"$f":"'Relevant Variables'!N314","v":0},{"$f":"'Relevant Variables'!N344","v":0},{"$f":"'Relevant Variables'!N374","v":0},{"$f":"'Relevant Variables'!N404","v":0},{"$f":"'Relevant Variables'!N434","v":0},{"$f":"'Relevant Variables'!N464","v":0},{"$f":"'Relevant Variables'!N494","v":0},{"$f":"'Relevant Variables'!N524","v":0},{"$f":"'Relevant Variables'!N554","v":0},{"$f":"'Relevant Variables'!N584","v":0},{"$f":"'Relevant Variables'!N614","v":0}]
["2016-12-01",null,{"$f":"'Energy Consumption'!O57","v":0},{"$f":"'Energy Consumption'!O58","v":0},{"$f":"'Energy Consumption'!O139","v":0},{"$f":"'Energy Consumption'!O140","v":0},{"$f":"'Energy Consumption'!O221","v":0},{"$f":"'Energy Consumption'!O222","v":0},{"$f":"'Energy Consumption'!O303","v":0},{"$f":"'Energy Consumption'!O304","v":0},{"$f":"'Energy Consumption'!O385","v":0},{"$f":"'Energy Consumption'!O386","v":0},{"$f":"'Energy Consumption'!O467","v":0},{"$f":"'Energy Consumption'!O468","v":0},{"$f":"'Energy Consumption'!O549","v":0},{"$f":"'Energy Consumption'!O550","v":0},{"$f":"'Energy Consumption'!O631","v":0},{"$f":"'Energy Consumption'!O632","v":0},{"$f":"'Energy Consumption'!O713","v":0},{"$f":"'Energy Consumption'!O714","v":0},{"$f":"'Energy Consumption'!O795","v":0},{"$f":"'Energy Consumption'!O796","v":0},{"$f":"'Energy Consumption'!O877","v":0},{"$f":"'Energy Consumption'!O878","v":0},{"$f":"'Energy Consumption'!O959","v":0},{"$f":"'Energy Consumption'!O960","v":0},{"$f":"'Energy Consumption'!O1041","v":0},{"$f":"'Energy Consumption'!O1042","v":0},{"$f":"'Energy Consumption'!O1123","v":0},{"$f":"'Energy Consumption'!O1124","v":0},{"$f":"'Energy Consumption'!O1205","v":0},{"$f":"'Energy Consumption'!O1206","v":0},{"$f":"'Energy Consumption'!O1287","v":0},{"$f":"'Energy Consumption'!O1288","v":0},{"$f":"'Energy Consumption'!O1369","v":0},{"$f":"'Energy Consumption'!O1370","v":0},{"$f":"'Energy Consumption'!O1451","v":0},{"$f":"'Energy Consumption'!O1452","v":0},{"$f":"'Energy Consumption'!O1533","v":0},{"$f":"'Energy Consumption'!O1534","v":0},{"$f":"'Energy Consumption'!O1615","v":0},{"$f":"'Energy Consumption'!O1616","v":0},null,{"$f":"'Relevant Variables'!O44","v":0},{"$f":"'Relevant Variables'!O74","v":0},{"$f":"'Relevant Variables'!O104","v":0},{"$f":"'Relevant Variables'!O134","v":0},{"$f":"'Relevant Variables'!O164","v":0},{"$f":"'Relevant Variables'!O194","v":0},{"$f":"'Relevant Variables'!O224","v":0},{"$f":"'Relevant Variables'!O254","v":0},{"$f":"'Relevant Variables'!O284","v":0},{"$f":"'Relevant Variables'!O314","v":0},{"$f":"'Relevant Variables'!O344","v":0},{"$f":"'Relevant Variables'!O374","v":0},{"$f":"'Relevant Variables'!O404","v":0},{"$f":"'Relevant Variables'!O434","v":0},{"$f":"'Relevant Variables'!O464","v":0},{"$f":"'Relevant Variables'!O494","v":0},{"$f":"'Relevant Variables'!O524","v":0},{"$f":"'Relevant Variables'!O554","v":0},{"$f":"'Relevant Variables'!O584","v":0},{"$f":"'Relevant Variables'!O614","v":0}]
["2017-01-01",null,{"$f":"'Energy Consumption'!D55","v":0},{"$f":"'Energy Consumption'!D56","v":0},{"$f":"'Energy Consumption'!D137","v":0},{"$f":"'Energy Consumption'!D138","v":0},{"$f":"'Energy Consumption'!D219","v":0},{"$f":"'Energy Consumption'!D220","v":0},{"$f":"'Energy Consumption'!D301","v":0},{"$f":"'Energy Consumption'!D302","v":0},{"$f":"'Energy Consumption'!D383","v":0},{"$f":"'Energy Consumption'!D384","v":0},{"$f":"'Energy Consumption'!D465","v":0},{"$f":"'Energy Consumption'!D466","v":0},{"$f":"'Energy Consumption'!D547","v":0},{"$f":"'Energy Consumption'!D548","v":0},{"$f":"'Energy Consumption'!D629","v":0},{"$f":"'Energy Consumption'!D630","v":0},{"$f":"'Energy Consumption'!D711","v":0},{"$f":"'Energy Consumption'!D712","v":0},{"$f":"'Energy Consumption'!D793","v":0},{"$f":"'Energy Consumption'!D794","v":0},{"$f":"'Energy Consumption'!D875","v":0},{"$f":"'Energy Consumption'!D876","v":0},{"$f":"'Energy Consumption'!D957","v":0},{"$f":"'Energy Consumption'!D958","v":0},{"$f":"'Energy Consumption'!D1039","v":0},{"$f":"'Energy Consumption'!D1040","v":0},{"$f":"'Energy Consumption'!D1121","v":0},{"$f":"'Energy Consumption'!D1122","v":0},{"$f":"'Energy Consumption'!D1203","v":0},{"$f":"'Energy Consumption'!D1204","v":0},{"$f":"'Energy Consumption'!D1285","v":0},{"$f":"'Energy Consumption'!D1286","v":0},{"$f":"'Energy Consumption'!D1367","v":0},{"$f":"'Energy Consumption'!D1368","v":0},{"$f":"'Energy Consumption'!D1449","v":0},{"$f":"'Energy Consumption'!D1450","v":0},{"$f":"'Energy Consumption'!D1531","v":0},{"$f":"'Energy Consumption'!D1532","v":0},{"$f":"'Energy Consumption'!D1613","v":0},{"$f":"'Energy Consumption'!D1614","v":0},null,{"$f":"'Relevant Variables'!D43","v":0},{"$f":"'Relevant Variables'!D73","v":0},{"$f":"'Relevant Variables'!D103","v":0},{"$f":"'Relevant Variables'!D133","v":0},{"$f":"'Relevant Variables'!D163","v":0},{"$f":"'Relevant Variables'!D193","v":0},{"$f":"'Relevant Variables'!D223","v":0},{"$f":"'Relevant Variables'!D253","v":0},{"$f":"'Relevant Variables'!D283","v":0},{"$f":"'Relevant Variables'!D313","v":0},{"$f":"'Relevant Variables'!D343","v":0},{"$f":"'Relevant Variables'!D373","v":0},{"$f":"'Relevant Variables'!D403","v":0},{"$f":"'Relevant Variables'!D433","v":0},{"$f":"'Relevant Variables'!D463","v":0},{"$f":"'Relevant Variables'!D493","v":0},{"$f":"'Relevant Variables'!D523","v":0},{"$f":"'Relevant Variables'!D553","v":0},{"$f":"'Relevant Variables'!D583","v":0},{"$f":"'Relevant Variables'!D613","v":0}]
["2017-02-01",null,{"$f":"'Energy Consumption'!E55","v":0},{"$f":"'Energy Consumption'!E56","v":0},{"$f":"'Energy Consumption'!E137","v":0},{"$f":"'Energy Consumption'!E138","v":0},{"$f":"'Energy Consumption'!E219","v":0},{"$f":"'Energy Consumption'!E220","v":0},{"$f":"'Energy Consumption'!E301","v":0},{"$f":"'Energy Consumption'!E302","v":0},{"$f":"'Energy Consumption'!E383","v":0},{"$f":"'Energy Consumption'!E384","v":0},{"$f":"'Energy Consumption'!E465","v":0},{"$f":"'Energy Consumption'!E466","v":0},{"$f":"'Energy Consumption'!E547","v":0},{"$f":"'Energy Consumption'!E548","v":0},{"$f":"'Energy Consumption'!E629","v":0},{"$f":"'Energy Consumption'!E630","v":0},{"$f":"'Energy Consumption'!E711","v":0},{"$f":"'Energy Consumption'!E712","v":0},{"$f":"'Energy Consumption'!E793","v":0},{"$f":"'Energy Consumption'!E794","v":0},{"$f":"'Energy Consumption'!E875","v":0},{"$f":"'Energy Consumption'!E876","v":0},{"$f":"'Energy Consumption'!E957","v":0},{"$f":"'Energy Consumption'!E958","v":0},{"$f":"'Energy Consumption'!E1039","v":0},{"$f":"'Energy Consumption'!E1040","v":0},{"$f":"'Energy Consumption'!E1121","v":0},{"$f":"'Energy Consumption'!E1122","v":0},{"$f":"'Energy Consumption'!E1203","v":0},{"$f":"'Energy Consumption'!E1204","v":0},{"$f":"'Energy Consumption'!E1285","v":0},{"$f":"'Energy Consumption'!E1286","v":0},{"$f":"'Energy Consumption'!E1367","v":0},{"$f":"'Energy Consumption'!E1368","v":0},{"$f":"'Energy Consumption'!E1449","v":0},{"$f":"'Energy Consumption'!E1450","v":0},{"$f":"'Energy Consumption'!E1531","v":0},{"$f":"'Energy Consumption'!E1532","v":0},{"$f":"'Energy Consumption'!E1613","v":0},{"$f":"'Energy Consumption'!E1614","v":0},null,{"$f":"'Relevant Variables'!E43","v":0},{"$f":"'Relevant Variables'!E73","v":0},{"$f":"'Relevant Variables'!E103","v":0},{"$f":"'Relevant Variables'!E133","v":0},{"$f":"'Relevant Variables'!E163","v":0},{"$f":"'Relevant Variables'!E193","v":0},{"$f":"'Relevant Variables'!E223","v":0},{"$f":"'Relevant Variables'!E253","v":0},{"$f":"'Relevant Variables'!E283","v":0},{"$f":"'Relevant Variables'!E313","v":0},{"$f":"'Relevant Variables'!E343","v":0},{"$f":"'Relevant Variables'!E373","v":0},{"$f":"'Relevant Variables'!E403","v":0},{"$f":"'Relevant Variables'!E433","v":0},{"$f":"'Relevant Variables'!E463","v":0},{"$f":"'Relevant Variables'!E493","v":0},{"$f":"'Relevant Variables'!E523","v":0},{"$f":"'Relevant Variables'!E553","v":0},{"$f":"'Relevant Variables'!E583","v":0},{"$f":"'Relevant Variables'!E613","v":0}]
["2017-03-01",null,{"$f":"'Energy Consumption'!F55","v":0},{"$f":"'Energy Consumption'!F56","v":0},{"$f":"'Energy Consumption'!F137","v":0},{"$f":"'Energy Consumption'!F138","v":0},{"$f":"'Energy Consumption'!F219","v":0},{"$f":"'Energy Consumption'!F220","v":0},{"$f":"'Energy Consumption'!F301","v":0},{"$f":"'Energy Consumption'!F302","v":0},{"$f":"'Energy Consumption'!F383","v":0},{"$f":"'Energy Consumption'!F384","v":0},{"$f":"'Energy Consumption'!F465","v":0},{"$f":"'Energy Consumption'!F466","v":0},{"$f":"'Energy Consumption'!F547","v":0},{"$f":"'Energy Consumption'!F548","v":0},{"$f":"'Energy Consumption'!F629","v":0},{"$f":"'Energy Consumption'!F630","v":0},{"$f":"'Energy Consumption'!F711","v":0},{"$f":"'Energy Consumption'!F712","v":0},{"$f":"'Energy Consumption'!F793","v":0},{"$f":"'Energy Consumption'!F794","v":0},{"$f":"'Energy Consumption'!F875","v":0},{"$f":"'Energy Consumption'!F876","v":0},{"$f":"'Energy Consumption'!F957","v":0},{"$f":"'Energy Consumption'!F958","v":0},{"$f":"'Energy Consumption'!F1039","v":0},{"$f":"'Energy Consumption'!F1040","v":0},{"$f":"'Energy Consumption'!F1121","v":0},{"$f":"'Energy Consumption'!F1122","v":0},{"$f":"'Energy Consumption'!F1203","v":0},{"$f":"'Energy Consumption'!F1204","v":0},{"$f":"'Energy Consumption'!F1285","v":0},{"$f":"'Energy Consumption'!F1286","v":0},{"$f":"'Energy Consumption'!F1367","v":0},{"$f":"'Energy Consumption'!F1368","v":0},{"$f":"'Energy Consumption'!F1449","v":0},{"$f":"'Energy Consumption'!F1450","v":0},{"$f":"'Energy Consumption'!F1531","v":0},{"$f":"'Energy Consumption'!F1532","v":0},{"$f":"'Energy Consumption'!F1613","v":0},{"$f":"'Energy Consumption'!F1614","v":0},null,{"$f":"'Relevant Variables'!F43","v":0},{"$f":"'Relevant Variables'!F73","v":0},{"$f":"'Relevant Variables'!F103","v":0},{"$f":"'Relevant Variables'!F133","v":0},{"$f":"'Relevant Variables'!F163","v":0},{"$f":"'Relevant Variables'!F193","v":0},{"$f":"'Relevant Variables'!F223","v":0},{"$f":"'Relevant Variables'!F253","v":0},{"$f":"'Relevant Variables'!F283","v":0},{"$f":"'Relevant Variables'!F313","v":0},{"$f":"'Relevant Variables'!F343","v":0},{"$f":"'Relevant Variables'!F373","v":0},{"$f":"'Relevant Variables'!F403","v":0},{"$f":"'Relevant Variables'!F433","v":0},{"$f":"'Relevant Variables'!F463","v":0},{"$f":"'Relevant Variables'!F493","v":0},{"$f":"'Relevant Variables'!F523","v":0},{"$f":"'Relevant Variables'!F553","v":0},{"$f":"'Relevant Variables'!F583","v":0},{"$f":"'Relevant Variables'!F613","v":0}]
["2017-04-01",null,{"$f":"'Energy Consumption'!G55","v":0},{"$f":"'Energy Consumption'!G56","v":0},{"$f":"'Energy Consumption'!G137","v":0},{"$f":"'Energy Consumption'!G138","v":0},{"$f":"'Energy Consumption'!G219","v":0},{"$f":"'Energy Consumption'!G220","v":0},{"$f":"'Energy Consumption'!G301","v":0},{"$f":"'Energy Consumption'!G302","v":0},{"$f":"'Energy Consumption'!G383","v":0},{"$f":"'Energy Consumption'!G384","v":0},{"$f":"'Energy Consumption'!G465","v":0},{"$f":"'Energy Consumption'!G466","v":0},{"$f":"'Energy Consumption'!G547","v":0},{"$f":"'Energy Consumption'!G548","v":0},{"$f":"'Energy Consumption'!G629","v":0},{"$f":"'Energy Consumption'!G630","v":0},{"$f":"'Energy Consumption'!G711","v":0},{"$f":"'Energy Consumption'!G712","v":0},{"$f":"'Energy Consumption'!G793","v":0},{"$f":"'Energy Consumption'!G794","v":0},{"$f":"'Energy Consumption'!G875","v":0},{"$f":"'Energy Consumption'!G876","v":0},{"$f":"'Energy Consumption'!G957","v":0},{"$f":"'Energy Consumption'!G958","v":0},{"$f":"'Energy Consumption'!G1039","v":0},{"$f":"'Energy Consumption'!G1040","v":0},{"$f":"'Energy Consumption'!G1121","v":0},{"$f":"'Energy Consumption'!G1122","v":0},{"$f":"'Energy Consumption'!G1203","v":0},{"$f":"'Energy Consumption'!G1204","v":0},{"$f":"'Energy Consumption'!G1285","v":0},{"$f":"'Energy Consumption'!G1286","v":0},{"$f":"'Energy Consumption'!G1367","v":0},{"$f":"'Energy Consumption'!G1368","v":0},{"$f":"'Energy Consumption'!G1449","v":0},{"$f":"'Energy Consumption'!G1450","v":0},{"$f":"'Energy Consumption'!G1531","v":0},{"$f":"'Energy Consumption'!G1532","v":0},{"$f":"'Energy Consumption'!G1613","v":0},{"$f":"'Energy Consumption'!G1614","v":0},null,{"$f":"'Relevant Variables'!G43","v":0},{"$f":"'Relevant Variables'!G73","v":0},{"$f":"'Relevant Variables'!G103","v":0},{"$f":"'Relevant Variables'!G133","v":0},{"$f":"'Relevant Variables'!G163","v":0},{"$f":"'Relevant Variables'!G193","v":0},{"$f":"'Relevant Variables'!G223","v":0},{"$f":"'Relevant Variables'!G253","v":0},{"$f":"'Relevant Variables'!G283","v":0},{"$f":"'Relevant Variables'!G313","v":0},{"$f":"'Relevant Variables'!G343","v":0},{"$f":"'Relevant Variables'!G373","v":0},{"$f":"'Relevant Variables'!G403","v":0},{"$f":"'Relevant Variables'!G433","v":0},{"$f":"'Relevant Variables'!G463","v":0},{"$f":"'Relevant Variables'!G493","v":0},{"$f":"'Relevant Variables'!G523","v":0},{"$f":"'Relevant Variables'!G553","v":0},{"$f":"'Relevant Variables'!G583","v":0},{"$f":"'Relevant Variables'!G613","v":0}]
["2017-05-01",null,{"$f":"'Energy Consumption'!H55","v":0},{"$f":"'Energy Consumption'!H56","v":0},{"$f":"'Energy Consumption'!H137","v":0},{"$f":"'Energy Consumption'!H138","v":0},{"$f":"'Energy Consumption'!H219","v":0},{"$f":"'Energy Consumption'!H220","v":0},{"$f":"'Energy Consumption'!H301","v":0},{"$f":"'Energy Consumption'!H302","v":0},{"$f":"'Energy Consumption'!H383","v":0},{"$f":"'Energy Consumption'!H384","v":0},{"$f":"'Energy Consumption'!H465","v":0},{"$f":"'Energy Consumption'!H466","v":0},{"$f":"'Energy Consumption'!H547","v":0},{"$f":"'Energy Consumption'!H548","v":0},{"$f":"'Energy Consumption'!H629","v":0},{"$f":"'Energy Consumption'!H630","v":0},{"$f":"'Energy Consumption'!H711","v":0},{"$f":"'Energy Consumption'!H712","v":0},{"$f":"'Energy Consumption'!H793","v":0},{"$f":"'Energy Consumption'!H794","v":0},{"$f":"'Energy Consumption'!H875","v":0},{"$f":"'Energy Consumption'!H876","v":0},{"$f":"'Energy Consumption'!H957","v":0},{"$f":"'Energy Consumption'!H958","v":0},{"$f":"'Energy Consumption'!H1039","v":0},{"$f":"'Energy Consumption'!H1040","v":0},{"$f":"'Energy Consumption'!H1121","v":0},{"$f":"'Energy Consumption'!H1122","v":0},{"$f":"'Energy Consumption'!H1203","v":0},{"$f":"'Energy Consumption'!H1204","v":0},{"$f":"'Energy Consumption'!H1285","v":0},{"$f":"'Energy Consumption'!H1286","v":0},{"$f":"'Energy Consumption'!H1367","v":0},{"$f":"'Energy Consumption'!H1368","v":0},{"$f":"'Energy Consumption'!H1449","v":0},{"$f":"'Energy Consumption'!H1450","v":0},{"$f":"'Energy Consumption'!H1531","v":0},{"$f":"'Energy Consumption'!H1532","v":0},{"$f":"'Energy Consumption'!H1613","v":0},{"$f":"'Energy Consumption'!H1614","v":0},null,{"$f":"'Relevant Variables'!H43","v":0},{"$f":"'Relevant Variables'!H73","v":0},{"$f":"'Relevant Variables'!H103","v":0},{"$f":"'Relevant Variables'!H133","v":0},{"$f":"'Relevant Variables'!H163","v":0},{"$f":"'Relevant Variables'!H193","v":0},{"$f":"'Relevant Variables'!H223","v":0},{"$f":"'Relevant Variables'!H253","v":0},{"$f":"'Relevant Variables'!H283","v":0},{"$f":"'Relevant Variables'!H313","v":0},{"$f":"'Relevant Variables'!H343","v":0},{"$f":"'Relevant Variables'!H373","v":0},{"$f":"'Relevant Variables'!H403","v":0},{"$f":"'Relevant Variables'!H433","v":0},{"$f":"'Relevant Variables'!H463","v":0},{"$f":"'Relevant Variables'!H493","v":0},{"$f":"'Relevant Variables'!H523","v":0},{"$f":"'Relevant Variables'!H553","v":0},{"$f":"'Relevant Variables'!H583","v":0},{"$f":"'Relevant Variables'!H613","v":0}]
["2017-06-01",null,{"$f":"'Energy Consumption'!I55","v":0},{"$f":"'Energy Consumption'!I56","v":0},{"$f":"'Energy Consumption'!I137","v":0},{"$f":"'Energy Consumption'!I138","v":0},{"$f":"'Energy Consumption'!I219","v":0},{"$f":"'Energy Consumption'!I220","v":0},{"$f":"'Energy Consumption'!I301","v":0},{"$f":"'Energy Consumption'!I302","v":0},{"$f":"'Energy Consumption'!I383","v":0},{"$f":"'Energy Consumption'!I384","v":0},{"$f":"'Energy Consumption'!I465","v":0},{"$f":"'Energy Consumption'!I466","v":0},{"$f":"'Energy Consumption'!I547","v":0},{"$f":"'Energy Consumption'!I548","v":0},{"$f":"'Energy Consumption'!I629","v":0},{"$f":"'Energy Consumption'!I630","v":0},{"$f":"'Energy Consumption'!I711","v":0},{"$f":"'Energy Consumption'!I712","v":0},{"$f":"'Energy Consumption'!I793","v":0},{"$f":"'Energy Consumption'!I794","v":0},{"$f":"'Energy Consumption'!I875","v":0},{"$f":"'Energy Consumption'!I876","v":0},{"$f":"'Energy Consumption'!I957","v":0},{"$f":"'Energy Consumption'!I958","v":0},{"$f":"'Energy Consumption'!I1039","v":0},{"$f":"'Energy Consumption'!I1040","v":0},{"$f":"'Energy Consumption'!I1121","v":0},{"$f":"'Energy Consumption'!I1122","v":0},{"$f":"'Energy Consumption'!I1203","v":0},{"$f":"'Energy Consumption'!I1204","v":0},{"$f":"'Energy Consumption'!I1285","v":0},{"$f":"'Energy Consumption'!I1286","v":0},{"$f":"'Energy Consumption'!I1367","v":0},{"$f":"'Energy Consumption'!I1368","v":0},{"$f":"'Energy Consumption'!I1449","v":0},{"$f":"'Energy Consumption'!I1450","v":0},{"$f":"'Energy Consumption'!I1531","v":0},{"$f":"'Energy Consumption'!I1532","v":0},{"$f":"'Energy Consumption'!I1613","v":0},{"$f":"'Energy Consumption'!I1614","v":0},null,{"$f":"'Relevant Variables'!I43","v":0},{"$f":"'Relevant Variables'!I73","v":0},{"$f":"'Relevant Variables'!I103","v":0},{"$f":"'Relevant Variables'!I133","v":0},{"$f":"'Relevant Variables'!I163","v":0},{"$f":"'Relevant Variables'!I193","v":0},{"$f":"'Relevant Variables'!I223","v":0},{"$f":"'Relevant Variables'!I253","v":0},{"$f":"'Relevant Variables'!I283","v":0},{"$f":"'Relevant Variables'!I313","v":0},{"$f":"'Relevant Variables'!I343","v":0},{"$f":"'Relevant Variables'!I373","v":0},{"$f":"'Relevant Variables'!I403","v":0},{"$f":"'Relevant Variables'!I433","v":0},{"$f":"'Relevant Variables'!I463","v":0},{"$f":"'Relevant Variables'!I493","v":0},{"$f":"'Relevant Variables'!I523","v":0},{"$f":"'Relevant Variables'!I553","v":0},{"$f":"'Relevant Variables'!I583","v":0},{"$f":"'Relevant Variables'!I613","v":0}]
["2017-07-01",null,{"$f":"'Energy Consumption'!J55","v":0},{"$f":"'Energy Consumption'!J56","v":0},{"$f":"'Energy Consumption'!J137","v":0},{"$f":"'Energy Consumption'!J138","v":0},{"$f":"'Energy Consumption'!J219","v":0},{"$f":"'Energy Consumption'!J220","v":0},{"$f":"'Energy Consumption'!J301","v":0},{"$f":"'Energy Consumption'!J302","v":0},{"$f":"'Energy Consumption'!J383","v":0},{"$f":"'Energy Consumption'!J384","v":0},{"$f":"'Energy Consumption'!J465","v":0},{"$f":"'Energy Consumption'!J466","v":0},{"$f":"'Energy Consumption'!J547","v":0},{"$f":"'Energy Consumption'!J548","v":0},{"$f":"'Energy Consumption'!J629","v":0},{"$f":"'Energy Consumption'!J630","v":0},{"$f":"'Energy Consumption'!J711","v":0},{"$f":"'Energy Consumption'!J712","v":0},{"$f":"'Energy Consumption'!J793","v":0},{"$f":"'Energy Consumption'!J794","v":0},{"$f":"'Energy Consumption'!J875","v":0},{"$f":"'Energy Consumption'!J876","v":0},{"$f":"'Energy Consumption'!J957","v":0},{"$f":"'Energy Consumption'!J958","v":0},{"$f":"'Energy Consumption'!J1039","v":0},{"$f":"'Energy Consumption'!J1040","v":0},{"$f":"'Energy Consumption'!J1121","v":0},{"$f":"'Energy Consumption'!J1122","v":0},{"$f":"'Energy Consumption'!J1203","v":0},{"$f":"'Energy Consumption'!J1204","v":0},{"$f":"'Energy Consumption'!J1285","v":0},{"$f":"'Energy Consumption'!J1286","v":0},{"$f":"'Energy Consumption'!J1367","v":0},{"$f":"'Energy Consumption'!J1368","v":0},{"$f":"'Energy Consumption'!J1449","v":0},{"$f":"'Energy Consumption'!J1450","v":0},{"$f":"'Energy Consumption'!J1531","v":0},{"$f":"'Energy Consumption'!J1532","v":0},{"$f":"'Energy Consumption'!J1613","v":0},{"$f":"'Energy Consumption'!J1614","v":0},null,{"$f":"'Relevant Variables'!J43","v":0},{"$f":"'Relevant Variables'!J73","v":0},{"$f":"'Relevant Variables'!J103","v":0},{"$f":"'Relevant Variables'!J133","v":0},{"$f":"'Relevant Variables'!J163","v":0},{"$f":"'Relevant Variables'!J193","v":0},{"$f":"'Relevant Variables'!J223","v":0},{"$f":"'Relevant Variables'!J253","v":0},{"$f":"'Relevant Variables'!J283","v":0},{"$f":"'Relevant Variables'!J313","v":0},{"$f":"'Relevant Variables'!J343","v":0},{"$f":"'Relevant Variables'!J373","v":0},{"$f":"'Relevant Variables'!J403","v":0},{"$f":"'Relevant Variables'!J433","v":0},{"$f":"'Relevant Variables'!J463","v":0},{"$f":"'Relevant Variables'!J493","v":0},{"$f":"'Relevant Variables'!J523","v":0},{"$f":"'Relevant Variables'!J553","v":0},{"$f":"'Relevant Variables'!J583","v":0},{"$f":"'Relevant Variables'!J613","v":0}]
["2017-08-01",null,{"$f":"'Energy Consumption'!K55","v":0},{"$f":"'Energy Consumption'!K56","v":0},{"$f":"'Energy Consumption'!K137","v":0},{"$f":"'Energy Consumption'!K138","v":0},{"$f":"'Energy Consumption'!K219","v":0},{"$f":"'Energy Consumption'!K220","v":0},{"$f":"'Energy Consumption'!K301","v":0},{"$f":"'Energy Consumption'!K302","v":0},{"$f":"'Energy Consumption'!K383","v":0},{"$f":"'Energy Consumption'!K384","v":0},{"$f":"'Energy Consumption'!K465","v":0},{"$f":"'Energy Consumption'!K466","v":0},{"$f":"'Energy Consumption'!K547","v":0},{"$f":"'Energy Consumption'!K548","v":0},{"$f":"'Energy Consumption'!K629","v":0},{"$f":"'Energy Consumption'!K630","v":0},{"$f":"'Energy Consumption'!K711","v":0},{"$f":"'Energy Consumption'!K712","v":0},{"$f":"'Energy Consumption'!K793","v":0},{"$f":"'Energy Consumption'!K794","v":0},{"$f":"'Energy Consumption'!K875","v":0},{"$f":"'Energy Consumption'!K876","v":0},{"$f":"'Energy Consumption'!K957","v":0},{"$f":"'Energy Consumption'!K958","v":0},{"$f":"'Energy Consumption'!K1039","v":0},{"$f":"'Energy Consumption'!K1040","v":0},{"$f":"'Energy Consumption'!K1121","v":0},{"$f":"'Energy Consumption'!K1122","v":0},{"$f":"'Energy Consumption'!K1203","v":0},{"$f":"'Energy Consumption'!K1204","v":0},{"$f":"'Energy Consumption'!K1285","v":0},{"$f":"'Energy Consumption'!K1286","v":0},{"$f":"'Energy Consumption'!K1367","v":0},{"$f":"'Energy Consumption'!K1368","v":0},{"$f":"'Energy Consumption'!K1449","v":0},{"$f":"'Energy Consumption'!K1450","v":0},{"$f":"'Energy Consumption'!K1531","v":0},{"$f":"'Energy Consumption'!K1532","v":0},{"$f":"'Energy Consumption'!K1613","v":0},{"$f":"'Energy Consumption'!K1614","v":0},null,{"$f":"'Relevant Variables'!K43","v":0},{"$f":"'Relevant Variables'!K73","v":0},{"$f":"'Relevant Variables'!K103","v":0},{"$f":"'Relevant Variables'!K133","v":0},{"$f":"'Relevant Variables'!K163","v":0},{"$f":"'Relevant Variables'!K193","v":0},{"$f":"'Relevant Variables'!K223","v":0},{"$f":"'Relevant Variables'!K253","v":0},{"$f":"'Relevant Variables'!K283","v":0},{"$f":"'Relevant Variables'!K313","v":0},{"$f":"'Relevant Variables'!K343","v":0},{"$f":"'Relevant Variables'!K373","v":0},{"$f":"'Relevant Variables'!K403","v":0},{"$f":"'Relevant Variables'!K433","v":0},{"$f":"'Relevant Variables'!K463","v":0},{"$f":"'Relevant Variables'!K493","v":0},{"$f":"'Relevant Variables'!K523","v":0},{"$f":"'Relevant Variables'!K553","v":0},{"$f":"'Relevant Variables'!K583","v":0},{"$f":"'Relevant Variables'!K613","v":0}]
["2017-09-01",null,{"$f":"'Energy Consumption'!L55","v":0},{"$f":"'Energy Consumption'!L56","v":0},{"$f":"'Energy Consumption'!L137","v":0},{"$f":"'Energy Consumption'!L138","v":0},{"$f":"'Energy Consumption'!L219","v":0},{"$f":"'Energy Consumption'!L220","v":0},{"$f":"'Energy Consumption'!L301","v":0},{"$f":"'Energy Consumption'!L302","v":0},{"$f":"'Energy Consumption'!L383","v":0},{"$f":"'Energy Consumption'!L384","v":0},{"$f":"'Energy Consumption'!L465","v":0},{"$f":"'Energy Consumption'!L466","v":0},{"$f":"'Energy Consumption'!L547","v":0},{"$f":"'Energy Consumption'!L548","v":0},{"$f":"'Energy Consumption'!L629","v":0},{"$f":"'Energy Consumption'!L630","v":0},{"$f":"'Energy Consumption'!L711","v":0},{"$f":"'Energy Consumption'!L712","v":0},{"$f":"'Energy Consumption'!L793","v":0},{"$f":"'Energy Consumption'!L794","v":0},{"$f":"'Energy Consumption'!L875","v":0},{"$f":"'Energy Consumption'!L876","v":0},{"$f":"'Energy Consumption'!L957","v":0},{"$f":"'Energy Consumption'!L958","v":0},{"$f":"'Energy Consumption'!L1039","v":0},{"$f":"'Energy Consumption'!L1040","v":0},{"$f":"'Energy Consumption'!L1121","v":0},{"$f":"'Energy Consumption'!L1122","v":0},{"$f":"'Energy Consumption'!L1203","v":0},{"$f":"'Energy Consumption'!L1204","v":0},{"$f":"'Energy Consumption'!L1285","v":0},{"$f":"'Energy Consumption'!L1286","v":0},{"$f":"'Energy Consumption'!L1367","v":0},{"$f":"'Energy Consumption'!L1368","v":0},{"$f":"'Energy Consumption'!L1449","v":0},{"$f":"'Energy Consumption'!L1450","v":0},{"$f":"'Energy Consumption'!L1531","v":0},{"$f":"'Energy Consumption'!L1532","v":0},{"$f":"'Energy Consumption'!L1613","v":0},{"$f":"'Energy Consumption'!L1614","v":0},null,{"$f":"'Relevant Variables'!L43","v":0},{"$f":"'Relevant Variables'!L73","v":0},{"$f":"'Relevant Variables'!L103","v":0},{"$f":"'Relevant Variables'!L133","v":0},{"$f":"'Relevant Variables'!L163","v":0},{"$f":"'Relevant Variables'!L193","v":0},{"$f":"'Relevant Variables'!L223","v":0},{"$f":"'Relevant Variables'!L253","v":0},{"$f":"'Relevant Variables'!L283","v":0},{"$f":"'Relevant Variables'!L313","v":0},{"$f":"'Relevant Variables'!L343","v":0},{"$f":"'Relevant Variables'!L373","v":0},{"$f":"'Relevant Variables'!L403","v":0},{"$f":"'Relevant Variables'!L433","v":0},{"$f":"'Relevant Variables'!L463","v":0},{"$f":"'Relevant Variables'!L493","v":0},{"$f":"'Relevant Variables'!L523","v":0},{"$f":"'Relevant Variables'!L553","v":0},{"$f":"'Relevant Variables'!L583","v":0},{"$f":"'Relevant Variables'!L613","v":0}]
["2017-10-01",null,{"$f":"'Energy Consumption'!M55","v":0},{"$f":"'Energy Consumption'!M56","v":0},{"$f":"'Energy Consumption'!M137","v":0},{"$f":"'Energy Consumption'!M138","v":0},{"$f":"'Energy Consumption'!M219","v":0},{"$f":"'Energy Consumption'!M220","v":0},{"$f":"'Energy Consumption'!M301","v":0},{"$f":"'Energy Consumption'!M302","v":0},{"$f":"'Energy Consumption'!M383","v":0},{"$f":"'Energy Consumption'!M384","v":0},{"$f":"'Energy Consumption'!M465","v":0},{"$f":"'Energy Consumption'!M466","v":0},{"$f":"'Energy Consumption'!M547","v":0},{"$f":"'Energy Consumption'!M548","v":0},{"$f":"'Energy Consumption'!M629","v":0},{"$f":"'Energy Consumption'!M630","v":0},{"$f":"'Energy Consumption'!M711","v":0},{"$f":"'Energy Consumption'!M712","v":0},{"$f":"'Energy Consumption'!M793","v":0},{"$f":"'Energy Consumption'!M794","v":0},{"$f":"'Energy Consumption'!M875","v":0},{"$f":"'Energy Consumption'!M876","v":0},{"$f":"'Energy Consumption'!M957","v":0},{"$f":"'Energy Consumption'!M958","v":0},{"$f":"'Energy Consumption'!M1039","v":0},{"$f":"'Energy Consumption'!M1040","v":0},{"$f":"'Energy Consumption'!M1121","v":0},{"$f":"'Energy Consumption'!M1122","v":0},{"$f":"'Energy Consumption'!M1203","v":0},{"$f":"'Energy Consumption'!M1204","v":0},{"$f":"'Energy Consumption'!M1285","v":0},{"$f":"'Energy Consumption'!M1286","v":0},{"$f":"'Energy Consumption'!M1367","v":0},{"$f":"'Energy Consumption'!M1368","v":0},{"$f":"'Energy Consumption'!M1449","v":0},{"$f":"'Energy Consumption'!M1450","v":0},{"$f":"'Energy Consumption'!M1531","v":0},{"$f":"'Energy Consumption'!M1532","v":0},{"$f":"'Energy Consumption'!M1613","v":0},{"$f":"'Energy Consumption'!M1614","v":0},null,{"$f":"'Relevant Variables'!M43","v":0},{"$f":"'Relevant Variables'!M73","v":0},{"$f":"'Relevant Variables'!M103","v":0},{"$f":"'Relevant Variables'!M133","v":0},{"$f":"'Relevant Variables'!M163","v":0},{"$f":"'Relevant Variables'!M193","v":0},{"$f":"'Relevant Variables'!M223","v":0},{"$f":"'Relevant Variables'!M253","v":0},{"$f":"'Relevant Variables'!M283","v":0},{"$f":"'Relevant Variables'!M313","v":0},{"$f":"'Relevant Variables'!M343","v":0},{"$f":"'Relevant Variables'!M373","v":0},{"$f":"'Relevant Variables'!M403","v":0},{"$f":"'Relevant Variables'!M433","v":0},{"$f":"'Relevant Variables'!M463","v":0},{"$f":"'Relevant Variables'!M493","v":0},{"$f":"'Relevant Variables'!M523","v":0},{"$f":"'Relevant Variables'!M553","v":0},{"$f":"'Relevant Variables'!M583","v":0},{"$f":"'Relevant Variables'!M613","v":0}]
["2017-11-01",null,{"$f":"'Energy Consumption'!N55","v":0},{"$f":"'Energy Consumption'!N56","v":0},{"$f":"'Energy Consumption'!N137","v":0},{"$f":"'Energy Consumption'!N138","v":0},{"$f":"'Energy Consumption'!N219","v":0},{"$f":"'Energy Consumption'!N220","v":0},{"$f":"'Energy Consumption'!N301","v":0},{"$f":"'Energy Consumption'!N302","v":0},{"$f":"'Energy Consumption'!N383","v":0},{"$f":"'Energy Consumption'!N384","v":0},{"$f":"'Energy Consumption'!N465","v":0},{"$f":"'Energy Consumption'!N466","v":0},{"$f":"'Energy Consumption'!N547","v":0},{"$f":"'Energy Consumption'!N548","v":0},{"$f":"'Energy Consumption'!N629","v":0},{"$f":"'Energy Consumption'!N630","v":0},{"$f":"'Energy Consumption'!N711","v":0},{"$f":"'Energy Consumption'!N712","v":0},{"$f":"'Energy Consumption'!N793","v":0},{"$f":"'Energy Consumption'!N794","v":0},{"$f":"'Energy Consumption'!N875","v":0},{"$f":"'Energy Consumption'!N876","v":0},{"$f":"'Energy Consumption'!N957","v":0},{"$f":"'Energy Consumption'!N958","v":0},{"$f":"'Energy Consumption'!N1039","v":0},{"$f":"'Energy Consumption'!N1040","v":0},{"$f":"'Energy Consumption'!N1121","v":0},{"$f":"'Energy Consumption'!N1122","v":0},{"$f":"'Energy Consumption'!N1203","v":0},{"$f":"'Energy Consumption'!N1204","v":0},{"$f":"'Energy Consumption'!N1285","v":0},{"$f":"'Energy Consumption'!N1286","v":0},{"$f":"'Energy Consumption'!N1367","v":0},{"$f":"'Energy Consumption'!N1368","v":0},{"$f":"'Energy Consumption'!N1449","v":0},{"$f":"'Energy Consumption'!N1450","v":0},{"$f":"'Energy Consumption'!N1531","v":0},{"$f":"'Energy Consumption'!N1532","v":0},{"$f":"'Energy Consumption'!N1613","v":0},{"$f":"'Energy Consumption'!N1614","v":0},null,{"$f":"'Relevant Variables'!N43","v":0},{"$f":"'Relevant Variables'!N73","v":0},{"$f":"'Relevant Variables'!N103","v":0},{"$f":"'Relevant Variables'!N133","v":0},{"$f":"'Relevant Variables'!N163","v":0},{"$f":"'Relevant Variables'!N193","v":0},{"$f":"'Relevant Variables'!N223","v":0},{"$f":"'Relevant Variables'!N253","v":0},{"$f":"'Relevant Variables'!N283","v":0},{"$f":"'Relevant Variables'!N313","v":0},{"$f":"'Relevant Variables'!N343","v":0},{"$f":"'Relevant Variables'!N373","v":0},{"$f":"'Relevant Variables'!N403","v":0},{"$f":"'Relevant Variables'!N433","v":0},{"$f":"'Relevant Variables'!N463","v":0},{"$f":"'Relevant Variables'!N493","v":0},{"$f":"'Relevant Variables'!N523","v":0},{"$f":"'Relevant Variables'!N553","v":0},{"$f":"'Relevant Variables'!N583","v":0},{"$f":"'Relevant Variables'!N613","v":0}]
["2017-12-01",null,{"$f":"'Energy Consumption'!O55","v":0},{"$f":"'Energy Consumption'!O56","v":0},{"$f":"'Energy Consumption'!O137","v":0},{"$f":"'Energy Consumption'!O138","v":0},{"$f":"'Energy Consumption'!O219","v":0},{"$f":"'Energy Consumption'!O220","v":0},{"$f":"'Energy Consumption'!O301","v":0},{"$f":"'Energy Consumption'!O302","v":0},{"$f":"'Energy Consumption'!O383","v":0},{"$f":"'Energy Consumption'!O384","v":0},{"$f":"'Energy Consumption'!O465","v":0},{"$f":"'Energy Consumption'!O466","v":0},{"$f":"'Energy Consumption'!O547","v":0},{"$f":"'Energy Consumption'!O548","v":0},{"$f":"'Energy Consumption'!O629","v":0},{"$f":"'Energy Consumption'!O630","v":0},{"$f":"'Energy Consumption'!O711","v":0},{"$f":"'Energy Consumption'!O712","v":0},{"$f":"'Energy Consumption'!O793","v":0},{"$f":"'Energy Consumption'!O794","v":0},{"$f":"'Energy Consumption'!O875","v":0},{"$f":"'Energy Consumption'!O876","v":0},{"$f":"'Energy Consumption'!O957","v":0},{"$f":"'Energy Consumption'!O958","v":0},{"$f":"'Energy Consumption'!O1039","v":0},{"$f":"'Energy Consumption'!O1040","v":0},{"$f":"'Energy Consumption'!O1121","v":0},{"$f":"'Energy Consumption'!O1122","v":0},{"$f":"'Energy Consumption'!O1203","v":0},{"$f":"'Energy Consumption'!O1204","v":0},{"$f":"'Energy Consumption'!O1285","v":0},{"$f":"'Energy Consumption'!O1286","v":0},{"$f":"'Energy Consumption'!O1367","v":0},{"$f":"'Energy Consumption'!O1368","v":0},{"$f":"'Energy Consumption'!O1449","v":0},{"$f":"'Energy Consumption'!O1450","v":0},{"$f":"'Energy Consumption'!O1531","v":0},{"$f":"'Energy Consumption'!O1532","v":0},{"$f":"'Energy Consumption'!O1613","v":0},{"$f":"'Energy Consumption'!O1614","v":0},null,{"$f":"'Relevant Variables'!O43","v":0},{"$f":"'Relevant Variables'!O73","v":0},{"$f":"'Relevant Variables'!O103","v":0},{"$f":"'Relevant Variables'!O133","v":0},{"$f":"'Relevant Variables'!O163","v":0},{"$f":"'Relevant Variables'!O193","v":0},{"$f":"'Relevant Variables'!O223","v":0},{"$f":"'Relevant Variables'!O253","v":0},{"$f":"'Relevant Variables'!O283","v":0},{"$f":"'Relevant Variables'!O313","v":0},{"$f":"'Relevant Variables'!O343","v":0},{"$f":"'Relevant Variables'!O373","v":0},{"$f":"'Relevant Variables'!O403","v":0},{"$f":"'Relevant Variables'!O433","v":0},{"$f":"'Relevant Variables'!O463","v":0},{"$f":"'Relevant Variables'!O493","v":0},{"$f":"'Relevant Variables'!O523","v":0},{"$f":"'Relevant Variables'!O553","v":0},{"$f":"'Relevant Variables'!O583","v":0},{"$f":"'Relevant Variables'!O613","v":0}]
["2018-01-01",null,{"$f":"'Energy Consumption'!D53","v":0},{"$f":"'Energy Consumption'!D54","v":0},{"$f":"'Energy Consumption'!D135","v":0},{"$f":"'Energy Consumption'!D136","v":0},{"$f":"'Energy Consumption'!D217","v":0},{"$f":"'Energy Consumption'!D218","v":0},{"$f":"'Energy Consumption'!D299","v":0},{"$f":"'Energy Consumption'!D300","v":0},{"$f":"'Energy Consumption'!D381","v":0},{"$f":"'Energy Consumption'!D382","v":0},{"$f":"'Energy Consumption'!D463","v":0},{"$f":"'Energy Consumption'!D464","v":0},{"$f":"'Energy Consumption'!D545","v":0},{"$f":"'Energy Consumption'!D546","v":0},{"$f":"'Energy Consumption'!D627","v":0},{"$f":"'Energy Consumption'!D628","v":0},{"$f":"'Energy Consumption'!D709","v":0},{"$f":"'Energy Consumption'!D710","v":0},{"$f":"'Energy Consumption'!D791","v":0},{"$f":"'Energy Consumption'!D792","v":0},{"$f":"'Energy Consumption'!D873","v":0},{"$f":"'Energy Consumption'!D874","v":0},{"$f":"'Energy Consumption'!D955","v":0},{"$f":"'Energy Consumption'!D956","v":0},{"$f":"'Energy Consumption'!D1037","v":0},{"$f":"'Energy Consumption'!D1038","v":0},{"$f":"'Energy Consumption'!D1119","v":0},{"$f":"'Energy Consumption'!D1120","v":0},{"$f":"'Energy Consumption'!D1201","v":0},{"$f":"'Energy Consumption'!D1202","v":0},{"$f":"'Energy Consumption'!D1283","v":0},{"$f":"'Energy Consumption'!D1284","v":0},{"$f":"'Energy Consumption'!D1365","v":0},{"$f":"'Energy Consumption'!D1366","v":0},{"$f":"'Energy Consumption'!D1447","v":0},{"$f":"'Energy Consumption'!D1448","v":0},{"$f":"'Energy Consumption'!D1529","v":0},{"$f":"'Energy Consumption'!D1530","v":0},{"$f":"'Energy Consumption'!D1611","v":0},{"$f":"'Energy Consumption'!D1612","v":0},null,{"$f":"'Relevant Variables'!D42","v":0},{"$f":"'Relevant Variables'!D72","v":0},{"$f":"'Relevant Variables'!D102","v":0},{"$f":"'Relevant Variables'!D132","v":0},{"$f":"'Relevant Variables'!D162","v":0},{"$f":"'Relevant Variables'!D192","v":0},{"$f":"'Relevant Variables'!D222","v":0},{"$f":"'Relevant Variables'!D252","v":0},{"$f":"'Relevant Variables'!D282","v":0},{"$f":"'Relevant Variables'!D312","v":0},{"$f":"'Relevant Variables'!D342","v":0},{"$f":"'Relevant Variables'!D372","v":0},{"$f":"'Relevant Variables'!D402","v":0},{"$f":"'Relevant Variables'!D432","v":0},{"$f":"'Relevant Variables'!D462","v":0},{"$f":"'Relevant Variables'!D492","v":0},{"$f":"'Relevant Variables'!D522","v":0},{"$f":"'Relevant Variables'!D552","v":0},{"$f":"'Relevant Variables'!D582","v":0},{"$f":"'Relevant Variables'!D612","v":0}]
["2018-02-01",null,{"$f":"'Energy Consumption'!E53","v":0},{"$f":"'Energy Consumption'!E54","v":0},{"$f":"'Energy Consumption'!E135","v":0},{"$f":"'Energy Consumption'!E136","v":0},{"$f":"'Energy Consumption'!E217","v":0},{"$f":"'Energy Consumption'!E218","v":0},{"$f":"'Energy Consumption'!E299","v":0},{"$f":"'Energy Consumption'!E300","v":0},{"$f":"'Energy Consumption'!E381","v":0},{"$f":"'Energy Consumption'!E382","v":0},{"$f":"'Energy Consumption'!E463","v":0},{"$f":"'Energy Consumption'!E464","v":0},{"$f":"'Energy Consumption'!E545","v":0},{"$f":"'Energy Consumption'!E546","v":0},{"$f":"'Energy Consumption'!E627","v":0},{"$f":"'Energy Consumption'!E628","v":0},{"$f":"'Energy Consumption'!E709","v":0},{"$f":"'Energy Consumption'!E710","v":0},{"$f":"'Energy Consumption'!E791","v":0},{"$f":"'Energy Consumption'!E792","v":0},{"$f":"'Energy Consumption'!E873","v":0},{"$f":"'Energy Consumption'!E874","v":0},{"$f":"'Energy Consumption'!E955","v":0},{"$f":"'Energy Consumption'!E956","v":0},{"$f":"'Energy Consumption'!E1037","v":0},{"$f":"'Energy Consumption'!E1038","v":0},{"$f":"'Energy Consumption'!E1119","v":0},{"$f":"'Energy Consumption'!E1120","v":0},{"$f":"'Energy Consumption'!E1201","v":0},{"$f":"'Energy Consumption'!E1202","v":0},{"$f":"'Energy Consumption'!E1283","v":0},{"$f":"'Energy Consumption'!E1284","v":0},{"$f":"'Energy Consumption'!E1365","v":0},{"$f":"'Energy Consumption'!E1366","v":0},{"$f":"'Energy Consumption'!E1447","v":0},{"$f":"'Energy Consumption'!E1448","v":0},{"$f":"'Energy Consumption'!E1529","v":0},{"$f":"'Energy Consumption'!E1530","v":0},{"$f":"'Energy Consumption'!E1611","v":0},{"$f":"'Energy Consumption'!E1612","v":0},null,{"$f":"'Relevant Variables'!E42","v":0},{"$f":"'Relevant Variables'!E72","v":0},{"$f":"'Relevant Variables'!E102","v":0},{"$f":"'Relevant Variables'!E132","v":0},{"$f":"'Relevant Variables'!E162","v":0},{"$f":"'Relevant Variables'!E192","v":0},{"$f":"'Relevant Variables'!E222","v":0},{"$f":"'Relevant Variables'!E252","v":0},{"$f":"'Relevant Variables'!E282","v":0},{"$f":"'Relevant Variables'!E312","v":0},{"$f":"'Relevant Variables'!E342","v":0},{"$f":"'Relevant Variables'!E372","v":0},{"$f":"'Relevant Variables'!E402","v":0},{"$f":"'Relevant Variables'!E432","v":0},{"$f":"'Relevant Variables'!E462","v":0},{"$f":"'Relevant Variables'!E492","v":0},{"$f":"'Relevant Variables'!E522","v":0},{"$f":"'Relevant Variables'!E552","v":0},{"$f":"'Relevant Variables'!E582","v":0},{"$f":"'Relevant Variables'!E612","v":0}]
["2018-03-01",null,{"$f":"'Energy Consumption'!F53","v":0},{"$f":"'Energy Consumption'!F54","v":0},{"$f":"'Energy Consumption'!F135","v":0},{"$f":"'Energy Consumption'!F136","v":0},{"$f":"'Energy Consumption'!F217","v":0},{"$f":"'Energy Consumption'!F218","v":0},{"$f":"'Energy Consumption'!F299","v":0},{"$f":"'Energy Consumption'!F300","v":0},{"$f":"'Energy Consumption'!F381","v":0},{"$f":"'Energy Consumption'!F382","v":0},{"$f":"'Energy Consumption'!F463","v":0},{"$f":"'Energy Consumption'!F464","v":0},{"$f":"'Energy Consumption'!F545","v":0},{"$f":"'Energy Consumption'!F546","v":0},{"$f":"'Energy Consumption'!F627","v":0},{"$f":"'Energy Consumption'!F628","v":0},{"$f":"'Energy Consumption'!F709","v":0},{"$f":"'Energy Consumption'!F710","v":0},{"$f":"'Energy Consumption'!F791","v":0},{"$f":"'Energy Consumption'!F792","v":0},{"$f":"'Energy Consumption'!F873","v":0},{"$f":"'Energy Consumption'!F874","v":0},{"$f":"'Energy Consumption'!F955","v":0},{"$f":"'Energy Consumption'!F956","v":0},{"$f":"'Energy Consumption'!F1037","v":0},{"$f":"'Energy Consumption'!F1038","v":0},{"$f":"'Energy Consumption'!F1119","v":0},{"$f":"'Energy Consumption'!F1120","v":0},{"$f":"'Energy Consumption'!F1201","v":0},{"$f":"'Energy Consumption'!F1202","v":0},{"$f":"'Energy Consumption'!F1283","v":0},{"$f":"'Energy Consumption'!F1284","v":0},{"$f":"'Energy Consumption'!F1365","v":0},{"$f":"'Energy Consumption'!F1366","v":0},{"$f":"'Energy Consumption'!F1447","v":0},{"$f":"'Energy Consumption'!F1448","v":0},{"$f":"'Energy Consumption'!F1529","v":0},{"$f":"'Energy Consumption'!F1530","v":0},{"$f":"'Energy Consumption'!F1611","v":0},{"$f":"'Energy Consumption'!F1612","v":0},null,{"$f":"'Relevant Variables'!F42","v":0},{"$f":"'Relevant Variables'!F72","v":0},{"$f":"'Relevant Variables'!F102","v":0},{"$f":"'Relevant Variables'!F132","v":0},{"$f":"'Relevant Variables'!F162","v":0},{"$f":"'Relevant Variables'!F192","v":0},{"$f":"'Relevant Variables'!F222","v":0},{"$f":"'Relevant Variables'!F252","v":0},{"$f":"'Relevant Variables'!F282","v":0},{"$f":"'Relevant Variables'!F312","v":0},{"$f":"'Relevant Variables'!F342","v":0},{"$f":"'Relevant Variables'!F372","v":0},{"$f":"'Relevant Variables'!F402","v":0},{"$f":"'Relevant Variables'!F432","v":0},{"$f":"'Relevant Variables'!F462","v":0},{"$f":"'Relevant Variables'!F492","v":0},{"$f":"'Relevant Variables'!F522","v":0},{"$f":"'Relevant Variables'!F552","v":0},{"$f":"'Relevant Variables'!F582","v":0},{"$f":"'Relevant Variables'!F612","v":0}]
["2018-04-01",null,{"$f":"'Energy Consumption'!G53","v":0},{"$f":"'Energy Consumption'!G54","v":0},{"$f":"'Energy Consumption'!G135","v":0},{"$f":"'Energy Consumption'!G136","v":0},{"$f":"'Energy Consumption'!G217","v":0},{"$f":"'Energy Consumption'!G218","v":0},{"$f":"'Energy Consumption'!G299","v":0},{"$f":"'Energy Consumption'!G300","v":0},{"$f":"'Energy Consumption'!G381","v":0},{"$f":"'Energy Consumption'!G382","v":0},{"$f":"'Energy Consumption'!G463","v":0},{"$f":"'Energy Consumption'!G464","v":0},{"$f":"'Energy Consumption'!G545","v":0},{"$f":"'Energy Consumption'!G546","v":0},{"$f":"'Energy Consumption'!G627","v":0},{"$f":"'Energy Consumption'!G628","v":0},{"$f":"'Energy Consumption'!G709","v":0},{"$f":"'Energy Consumption'!G710","v":0},{"$f":"'Energy Consumption'!G791","v":0},{"$f":"'Energy Consumption'!G792","v":0},{"$f":"'Energy Consumption'!G873","v":0},{"$f":"'Energy Consumption'!G874","v":0},{"$f":"'Energy Consumption'!G955","v":0},{"$f":"'Energy Consumption'!G956","v":0},{"$f":"'Energy Consumption'!G1037","v":0},{"$f":"'Energy Consumption'!G1038","v":0},{"$f":"'Energy Consumption'!G1119","v":0},{"$f":"'Energy Consumption'!G1120","v":0},{"$f":"'Energy Consumption'!G1201","v":0},{"$f":"'Energy Consumption'!G1202","v":0},{"$f":"'Energy Consumption'!G1283","v":0},{"$f":"'Energy Consumption'!G1284","v":0},{"$f":"'Energy Consumption'!G1365","v":0},{"$f":"'Energy Consumption'!G1366","v":0},{"$f":"'Energy Consumption'!G1447","v":0},{"$f":"'Energy Consumption'!G1448","v":0},{"$f":"'Energy Consumption'!G1529","v":0},{"$f":"'Energy Consumption'!G1530","v":0},{"$f":"'Energy Consumption'!G1611","v":0},{"$f":"'Energy Consumption'!G1612","v":0},null,{"$f":"'Relevant Variables'!G42","v":0},{"$f":"'Relevant Variables'!G72","v":0},{"$f":"'Relevant Variables'!G102","v":0},{"$f":"'Relevant Variables'!G132","v":0},{"$f":"'Relevant Variables'!G162","v":0},{"$f":"'Relevant Variables'!G192","v":0},{"$f":"'Relevant Variables'!G222","v":0},{"$f":"'Relevant Variables'!G252","v":0},{"$f":"'Relevant Variables'!G282","v":0},{"$f":"'Relevant Variables'!G312","v":0},{"$f":"'Relevant Variables'!G342","v":0},{"$f":"'Relevant Variables'!G372","v":0},{"$f":"'Relevant Variables'!G402","v":0},{"$f":"'Relevant Variables'!G432","v":0},{"$f":"'Relevant Variables'!G462","v":0},{"$f":"'Relevant Variables'!G492","v":0},{"$f":"'Relevant Variables'!G522","v":0},{"$f":"'Relevant Variables'!G552","v":0},{"$f":"'Relevant Variables'!G582","v":0},{"$f":"'Relevant Variables'!G612","v":0}]
["2018-05-01",null,{"$f":"'Energy Consumption'!H53","v":0},{"$f":"'Energy Consumption'!H54","v":0},{"$f":"'Energy Consumption'!H135","v":0},{"$f":"'Energy Consumption'!H136","v":0},{"$f":"'Energy Consumption'!H217","v":0},{"$f":"'Energy Consumption'!H218","v":0},{"$f":"'Energy Consumption'!H299","v":0},{"$f":"'Energy Consumption'!H300","v":0},{"$f":"'Energy Consumption'!H381","v":0},{"$f":"'Energy Consumption'!H382","v":0},{"$f":"'Energy Consumption'!H463","v":0},{"$f":"'Energy Consumption'!H464","v":0},{"$f":"'Energy Consumption'!H545","v":0},{"$f":"'Energy Consumption'!H546","v":0},{"$f":"'Energy Consumption'!H627","v":0},{"$f":"'Energy Consumption'!H628","v":0},{"$f":"'Energy Consumption'!H709","v":0},{"$f":"'Energy Consumption'!H710","v":0},{"$f":"'Energy Consumption'!H791","v":0},{"$f":"'Energy Consumption'!H792","v":0},{"$f":"'Energy Consumption'!H873","v":0},{"$f":"'Energy Consumption'!H874","v":0},{"$f":"'Energy Consumption'!H955","v":0},{"$f":"'Energy Consumption'!H956","v":0},{"$f":"'Energy Consumption'!H1037","v":0},{"$f":"'Energy Consumption'!H1038","v":0},{"$f":"'Energy Consumption'!H1119","v":0},{"$f":"'Energy Consumption'!H1120","v":0},{"$f":"'Energy Consumption'!H1201","v":0},{"$f":"'Energy Consumption'!H1202","v":0},{"$f":"'Energy Consumption'!H1283","v":0},{"$f":"'Energy Consumption'!H1284","v":0},{"$f":"'Energy Consumption'!H1365","v":0},{"$f":"'Energy Consumption'!H1366","v":0},{"$f":"'Energy Consumption'!H1447","v":0},{"$f":"'Energy Consumption'!H1448","v":0},{"$f":"'Energy Consumption'!H1529","v":0},{"$f":"'Energy Consumption'!H1530","v":0},{"$f":"'Energy Consumption'!H1611","v":0},{"$f":"'Energy Consumption'!H1612","v":0},null,{"$f":"'Relevant Variables'!H42","v":0},{"$f":"'Relevant Variables'!H72","v":0},{"$f":"'Relevant Variables'!H102","v":0},{"$f":"'Relevant Variables'!H132","v":0},{"$f":"'Relevant Variables'!H162","v":0},{"$f":"'Relevant Variables'!H192","v":0},{"$f":"'Relevant Variables'!H222","v":0},{"$f":"'Relevant Variables'!H252","v":0},{"$f":"'Relevant Variables'!H282","v":0},{"$f":"'Relevant Variables'!H312","v":0},{"$f":"'Relevant Variables'!H342","v":0},{"$f":"'Relevant Variables'!H372","v":0},{"$f":"'Relevant Variables'!H402","v":0},{"$f":"'Relevant Variables'!H432","v":0},{"$f":"'Relevant Variables'!H462","v":0},{"$f":"'Relevant Variables'!H492","v":0},{"$f":"'Relevant Variables'!H522","v":0},{"$f":"'Relevant Variables'!H552","v":0},{"$f":"'Relevant Variables'!H582","v":0},{"$f":"'Relevant Variables'!H612","v":0}]
["2018-06-01",null,{"$f":"'Energy Consumption'!I53","v":0},{"$f":"'Energy Consumption'!I54","v":0},{"$f":"'Energy Consumption'!I135","v":0},{"$f":"'Energy Consumption'!I136","v":0},{"$f":"'Energy Consumption'!I217","v":0},{"$f":"'Energy Consumption'!I218","v":0},{"$f":"'Energy Consumption'!I299","v":0},{"$f":"'Energy Consumption'!I300","v":0},{"$f":"'Energy Consumption'!I381","v":0},{"$f":"'Energy Consumption'!I382","v":0},{"$f":"'Energy Consumption'!I463","v":0},{"$f":"'Energy Consumption'!I464","v":0},{"$f":"'Energy Consumption'!I545","v":0},{"$f":"'Energy Consumption'!I546","v":0},{"$f":"'Energy Consumption'!I627","v":0},{"$f":"'Energy Consumption'!I628","v":0},{"$f":"'Energy Consumption'!I709","v":0},{"$f":"'Energy Consumption'!I710","v":0},{"$f":"'Energy Consumption'!I791","v":0},{"$f":"'Energy Consumption'!I792","v":0},{"$f":"'Energy Consumption'!I873","v":0},{"$f":"'Energy Consumption'!I874","v":0},{"$f":"'Energy Consumption'!I955","v":0},{"$f":"'Energy Consumption'!I956","v":0},{"$f":"'Energy Consumption'!I1037","v":0},{"$f":"'Energy Consumption'!I1038","v":0},{"$f":"'Energy Consumption'!I1119","v":0},{"$f":"'Energy Consumption'!I1120","v":0},{"$f":"'Energy Consumption'!I1201","v":0},{"$f":"'Energy Consumption'!I1202","v":0},{"$f":"'Energy Consumption'!I1283","v":0},{"$f":"'Energy Consumption'!I1284","v":0},{"$f":"'Energy Consumption'!I1365","v":0},{"$f":"'Energy Consumption'!I1366","v":0},{"$f":"'Energy Consumption'!I1447","v":0},{"$f":"'Energy Consumption'!I1448","v":0},{"$f":"'Energy Consumption'!I1529","v":0},{"$f":"'Energy Consumption'!I1530","v":0},{"$f":"'Energy Consumption'!I1611","v":0},{"$f":"'Energy Consumption'!I1612","v":0},null,{"$f":"'Relevant Variables'!I42","v":0},{"$f":"'Relevant Variables'!I72","v":0},{"$f":"'Relevant Variables'!I102","v":0},{"$f":"'Relevant Variables'!I132","v":0},{"$f":"'Relevant Variables'!I162","v":0},{"$f":"'Relevant Variables'!I192","v":0},{"$f":"'Relevant Variables'!I222","v":0},{"$f":"'Relevant Variables'!I252","v":0},{"$f":"'Relevant Variables'!I282","v":0},{"$f":"'Relevant Variables'!I312","v":0},{"$f":"'Relevant Variables'!I342","v":0},{"$f":"'Relevant Variables'!I372","v":0},{"$f":"'Relevant Variables'!I402","v":0},{"$f":"'Relevant Variables'!I432","v":0},{"$f":"'Relevant Variables'!I462","v":0},{"$f":"'Relevant Variables'!I492","v":0},{"$f":"'Relevant Variables'!I522","v":0},{"$f":"'Relevant Variables'!I552","v":0},{"$f":"'Relevant Variables'!I582","v":0},{"$f":"'Relevant Variables'!I612","v":0}]
["2018-07-01",null,{"$f":"'Energy Consumption'!J53","v":0},{"$f":"'Energy Consumption'!J54","v":0},{"$f":"'Energy Consumption'!J135","v":0},{"$f":"'Energy Consumption'!J136","v":0},{"$f":"'Energy Consumption'!J217","v":0},{"$f":"'Energy Consumption'!J218","v":0},{"$f":"'Energy Consumption'!J299","v":0},{"$f":"'Energy Consumption'!J300","v":0},{"$f":"'Energy Consumption'!J381","v":0},{"$f":"'Energy Consumption'!J382","v":0},{"$f":"'Energy Consumption'!J463","v":0},{"$f":"'Energy Consumption'!J464","v":0},{"$f":"'Energy Consumption'!J545","v":0},{"$f":"'Energy Consumption'!J546","v":0},{"$f":"'Energy Consumption'!J627","v":0},{"$f":"'Energy Consumption'!J628","v":0},{"$f":"'Energy Consumption'!J709","v":0},{"$f":"'Energy Consumption'!J710","v":0},{"$f":"'Energy Consumption'!J791","v":0},{"$f":"'Energy Consumption'!J792","v":0},{"$f":"'Energy Consumption'!J873","v":0},{"$f":"'Energy Consumption'!J874","v":0},{"$f":"'Energy Consumption'!J955","v":0},{"$f":"'Energy Consumption'!J956","v":0},{"$f":"'Energy Consumption'!J1037","v":0},{"$f":"'Energy Consumption'!J1038","v":0},{"$f":"'Energy Consumption'!J1119","v":0},{"$f":"'Energy Consumption'!J1120","v":0},{"$f":"'Energy Consumption'!J1201","v":0},{"$f":"'Energy Consumption'!J1202","v":0},{"$f":"'Energy Consumption'!J1283","v":0},{"$f":"'Energy Consumption'!J1284","v":0},{"$f":"'Energy Consumption'!J1365","v":0},{"$f":"'Energy Consumption'!J1366","v":0},{"$f":"'Energy Consumption'!J1447","v":0},{"$f":"'Energy Consumption'!J1448","v":0},{"$f":"'Energy Consumption'!J1529","v":0},{"$f":"'Energy Consumption'!J1530","v":0},{"$f":"'Energy Consumption'!J1611","v":0},{"$f":"'Energy Consumption'!J1612","v":0},null,{"$f":"'Relevant Variables'!J42","v":0},{"$f":"'Relevant Variables'!J72","v":0},{"$f":"'Relevant Variables'!J102","v":0},{"$f":"'Relevant Variables'!J132","v":0},{"$f":"'Relevant Variables'!J162","v":0},{"$f":"'Relevant Variables'!J192","v":0},{"$f":"'Relevant Variables'!J222","v":0},{"$f":"'Relevant Variables'!J252","v":0},{"$f":"'Relevant Variables'!J282","v":0},{"$f":"'Relevant Variables'!J312","v":0},{"$f":"'Relevant Variables'!J342","v":0},{"$f":"'Relevant Variables'!J372","v":0},{"$f":"'Relevant Variables'!J402","v":0},{"$f":"'Relevant Variables'!J432","v":0},{"$f":"'Relevant Variables'!J462","v":0},{"$f":"'Relevant Variables'!J492","v":0},{"$f":"'Relevant Variables'!J522","v":0},{"$f":"'Relevant Variables'!J552","v":0},{"$f":"'Relevant Variables'!J582","v":0},{"$f":"'Relevant Variables'!J612","v":0}]
["2018-08-01",null,{"$f":"'Energy Consumption'!K53","v":0},{"$f":"'Energy Consumption'!K54","v":0},{"$f":"'Energy Consumption'!K135","v":0},{"$f":"'Energy Consumption'!K136","v":0},{"$f":"'Energy Consumption'!K217","v":0},{"$f":"'Energy Consumption'!K218","v":0},{"$f":"'Energy Consumption'!K299","v":0},{"$f":"'Energy Consumption'!K300","v":0},{"$f":"'Energy Consumption'!K381","v":0},{"$f":"'Energy Consumption'!K382","v":0},{"$f":"'Energy Consumption'!K463","v":0},{"$f":"'Energy Consumption'!K464","v":0},{"$f":"'Energy Consumption'!K545","v":0},{"$f":"'Energy Consumption'!K546","v":0},{"$f":"'Energy Consumption'!K627","v":0},{"$f":"'Energy Consumption'!K628","v":0},{"$f":"'Energy Consumption'!K709","v":0},{"$f":"'Energy Consumption'!K710","v":0},{"$f":"'Energy Consumption'!K791","v":0},{"$f":"'Energy Consumption'!K792","v":0},{"$f":"'Energy Consumption'!K873","v":0},{"$f":"'Energy Consumption'!K874","v":0},{"$f":"'Energy Consumption'!K955","v":0},{"$f":"'Energy Consumption'!K956","v":0},{"$f":"'Energy Consumption'!K1037","v":0},{"$f":"'Energy Consumption'!K1038","v":0},{"$f":"'Energy Consumption'!K1119","v":0},{"$f":"'Energy Consumption'!K1120","v":0},{"$f":"'Energy Consumption'!K1201","v":0},{"$f":"'Energy Consumption'!K1202","v":0},{"$f":"'Energy Consumption'!K1283","v":0},{"$f":"'Energy Consumption'!K1284","v":0},{"$f":"'Energy Consumption'!K1365","v":0},{"$f":"'Energy Consumption'!K1366","v":0},{"$f":"'Energy Consumption'!K1447","v":0},{"$f":"'Energy Consumption'!K1448","v":0},{"$f":"'Energy Consumption'!K1529","v":0},{"$f":"'Energy Consumption'!K1530","v":0},{"$f":"'Energy Consumption'!K1611","v":0},{"$f":"'Energy Consumption'!K1612","v":0},null,{"$f":"'Relevant Variables'!K42","v":0},{"$f":"'Relevant Variables'!K72","v":0},{"$f":"'Relevant Variables'!K102","v":0},{"$f":"'Relevant Variables'!K132","v":0},{"$f":"'Relevant Variables'!K162","v":0},{"$f":"'Relevant Variables'!K192","v":0},{"$f":"'Relevant Variables'!K222","v":0},{"$f":"'Relevant Variables'!K252","v":0},{"$f":"'Relevant Variables'!K282","v":0},{"$f":"'Relevant Variables'!K312","v":0},{"$f":"'Relevant Variables'!K342","v":0},{"$f":"'Relevant Variables'!K372","v":0},{"$f":"'Relevant Variables'!K402","v":0},{"$f":"'Relevant Variables'!K432","v":0},{"$f":"'Relevant Variables'!K462","v":0},{"$f":"'Relevant Variables'!K492","v":0},{"$f":"'Relevant Variables'!K522","v":0},{"$f":"'Relevant Variables'!K552","v":0},{"$f":"'Relevant Variables'!K582","v":0},{"$f":"'Relevant Variables'!K612","v":0}]
["2018-09-01",null,{"$f":"'Energy Consumption'!L53","v":0},{"$f":"'Energy Consumption'!L54","v":0},{"$f":"'Energy Consumption'!L135","v":0},{"$f":"'Energy Consumption'!L136","v":0},{"$f":"'Energy Consumption'!L217","v":0},{"$f":"'Energy Consumption'!L218","v":0},{"$f":"'Energy Consumption'!L299","v":0},{"$f":"'Energy Consumption'!L300","v":0},{"$f":"'Energy Consumption'!L381","v":0},{"$f":"'Energy Consumption'!L382","v":0},{"$f":"'Energy Consumption'!L463","v":0},{"$f":"'Energy Consumption'!L464","v":0},{"$f":"'Energy Consumption'!L545","v":0},{"$f":"'Energy Consumption'!L546","v":0},{"$f":"'Energy Consumption'!L627","v":0},{"$f":"'Energy Consumption'!L628","v":0},{"$f":"'Energy Consumption'!L709","v":0},{"$f":"'Energy Consumption'!L710","v":0},{"$f":"'Energy Consumption'!L791","v":0},{"$f":"'Energy Consumption'!L792","v":0},{"$f":"'Energy Consumption'!L873","v":0},{"$f":"'Energy Consumption'!L874","v":0},{"$f":"'Energy Consumption'!L955","v":0},{"$f":"'Energy Consumption'!L956","v":0},{"$f":"'Energy Consumption'!L1037","v":0},{"$f":"'Energy Consumption'!L1038","v":0},{"$f":"'Energy Consumption'!L1119","v":0},{"$f":"'Energy Consumption'!L1120","v":0},{"$f":"'Energy Consumption'!L1201","v":0},{"$f":"'Energy Consumption'!L1202","v":0},{"$f":"'Energy Consumption'!L1283","v":0},{"$f":"'Energy Consumption'!L1284","v":0},{"$f":"'Energy Consumption'!L1365","v":0},{"$f":"'Energy Consumption'!L1366","v":0},{"$f":"'Energy Consumption'!L1447","v":0},{"$f":"'Energy Consumption'!L1448","v":0},{"$f":"'Energy Consumption'!L1529","v":0},{"$f":"'Energy Consumption'!L1530","v":0},{"$f":"'Energy Consumption'!L1611","v":0},{"$f":"'Energy Consumption'!L1612","v":0},null,{"$f":"'Relevant Variables'!L42","v":0},{"$f":"'Relevant Variables'!L72","v":0},{"$f":"'Relevant Variables'!L102","v":0},{"$f":"'Relevant Variables'!L132","v":0},{"$f":"'Relevant Variables'!L162","v":0},{"$f":"'Relevant Variables'!L192","v":0},{"$f":"'Relevant Variables'!L222","v":0},{"$f":"'Relevant Variables'!L252","v":0},{"$f":"'Relevant Variables'!L282","v":0},{"$f":"'Relevant Variables'!L312","v":0},{"$f":"'Relevant Variables'!L342","v":0},{"$f":"'Relevant Variables'!L372","v":0},{"$f":"'Relevant Variables'!L402","v":0},{"$f":"'Relevant Variables'!L432","v":0},{"$f":"'Relevant Variables'!L462","v":0},{"$f":"'Relevant Variables'!L492","v":0},{"$f":"'Relevant Variables'!L522","v":0},{"$f":"'Relevant Variables'!L552","v":0},{"$f":"'Relevant Variables'!L582","v":0},{"$f":"'Relevant Variables'!L612","v":0}]
["2018-10-01",null,{"$f":"'Energy Consumption'!M53","v":0},{"$f":"'Energy Consumption'!M54","v":0},{"$f":"'Energy Consumption'!M135","v":0},{"$f":"'Energy Consumption'!M136","v":0},{"$f":"'Energy Consumption'!M217","v":0},{"$f":"'Energy Consumption'!M218","v":0},{"$f":"'Energy Consumption'!M299","v":0},{"$f":"'Energy Consumption'!M300","v":0},{"$f":"'Energy Consumption'!M381","v":0},{"$f":"'Energy Consumption'!M382","v":0},{"$f":"'Energy Consumption'!M463","v":0},{"$f":"'Energy Consumption'!M464","v":0},{"$f":"'Energy Consumption'!M545","v":0},{"$f":"'Energy Consumption'!M546","v":0},{"$f":"'Energy Consumption'!M627","v":0},{"$f":"'Energy Consumption'!M628","v":0},{"$f":"'Energy Consumption'!M709","v":0},{"$f":"'Energy Consumption'!M710","v":0},{"$f":"'Energy Consumption'!M791","v":0},{"$f":"'Energy Consumption'!M792","v":0},{"$f":"'Energy Consumption'!M873","v":0},{"$f":"'Energy Consumption'!M874","v":0},{"$f":"'Energy Consumption'!M955","v":0},{"$f":"'Energy Consumption'!M956","v":0},{"$f":"'Energy Consumption'!M1037","v":0},{"$f":"'Energy Consumption'!M1038","v":0},{"$f":"'Energy Consumption'!M1119","v":0},{"$f":"'Energy Consumption'!M1120","v":0},{"$f":"'Energy Consumption'!M1201","v":0},{"$f":"'Energy Consumption'!M1202","v":0},{"$f":"'Energy Consumption'!M1283","v":0},{"$f":"'Energy Consumption'!M1284","v":0},{"$f":"'Energy Consumption'!M1365","v":0},{"$f":"'Energy Consumption'!M1366","v":0},{"$f":"'Energy Consumption'!M1447","v":0},{"$f":"'Energy Consumption'!M1448","v":0},{"$f":"'Energy Consumption'!M1529","v":0},{"$f":"'Energy Consumption'!M1530","v":0},{"$f":"'Energy Consumption'!M1611","v":0},{"$f":"'Energy Consumption'!M1612","v":0},null,{"$f":"'Relevant Variables'!M42","v":0},{"$f":"'Relevant Variables'!M72","v":0},{"$f":"'Relevant Variables'!M102","v":0},{"$f":"'Relevant Variables'!M132","v":0},{"$f":"'Relevant Variables'!M162","v":0},{"$f":"'Relevant Variables'!M192","v":0},{"$f":"'Relevant Variables'!M222","v":0},{"$f":"'Relevant Variables'!M252","v":0},{"$f":"'Relevant Variables'!M282","v":0},{"$f":"'Relevant Variables'!M312","v":0},{"$f":"'Relevant Variables'!M342","v":0},{"$f":"'Relevant Variables'!M372","v":0},{"$f":"'Relevant Variables'!M402","v":0},{"$f":"'Relevant Variables'!M432","v":0},{"$f":"'Relevant Variables'!M462","v":0},{"$f":"'Relevant Variables'!M492","v":0},{"$f":"'Relevant Variables'!M522","v":0},{"$f":"'Relevant Variables'!M552","v":0},{"$f":"'Relevant Variables'!M582","v":0},{"$f":"'Relevant Variables'!M612","v":0}]
["2018-11-01",null,{"$f":"'Energy Consumption'!N53","v":0},{"$f":"'Energy Consumption'!N54","v":0},{"$f":"'Energy Consumption'!N135","v":0},{"$f":"'Energy Consumption'!N136","v":0},{"$f":"'Energy Consumption'!N217","v":0},{"$f":"'Energy Consumption'!N218","v":0},{"$f":"'Energy Consumption'!N299","v":0},{"$f":"'Energy Consumption'!N300","v":0},{"$f":"'Energy Consumption'!N381","v":0},{"$f":"'Energy Consumption'!N382","v":0},{"$f":"'Energy Consumption'!N463","v":0},{"$f":"'Energy Consumption'!N464","v":0},{"$f":"'Energy Consumption'!N545","v":0},{"$f":"'Energy Consumption'!N546","v":0},{"$f":"'Energy Consumption'!N627","v":0},{"$f":"'Energy Consumption'!N628","v":0},{"$f":"'Energy Consumption'!N709","v":0},{"$f":"'Energy Consumption'!N710","v":0},{"$f":"'Energy Consumption'!N791","v":0},{"$f":"'Energy Consumption'!N792","v":0},{"$f":"'Energy Consumption'!N873","v":0},{"$f":"'Energy Consumption'!N874","v":0},{"$f":"'Energy Consumption'!N955","v":0},{"$f":"'Energy Consumption'!N956","v":0},{"$f":"'Energy Consumption'!N1037","v":0},{"$f":"'Energy Consumption'!N1038","v":0},{"$f":"'Energy Consumption'!N1119","v":0},{"$f":"'Energy Consumption'!N1120","v":0},{"$f":"'Energy Consumption'!N1201","v":0},{"$f":"'Energy Consumption'!N1202","v":0},{"$f":"'Energy Consumption'!N1283","v":0},{"$f":"'Energy Consumption'!N1284","v":0},{"$f":"'Energy Consumption'!N1365","v":0},{"$f":"'Energy Consumption'!N1366","v":0},{"$f":"'Energy Consumption'!N1447","v":0},{"$f":"'Energy Consumption'!N1448","v":0},{"$f":"'Energy Consumption'!N1529","v":0},{"$f":"'Energy Consumption'!N1530","v":0},{"$f":"'Energy Consumption'!N1611","v":0},{"$f":"'Energy Consumption'!N1612","v":0},null,{"$f":"'Relevant Variables'!N42","v":0},{"$f":"'Relevant Variables'!N72","v":0},{"$f":"'Relevant Variables'!N102","v":0},{"$f":"'Relevant Variables'!N132","v":0},{"$f":"'Relevant Variables'!N162","v":0},{"$f":"'Relevant Variables'!N192","v":0},{"$f":"'Relevant Variables'!N222","v":0},{"$f":"'Relevant Variables'!N252","v":0},{"$f":"'Relevant Variables'!N282","v":0},{"$f":"'Relevant Variables'!N312","v":0},{"$f":"'Relevant Variables'!N342","v":0},{"$f":"'Relevant Variables'!N372","v":0},{"$f":"'Relevant Variables'!N402","v":0},{"$f":"'Relevant Variables'!N432","v":0},{"$f":"'Relevant Variables'!N462","v":0},{"$f":"'Relevant Variables'!N492","v":0},{"$f":"'Relevant Variables'!N522","v":0},{"$f":"'Relevant Variables'!N552","v":0},{"$f":"'Relevant Variables'!N582","v":0},{"$f":"'Relevant Variables'!N612","v":0}]
["2018-12-01",null,{"$f":"'Energy Consumption'!O53","v":0},{"$f":"'Energy Consumption'!O54","v":0},{"$f":"'Energy Consumption'!O135","v":0},{"$f":"'Energy Consumption'!O136","v":0},{"$f":"'Energy Consumption'!O217","v":0},{"$f":"'Energy Consumption'!O218","v":0},{"$f":"'Energy Consumption'!O299","v":0},{"$f":"'Energy Consumption'!O300","v":0},{"$f":"'Energy Consumption'!O381","v":0},{"$f":"'Energy Consumption'!O382","v":0},{"$f":"'Energy Consumption'!O463","v":0},{"$f":"'Energy Consumption'!O464","v":0},{"$f":"'Energy Consumption'!O545","v":0},{"$f":"'Energy Consumption'!O546","v":0},{"$f":"'Energy Consumption'!O627","v":0},{"$f":"'Energy Consumption'!O628","v":0},{"$f":"'Energy Consumption'!O709","v":0},{"$f":"'Energy Consumption'!O710","v":0},{"$f":"'Energy Consumption'!O791","v":0},{"$f":"'Energy Consumption'!O792","v":0},{"$f":"'Energy Consumption'!O873","v":0},{"$f":"'Energy Consumption'!O874","v":0},{"$f":"'Energy Consumption'!O955","v":0},{"$f":"'Energy Consumption'!O956","v":0},{"$f":"'Energy Consumption'!O1037","v":0},{"$f":"'Energy Consumption'!O1038","v":0},{"$f":"'Energy Consumption'!O1119","v":0},{"$f":"'Energy Consumption'!O1120","v":0},{"$f":"'Energy Consumption'!O1201","v":0},{"$f":"'Energy Consumption'!O1202","v":0},{"$f":"'Energy Consumption'!O1283","v":0},{"$f":"'Energy Consumption'!O1284","v":0},{"$f":"'Energy Consumption'!O1365","v":0},{"$f":"'Energy Consumption'!O1366","v":0},{"$f":"'Energy Consumption'!O1447","v":0},{"$f":"'Energy Consumption'!O1448","v":0},{"$f":"'Energy Consumption'!O1529","v":0},{"$f":"'Energy Consumption'!O1530","v":0},{"$f":"'Energy Consumption'!O1611","v":0},{"$f":"'Energy Consumption'!O1612","v":0},null,{"$f":"'Relevant Variables'!O42","v":0},{"$f":"'Relevant Variables'!O72","v":0},{"$f":"'Relevant Variables'!O102","v":0},{"$f":"'Relevant Variables'!O132","v":0},{"$f":"'Relevant Variables'!O162","v":0},{"$f":"'Relevant Variables'!O192","v":0},{"$f":"'Relevant Variables'!O222","v":0},{"$f":"'Relevant Variables'!O252","v":0},{"$f":"'Relevant Variables'!O282","v":0},{"$f":"'Relevant Variables'!O312","v":0},{"$f":"'Relevant Variables'!O342","v":0},{"$f":"'Relevant Variables'!O372","v":0},{"$f":"'Relevant Variables'!O402","v":0},{"$f":"'Relevant Variables'!O432","v":0},{"$f":"'Relevant Variables'!O462","v":0},{"$f":"'Relevant Variables'!O492","v":0},{"$f":"'Relevant Variables'!O522","v":0},{"$f":"'Relevant Variables'!O552","v":0},{"$f":"'Relevant Variables'!O582","v":0},{"$f":"'Relevant Variables'!O612","v":0}]
["2019-01-01",null,{"$f":"'Energy Consumption'!D51","v":0},{"$f":"'Energy Consumption'!D52","v":0},{"$f":"'Energy Consumption'!D133","v":0},{"$f":"'Energy Consumption'!D134","v":0},{"$f":"'Energy Consumption'!D215","v":0},{"$f":"'Energy Consumption'!D216","v":0},{"$f":"'Energy Consumption'!D297","v":0},{"$f":"'Energy Consumption'!D298","v":0},{"$f":"'Energy Consumption'!D379","v":0},{"$f":"'Energy Consumption'!D380","v":0},{"$f":"'Energy Consumption'!D461","v":0},{"$f":"'Energy Consumption'!D462","v":0},{"$f":"'Energy Consumption'!D543","v":0},{"$f":"'Energy Consumption'!D544","v":0},{"$f":"'Energy Consumption'!D625","v":0},{"$f":"'Energy Consumption'!D626","v":0},{"$f":"'Energy Consumption'!D707","v":0},{"$f":"'Energy Consumption'!D708","v":0},{"$f":"'Energy Consumption'!D789","v":0},{"$f":"'Energy Consumption'!D790","v":0},{"$f":"'Energy Consumption'!D871","v":0},{"$f":"'Energy Consumption'!D872","v":0},{"$f":"'Energy Consumption'!D953","v":0},{"$f":"'Energy Consumption'!D954","v":0},{"$f":"'Energy Consumption'!D1035","v":0},{"$f":"'Energy Consumption'!D1036","v":0},{"$f":"'Energy Consumption'!D1117","v":0},{"$f":"'Energy Consumption'!D1118","v":0},{"$f":"'Energy Consumption'!D1199","v":0},{"$f":"'Energy Consumption'!D1200","v":0},{"$f":"'Energy Consumption'!D1281","v":0},{"$f":"'Energy Consumption'!D1282","v":0},{"$f":"'Energy Consumption'!D1363","v":0},{"$f":"'Energy Consumption'!D1364","v":0},{"$f":"'Energy Consumption'!D1445","v":0},{"$f":"'Energy Consumption'!D1446","v":0},{"$f":"'Energy Consumption'!D1527","v":0},{"$f":"'Energy Consumption'!D1528","v":0},{"$f":"'Energy Consumption'!D1609","v":0},{"$f":"'Energy Consumption'!D1610","v":0},null,{"$f":"'Relevant Variables'!D41","v":0},{"$f":"'Relevant Variables'!D71","v":0},{"$f":"'Relevant Variables'!D101","v":0},{"$f":"'Relevant Variables'!D131","v":0},{"$f":"'Relevant Variables'!D161","v":0},{"$f":"'Relevant Variables'!D191","v":0},{"$f":"'Relevant Variables'!D221","v":0},{"$f":"'Relevant Variables'!D251","v":0},{"$f":"'Relevant Variables'!D281","v":0},{"$f":"'Relevant Variables'!D311","v":0},{"$f":"'Relevant Variables'!D341","v":0},{"$f":"'Relevant Variables'!D371","v":0},{"$f":"'Relevant Variables'!D401","v":0},{"$f":"'Relevant Variables'!D431","v":0},{"$f":"'Relevant Variables'!D461","v":0},{"$f":"'Relevant Variables'!D491","v":0},{"$f":"'Relevant Variables'!D521","v":0},{"$f":"'Relevant Variables'!D551","v":0},{"$f":"'Relevant Variables'!D581","v":0},{"$f":"'Relevant Variables'!D611","v":0}]
["2019-02-01",null,{"$f":"'Energy Consumption'!E51","v":0},{"$f":"'Energy Consumption'!E52","v":0},{"$f":"'Energy Consumption'!E133","v":0},{"$f":"'Energy Consumption'!E134","v":0},{"$f":"'Energy Consumption'!E215","v":0},{"$f":"'Energy Consumption'!E216","v":0},{"$f":"'Energy Consumption'!E297","v":0},{"$f":"'Energy Consumption'!E298","v":0},{"$f":"'Energy Consumption'!E379","v":0},{"$f":"'Energy Consumption'!E380","v":0},{"$f":"'Energy Consumption'!E461","v":0},{"$f":"'Energy Consumption'!E462","v":0},{"$f":"'Energy Consumption'!E543","v":0},{"$f":"'Energy Consumption'!E544","v":0},{"$f":"'Energy Consumption'!E625","v":0},{"$f":"'Energy Consumption'!E626","v":0},{"$f":"'Energy Consumption'!E707","v":0},{"$f":"'Energy Consumption'!E708","v":0},{"$f":"'Energy Consumption'!E789","v":0},{"$f":"'Energy Consumption'!E790","v":0},{"$f":"'Energy Consumption'!E871","v":0},{"$f":"'Energy Consumption'!E872","v":0},{"$f":"'Energy Consumption'!E953","v":0},{"$f":"'Energy Consumption'!E954","v":0},{"$f":"'Energy Consumption'!E1035","v":0},{"$f":"'Energy Consumption'!E1036","v":0},{"$f":"'Energy Consumption'!E1117","v":0},{"$f":"'Energy Consumption'!E1118","v":0},{"$f":"'Energy Consumption'!E1199","v":0},{"$f":"'Energy Consumption'!E1200","v":0},{"$f":"'Energy Consumption'!E1281","v":0},{"$f":"'Energy Consumption'!E1282","v":0},{"$f":"'Energy Consumption'!E1363","v":0},{"$f":"'Energy Consumption'!E1364","v":0},{"$f":"'Energy Consumption'!E1445","v":0},{"$f":"'Energy Consumption'!E1446","v":0},{"$f":"'Energy Consumption'!E1527","v":0},{"$f":"'Energy Consumption'!E1528","v":0},{"$f":"'Energy Consumption'!E1609","v":0},{"$f":"'Energy Consumption'!E1610","v":0},null,{"$f":"'Relevant Variables'!E41","v":0},{"$f":"'Relevant Variables'!E71","v":0},{"$f":"'Relevant Variables'!E101","v":0},{"$f":"'Relevant Variables'!E131","v":0},{"$f":"'Relevant Variables'!E161","v":0},{"$f":"'Relevant Variables'!E191","v":0},{"$f":"'Relevant Variables'!E221","v":0},{"$f":"'Relevant Variables'!E251","v":0},{"$f":"'Relevant Variables'!E281","v":0},{"$f":"'Relevant Variables'!E311","v":0},{"$f":"'Relevant Variables'!E341","v":0},{"$f":"'Relevant Variables'!E371","v":0},{"$f":"'Relevant Variables'!E401","v":0},{"$f":"'Relevant Variables'!E431","v":0},{"$f":"'Relevant Variables'!E461","v":0},{"$f":"'Relevant Variables'!E491","v":0},{"$f":"'Relevant Variables'!E521","v":0},{"$f":"'Relevant Variables'!E551","v":0},{"$f":"'Relevant Variables'!E581","v":0},{"$f":"'Relevant Variables'!E611","v":0}]
["2019-03-01",null,{"$f":"'Energy Consumption'!F51","v":0},{"$f":"'Energy Consumption'!F52","v":0},{"$f":"'Energy Consumption'!F133","v":0},{"$f":"'Energy Consumption'!F134","v":0},{"$f":"'Energy Consumption'!F215","v":0},{"$f":"'Energy Consumption'!F216","v":0},{"$f":"'Energy Consumption'!F297","v":0},{"$f":"'Energy Consumption'!F298","v":0},{"$f":"'Energy Consumption'!F379","v":0},{"$f":"'Energy Consumption'!F380","v":0},{"$f":"'Energy Consumption'!F461","v":0},{"$f":"'Energy Consumption'!F462","v":0},{"$f":"'Energy Consumption'!F543","v":0},{"$f":"'Energy Consumption'!F544","v":0},{"$f":"'Energy Consumption'!F625","v":0},{"$f":"'Energy Consumption'!F626","v":0},{"$f":"'Energy Consumption'!F707","v":0},{"$f":"'Energy Consumption'!F708","v":0},{"$f":"'Energy Consumption'!F789","v":0},{"$f":"'Energy Consumption'!F790","v":0},{"$f":"'Energy Consumption'!F871","v":0},{"$f":"'Energy Consumption'!F872","v":0},{"$f":"'Energy Consumption'!F953","v":0},{"$f":"'Energy Consumption'!F954","v":0},{"$f":"'Energy Consumption'!F1035","v":0},{"$f":"'Energy Consumption'!F1036","v":0},{"$f":"'Energy Consumption'!F1117","v":0},{"$f":"'Energy Consumption'!F1118","v":0},{"$f":"'Energy Consumption'!F1199","v":0},{"$f":"'Energy Consumption'!F1200","v":0},{"$f":"'Energy Consumption'!F1281","v":0},{"$f":"'Energy Consumption'!F1282","v":0},{"$f":"'Energy Consumption'!F1363","v":0},{"$f":"'Energy Consumption'!F1364","v":0},{"$f":"'Energy Consumption'!F1445","v":0},{"$f":"'Energy Consumption'!F1446","v":0},{"$f":"'Energy Consumption'!F1527","v":0},{"$f":"'Energy Consumption'!F1528","v":0},{"$f":"'Energy Consumption'!F1609","v":0},{"$f":"'Energy Consumption'!F1610","v":0},null,{"$f":"'Relevant Variables'!F41","v":0},{"$f":"'Relevant Variables'!F71","v":0},{"$f":"'Relevant Variables'!F101","v":0},{"$f":"'Relevant Variables'!F131","v":0},{"$f":"'Relevant Variables'!F161","v":0},{"$f":"'Relevant Variables'!F191","v":0},{"$f":"'Relevant Variables'!F221","v":0},{"$f":"'Relevant Variables'!F251","v":0},{"$f":"'Relevant Variables'!F281","v":0},{"$f":"'Relevant Variables'!F311","v":0},{"$f":"'Relevant Variables'!F341","v":0},{"$f":"'Relevant Variables'!F371","v":0},{"$f":"'Relevant Variables'!F401","v":0},{"$f":"'Relevant Variables'!F431","v":0},{"$f":"'Relevant Variables'!F461","v":0},{"$f":"'Relevant Variables'!F491","v":0},{"$f":"'Relevant Variables'!F521","v":0},{"$f":"'Relevant Variables'!F551","v":0},{"$f":"'Relevant Variables'!F581","v":0},{"$f":"'Relevant Variables'!F611","v":0}]
["2019-04-01",null,{"$f":"'Energy Consumption'!G51","v":0},{"$f":"'Energy Consumption'!G52","v":0},{"$f":"'Energy Consumption'!G133","v":0},{"$f":"'Energy Consumption'!G134","v":0},{"$f":"'Energy Consumption'!G215","v":0},{"$f":"'Energy Consumption'!G216","v":0},{"$f":"'Energy Consumption'!G297","v":0},{"$f":"'Energy Consumption'!G298","v":0},{"$f":"'Energy Consumption'!G379","v":0},{"$f":"'Energy Consumption'!G380","v":0},{"$f":"'Energy Consumption'!G461","v":0},{"$f":"'Energy Consumption'!G462","v":0},{"$f":"'Energy Consumption'!G543","v":0},{"$f":"'Energy Consumption'!G544","v":0},{"$f":"'Energy Consumption'!G625","v":0},{"$f":"'Energy Consumption'!G626","v":0},{"$f":"'Energy Consumption'!G707","v":0},{"$f":"'Energy Consumption'!G708","v":0},{"$f":"'Energy Consumption'!G789","v":0},{"$f":"'Energy Consumption'!G790","v":0},{"$f":"'Energy Consumption'!G871","v":0},{"$f":"'Energy Consumption'!G872","v":0},{"$f":"'Energy Consumption'!G953","v":0},{"$f":"'Energy Consumption'!G954","v":0},{"$f":"'Energy Consumption'!G1035","v":0},{"$f":"'Energy Consumption'!G1036","v":0},{"$f":"'Energy Consumption'!G1117","v":0},{"$f":"'Energy Consumption'!G1118","v":0},{"$f":"'Energy Consumption'!G1199","v":0},{"$f":"'Energy Consumption'!G1200","v":0},{"$f":"'Energy Consumption'!G1281","v":0},{"$f":"'Energy Consumption'!G1282","v":0},{"$f":"'Energy Consumption'!G1363","v":0},{"$f":"'Energy Consumption'!G1364","v":0},{"$f":"'Energy Consumption'!G1445","v":0},{"$f":"'Energy Consumption'!G1446","v":0},{"$f":"'Energy Consumption'!G1527","v":0},{"$f":"'Energy Consumption'!G1528","v":0},{"$f":"'Energy Consumption'!G1609","v":0},{"$f":"'Energy Consumption'!G1610","v":0},null,{"$f":"'Relevant Variables'!G41","v":0},{"$f":"'Relevant Variables'!G71","v":0},{"$f":"'Relevant Variables'!G101","v":0},{"$f":"'Relevant Variables'!G131","v":0},{"$f":"'Relevant Variables'!G161","v":0},{"$f":"'Relevant Variables'!G191","v":0},{"$f":"'Relevant Variables'!G221","v":0},{"$f":"'Relevant Variables'!G251","v":0},{"$f":"'Relevant Variables'!G281","v":0},{"$f":"'Relevant Variables'!G311","v":0},{"$f":"'Relevant Variables'!G341","v":0},{"$f":"'Relevant Variables'!G371","v":0},{"$f":"'Relevant Variables'!G401","v":0},{"$f":"'Relevant Variables'!G431","v":0},{"$f":"'Relevant Variables'!G461","v":0},{"$f":"'Relevant Variables'!G491","v":0},{"$f":"'Relevant Variables'!G521","v":0},{"$f":"'Relevant Variables'!G551","v":0},{"$f":"'Relevant Variables'!G581","v":0},{"$f":"'Relevant Variables'!G611","v":0}]
["2019-05-01",null,{"$f":"'Energy Consumption'!H51","v":0},{"$f":"'Energy Consumption'!H52","v":0},{"$f":"'Energy Consumption'!H133","v":0},{"$f":"'Energy Consumption'!H134","v":0},{"$f":"'Energy Consumption'!H215","v":0},{"$f":"'Energy Consumption'!H216","v":0},{"$f":"'Energy Consumption'!H297","v":0},{"$f":"'Energy Consumption'!H298","v":0},{"$f":"'Energy Consumption'!H379","v":0},{"$f":"'Energy Consumption'!H380","v":0},{"$f":"'Energy Consumption'!H461","v":0},{"$f":"'Energy Consumption'!H462","v":0},{"$f":"'Energy Consumption'!H543","v":0},{"$f":"'Energy Consumption'!H544","v":0},{"$f":"'Energy Consumption'!H625","v":0},{"$f":"'Energy Consumption'!H626","v":0},{"$f":"'Energy Consumption'!H707","v":0},{"$f":"'Energy Consumption'!H708","v":0},{"$f":"'Energy Consumption'!H789","v":0},{"$f":"'Energy Consumption'!H790","v":0},{"$f":"'Energy Consumption'!H871","v":0},{"$f":"'Energy Consumption'!H872","v":0},{"$f":"'Energy Consumption'!H953","v":0},{"$f":"'Energy Consumption'!H954","v":0},{"$f":"'Energy Consumption'!H1035","v":0},{"$f":"'Energy Consumption'!H1036","v":0},{"$f":"'Energy Consumption'!H1117","v":0},{"$f":"'Energy Consumption'!H1118","v":0},{"$f":"'Energy Consumption'!H1199","v":0},{"$f":"'Energy Consumption'!H1200","v":0},{"$f":"'Energy Consumption'!H1281","v":0},{"$f":"'Energy Consumption'!H1282","v":0},{"$f":"'Energy Consumption'!H1363","v":0},{"$f":"'Energy Consumption'!H1364","v":0},{"$f":"'Energy Consumption'!H1445","v":0},{"$f":"'Energy Consumption'!H1446","v":0},{"$f":"'Energy Consumption'!H1527","v":0},{"$f":"'Energy Consumption'!H1528","v":0},{"$f":"'Energy Consumption'!H1609","v":0},{"$f":"'Energy Consumption'!H1610","v":0},null,{"$f":"'Relevant Variables'!H41","v":0},{"$f":"'Relevant Variables'!H71","v":0},{"$f":"'Relevant Variables'!H101","v":0},{"$f":"'Relevant Variables'!H131","v":0},{"$f":"'Relevant Variables'!H161","v":0},{"$f":"'Relevant Variables'!H191","v":0},{"$f":"'Relevant Variables'!H221","v":0},{"$f":"'Relevant Variables'!H251","v":0},{"$f":"'Relevant Variables'!H281","v":0},{"$f":"'Relevant Variables'!H311","v":0},{"$f":"'Relevant Variables'!H341","v":0},{"$f":"'Relevant Variables'!H371","v":0},{"$f":"'Relevant Variables'!H401","v":0},{"$f":"'Relevant Variables'!H431","v":0},{"$f":"'Relevant Variables'!H461","v":0},{"$f":"'Relevant Variables'!H491","v":0},{"$f":"'Relevant Variables'!H521","v":0},{"$f":"'Relevant Variables'!H551","v":0},{"$f":"'Relevant Variables'!H581","v":0},{"$f":"'Relevant Variables'!H611","v":0}]
["2019-06-01",null,{"$f":"'Energy Consumption'!I51","v":0},{"$f":"'Energy Consumption'!I52","v":0},{"$f":"'Energy Consumption'!I133","v":0},{"$f":"'Energy Consumption'!I134","v":0},{"$f":"'Energy Consumption'!I215","v":0},{"$f":"'Energy Consumption'!I216","v":0},{"$f":"'Energy Consumption'!I297","v":0},{"$f":"'Energy Consumption'!I298","v":0},{"$f":"'Energy Consumption'!I379","v":0},{"$f":"'Energy Consumption'!I380","v":0},{"$f":"'Energy Consumption'!I461","v":0},{"$f":"'Energy Consumption'!I462","v":0},{"$f":"'Energy Consumption'!I543","v":0},{"$f":"'Energy Consumption'!I544","v":0},{"$f":"'Energy Consumption'!I625","v":0},{"$f":"'Energy Consumption'!I626","v":0},{"$f":"'Energy Consumption'!I707","v":0},{"$f":"'Energy Consumption'!I708","v":0},{"$f":"'Energy Consumption'!I789","v":0},{"$f":"'Energy Consumption'!I790","v":0},{"$f":"'Energy Consumption'!I871","v":0},{"$f":"'Energy Consumption'!I872","v":0},{"$f":"'Energy Consumption'!I953","v":0},{"$f":"'Energy Consumption'!I954","v":0},{"$f":"'Energy Consumption'!I1035","v":0},{"$f":"'Energy Consumption'!I1036","v":0},{"$f":"'Energy Consumption'!I1117","v":0},{"$f":"'Energy Consumption'!I1118","v":0},{"$f":"'Energy Consumption'!I1199","v":0},{"$f":"'Energy Consumption'!I1200","v":0},{"$f":"'Energy Consumption'!I1281","v":0},{"$f":"'Energy Consumption'!I1282","v":0},{"$f":"'Energy Consumption'!I1363","v":0},{"$f":"'Energy Consumption'!I1364","v":0},{"$f":"'Energy Consumption'!I1445","v":0},{"$f":"'Energy Consumption'!I1446","v":0},{"$f":"'Energy Consumption'!I1527","v":0},{"$f":"'Energy Consumption'!I1528","v":0},{"$f":"'Energy Consumption'!I1609","v":0},{"$f":"'Energy Consumption'!I1610","v":0},null,{"$f":"'Relevant Variables'!I41","v":0},{"$f":"'Relevant Variables'!I71","v":0},{"$f":"'Relevant Variables'!I101","v":0},{"$f":"'Relevant Variables'!I131","v":0},{"$f":"'Relevant Variables'!I161","v":0},{"$f":"'Relevant Variables'!I191","v":0},{"$f":"'Relevant Variables'!I221","v":0},{"$f":"'Relevant Variables'!I251","v":0},{"$f":"'Relevant Variables'!I281","v":0},{"$f":"'Relevant Variables'!I311","v":0},{"$f":"'Relevant Variables'!I341","v":0},{"$f":"'Relevant Variables'!I371","v":0},{"$f":"'Relevant Variables'!I401","v":0},{"$f":"'Relevant Variables'!I431","v":0},{"$f":"'Relevant Variables'!I461","v":0},{"$f":"'Relevant Variables'!I491","v":0},{"$f":"'Relevant Variables'!I521","v":0},{"$f":"'Relevant Variables'!I551","v":0},{"$f":"'Relevant Variables'!I581","v":0},{"$f":"'Relevant Variables'!I611","v":0}]
["2019-07-01",null,{"$f":"'Energy Consumption'!J51","v":0},{"$f":"'Energy Consumption'!J52","v":0},{"$f":"'Energy Consumption'!J133","v":0},{"$f":"'Energy Consumption'!J134","v":0},{"$f":"'Energy Consumption'!J215","v":0},{"$f":"'Energy Consumption'!J216","v":0},{"$f":"'Energy Consumption'!J297","v":0},{"$f":"'Energy Consumption'!J298","v":0},{"$f":"'Energy Consumption'!J379","v":0},{"$f":"'Energy Consumption'!J380","v":0},{"$f":"'Energy Consumption'!J461","v":0},{"$f":"'Energy Consumption'!J462","v":0},{"$f":"'Energy Consumption'!J543","v":0},{"$f":"'Energy Consumption'!J544","v":0},{"$f":"'Energy Consumption'!J625","v":0},{"$f":"'Energy Consumption'!J626","v":0},{"$f":"'Energy Consumption'!J707","v":0},{"$f":"'Energy Consumption'!J708","v":0},{"$f":"'Energy Consumption'!J789","v":0},{"$f":"'Energy Consumption'!J790","v":0},{"$f":"'Energy Consumption'!J871","v":0},{"$f":"'Energy Consumption'!J872","v":0},{"$f":"'Energy Consumption'!J953","v":0},{"$f":"'Energy Consumption'!J954","v":0},{"$f":"'Energy Consumption'!J1035","v":0},{"$f":"'Energy Consumption'!J1036","v":0},{"$f":"'Energy Consumption'!J1117","v":0},{"$f":"'Energy Consumption'!J1118","v":0},{"$f":"'Energy Consumption'!J1199","v":0},{"$f":"'Energy Consumption'!J1200","v":0},{"$f":"'Energy Consumption'!J1281","v":0},{"$f":"'Energy Consumption'!J1282","v":0},{"$f":"'Energy Consumption'!J1363","v":0},{"$f":"'Energy Consumption'!J1364","v":0},{"$f":"'Energy Consumption'!J1445","v":0},{"$f":"'Energy Consumption'!J1446","v":0},{"$f":"'Energy Consumption'!J1527","v":0},{"$f":"'Energy Consumption'!J1528","v":0},{"$f":"'Energy Consumption'!J1609","v":0},{"$f":"'Energy Consumption'!J1610","v":0},null,{"$f":"'Relevant Variables'!J41","v":0},{"$f":"'Relevant Variables'!J71","v":0},{"$f":"'Relevant Variables'!J101","v":0},{"$f":"'Relevant Variables'!J131","v":0},{"$f":"'Relevant Variables'!J161","v":0},{"$f":"'Relevant Variables'!J191","v":0},{"$f":"'Relevant Variables'!J221","v":0},{"$f":"'Relevant Variables'!J251","v":0},{"$f":"'Relevant Variables'!J281","v":0},{"$f":"'Relevant Variables'!J311","v":0},{"$f":"'Relevant Variables'!J341","v":0},{"$f":"'Relevant Variables'!J371","v":0},{"$f":"'Relevant Variables'!J401","v":0},{"$f":"'Relevant Variables'!J431","v":0},{"$f":"'Relevant Variables'!J461","v":0},{"$f":"'Relevant Variables'!J491","v":0},{"$f":"'Relevant Variables'!J521","v":0},{"$f":"'Relevant Variables'!J551","v":0},{"$f":"'Relevant Variables'!J581","v":0},{"$f":"'Relevant Variables'!J611","v":0}]
["2019-08-01",null,{"$f":"'Energy Consumption'!K51","v":0},{"$f":"'Energy Consumption'!K52","v":0},{"$f":"'Energy Consumption'!K133","v":0},{"$f":"'Energy Consumption'!K134","v":0},{"$f":"'Energy Consumption'!K215","v":0},{"$f":"'Energy Consumption'!K216","v":0},{"$f":"'Energy Consumption'!K297","v":0},{"$f":"'Energy Consumption'!K298","v":0},{"$f":"'Energy Consumption'!K379","v":0},{"$f":"'Energy Consumption'!K380","v":0},{"$f":"'Energy Consumption'!K461","v":0},{"$f":"'Energy Consumption'!K462","v":0},{"$f":"'Energy Consumption'!K543","v":0},{"$f":"'Energy Consumption'!K544","v":0},{"$f":"'Energy Consumption'!K625","v":0},{"$f":"'Energy Consumption'!K626","v":0},{"$f":"'Energy Consumption'!K707","v":0},{"$f":"'Energy Consumption'!K708","v":0},{"$f":"'Energy Consumption'!K789","v":0},{"$f":"'Energy Consumption'!K790","v":0},{"$f":"'Energy Consumption'!K871","v":0},{"$f":"'Energy Consumption'!K872","v":0},{"$f":"'Energy Consumption'!K953","v":0},{"$f":"'Energy Consumption'!K954","v":0},{"$f":"'Energy Consumption'!K1035","v":0},{"$f":"'Energy Consumption'!K1036","v":0},{"$f":"'Energy Consumption'!K1117","v":0},{"$f":"'Energy Consumption'!K1118","v":0},{"$f":"'Energy Consumption'!K1199","v":0},{"$f":"'Energy Consumption'!K1200","v":0},{"$f":"'Energy Consumption'!K1281","v":0},{"$f":"'Energy Consumption'!K1282","v":0},{"$f":"'Energy Consumption'!K1363","v":0},{"$f":"'Energy Consumption'!K1364","v":0},{"$f":"'Energy Consumption'!K1445","v":0},{"$f":"'Energy Consumption'!K1446","v":0},{"$f":"'Energy Consumption'!K1527","v":0},{"$f":"'Energy Consumption'!K1528","v":0},{"$f":"'Energy Consumption'!K1609","v":0},{"$f":"'Energy Consumption'!K1610","v":0},null,{"$f":"'Relevant Variables'!K41","v":0},{"$f":"'Relevant Variables'!K71","v":0},{"$f":"'Relevant Variables'!K101","v":0},{"$f":"'Relevant Variables'!K131","v":0},{"$f":"'Relevant Variables'!K161","v":0},{"$f":"'Relevant Variables'!K191","v":0},{"$f":"'Relevant Variables'!K221","v":0},{"$f":"'Relevant Variables'!K251","v":0},{"$f":"'Relevant Variables'!K281","v":0},{"$f":"'Relevant Variables'!K311","v":0},{"$f":"'Relevant Variables'!K341","v":0},{"$f":"'Relevant Variables'!K371","v":0},{"$f":"'Relevant Variables'!K401","v":0},{"$f":"'Relevant Variables'!K431","v":0},{"$f":"'Relevant Variables'!K461","v":0},{"$f":"'Relevant Variables'!K491","v":0},{"$f":"'Relevant Variables'!K521","v":0},{"$f":"'Relevant Variables'!K551","v":0},{"$f":"'Relevant Variables'!K581","v":0},{"$f":"'Relevant Variables'!K611","v":0}]
["2019-09-01",null,{"$f":"'Energy Consumption'!L51","v":0},{"$f":"'Energy Consumption'!L52","v":0},{"$f":"'Energy Consumption'!L133","v":0},{"$f":"'Energy Consumption'!L134","v":0},{"$f":"'Energy Consumption'!L215","v":0},{"$f":"'Energy Consumption'!L216","v":0},{"$f":"'Energy Consumption'!L297","v":0},{"$f":"'Energy Consumption'!L298","v":0},{"$f":"'Energy Consumption'!L379","v":0},{"$f":"'Energy Consumption'!L380","v":0},{"$f":"'Energy Consumption'!L461","v":0},{"$f":"'Energy Consumption'!L462","v":0},{"$f":"'Energy Consumption'!L543","v":0},{"$f":"'Energy Consumption'!L544","v":0},{"$f":"'Energy Consumption'!L625","v":0},{"$f":"'Energy Consumption'!L626","v":0},{"$f":"'Energy Consumption'!L707","v":0},{"$f":"'Energy Consumption'!L708","v":0},{"$f":"'Energy Consumption'!L789","v":0},{"$f":"'Energy Consumption'!L790","v":0},{"$f":"'Energy Consumption'!L871","v":0},{"$f":"'Energy Consumption'!L872","v":0},{"$f":"'Energy Consumption'!L953","v":0},{"$f":"'Energy Consumption'!L954","v":0},{"$f":"'Energy Consumption'!L1035","v":0},{"$f":"'Energy Consumption'!L1036","v":0},{"$f":"'Energy Consumption'!L1117","v":0},{"$f":"'Energy Consumption'!L1118","v":0},{"$f":"'Energy Consumption'!L1199","v":0},{"$f":"'Energy Consumption'!L1200","v":0},{"$f":"'Energy Consumption'!L1281","v":0},{"$f":"'Energy Consumption'!L1282","v":0},{"$f":"'Energy Consumption'!L1363","v":0},{"$f":"'Energy Consumption'!L1364","v":0},{"$f":"'Energy Consumption'!L1445","v":0},{"$f":"'Energy Consumption'!L1446","v":0},{"$f":"'Energy Consumption'!L1527","v":0},{"$f":"'Energy Consumption'!L1528","v":0},{"$f":"'Energy Consumption'!L1609","v":0},{"$f":"'Energy Consumption'!L1610","v":0},null,{"$f":"'Relevant Variables'!L41","v":0},{"$f":"'Relevant Variables'!L71","v":0},{"$f":"'Relevant Variables'!L101","v":0},{"$f":"'Relevant Variables'!L131","v":0},{"$f":"'Relevant Variables'!L161","v":0},{"$f":"'Relevant Variables'!L191","v":0},{"$f":"'Relevant Variables'!L221","v":0},{"$f":"'Relevant Variables'!L251","v":0},{"$f":"'Relevant Variables'!L281","v":0},{"$f":"'Relevant Variables'!L311","v":0},{"$f":"'Relevant Variables'!L341","v":0},{"$f":"'Relevant Variables'!L371","v":0},{"$f":"'Relevant Variables'!L401","v":0},{"$f":"'Relevant Variables'!L431","v":0},{"$f":"'Relevant Variables'!L461","v":0},{"$f":"'Relevant Variables'!L491","v":0},{"$f":"'Relevant Variables'!L521","v":0},{"$f":"'Relevant Variables'!L551","v":0},{"$f":"'Relevant Variables'!L581","v":0},{"$f":"'Relevant Variables'!L611","v":0}]
["2019-10-01",null,{"$f":"'Energy Consumption'!M51","v":0},{"$f":"'Energy Consumption'!M52","v":0},{"$f":"'Energy Consumption'!M133","v":0},{"$f":"'Energy Consumption'!M134","v":0},{"$f":"'Energy Consumption'!M215","v":0},{"$f":"'Energy Consumption'!M216","v":0},{"$f":"'Energy Consumption'!M297","v":0},{"$f":"'Energy Consumption'!M298","v":0},{"$f":"'Energy Consumption'!M379","v":0},{"$f":"'Energy Consumption'!M380","v":0},{"$f":"'Energy Consumption'!M461","v":0},{"$f":"'Energy Consumption'!M462","v":0},{"$f":"'Energy Consumption'!M543","v":0},{"$f":"'Energy Consumption'!M544","v":0},{"$f":"'Energy Consumption'!M625","v":0},{"$f":"'Energy Consumption'!M626","v":0},{"$f":"'Energy Consumption'!M707","v":0},{"$f":"'Energy Consumption'!M708","v":0},{"$f":"'Energy Consumption'!M789","v":0},{"$f":"'Energy Consumption'!M790","v":0},{"$f":"'Energy Consumption'!M871","v":0},{"$f":"'Energy Consumption'!M872","v":0},{"$f":"'Energy Consumption'!M953","v":0},{"$f":"'Energy Consumption'!M954","v":0},{"$f":"'Energy Consumption'!M1035","v":0},{"$f":"'Energy Consumption'!M1036","v":0},{"$f":"'Energy Consumption'!M1117","v":0},{"$f":"'Energy Consumption'!M1118","v":0},{"$f":"'Energy Consumption'!M1199","v":0},{"$f":"'Energy Consumption'!M1200","v":0},{"$f":"'Energy Consumption'!M1281","v":0},{"$f":"'Energy Consumption'!M1282","v":0},{"$f":"'Energy Consumption'!M1363","v":0},{"$f":"'Energy Consumption'!M1364","v":0},{"$f":"'Energy Consumption'!M1445","v":0},{"$f":"'Energy Consumption'!M1446","v":0},{"$f":"'Energy Consumption'!M1527","v":0},{"$f":"'Energy Consumption'!M1528","v":0},{"$f":"'Energy Consumption'!M1609","v":0},{"$f":"'Energy Consumption'!M1610","v":0},null,{"$f":"'Relevant Variables'!M41","v":0},{"$f":"'Relevant Variables'!M71","v":0},{"$f":"'Relevant Variables'!M101","v":0},{"$f":"'Relevant Variables'!M131","v":0},{"$f":"'Relevant Variables'!M161","v":0},{"$f":"'Relevant Variables'!M191","v":0},{"$f":"'Relevant Variables'!M221","v":0},{"$f":"'Relevant Variables'!M251","v":0},{"$f":"'Relevant Variables'!M281","v":0},{"$f":"'Relevant Variables'!M311","v":0},{"$f":"'Relevant Variables'!M341","v":0},{"$f":"'Relevant Variables'!M371","v":0},{"$f":"'Relevant Variables'!M401","v":0},{"$f":"'Relevant Variables'!M431","v":0},{"$f":"'Relevant Variables'!M461","v":0},{"$f":"'Relevant Variables'!M491","v":0},{"$f":"'Relevant Variables'!M521","v":0},{"$f":"'Relevant Variables'!M551","v":0},{"$f":"'Relevant Variables'!M581","v":0},{"$f":"'Relevant Variables'!M611","v":0}]
["2019-11-01",null,{"$f":"'Energy Consumption'!N51","v":0},{"$f":"'Energy Consumption'!N52","v":0},{"$f":"'Energy Consumption'!N133","v":0},{"$f":"'Energy Consumption'!N134","v":0},{"$f":"'Energy Consumption'!N215","v":0},{"$f":"'Energy Consumption'!N216","v":0},{"$f":"'Energy Consumption'!N297","v":0},{"$f":"'Energy Consumption'!N298","v":0},{"$f":"'Energy Consumption'!N379","v":0},{"$f":"'Energy Consumption'!N380","v":0},{"$f":"'Energy Consumption'!N461","v":0},{"$f":"'Energy Consumption'!N462","v":0},{"$f":"'Energy Consumption'!N543","v":0},{"$f":"'Energy Consumption'!N544","v":0},{"$f":"'Energy Consumption'!N625","v":0},{"$f":"'Energy Consumption'!N626","v":0},{"$f":"'Energy Consumption'!N707","v":0},{"$f":"'Energy Consumption'!N708","v":0},{"$f":"'Energy Consumption'!N789","v":0},{"$f":"'Energy Consumption'!N790","v":0},{"$f":"'Energy Consumption'!N871","v":0},{"$f":"'Energy Consumption'!N872","v":0},{"$f":"'Energy Consumption'!N953","v":0},{"$f":"'Energy Consumption'!N954","v":0},{"$f":"'Energy Consumption'!N1035","v":0},{"$f":"'Energy Consumption'!N1036","v":0},{"$f":"'Energy Consumption'!N1117","v":0},{"$f":"'Energy Consumption'!N1118","v":0},{"$f":"'Energy Consumption'!N1199","v":0},{"$f":"'Energy Consumption'!N1200","v":0},{"$f":"'Energy Consumption'!N1281","v":0},{"$f":"'Energy Consumption'!N1282","v":0},{"$f":"'Energy Consumption'!N1363","v":0},{"$f":"'Energy Consumption'!N1364","v":0},{"$f":"'Energy Consumption'!N1445","v":0},{"$f":"'Energy Consumption'!N1446","v":0},{"$f":"'Energy Consumption'!N1527","v":0},{"$f":"'Energy Consumption'!N1528","v":0},{"$f":"'Energy Consumption'!N1609","v":0},{"$f":"'Energy Consumption'!N1610","v":0},null,{"$f":"'Relevant Variables'!N41","v":0},{"$f":"'Relevant Variables'!N71","v":0},{"$f":"'Relevant Variables'!N101","v":0},{"$f":"'Relevant Variables'!N131","v":0},{"$f":"'Relevant Variables'!N161","v":0},{"$f":"'Relevant Variables'!N191","v":0},{"$f":"'Relevant Variables'!N221","v":0},{"$f":"'Relevant Variables'!N251","v":0},{"$f":"'Relevant Variables'!N281","v":0},{"$f":"'Relevant Variables'!N311","v":0},{"$f":"'Relevant Variables'!N341","v":0},{"$f":"'Relevant Variables'!N371","v":0},{"$f":"'Relevant Variables'!N401","v":0},{"$f":"'Relevant Variables'!N431","v":0},{"$f":"'Relevant Variables'!N461","v":0},{"$f":"'Relevant Variables'!N491","v":0},{"$f":"'Relevant Variables'!N521","v":0},{"$f":"'Relevant Variables'!N551","v":0},{"$f":"'Relevant Variables'!N581","v":0},{"$f":"'Relevant Variables'!N611","v":0}]
["2019-12-01",null,{"$f":"'Energy Consumption'!O51","v":0},{"$f":"'Energy Consumption'!O52","v":0},{"$f":"'Energy Consumption'!O133","v":0},{"$f":"'Energy Consumption'!O134","v":0},{"$f":"'Energy Consumption'!O215","v":0},{"$f":"'Energy Consumption'!O216","v":0},{"$f":"'Energy Consumption'!O297","v":0},{"$f":"'Energy Consumption'!O298","v":0},{"$f":"'Energy Consumption'!O379","v":0},{"$f":"'Energy Consumption'!O380","v":0},{"$f":"'Energy Consumption'!O461","v":0},{"$f":"'Energy Consumption'!O462","v":0},{"$f":"'Energy Consumption'!O543","v":0},{"$f":"'Energy Consumption'!O544","v":0},{"$f":"'Energy Consumption'!O625","v":0},{"$f":"'Energy Consumption'!O626","v":0},{"$f":"'Energy Consumption'!O707","v":0},{"$f":"'Energy Consumption'!O708","v":0},{"$f":"'Energy Consumption'!O789","v":0},{"$f":"'Energy Consumption'!O790","v":0},{"$f":"'Energy Consumption'!O871","v":0},{"$f":"'Energy Consumption'!O872","v":0},{"$f":"'Energy Consumption'!O953","v":0},{"$f":"'Energy Consumption'!O954","v":0},{"$f":"'Energy Consumption'!O1035","v":0},{"$f":"'Energy Consumption'!O1036","v":0},{"$f":"'Energy Consumption'!O1117","v":0},{"$f":"'Energy Consumption'!O1118","v":0},{"$f":"'Energy Consumption'!O1199","v":0},{"$f":"'Energy Consumption'!O1200","v":0},{"$f":"'Energy Consumption'!O1281","v":0},{"$f":"'Energy Consumption'!O1282","v":0},{"$f":"'Energy Consumption'!O1363","v":0},{"$f":"'Energy Consumption'!O1364","v":0},{"$f":"'Energy Consumption'!O1445","v":0},{"$f":"'Energy Consumption'!O1446","v":0},{"$f":"'Energy Consumption'!O1527","v":0},{"$f":"'Energy Consumption'!O1528","v":0},{"$f":"'Energy Consumption'!O1609","v":0},{"$f":"'Energy Consumption'!O1610","v":0},null,{"$f":"'Relevant Variables'!O41","v":0},{"$f":"'Relevant Variables'!O71","v":0},{"$f":"'Relevant Variables'!O101","v":0},{"$f":"'Relevant Variables'!O131","v":0},{"$f":"'Relevant Variables'!O161","v":0},{"$f":"'Relevant Variables'!O191","v":0},{"$f":"'Relevant Variables'!O221","v":0},{"$f":"'Relevant Variables'!O251","v":0},{"$f":"'Relevant Variables'!O281","v":0},{"$f":"'Relevant Variables'!O311","v":0},{"$f":"'Relevant Variables'!O341","v":0},{"$f":"'Relevant Variables'!O371","v":0},{"$f":"'Relevant Variables'!O401","v":0},{"$f":"'Relevant Variables'!O431","v":0},{"$f":"'Relevant Variables'!O461","v":0},{"$f":"'Relevant Variables'!O491","v":0},{"$f":"'Relevant Variables'!O521","v":0},{"$f":"'Relevant Variables'!O551","v":0},{"$f":"'Relevant Variables'!O581","v":0},{"$f":"'Relevant Variables'!O611","v":0}]
["2020-01-01",null,{"$f":"'Energy Consumption'!D49","v":0},{"$f":"'Energy Consumption'!D50","v":0},{"$f":"'Energy Consumption'!D131","v":0},{"$f":"'Energy Consumption'!D132","v":0},{"$f":"'Energy Consumption'!D213","v":0},{"$f":"'Energy Consumption'!D214","v":0},{"$f":"'Energy Consumption'!D295","v":0},{"$f":"'Energy Consumption'!D296","v":0},{"$f":"'Energy Consumption'!D377","v":0},{"$f":"'Energy Consumption'!D378","v":0},{"$f":"'Energy Consumption'!D459","v":0},{"$f":"'Energy Consumption'!D460","v":0},{"$f":"'Energy Consumption'!D541","v":0},{"$f":"'Energy Consumption'!D542","v":0},{"$f":"'Energy Consumption'!D623","v":0},{"$f":"'Energy Consumption'!D624","v":0},{"$f":"'Energy Consumption'!D705","v":0},{"$f":"'Energy Consumption'!D706","v":0},{"$f":"'Energy Consumption'!D787","v":0},{"$f":"'Energy Consumption'!D788","v":0},{"$f":"'Energy Consumption'!D869","v":0},{"$f":"'Energy Consumption'!D870","v":0},{"$f":"'Energy Consumption'!D951","v":0},{"$f":"'Energy Consumption'!D952","v":0},{"$f":"'Energy Consumption'!D1033","v":0},{"$f":"'Energy Consumption'!D1034","v":0},{"$f":"'Energy Consumption'!D1115","v":0},{"$f":"'Energy Consumption'!D1116","v":0},{"$f":"'Energy Consumption'!D1197","v":0},{"$f":"'Energy Consumption'!D1198","v":0},{"$f":"'Energy Consumption'!D1279","v":0},{"$f":"'Energy Consumption'!D1280","v":0},{"$f":"'Energy Consumption'!D1361","v":0},{"$f":"'Energy Consumption'!D1362","v":0},{"$f":"'Energy Consumption'!D1443","v":0},{"$f":"'Energy Consumption'!D1444","v":0},{"$f":"'Energy Consumption'!D1525","v":0},{"$f":"'Energy Consumption'!D1526","v":0},{"$f":"'Energy Consumption'!D1607","v":0},{"$f":"'Energy Consumption'!D1608","v":0},null,{"$f":"'Relevant Variables'!D40","v":0},{"$f":"'Relevant Variables'!D70","v":0},{"$f":"'Relevant Variables'!D100","v":0},{"$f":"'Relevant Variables'!D130","v":0},{"$f":"'Relevant Variables'!D160","v":0},{"$f":"'Relevant Variables'!D190","v":0},{"$f":"'Relevant Variables'!D220","v":0},{"$f":"'Relevant Variables'!D250","v":0},{"$f":"'Relevant Variables'!D280","v":0},{"$f":"'Relevant Variables'!D310","v":0},{"$f":"'Relevant Variables'!D340","v":0},{"$f":"'Relevant Variables'!D370","v":0},{"$f":"'Relevant Variables'!D400","v":0},{"$f":"'Relevant Variables'!D430","v":0},{"$f":"'Relevant Variables'!D460","v":0},{"$f":"'Relevant Variables'!D490","v":0},{"$f":"'Relevant Variables'!D520","v":0},{"$f":"'Relevant Variables'!D550","v":0},{"$f":"'Relevant Variables'!D580","v":0},{"$f":"'Relevant Variables'!D610","v":0}]
["2020-02-01",null,{"$f":"'Energy Consumption'!E49","v":0},{"$f":"'Energy Consumption'!E50","v":0},{"$f":"'Energy Consumption'!E131","v":0},{"$f":"'Energy Consumption'!E132","v":0},{"$f":"'Energy Consumption'!E213","v":0},{"$f":"'Energy Consumption'!E214","v":0},{"$f":"'Energy Consumption'!E295","v":0},{"$f":"'Energy Consumption'!E296","v":0},{"$f":"'Energy Consumption'!E377","v":0},{"$f":"'Energy Consumption'!E378","v":0},{"$f":"'Energy Consumption'!E459","v":0},{"$f":"'Energy Consumption'!E460","v":0},{"$f":"'Energy Consumption'!E541","v":0},{"$f":"'Energy Consumption'!E542","v":0},{"$f":"'Energy Consumption'!E623","v":0},{"$f":"'Energy Consumption'!E624","v":0},{"$f":"'Energy Consumption'!E705","v":0},{"$f":"'Energy Consumption'!E706","v":0},{"$f":"'Energy Consumption'!E787","v":0},{"$f":"'Energy Consumption'!E788","v":0},{"$f":"'Energy Consumption'!E869","v":0},{"$f":"'Energy Consumption'!E870","v":0},{"$f":"'Energy Consumption'!E951","v":0},{"$f":"'Energy Consumption'!E952","v":0},{"$f":"'Energy Consumption'!E1033","v":0},{"$f":"'Energy Consumption'!E1034","v":0},{"$f":"'Energy Consumption'!E1115","v":0},{"$f":"'Energy Consumption'!E1116","v":0},{"$f":"'Energy Consumption'!E1197","v":0},{"$f":"'Energy Consumption'!E1198","v":0},{"$f":"'Energy Consumption'!E1279","v":0},{"$f":"'Energy Consumption'!E1280","v":0},{"$f":"'Energy Consumption'!E1361","v":0},{"$f":"'Energy Consumption'!E1362","v":0},{"$f":"'Energy Consumption'!E1443","v":0},{"$f":"'Energy Consumption'!E1444","v":0},{"$f":"'Energy Consumption'!E1525","v":0},{"$f":"'Energy Consumption'!E1526","v":0},{"$f":"'Energy Consumption'!E1607","v":0},{"$f":"'Energy Consumption'!E1608","v":0},null,{"$f":"'Relevant Variables'!E40","v":0},{"$f":"'Relevant Variables'!E70","v":0},{"$f":"'Relevant Variables'!E100","v":0},{"$f":"'Relevant Variables'!E130","v":0},{"$f":"'Relevant Variables'!E160","v":0},{"$f":"'Relevant Variables'!E190","v":0},{"$f":"'Relevant Variables'!E220","v":0},{"$f":"'Relevant Variables'!E250","v":0},{"$f":"'Relevant Variables'!E280","v":0},{"$f":"'Relevant Variables'!E310","v":0},{"$f":"'Relevant Variables'!E340","v":0},{"$f":"'Relevant Variables'!E370","v":0},{"$f":"'Relevant Variables'!E400","v":0},{"$f":"'Relevant Variables'!E430","v":0},{"$f":"'Relevant Variables'!E460","v":0},{"$f":"'Relevant Variables'!E490","v":0},{"$f":"'Relevant Variables'!E520","v":0},{"$f":"'Relevant Variables'!E550","v":0},{"$f":"'Relevant Variables'!E580","v":0},{"$f":"'Relevant Variables'!E610","v":0}]
["2020-03-01",null,{"$f":"'Energy Consumption'!F49","v":0},{"$f":"'Energy Consumption'!F50","v":0},{"$f":"'Energy Consumption'!F131","v":0},{"$f":"'Energy Consumption'!F132","v":0},{"$f":"'Energy Consumption'!F213","v":0},{"$f":"'Energy Consumption'!F214","v":0},{"$f":"'Energy Consumption'!F295","v":0},{"$f":"'Energy Consumption'!F296","v":0},{"$f":"'Energy Consumption'!F377","v":0},{"$f":"'Energy Consumption'!F378","v":0},{"$f":"'Energy Consumption'!F459","v":0},{"$f":"'Energy Consumption'!F460","v":0},{"$f":"'Energy Consumption'!F541","v":0},{"$f":"'Energy Consumption'!F542","v":0},{"$f":"'Energy Consumption'!F623","v":0},{"$f":"'Energy Consumption'!F624","v":0},{"$f":"'Energy Consumption'!F705","v":0},{"$f":"'Energy Consumption'!F706","v":0},{"$f":"'Energy Consumption'!F787","v":0},{"$f":"'Energy Consumption'!F788","v":0},{"$f":"'Energy Consumption'!F869","v":0},{"$f":"'Energy Consumption'!F870","v":0},{"$f":"'Energy Consumption'!F951","v":0},{"$f":"'Energy Consumption'!F952","v":0},{"$f":"'Energy Consumption'!F1033","v":0},{"$f":"'Energy Consumption'!F1034","v":0},{"$f":"'Energy Consumption'!F1115","v":0},{"$f":"'Energy Consumption'!F1116","v":0},{"$f":"'Energy Consumption'!F1197","v":0},{"$f":"'Energy Consumption'!F1198","v":0},{"$f":"'Energy Consumption'!F1279","v":0},{"$f":"'Energy Consumption'!F1280","v":0},{"$f":"'Energy Consumption'!F1361","v":0},{"$f":"'Energy Consumption'!F1362","v":0},{"$f":"'Energy Consumption'!F1443","v":0},{"$f":"'Energy Consumption'!F1444","v":0},{"$f":"'Energy Consumption'!F1525","v":0},{"$f":"'Energy Consumption'!F1526","v":0},{"$f":"'Energy Consumption'!F1607","v":0},{"$f":"'Energy Consumption'!F1608","v":0},null,{"$f":"'Relevant Variables'!F40","v":0},{"$f":"'Relevant Variables'!F70","v":0},{"$f":"'Relevant Variables'!F100","v":0},{"$f":"'Relevant Variables'!F130","v":0},{"$f":"'Relevant Variables'!F160","v":0},{"$f":"'Relevant Variables'!F190","v":0},{"$f":"'Relevant Variables'!F220","v":0},{"$f":"'Relevant Variables'!F250","v":0},{"$f":"'Relevant Variables'!F280","v":0},{"$f":"'Relevant Variables'!F310","v":0},{"$f":"'Relevant Variables'!F340","v":0},{"$f":"'Relevant Variables'!F370","v":0},{"$f":"'Relevant Variables'!F400","v":0},{"$f":"'Relevant Variables'!F430","v":0},{"$f":"'Relevant Variables'!F460","v":0},{"$f":"'Relevant Variables'!F490","v":0},{"$f":"'Relevant Variables'!F520","v":0},{"$f":"'Relevant Variables'!F550","v":0},{"$f":"'Relevant Variables'!F580","v":0},{"$f":"'Relevant Variables'!F610","v":0}]
["2020-04-01",null,{"$f":"'Energy Consumption'!G49","v":0},{"$f":"'Energy Consumption'!G50","v":0},{"$f":"'Energy Consumption'!G131","v":0},{"$f":"'Energy Consumption'!G132","v":0},{"$f":"'Energy Consumption'!G213","v":0},{"$f":"'Energy Consumption'!G214","v":0},{"$f":"'Energy Consumption'!G295","v":0},{"$f":"'Energy Consumption'!G296","v":0},{"$f":"'Energy Consumption'!G377","v":0},{"$f":"'Energy Consumption'!G378","v":0},{"$f":"'Energy Consumption'!G459","v":0},{"$f":"'Energy Consumption'!G460","v":0},{"$f":"'Energy Consumption'!G541","v":0},{"$f":"'Energy Consumption'!G542","v":0},{"$f":"'Energy Consumption'!G623","v":0},{"$f":"'Energy Consumption'!G624","v":0},{"$f":"'Energy Consumption'!G705","v":0},{"$f":"'Energy Consumption'!G706","v":0},{"$f":"'Energy Consumption'!G787","v":0},{"$f":"'Energy Consumption'!G788","v":0},{"$f":"'Energy Consumption'!G869","v":0},{"$f":"'Energy Consumption'!G870","v":0},{"$f":"'Energy Consumption'!G951","v":0},{"$f":"'Energy Consumption'!G952","v":0},{"$f":"'Energy Consumption'!G1033","v":0},{"$f":"'Energy Consumption'!G1034","v":0},{"$f":"'Energy Consumption'!G1115","v":0},{"$f":"'Energy Consumption'!G1116","v":0},{"$f":"'Energy Consumption'!G1197","v":0},{"$f":"'Energy Consumption'!G1198","v":0},{"$f":"'Energy Consumption'!G1279","v":0},{"$f":"'Energy Consumption'!G1280","v":0},{"$f":"'Energy Consumption'!G1361","v":0},{"$f":"'Energy Consumption'!G1362","v":0},{"$f":"'Energy Consumption'!G1443","v":0},{"$f":"'Energy Consumption'!G1444","v":0},{"$f":"'Energy Consumption'!G1525","v":0},{"$f":"'Energy Consumption'!G1526","v":0},{"$f":"'Energy Consumption'!G1607","v":0},{"$f":"'Energy Consumption'!G1608","v":0},null,{"$f":"'Relevant Variables'!G40","v":0},{"$f":"'Relevant Variables'!G70","v":0},{"$f":"'Relevant Variables'!G100","v":0},{"$f":"'Relevant Variables'!G130","v":0},{"$f":"'Relevant Variables'!G160","v":0},{"$f":"'Relevant Variables'!G190","v":0},{"$f":"'Relevant Variables'!G220","v":0},{"$f":"'Relevant Variables'!G250","v":0},{"$f":"'Relevant Variables'!G280","v":0},{"$f":"'Relevant Variables'!G310","v":0},{"$f":"'Relevant Variables'!G340","v":0},{"$f":"'Relevant Variables'!G370","v":0},{"$f":"'Relevant Variables'!G400","v":0},{"$f":"'Relevant Variables'!G430","v":0},{"$f":"'Relevant Variables'!G460","v":0},{"$f":"'Relevant Variables'!G490","v":0},{"$f":"'Relevant Variables'!G520","v":0},{"$f":"'Relevant Variables'!G550","v":0},{"$f":"'Relevant Variables'!G580","v":0},{"$f":"'Relevant Variables'!G610","v":0}]
["2020-05-01",null,{"$f":"'Energy Consumption'!H49","v":0},{"$f":"'Energy Consumption'!H50","v":0},{"$f":"'Energy Consumption'!H131","v":0},{"$f":"'Energy Consumption'!H132","v":0},{"$f":"'Energy Consumption'!H213","v":0},{"$f":"'Energy Consumption'!H214","v":0},{"$f":"'Energy Consumption'!H295","v":0},{"$f":"'Energy Consumption'!H296","v":0},{"$f":"'Energy Consumption'!H377","v":0},{"$f":"'Energy Consumption'!H378","v":0},{"$f":"'Energy Consumption'!H459","v":0},{"$f":"'Energy Consumption'!H460","v":0},{"$f":"'Energy Consumption'!H541","v":0},{"$f":"'Energy Consumption'!H542","v":0},{"$f":"'Energy Consumption'!H623","v":0},{"$f":"'Energy Consumption'!H624","v":0},{"$f":"'Energy Consumption'!H705","v":0},{"$f":"'Energy Consumption'!H706","v":0},{"$f":"'Energy Consumption'!H787","v":0},{"$f":"'Energy Consumption'!H788","v":0},{"$f":"'Energy Consumption'!H869","v":0},{"$f":"'Energy Consumption'!H870","v":0},{"$f":"'Energy Consumption'!H951","v":0},{"$f":"'Energy Consumption'!H952","v":0},{"$f":"'Energy Consumption'!H1033","v":0},{"$f":"'Energy Consumption'!H1034","v":0},{"$f":"'Energy Consumption'!H1115","v":0},{"$f":"'Energy Consumption'!H1116","v":0},{"$f":"'Energy Consumption'!H1197","v":0},{"$f":"'Energy Consumption'!H1198","v":0},{"$f":"'Energy Consumption'!H1279","v":0},{"$f":"'Energy Consumption'!H1280","v":0},{"$f":"'Energy Consumption'!H1361","v":0},{"$f":"'Energy Consumption'!H1362","v":0},{"$f":"'Energy Consumption'!H1443","v":0},{"$f":"'Energy Consumption'!H1444","v":0},{"$f":"'Energy Consumption'!H1525","v":0},{"$f":"'Energy Consumption'!H1526","v":0},{"$f":"'Energy Consumption'!H1607","v":0},{"$f":"'Energy Consumption'!H1608","v":0},null,{"$f":"'Relevant Variables'!H40","v":0},{"$f":"'Relevant Variables'!H70","v":0},{"$f":"'Relevant Variables'!H100","v":0},{"$f":"'Relevant Variables'!H130","v":0},{"$f":"'Relevant Variables'!H160","v":0},{"$f":"'Relevant Variables'!H190","v":0},{"$f":"'Relevant Variables'!H220","v":0},{"$f":"'Relevant Variables'!H250","v":0},{"$f":"'Relevant Variables'!H280","v":0},{"$f":"'Relevant Variables'!H310","v":0},{"$f":"'Relevant Variables'!H340","v":0},{"$f":"'Relevant Variables'!H370","v":0},{"$f":"'Relevant Variables'!H400","v":0},{"$f":"'Relevant Variables'!H430","v":0},{"$f":"'Relevant Variables'!H460","v":0},{"$f":"'Relevant Variables'!H490","v":0},{"$f":"'Relevant Variables'!H520","v":0},{"$f":"'Relevant Variables'!H550","v":0},{"$f":"'Relevant Variables'!H580","v":0},{"$f":"'Relevant Variables'!H610","v":0}]
["2020-06-01",null,{"$f":"'Energy Consumption'!I49","v":0},{"$f":"'Energy Consumption'!I50","v":0},{"$f":"'Energy Consumption'!I131","v":0},{"$f":"'Energy Consumption'!I132","v":0},{"$f":"'Energy Consumption'!I213","v":0},{"$f":"'Energy Consumption'!I214","v":0},{"$f":"'Energy Consumption'!I295","v":0},{"$f":"'Energy Consumption'!I296","v":0},{"$f":"'Energy Consumption'!I377","v":0},{"$f":"'Energy Consumption'!I378","v":0},{"$f":"'Energy Consumption'!I459","v":0},{"$f":"'Energy Consumption'!I460","v":0},{"$f":"'Energy Consumption'!I541","v":0},{"$f":"'Energy Consumption'!I542","v":0},{"$f":"'Energy Consumption'!I623","v":0},{"$f":"'Energy Consumption'!I624","v":0},{"$f":"'Energy Consumption'!I705","v":0},{"$f":"'Energy Consumption'!I706","v":0},{"$f":"'Energy Consumption'!I787","v":0},{"$f":"'Energy Consumption'!I788","v":0},{"$f":"'Energy Consumption'!I869","v":0},{"$f":"'Energy Consumption'!I870","v":0},{"$f":"'Energy Consumption'!I951","v":0},{"$f":"'Energy Consumption'!I952","v":0},{"$f":"'Energy Consumption'!I1033","v":0},{"$f":"'Energy Consumption'!I1034","v":0},{"$f":"'Energy Consumption'!I1115","v":0},{"$f":"'Energy Consumption'!I1116","v":0},{"$f":"'Energy Consumption'!I1197","v":0},{"$f":"'Energy Consumption'!I1198","v":0},{"$f":"'Energy Consumption'!I1279","v":0},{"$f":"'Energy Consumption'!I1280","v":0},{"$f":"'Energy Consumption'!I1361","v":0},{"$f":"'Energy Consumption'!I1362","v":0},{"$f":"'Energy Consumption'!I1443","v":0},{"$f":"'Energy Consumption'!I1444","v":0},{"$f":"'Energy Consumption'!I1525","v":0},{"$f":"'Energy Consumption'!I1526","v":0},{"$f":"'Energy Consumption'!I1607","v":0},{"$f":"'Energy Consumption'!I1608","v":0},null,{"$f":"'Relevant Variables'!I40","v":0},{"$f":"'Relevant Variables'!I70","v":0},{"$f":"'Relevant Variables'!I100","v":0},{"$f":"'Relevant Variables'!I130","v":0},{"$f":"'Relevant Variables'!I160","v":0},{"$f":"'Relevant Variables'!I190","v":0},{"$f":"'Relevant Variables'!I220","v":0},{"$f":"'Relevant Variables'!I250","v":0},{"$f":"'Relevant Variables'!I280","v":0},{"$f":"'Relevant Variables'!I310","v":0},{"$f":"'Relevant Variables'!I340","v":0},{"$f":"'Relevant Variables'!I370","v":0},{"$f":"'Relevant Variables'!I400","v":0},{"$f":"'Relevant Variables'!I430","v":0},{"$f":"'Relevant Variables'!I460","v":0},{"$f":"'Relevant Variables'!I490","v":0},{"$f":"'Relevant Variables'!I520","v":0},{"$f":"'Relevant Variables'!I550","v":0},{"$f":"'Relevant Variables'!I580","v":0},{"$f":"'Relevant Variables'!I610","v":0}]
["2020-07-01",null,{"$f":"'Energy Consumption'!J49","v":0},{"$f":"'Energy Consumption'!J50","v":0},{"$f":"'Energy Consumption'!J131","v":0},{"$f":"'Energy Consumption'!J132","v":0},{"$f":"'Energy Consumption'!J213","v":0},{"$f":"'Energy Consumption'!J214","v":0},{"$f":"'Energy Consumption'!J295","v":0},{"$f":"'Energy Consumption'!J296","v":0},{"$f":"'Energy Consumption'!J377","v":0},{"$f":"'Energy Consumption'!J378","v":0},{"$f":"'Energy Consumption'!J459","v":0},{"$f":"'Energy Consumption'!J460","v":0},{"$f":"'Energy Consumption'!J541","v":0},{"$f":"'Energy Consumption'!J542","v":0},{"$f":"'Energy Consumption'!J623","v":0},{"$f":"'Energy Consumption'!J624","v":0},{"$f":"'Energy Consumption'!J705","v":0},{"$f":"'Energy Consumption'!J706","v":0},{"$f":"'Energy Consumption'!J787","v":0},{"$f":"'Energy Consumption'!J788","v":0},{"$f":"'Energy Consumption'!J869","v":0},{"$f":"'Energy Consumption'!J870","v":0},{"$f":"'Energy Consumption'!J951","v":0},{"$f":"'Energy Consumption'!J952","v":0},{"$f":"'Energy Consumption'!J1033","v":0},{"$f":"'Energy Consumption'!J1034","v":0},{"$f":"'Energy Consumption'!J1115","v":0},{"$f":"'Energy Consumption'!J1116","v":0},{"$f":"'Energy Consumption'!J1197","v":0},{"$f":"'Energy Consumption'!J1198","v":0},{"$f":"'Energy Consumption'!J1279","v":0},{"$f":"'Energy Consumption'!J1280","v":0},{"$f":"'Energy Consumption'!J1361","v":0},{"$f":"'Energy Consumption'!J1362","v":0},{"$f":"'Energy Consumption'!J1443","v":0},{"$f":"'Energy Consumption'!J1444","v":0},{"$f":"'Energy Consumption'!J1525","v":0},{"$f":"'Energy Consumption'!J1526","v":0},{"$f":"'Energy Consumption'!J1607","v":0},{"$f":"'Energy Consumption'!J1608","v":0},null,{"$f":"'Relevant Variables'!J40","v":0},{"$f":"'Relevant Variables'!J70","v":0},{"$f":"'Relevant Variables'!J100","v":0},{"$f":"'Relevant Variables'!J130","v":0},{"$f":"'Relevant Variables'!J160","v":0},{"$f":"'Relevant Variables'!J190","v":0},{"$f":"'Relevant Variables'!J220","v":0},{"$f":"'Relevant Variables'!J250","v":0},{"$f":"'Relevant Variables'!J280","v":0},{"$f":"'Relevant Variables'!J310","v":0},{"$f":"'Relevant Variables'!J340","v":0},{"$f":"'Relevant Variables'!J370","v":0},{"$f":"'Relevant Variables'!J400","v":0},{"$f":"'Relevant Variables'!J430","v":0},{"$f":"'Relevant Variables'!J460","v":0},{"$f":"'Relevant Variables'!J490","v":0},{"$f":"'Relevant Variables'!J520","v":0},{"$f":"'Relevant Variables'!J550","v":0},{"$f":"'Relevant Variables'!J580","v":0},{"$f":"'Relevant Variables'!J610","v":0}]
["2020-08-01",null,{"$f":"'Energy Consumption'!K49","v":0},{"$f":"'Energy Consumption'!K50","v":0},{"$f":"'Energy Consumption'!K131","v":0},{"$f":"'Energy Consumption'!K132","v":0},{"$f":"'Energy Consumption'!K213","v":0},{"$f":"'Energy Consumption'!K214","v":0},{"$f":"'Energy Consumption'!K295","v":0},{"$f":"'Energy Consumption'!K296","v":0},{"$f":"'Energy Consumption'!K377","v":0},{"$f":"'Energy Consumption'!K378","v":0},{"$f":"'Energy Consumption'!K459","v":0},{"$f":"'Energy Consumption'!K460","v":0},{"$f":"'Energy Consumption'!K541","v":0},{"$f":"'Energy Consumption'!K542","v":0},{"$f":"'Energy Consumption'!K623","v":0},{"$f":"'Energy Consumption'!K624","v":0},{"$f":"'Energy Consumption'!K705","v":0},{"$f":"'Energy Consumption'!K706","v":0},{"$f":"'Energy Consumption'!K787","v":0},{"$f":"'Energy Consumption'!K788","v":0},{"$f":"'Energy Consumption'!K869","v":0},{"$f":"'Energy Consumption'!K870","v":0},{"$f":"'Energy Consumption'!K951","v":0},{"$f":"'Energy Consumption'!K952","v":0},{"$f":"'Energy Consumption'!K1033","v":0},{"$f":"'Energy Consumption'!K1034","v":0},{"$f":"'Energy Consumption'!K1115","v":0},{"$f":"'Energy Consumption'!K1116","v":0},{"$f":"'Energy Consumption'!K1197","v":0},{"$f":"'Energy Consumption'!K1198","v":0},{"$f":"'Energy Consumption'!K1279","v":0},{"$f":"'Energy Consumption'!K1280","v":0},{"$f":"'Energy Consumption'!K1361","v":0},{"$f":"'Energy Consumption'!K1362","v":0},{"$f":"'Energy Consumption'!K1443","v":0},{"$f":"'Energy Consumption'!K1444","v":0},{"$f":"'Energy Consumption'!K1525","v":0},{"$f":"'Energy Consumption'!K1526","v":0},{"$f":"'Energy Consumption'!K1607","v":0},{"$f":"'Energy Consumption'!K1608","v":0},null,{"$f":"'Relevant Variables'!K40","v":0},{"$f":"'Relevant Variables'!K70","v":0},{"$f":"'Relevant Variables'!K100","v":0},{"$f":"'Relevant Variables'!K130","v":0},{"$f":"'Relevant Variables'!K160","v":0},{"$f":"'Relevant Variables'!K190","v":0},{"$f":"'Relevant Variables'!K220","v":0},{"$f":"'Relevant Variables'!K250","v":0},{"$f":"'Relevant Variables'!K280","v":0},{"$f":"'Relevant Variables'!K310","v":0},{"$f":"'Relevant Variables'!K340","v":0},{"$f":"'Relevant Variables'!K370","v":0},{"$f":"'Relevant Variables'!K400","v":0},{"$f":"'Relevant Variables'!K430","v":0},{"$f":"'Relevant Variables'!K460","v":0},{"$f":"'Relevant Variables'!K490","v":0},{"$f":"'Relevant Variables'!K520","v":0},{"$f":"'Relevant Variables'!K550","v":0},{"$f":"'Relevant Variables'!K580","v":0},{"$f":"'Relevant Variables'!K610","v":0}]
["2020-09-01",null,{"$f":"'Energy Consumption'!L49","v":0},{"$f":"'Energy Consumption'!L50","v":0},{"$f":"'Energy Consumption'!L131","v":0},{"$f":"'Energy Consumption'!L132","v":0},{"$f":"'Energy Consumption'!L213","v":0},{"$f":"'Energy Consumption'!L214","v":0},{"$f":"'Energy Consumption'!L295","v":0},{"$f":"'Energy Consumption'!L296","v":0},{"$f":"'Energy Consumption'!L377","v":0},{"$f":"'Energy Consumption'!L378","v":0},{"$f":"'Energy Consumption'!L459","v":0},{"$f":"'Energy Consumption'!L460","v":0},{"$f":"'Energy Consumption'!L541","v":0},{"$f":"'Energy Consumption'!L542","v":0},{"$f":"'Energy Consumption'!L623","v":0},{"$f":"'Energy Consumption'!L624","v":0},{"$f":"'Energy Consumption'!L705","v":0},{"$f":"'Energy Consumption'!L706","v":0},{"$f":"'Energy Consumption'!L787","v":0},{"$f":"'Energy Consumption'!L788","v":0},{"$f":"'Energy Consumption'!L869","v":0},{"$f":"'Energy Consumption'!L870","v":0},{"$f":"'Energy Consumption'!L951","v":0},{"$f":"'Energy Consumption'!L952","v":0},{"$f":"'Energy Consumption'!L1033","v":0},{"$f":"'Energy Consumption'!L1034","v":0},{"$f":"'Energy Consumption'!L1115","v":0},{"$f":"'Energy Consumption'!L1116","v":0},{"$f":"'Energy Consumption'!L1197","v":0},{"$f":"'Energy Consumption'!L1198","v":0},{"$f":"'Energy Consumption'!L1279","v":0},{"$f":"'Energy Consumption'!L1280","v":0},{"$f":"'Energy Consumption'!L1361","v":0},{"$f":"'Energy Consumption'!L1362","v":0},{"$f":"'Energy Consumption'!L1443","v":0},{"$f":"'Energy Consumption'!L1444","v":0},{"$f":"'Energy Consumption'!L1525","v":0},{"$f":"'Energy Consumption'!L1526","v":0},{"$f":"'Energy Consumption'!L1607","v":0},{"$f":"'Energy Consumption'!L1608","v":0},null,{"$f":"'Relevant Variables'!L40","v":0},{"$f":"'Relevant Variables'!L70","v":0},{"$f":"'Relevant Variables'!L100","v":0},{"$f":"'Relevant Variables'!L130","v":0},{"$f":"'Relevant Variables'!L160","v":0},{"$f":"'Relevant Variables'!L190","v":0},{"$f":"'Relevant Variables'!L220","v":0},{"$f":"'Relevant Variables'!L250","v":0},{"$f":"'Relevant Variables'!L280","v":0},{"$f":"'Relevant Variables'!L310","v":0},{"$f":"'Relevant Variables'!L340","v":0},{"$f":"'Relevant Variables'!L370","v":0},{"$f":"'Relevant Variables'!L400","v":0},{"$f":"'Relevant Variables'!L430","v":0},{"$f":"'Relevant Variables'!L460","v":0},{"$f":"'Relevant Variables'!L490","v":0},{"$f":"'Relevant Variables'!L520","v":0},{"$f":"'Relevant Variables'!L550","v":0},{"$f":"'Relevant Variables'!L580","v":0},{"$f":"'Relevant Variables'!L610","v":0}]
["2020-10-01",null,{"$f":"'Energy Consumption'!M49","v":0},{"$f":"'Energy Consumption'!M50","v":0},{"$f":"'Energy Consumption'!M131","v":0},{"$f":"'Energy Consumption'!M132","v":0},{"$f":"'Energy Consumption'!M213","v":0},{"$f":"'Energy Consumption'!M214","v":0},{"$f":"'Energy Consumption'!M295","v":0},{"$f":"'Energy Consumption'!M296","v":0},{"$f":"'Energy Consumption'!M377","v":0},{"$f":"'Energy Consumption'!M378","v":0},{"$f":"'Energy Consumption'!M459","v":0},{"$f":"'Energy Consumption'!M460","v":0},{"$f":"'Energy Consumption'!M541","v":0},{"$f":"'Energy Consumption'!M542","v":0},{"$f":"'Energy Consumption'!M623","v":0},{"$f":"'Energy Consumption'!M624","v":0},{"$f":"'Energy Consumption'!M705","v":0},{"$f":"'Energy Consumption'!M706","v":0},{"$f":"'Energy Consumption'!M787","v":0},{"$f":"'Energy Consumption'!M788","v":0},{"$f":"'Energy Consumption'!M869","v":0},{"$f":"'Energy Consumption'!M870","v":0},{"$f":"'Energy Consumption'!M951","v":0},{"$f":"'Energy Consumption'!M952","v":0},{"$f":"'Energy Consumption'!M1033","v":0},{"$f":"'Energy Consumption'!M1034","v":0},{"$f":"'Energy Consumption'!M1115","v":0},{"$f":"'Energy Consumption'!M1116","v":0},{"$f":"'Energy Consumption'!M1197","v":0},{"$f":"'Energy Consumption'!M1198","v":0},{"$f":"'Energy Consumption'!M1279","v":0},{"$f":"'Energy Consumption'!M1280","v":0},{"$f":"'Energy Consumption'!M1361","v":0},{"$f":"'Energy Consumption'!M1362","v":0},{"$f":"'Energy Consumption'!M1443","v":0},{"$f":"'Energy Consumption'!M1444","v":0},{"$f":"'Energy Consumption'!M1525","v":0},{"$f":"'Energy Consumption'!M1526","v":0},{"$f":"'Energy Consumption'!M1607","v":0},{"$f":"'Energy Consumption'!M1608","v":0},null,{"$f":"'Relevant Variables'!M40","v":0},{"$f":"'Relevant Variables'!M70","v":0},{"$f":"'Relevant Variables'!M100","v":0},{"$f":"'Relevant Variables'!M130","v":0},{"$f":"'Relevant Variables'!M160","v":0},{"$f":"'Relevant Variables'!M190","v":0},{"$f":"'Relevant Variables'!M220","v":0},{"$f":"'Relevant Variables'!M250","v":0},{"$f":"'Relevant Variables'!M280","v":0},{"$f":"'Relevant Variables'!M310","v":0},{"$f":"'Relevant Variables'!M340","v":0},{"$f":"'Relevant Variables'!M370","v":0},{"$f":"'Relevant Variables'!M400","v":0},{"$f":"'Relevant Variables'!M430","v":0},{"$f":"'Relevant Variables'!M460","v":0},{"$f":"'Relevant Variables'!M490","v":0},{"$f":"'Relevant Variables'!M520","v":0},{"$f":"'Relevant Variables'!M550","v":0},{"$f":"'Relevant Variables'!M580","v":0},{"$f":"'Relevant Variables'!M610","v":0}]
["2020-11-01",null,{"$f":"'Energy Consumption'!N49","v":0},{"$f":"'Energy Consumption'!N50","v":0},{"$f":"'Energy Consumption'!N131","v":0},{"$f":"'Energy Consumption'!N132","v":0},{"$f":"'Energy Consumption'!N213","v":0},{"$f":"'Energy Consumption'!N214","v":0},{"$f":"'Energy Consumption'!N295","v":0},{"$f":"'Energy Consumption'!N296","v":0},{"$f":"'Energy Consumption'!N377","v":0},{"$f":"'Energy Consumption'!N378","v":0},{"$f":"'Energy Consumption'!N459","v":0},{"$f":"'Energy Consumption'!N460","v":0},{"$f":"'Energy Consumption'!N541","v":0},{"$f":"'Energy Consumption'!N542","v":0},{"$f":"'Energy Consumption'!N623","v":0},{"$f":"'Energy Consumption'!N624","v":0},{"$f":"'Energy Consumption'!N705","v":0},{"$f":"'Energy Consumption'!N706","v":0},{"$f":"'Energy Consumption'!N787","v":0},{"$f":"'Energy Consumption'!N788","v":0},{"$f":"'Energy Consumption'!N869","v":0},{"$f":"'Energy Consumption'!N870","v":0},{"$f":"'Energy Consumption'!N951","v":0},{"$f":"'Energy Consumption'!N952","v":0},{"$f":"'Energy Consumption'!N1033","v":0},{"$f":"'Energy Consumption'!N1034","v":0},{"$f":"'Energy Consumption'!N1115","v":0},{"$f":"'Energy Consumption'!N1116","v":0},{"$f":"'Energy Consumption'!N1197","v":0},{"$f":"'Energy Consumption'!N1198","v":0},{"$f":"'Energy Consumption'!N1279","v":0},{"$f":"'Energy Consumption'!N1280","v":0},{"$f":"'Energy Consumption'!N1361","v":0},{"$f":"'Energy Consumption'!N1362","v":0},{"$f":"'Energy Consumption'!N1443","v":0},{"$f":"'Energy Consumption'!N1444","v":0},{"$f":"'Energy Consumption'!N1525","v":0},{"$f":"'Energy Consumption'!N1526","v":0},{"$f":"'Energy Consumption'!N1607","v":0},{"$f":"'Energy Consumption'!N1608","v":0},null,{"$f":"'Relevant Variables'!N40","v":0},{"$f":"'Relevant Variables'!N70","v":0},{"$f":"'Relevant Variables'!N100","v":0},{"$f":"'Relevant Variables'!N130","v":0},{"$f":"'Relevant Variables'!N160","v":0},{"$f":"'Relevant Variables'!N190","v":0},{"$f":"'Relevant Variables'!N220","v":0},{"$f":"'Relevant Variables'!N250","v":0},{"$f":"'Relevant Variables'!N280","v":0},{"$f":"'Relevant Variables'!N310","v":0},{"$f":"'Relevant Variables'!N340","v":0},{"$f":"'Relevant Variables'!N370","v":0},{"$f":"'Relevant Variables'!N400","v":0},{"$f":"'Relevant Variables'!N430","v":0},{"$f":"'Relevant Variables'!N460","v":0},{"$f":"'Relevant Variables'!N490","v":0},{"$f":"'Relevant Variables'!N520","v":0},{"$f":"'Relevant Variables'!N550","v":0},{"$f":"'Relevant Variables'!N580","v":0},{"$f":"'Relevant Variables'!N610","v":0}]
["2020-12-01",null,{"$f":"'Energy Consumption'!O49","v":0},{"$f":"'Energy Consumption'!O50","v":0},{"$f":"'Energy Consumption'!O131","v":0},{"$f":"'Energy Consumption'!O132","v":0},{"$f":"'Energy Consumption'!O213","v":0},{"$f":"'Energy Consumption'!O214","v":0},{"$f":"'Energy Consumption'!O295","v":0},{"$f":"'Energy Consumption'!O296","v":0},{"$f":"'Energy Consumption'!O377","v":0},{"$f":"'Energy Consumption'!O378","v":0},{"$f":"'Energy Consumption'!O459","v":0},{"$f":"'Energy Consumption'!O460","v":0},{"$f":"'Energy Consumption'!O541","v":0},{"$f":"'Energy Consumption'!O542","v":0},{"$f":"'Energy Consumption'!O623","v":0},{"$f":"'Energy Consumption'!O624","v":0},{"$f":"'Energy Consumption'!O705","v":0},{"$f":"'Energy Consumption'!O706","v":0},{"$f":"'Energy Consumption'!O787","v":0},{"$f":"'Energy Consumption'!O788","v":0},{"$f":"'Energy Consumption'!O869","v":0},{"$f":"'Energy Consumption'!O870","v":0},{"$f":"'Energy Consumption'!O951","v":0},{"$f":"'Energy Consumption'!O952","v":0},{"$f":"'Energy Consumption'!O1033","v":0},{"$f":"'Energy Consumption'!O1034","v":0},{"$f":"'Energy Consumption'!O1115","v":0},{"$f":"'Energy Consumption'!O1116","v":0},{"$f":"'Energy Consumption'!O1197","v":0},{"$f":"'Energy Consumption'!O1198","v":0},{"$f":"'Energy Consumption'!O1279","v":0},{"$f":"'Energy Consumption'!O1280","v":0},{"$f":"'Energy Consumption'!O1361","v":0},{"$f":"'Energy Consumption'!O1362","v":0},{"$f":"'Energy Consumption'!O1443","v":0},{"$f":"'Energy Consumption'!O1444","v":0},{"$f":"'Energy Consumption'!O1525","v":0},{"$f":"'Energy Consumption'!O1526","v":0},{"$f":"'Energy Consumption'!O1607","v":0},{"$f":"'Energy Consumption'!O1608","v":0},null,{"$f":"'Relevant Variables'!O40","v":0},{"$f":"'Relevant Variables'!O70","v":0},{"$f":"'Relevant Variables'!O100","v":0},{"$f":"'Relevant Variables'!O130","v":0},{"$f":"'Relevant Variables'!O160","v":0},{"$f":"'Relevant Variables'!O190","v":0},{"$f":"'Relevant Variables'!O220","v":0},{"$f":"'Relevant Variables'!O250","v":0},{"$f":"'Relevant Variables'!O280","v":0},{"$f":"'Relevant Variables'!O310","v":0},{"$f":"'Relevant Variables'!O340","v":0},{"$f":"'Relevant Variables'!O370","v":0},{"$f":"'Relevant Variables'!O400","v":0},{"$f":"'Relevant Variables'!O430","v":0},{"$f":"'Relevant Variables'!O460","v":0},{"$f":"'Relevant Variables'!O490","v":0},{"$f":"'Relevant Variables'!O520","v":0},{"$f":"'Relevant Variables'!O550","v":0},{"$f":"'Relevant Variables'!O580","v":0},{"$f":"'Relevant Variables'!O610","v":0}]
["2021-01-01",null,{"$f":"'Energy Consumption'!D47","v":0},{"$f":"'Energy Consumption'!D48","v":0},{"$f":"'Energy Consumption'!D129","v":0},{"$f":"'Energy Consumption'!D130","v":0},{"$f":"'Energy Consumption'!D211","v":0},{"$f":"'Energy Consumption'!D212","v":0},{"$f":"'Energy Consumption'!D293","v":0},{"$f":"'Energy Consumption'!D294","v":0},{"$f":"'Energy Consumption'!D375","v":0},{"$f":"'Energy Consumption'!D376","v":0},{"$f":"'Energy Consumption'!D457","v":0},{"$f":"'Energy Consumption'!D458","v":0},{"$f":"'Energy Consumption'!D539","v":0},{"$f":"'Energy Consumption'!D540","v":0},{"$f":"'Energy Consumption'!D621","v":0},{"$f":"'Energy Consumption'!D622","v":0},{"$f":"'Energy Consumption'!D703","v":0},{"$f":"'Energy Consumption'!D704","v":0},{"$f":"'Energy Consumption'!D785","v":0},{"$f":"'Energy Consumption'!D786","v":0},{"$f":"'Energy Consumption'!D867","v":0},{"$f":"'Energy Consumption'!D868","v":0},{"$f":"'Energy Consumption'!D949","v":0},{"$f":"'Energy Consumption'!D950","v":0},{"$f":"'Energy Consumption'!D1031","v":0},{"$f":"'Energy Consumption'!D1032","v":0},{"$f":"'Energy Consumption'!D1113","v":0},{"$f":"'Energy Consumption'!D1114","v":0},{"$f":"'Energy Consumption'!D1195","v":0},{"$f":"'Energy Consumption'!D1196","v":0},{"$f":"'Energy Consumption'!D1277","v":0},{"$f":"'Energy Consumption'!D1278","v":0},{"$f":"'Energy Consumption'!D1359","v":0},{"$f":"'Energy Consumption'!D1360","v":0},{"$f":"'Energy Consumption'!D1441","v":0},{"$f":"'Energy Consumption'!D1442","v":0},{"$f":"'Energy Consumption'!D1523","v":0},{"$f":"'Energy Consumption'!D1524","v":0},{"$f":"'Energy Consumption'!D1605","v":0},{"$f":"'Energy Consumption'!D1606","v":0},null,{"$f":"'Relevant Variables'!D39","v":0},{"$f":"'Relevant Variables'!D69","v":0},{"$f":"'Relevant Variables'!D99","v":0},{"$f":"'Relevant Variables'!D129","v":0},{"$f":"'Relevant Variables'!D159","v":0},{"$f":"'Relevant Variables'!D189","v":0},{"$f":"'Relevant Variables'!D219","v":0},{"$f":"'Relevant Variables'!D249","v":0},{"$f":"'Relevant Variables'!D279","v":0},{"$f":"'Relevant Variables'!D309","v":0},{"$f":"'Relevant Variables'!D339","v":0},{"$f":"'Relevant Variables'!D369","v":0},{"$f":"'Relevant Variables'!D399","v":0},{"$f":"'Relevant Variables'!D429","v":0},{"$f":"'Relevant Variables'!D459","v":0},{"$f":"'Relevant Variables'!D489","v":0},{"$f":"'Relevant Variables'!D519","v":0},{"$f":"'Relevant Variables'!D549","v":0},{"$f":"'Relevant Variables'!D579","v":0},{"$f":"'Relevant Variables'!D609","v":0}]
["2021-02-01",null,{"$f":"'Energy Consumption'!E47","v":0},{"$f":"'Energy Consumption'!E48","v":0},{"$f":"'Energy Consumption'!E129","v":0},{"$f":"'Energy Consumption'!E130","v":0},{"$f":"'Energy Consumption'!E211","v":0},{"$f":"'Energy Consumption'!E212","v":0},{"$f":"'Energy Consumption'!E293","v":0},{"$f":"'Energy Consumption'!E294","v":0},{"$f":"'Energy Consumption'!E375","v":0},{"$f":"'Energy Consumption'!E376","v":0},{"$f":"'Energy Consumption'!E457","v":0},{"$f":"'Energy Consumption'!E458","v":0},{"$f":"'Energy Consumption'!E539","v":0},{"$f":"'Energy Consumption'!E540","v":0},{"$f":"'Energy Consumption'!E621","v":0},{"$f":"'Energy Consumption'!E622","v":0},{"$f":"'Energy Consumption'!E703","v":0},{"$f":"'Energy Consumption'!E704","v":0},{"$f":"'Energy Consumption'!E785","v":0},{"$f":"'Energy Consumption'!E786","v":0},{"$f":"'Energy Consumption'!E867","v":0},{"$f":"'Energy Consumption'!E868","v":0},{"$f":"'Energy Consumption'!E949","v":0},{"$f":"'Energy Consumption'!E950","v":0},{"$f":"'Energy Consumption'!E1031","v":0},{"$f":"'Energy Consumption'!E1032","v":0},{"$f":"'Energy Consumption'!E1113","v":0},{"$f":"'Energy Consumption'!E1114","v":0},{"$f":"'Energy Consumption'!E1195","v":0},{"$f":"'Energy Consumption'!E1196","v":0},{"$f":"'Energy Consumption'!E1277","v":0},{"$f":"'Energy Consumption'!E1278","v":0},{"$f":"'Energy Consumption'!E1359","v":0},{"$f":"'Energy Consumption'!E1360","v":0},{"$f":"'Energy Consumption'!E1441","v":0},{"$f":"'Energy Consumption'!E1442","v":0},{"$f":"'Energy Consumption'!E1523","v":0},{"$f":"'Energy Consumption'!E1524","v":0},{"$f":"'Energy Consumption'!E1605","v":0},{"$f":"'Energy Consumption'!E1606","v":0},null,{"$f":"'Relevant Variables'!E39","v":0},{"$f":"'Relevant Variables'!E69","v":0},{"$f":"'Relevant Variables'!E99","v":0},{"$f":"'Relevant Variables'!E129","v":0},{"$f":"'Relevant Variables'!E159","v":0},{"$f":"'Relevant Variables'!E189","v":0},{"$f":"'Relevant Variables'!E219","v":0},{"$f":"'Relevant Variables'!E249","v":0},{"$f":"'Relevant Variables'!E279","v":0},{"$f":"'Relevant Variables'!E309","v":0},{"$f":"'Relevant Variables'!E339","v":0},{"$f":"'Relevant Variables'!E369","v":0},{"$f":"'Relevant Variables'!E399","v":0},{"$f":"'Relevant Variables'!E429","v":0},{"$f":"'Relevant Variables'!E459","v":0},{"$f":"'Relevant Variables'!E489","v":0},{"$f":"'Relevant Variables'!E519","v":0},{"$f":"'Relevant Variables'!E549","v":0},{"$f":"'Relevant Variables'!E579","v":0},{"$f":"'Relevant Variables'!E609","v":0}]
[{"$f":"DATE(YEAR(A205),MONTH(A205)+1,1)","v":"2021-03-01"},null,{"$f":"'Energy Consumption'!F47","v":0},{"$f":"'Energy Consumption'!F48","v":0},{"$f":"'Energy Consumption'!F129","v":0},{"$f":"'Energy Consumption'!F130","v":0},{"$f":"'Energy Consumption'!F211","v":0},{"$f":"'Energy Consumption'!F212","v":0},{"$f":"'Energy Consumption'!F293","v":0},{"$f":"'Energy Consumption'!F294","v":0},{"$f":"'Energy Consumption'!F375","v":0},{"$f":"'Energy Consumption'!F376","v":0},{"$f":"'Energy Consumption'!F457","v":0},{"$f":"'Energy Consumption'!F458","v":0},{"$f":"'Energy Consumption'!F539","v":0},{"$f":"'Energy Consumption'!F540","v":0},{"$f":"'Energy Consumption'!F621","v":0},{"$f":"'Energy Consumption'!F622","v":0},{"$f":"'Energy Consumption'!F703","v":0},{"$f":"'Energy Consumption'!F704","v":0},{"$f":"'Energy Consumption'!F785","v":0},{"$f":"'Energy Consumption'!F786","v":0},{"$f":"'Energy Consumption'!F867","v":0},{"$f":"'Energy Consumption'!F868","v":0},{"$f":"'Energy Consumption'!F949","v":0},{"$f":"'Energy Consumption'!F950","v":0},{"$f":"'Energy Consumption'!F1031","v":0},{"$f":"'Energy Consumption'!F1032","v":0},{"$f":"'Energy Consumption'!F1113","v":0},{"$f":"'Energy Consumption'!F1114","v":0},{"$f":"'Energy Consumption'!F1195","v":0},{"$f":"'Energy Consumption'!F1196","v":0},{"$f":"'Energy Consumption'!F1277","v":0},{"$f":"'Energy Consumption'!F1278","v":0},{"$f":"'Energy Consumption'!F1359","v":0},{"$f":"'Energy Consumption'!F1360","v":0},{"$f":"'Energy Consumption'!F1441","v":0},{"$f":"'Energy Consumption'!F1442","v":0},{"$f":"'Energy Consumption'!F1523","v":0},{"$f":"'Energy Consumption'!F1524","v":0},{"$f":"'Energy Consumption'!F1605","v":0},{"$f":"'Energy Consumption'!F1606","v":0},null,{"$f":"'Relevant Variables'!F39","v":0},{"$f":"'Relevant Variables'!F69","v":0},{"$f":"'Relevant Variables'!F99","v":0},{"$f":"'Relevant Variables'!F129","v":0},{"$f":"'Relevant Variables'!F159","v":0},{"$f":"'Relevant Variables'!F189","v":0},{"$f":"'Relevant Variables'!F219","v":0},{"$f":"'Relevant Variables'!F249","v":0},{"$f":"'Relevant Variables'!F279","v":0},{"$f":"'Relevant Variables'!F309","v":0},{"$f":"'Relevant Variables'!F339","v":0},{"$f":"'Relevant Variables'!F369","v":0},{"$f":"'Relevant Variables'!F399","v":0},{"$f":"'Relevant Variables'!F429","v":0},{"$f":"'Relevant Variables'!F459","v":0},{"$f":"'Relevant Variables'!F489","v":0},{"$f":"'Relevant Variables'!F519","v":0},{"$f":"'Relevant Variables'!F549","v":0},{"$f":"'Relevant Variables'!F579","v":0},{"$f":"'Relevant Variables'!F609","v":0}]
["2021-04-01",null,{"$f":"'Energy Consumption'!G47","v":0},{"$f":"'Energy Consumption'!G48","v":0},{"$f":"'Energy Consumption'!G129","v":0},{"$f":"'Energy Consumption'!G130","v":0},{"$f":"'Energy Consumption'!G211","v":0},{"$f":"'Energy Consumption'!G212","v":0},{"$f":"'Energy Consumption'!G293","v":0},{"$f":"'Energy Consumption'!G294","v":0},{"$f":"'Energy Consumption'!G375","v":0},{"$f":"'Energy Consumption'!G376","v":0},{"$f":"'Energy Consumption'!G457","v":0},{"$f":"'Energy Consumption'!G458","v":0},{"$f":"'Energy Consumption'!G539","v":0},{"$f":"'Energy Consumption'!G540","v":0},{"$f":"'Energy Consumption'!G621","v":0},{"$f":"'Energy Consumption'!G622","v":0},{"$f":"'Energy Consumption'!G703","v":0},{"$f":"'Energy Consumption'!G704","v":0},{"$f":"'Energy Consumption'!G785","v":0},{"$f":"'Energy Consumption'!G786","v":0},{"$f":"'Energy Consumption'!G867","v":0},{"$f":"'Energy Consumption'!G868","v":0},{"$f":"'Energy Consumption'!G949","v":0},{"$f":"'Energy Consumption'!G950","v":0},{"$f":"'Energy Consumption'!G1031","v":0},{"$f":"'Energy Consumption'!G1032","v":0},{"$f":"'Energy Consumption'!G1113","v":0},{"$f":"'Energy Consumption'!G1114","v":0},{"$f":"'Energy Consumption'!G1195","v":0},{"$f":"'Energy Consumption'!G1196","v":0},{"$f":"'Energy Consumption'!G1277","v":0},{"$f":"'Energy Consumption'!G1278","v":0},{"$f":"'Energy Consumption'!G1359","v":0},{"$f":"'Energy Consumption'!G1360","v":0},{"$f":"'Energy Consumption'!G1441","v":0},{"$f":"'Energy Consumption'!G1442","v":0},{"$f":"'Energy Consumption'!G1523","v":0},{"$f":"'Energy Consumption'!G1524","v":0},{"$f":"'Energy Consumption'!G1605","v":0},{"$f":"'Energy Consumption'!G1606","v":0},null,{"$f":"'Relevant Variables'!G39","v":0},{"$f":"'Relevant Variables'!G69","v":0},{"$f":"'Relevant Variables'!G99","v":0},{"$f":"'Relevant Variables'!G129","v":0},{"$f":"'Relevant Variables'!G159","v":0},{"$f":"'Relevant Variables'!G189","v":0},{"$f":"'Relevant Variables'!G219","v":0},{"$f":"'Relevant Variables'!G249","v":0},{"$f":"'Relevant Variables'!G279","v":0},{"$f":"'Relevant Variables'!G309","v":0},{"$f":"'Relevant Variables'!G339","v":0},{"$f":"'Relevant Variables'!G369","v":0},{"$f":"'Relevant Variables'!G399","v":0},{"$f":"'Relevant Variables'!G429","v":0},{"$f":"'Relevant Variables'!G459","v":0},{"$f":"'Relevant Variables'!G489","v":0},{"$f":"'Relevant Variables'!G519","v":0},{"$f":"'Relevant Variables'!G549","v":0},{"$f":"'Relevant Variables'!G579","v":0},{"$f":"'Relevant Variables'!G609","v":0}]
["2021-05-01",null,{"$f":"'Energy Consumption'!H47","v":0},{"$f":"'Energy Consumption'!H48","v":0},{"$f":"'Energy Consumption'!H129","v":0},{"$f":"'Energy Consumption'!H130","v":0},{"$f":"'Energy Consumption'!H211","v":0},{"$f":"'Energy Consumption'!H212","v":0},{"$f":"'Energy Consumption'!H293","v":0},{"$f":"'Energy Consumption'!H294","v":0},{"$f":"'Energy Consumption'!H375","v":0},{"$f":"'Energy Consumption'!H376","v":0},{"$f":"'Energy Consumption'!H457","v":0},{"$f":"'Energy Consumption'!H458","v":0},{"$f":"'Energy Consumption'!H539","v":0},{"$f":"'Energy Consumption'!H540","v":0},{"$f":"'Energy Consumption'!H621","v":0},{"$f":"'Energy Consumption'!H622","v":0},{"$f":"'Energy Consumption'!H703","v":0},{"$f":"'Energy Consumption'!H704","v":0},{"$f":"'Energy Consumption'!H785","v":0},{"$f":"'Energy Consumption'!H786","v":0},{"$f":"'Energy Consumption'!H867","v":0},{"$f":"'Energy Consumption'!H868","v":0},{"$f":"'Energy Consumption'!H949","v":0},{"$f":"'Energy Consumption'!H950","v":0},{"$f":"'Energy Consumption'!H1031","v":0},{"$f":"'Energy Consumption'!H1032","v":0},{"$f":"'Energy Consumption'!H1113","v":0},{"$f":"'Energy Consumption'!H1114","v":0},{"$f":"'Energy Consumption'!H1195","v":0},{"$f":"'Energy Consumption'!H1196","v":0},{"$f":"'Energy Consumption'!H1277","v":0},{"$f":"'Energy Consumption'!H1278","v":0},{"$f":"'Energy Consumption'!H1359","v":0},{"$f":"'Energy Consumption'!H1360","v":0},{"$f":"'Energy Consumption'!H1441","v":0},{"$f":"'Energy Consumption'!H1442","v":0},{"$f":"'Energy Consumption'!H1523","v":0},{"$f":"'Energy Consumption'!H1524","v":0},{"$f":"'Energy Consumption'!H1605","v":0},{"$f":"'Energy Consumption'!H1606","v":0},null,{"$f":"'Relevant Variables'!H39","v":0},{"$f":"'Relevant Variables'!H69","v":0},{"$f":"'Relevant Variables'!H99","v":0},{"$f":"'Relevant Variables'!H129","v":0},{"$f":"'Relevant Variables'!H159","v":0},{"$f":"'Relevant Variables'!H189","v":0},{"$f":"'Relevant Variables'!H219","v":0},{"$f":"'Relevant Variables'!H249","v":0},{"$f":"'Relevant Variables'!H279","v":0},{"$f":"'Relevant Variables'!H309","v":0},{"$f":"'Relevant Variables'!H339","v":0},{"$f":"'Relevant Variables'!H369","v":0},{"$f":"'Relevant Variables'!H399","v":0},{"$f":"'Relevant Variables'!H429","v":0},{"$f":"'Relevant Variables'!H459","v":0},{"$f":"'Relevant Variables'!H489","v":0},{"$f":"'Relevant Variables'!H519","v":0},{"$f":"'Relevant Variables'!H549","v":0},{"$f":"'Relevant Variables'!H579","v":0},{"$f":"'Relevant Variables'!H609","v":0}]
["2021-06-01",null,{"$f":"'Energy Consumption'!I47","v":0},{"$f":"'Energy Consumption'!I48","v":0},{"$f":"'Energy Consumption'!I129","v":0},{"$f":"'Energy Consumption'!I130","v":0},{"$f":"'Energy Consumption'!I211","v":0},{"$f":"'Energy Consumption'!I212","v":0},{"$f":"'Energy Consumption'!I293","v":0},{"$f":"'Energy Consumption'!I294","v":0},{"$f":"'Energy Consumption'!I375","v":0},{"$f":"'Energy Consumption'!I376","v":0},{"$f":"'Energy Consumption'!I457","v":0},{"$f":"'Energy Consumption'!I458","v":0},{"$f":"'Energy Consumption'!I539","v":0},{"$f":"'Energy Consumption'!I540","v":0},{"$f":"'Energy Consumption'!I621","v":0},{"$f":"'Energy Consumption'!I622","v":0},{"$f":"'Energy Consumption'!I703","v":0},{"$f":"'Energy Consumption'!I704","v":0},{"$f":"'Energy Consumption'!I785","v":0},{"$f":"'Energy Consumption'!I786","v":0},{"$f":"'Energy Consumption'!I867","v":0},{"$f":"'Energy Consumption'!I868","v":0},{"$f":"'Energy Consumption'!I949","v":0},{"$f":"'Energy Consumption'!I950","v":0},{"$f":"'Energy Consumption'!I1031","v":0},{"$f":"'Energy Consumption'!I1032","v":0},{"$f":"'Energy Consumption'!I1113","v":0},{"$f":"'Energy Consumption'!I1114","v":0},{"$f":"'Energy Consumption'!I1195","v":0},{"$f":"'Energy Consumption'!I1196","v":0},{"$f":"'Energy Consumption'!I1277","v":0},{"$f":"'Energy Consumption'!I1278","v":0},{"$f":"'Energy Consumption'!I1359","v":0},{"$f":"'Energy Consumption'!I1360","v":0},{"$f":"'Energy Consumption'!I1441","v":0},{"$f":"'Energy Consumption'!I1442","v":0},{"$f":"'Energy Consumption'!I1523","v":0},{"$f":"'Energy Consumption'!I1524","v":0},{"$f":"'Energy Consumption'!I1605","v":0},{"$f":"'Energy Consumption'!I1606","v":0},null,{"$f":"'Relevant Variables'!I39","v":0},{"$f":"'Relevant Variables'!I69","v":0},{"$f":"'Relevant Variables'!I99","v":0},{"$f":"'Relevant Variables'!I129","v":0},{"$f":"'Relevant Variables'!I159","v":0},{"$f":"'Relevant Variables'!I189","v":0},{"$f":"'Relevant Variables'!I219","v":0},{"$f":"'Relevant Variables'!I249","v":0},{"$f":"'Relevant Variables'!I279","v":0},{"$f":"'Relevant Variables'!I309","v":0},{"$f":"'Relevant Variables'!I339","v":0},{"$f":"'Relevant Variables'!I369","v":0},{"$f":"'Relevant Variables'!I399","v":0},{"$f":"'Relevant Variables'!I429","v":0},{"$f":"'Relevant Variables'!I459","v":0},{"$f":"'Relevant Variables'!I489","v":0},{"$f":"'Relevant Variables'!I519","v":0},{"$f":"'Relevant Variables'!I549","v":0},{"$f":"'Relevant Variables'!I579","v":0},{"$f":"'Relevant Variables'!I609","v":0}]
["2021-07-01",null,{"$f":"'Energy Consumption'!J47","v":0},{"$f":"'Energy Consumption'!J48","v":0},{"$f":"'Energy Consumption'!J129","v":0},{"$f":"'Energy Consumption'!J130","v":0},{"$f":"'Energy Consumption'!J211","v":0},{"$f":"'Energy Consumption'!J212","v":0},{"$f":"'Energy Consumption'!J293","v":0},{"$f":"'Energy Consumption'!J294","v":0},{"$f":"'Energy Consumption'!J375","v":0},{"$f":"'Energy Consumption'!J376","v":0},{"$f":"'Energy Consumption'!J457","v":0},{"$f":"'Energy Consumption'!J458","v":0},{"$f":"'Energy Consumption'!J539","v":0},{"$f":"'Energy Consumption'!J540","v":0},{"$f":"'Energy Consumption'!J621","v":0},{"$f":"'Energy Consumption'!J622","v":0},{"$f":"'Energy Consumption'!J703","v":0},{"$f":"'Energy Consumption'!J704","v":0},{"$f":"'Energy Consumption'!J785","v":0},{"$f":"'Energy Consumption'!J786","v":0},{"$f":"'Energy Consumption'!J867","v":0},{"$f":"'Energy Consumption'!J868","v":0},{"$f":"'Energy Consumption'!J949","v":0},{"$f":"'Energy Consumption'!J950","v":0},{"$f":"'Energy Consumption'!J1031","v":0},{"$f":"'Energy Consumption'!J1032","v":0},{"$f":"'Energy Consumption'!J1113","v":0},{"$f":"'Energy Consumption'!J1114","v":0},{"$f":"'Energy Consumption'!J1195","v":0},{"$f":"'Energy Consumption'!J1196","v":0},{"$f":"'Energy Consumption'!J1277","v":0},{"$f":"'Energy Consumption'!J1278","v":0},{"$f":"'Energy Consumption'!J1359","v":0},{"$f":"'Energy Consumption'!J1360","v":0},{"$f":"'Energy Consumption'!J1441","v":0},{"$f":"'Energy Consumption'!J1442","v":0},{"$f":"'Energy Consumption'!J1523","v":0},{"$f":"'Energy Consumption'!J1524","v":0},{"$f":"'Energy Consumption'!J1605","v":0},{"$f":"'Energy Consumption'!J1606","v":0},null,{"$f":"'Relevant Variables'!J39","v":0},{"$f":"'Relevant Variables'!J69","v":0},{"$f":"'Relevant Variables'!J99","v":0},{"$f":"'Relevant Variables'!J129","v":0},{"$f":"'Relevant Variables'!J159","v":0},{"$f":"'Relevant Variables'!J189","v":0},{"$f":"'Relevant Variables'!J219","v":0},{"$f":"'Relevant Variables'!J249","v":0},{"$f":"'Relevant Variables'!J279","v":0},{"$f":"'Relevant Variables'!J309","v":0},{"$f":"'Relevant Variables'!J339","v":0},{"$f":"'Relevant Variables'!J369","v":0},{"$f":"'Relevant Variables'!J399","v":0},{"$f":"'Relevant Variables'!J429","v":0},{"$f":"'Relevant Variables'!J459","v":0},{"$f":"'Relevant Variables'!J489","v":0},{"$f":"'Relevant Variables'!J519","v":0},{"$f":"'Relevant Variables'!J549","v":0},{"$f":"'Relevant Variables'!J579","v":0},{"$f":"'Relevant Variables'!J609","v":0}]
["2021-08-01",null,{"$f":"'Energy Consumption'!K47","v":0},{"$f":"'Energy Consumption'!K48","v":0},{"$f":"'Energy Consumption'!K129","v":0},{"$f":"'Energy Consumption'!K130","v":0},{"$f":"'Energy Consumption'!K211","v":0},{"$f":"'Energy Consumption'!K212","v":0},{"$f":"'Energy Consumption'!K293","v":0},{"$f":"'Energy Consumption'!K294","v":0},{"$f":"'Energy Consumption'!K375","v":0},{"$f":"'Energy Consumption'!K376","v":0},{"$f":"'Energy Consumption'!K457","v":0},{"$f":"'Energy Consumption'!K458","v":0},{"$f":"'Energy Consumption'!K539","v":0},{"$f":"'Energy Consumption'!K540","v":0},{"$f":"'Energy Consumption'!K621","v":0},{"$f":"'Energy Consumption'!K622","v":0},{"$f":"'Energy Consumption'!K703","v":0},{"$f":"'Energy Consumption'!K704","v":0},{"$f":"'Energy Consumption'!K785","v":0},{"$f":"'Energy Consumption'!K786","v":0},{"$f":"'Energy Consumption'!K867","v":0},{"$f":"'Energy Consumption'!K868","v":0},{"$f":"'Energy Consumption'!K949","v":0},{"$f":"'Energy Consumption'!K950","v":0},{"$f":"'Energy Consumption'!K1031","v":0},{"$f":"'Energy Consumption'!K1032","v":0},{"$f":"'Energy Consumption'!K1113","v":0},{"$f":"'Energy Consumption'!K1114","v":0},{"$f":"'Energy Consumption'!K1195","v":0},{"$f":"'Energy Consumption'!K1196","v":0},{"$f":"'Energy Consumption'!K1277","v":0},{"$f":"'Energy Consumption'!K1278","v":0},{"$f":"'Energy Consumption'!K1359","v":0},{"$f":"'Energy Consumption'!K1360","v":0},{"$f":"'Energy Consumption'!K1441","v":0},{"$f":"'Energy Consumption'!K1442","v":0},{"$f":"'Energy Consumption'!K1523","v":0},{"$f":"'Energy Consumption'!K1524","v":0},{"$f":"'Energy Consumption'!K1605","v":0},{"$f":"'Energy Consumption'!K1606","v":0},null,{"$f":"'Relevant Variables'!K39","v":0},{"$f":"'Relevant Variables'!K69","v":0},{"$f":"'Relevant Variables'!K99","v":0},{"$f":"'Relevant Variables'!K129","v":0},{"$f":"'Relevant Variables'!K159","v":0},{"$f":"'Relevant Variables'!K189","v":0},{"$f":"'Relevant Variables'!K219","v":0},{"$f":"'Relevant Variables'!K249","v":0},{"$f":"'Relevant Variables'!K279","v":0},{"$f":"'Relevant Variables'!K309","v":0},{"$f":"'Relevant Variables'!K339","v":0},{"$f":"'Relevant Variables'!K369","v":0},{"$f":"'Relevant Variables'!K399","v":0},{"$f":"'Relevant Variables'!K429","v":0},{"$f":"'Relevant Variables'!K459","v":0},{"$f":"'Relevant Variables'!K489","v":0},{"$f":"'Relevant Variables'!K519","v":0},{"$f":"'Relevant Variables'!K549","v":0},{"$f":"'Relevant Variables'!K579","v":0},{"$f":"'Relevant Variables'!K609","v":0}]
["2021-09-01",null,{"$f":"'Energy Consumption'!L47","v":0},{"$f":"'Energy Consumption'!L48","v":0},{"$f":"'Energy Consumption'!L129","v":0},{"$f":"'Energy Consumption'!L130","v":0},{"$f":"'Energy Consumption'!L211","v":0},{"$f":"'Energy Consumption'!L212","v":0},{"$f":"'Energy Consumption'!L293","v":0},{"$f":"'Energy Consumption'!L294","v":0},{"$f":"'Energy Consumption'!L375","v":0},{"$f":"'Energy Consumption'!L376","v":0},{"$f":"'Energy Consumption'!L457","v":0},{"$f":"'Energy Consumption'!L458","v":0},{"$f":"'Energy Consumption'!L539","v":0},{"$f":"'Energy Consumption'!L540","v":0},{"$f":"'Energy Consumption'!L621","v":0},{"$f":"'Energy Consumption'!L622","v":0},{"$f":"'Energy Consumption'!L703","v":0},{"$f":"'Energy Consumption'!L704","v":0},{"$f":"'Energy Consumption'!L785","v":0},{"$f":"'Energy Consumption'!L786","v":0},{"$f":"'Energy Consumption'!L867","v":0},{"$f":"'Energy Consumption'!L868","v":0},{"$f":"'Energy Consumption'!L949","v":0},{"$f":"'Energy Consumption'!L950","v":0},{"$f":"'Energy Consumption'!L1031","v":0},{"$f":"'Energy Consumption'!L1032","v":0},{"$f":"'Energy Consumption'!L1113","v":0},{"$f":"'Energy Consumption'!L1114","v":0},{"$f":"'Energy Consumption'!L1195","v":0},{"$f":"'Energy Consumption'!L1196","v":0},{"$f":"'Energy Consumption'!L1277","v":0},{"$f":"'Energy Consumption'!L1278","v":0},{"$f":"'Energy Consumption'!L1359","v":0},{"$f":"'Energy Consumption'!L1360","v":0},{"$f":"'Energy Consumption'!L1441","v":0},{"$f":"'Energy Consumption'!L1442","v":0},{"$f":"'Energy Consumption'!L1523","v":0},{"$f":"'Energy Consumption'!L1524","v":0},{"$f":"'Energy Consumption'!L1605","v":0},{"$f":"'Energy Consumption'!L1606","v":0},null,{"$f":"'Relevant Variables'!L39","v":0},{"$f":"'Relevant Variables'!L69","v":0},{"$f":"'Relevant Variables'!L99","v":0},{"$f":"'Relevant Variables'!L129","v":0},{"$f":"'Relevant Variables'!L159","v":0},{"$f":"'Relevant Variables'!L189","v":0},{"$f":"'Relevant Variables'!L219","v":0},{"$f":"'Relevant Variables'!L249","v":0},{"$f":"'Relevant Variables'!L279","v":0},{"$f":"'Relevant Variables'!L309","v":0},{"$f":"'Relevant Variables'!L339","v":0},{"$f":"'Relevant Variables'!L369","v":0},{"$f":"'Relevant Variables'!L399","v":0},{"$f":"'Relevant Variables'!L429","v":0},{"$f":"'Relevant Variables'!L459","v":0},{"$f":"'Relevant Variables'!L489","v":0},{"$f":"'Relevant Variables'!L519","v":0},{"$f":"'Relevant Variables'!L549","v":0},{"$f":"'Relevant Variables'!L579","v":0},{"$f":"'Relevant Variables'!L609","v":0}]
["2021-10-01",null,{"$f":"'Energy Consumption'!M47","v":0},{"$f":"'Energy Consumption'!M48","v":0},{"$f":"'Energy Consumption'!M129","v":0},{"$f":"'Energy Consumption'!M130","v":0},{"$f":"'Energy Consumption'!M211","v":0},{"$f":"'Energy Consumption'!M212","v":0},{"$f":"'Energy Consumption'!M293","v":0},{"$f":"'Energy Consumption'!M294","v":0},{"$f":"'Energy Consumption'!M375","v":0},{"$f":"'Energy Consumption'!M376","v":0},{"$f":"'Energy Consumption'!M457","v":0},{"$f":"'Energy Consumption'!M458","v":0},{"$f":"'Energy Consumption'!M539","v":0},{"$f":"'Energy Consumption'!M540","v":0},{"$f":"'Energy Consumption'!M621","v":0},{"$f":"'Energy Consumption'!M622","v":0},{"$f":"'Energy Consumption'!M703","v":0},{"$f":"'Energy Consumption'!M704","v":0},{"$f":"'Energy Consumption'!M785","v":0},{"$f":"'Energy Consumption'!M786","v":0},{"$f":"'Energy Consumption'!M867","v":0},{"$f":"'Energy Consumption'!M868","v":0},{"$f":"'Energy Consumption'!M949","v":0},{"$f":"'Energy Consumption'!M950","v":0},{"$f":"'Energy Consumption'!M1031","v":0},{"$f":"'Energy Consumption'!M1032","v":0},{"$f":"'Energy Consumption'!M1113","v":0},{"$f":"'Energy Consumption'!M1114","v":0},{"$f":"'Energy Consumption'!M1195","v":0},{"$f":"'Energy Consumption'!M1196","v":0},{"$f":"'Energy Consumption'!M1277","v":0},{"$f":"'Energy Consumption'!M1278","v":0},{"$f":"'Energy Consumption'!M1359","v":0},{"$f":"'Energy Consumption'!M1360","v":0},{"$f":"'Energy Consumption'!M1441","v":0},{"$f":"'Energy Consumption'!M1442","v":0},{"$f":"'Energy Consumption'!M1523","v":0},{"$f":"'Energy Consumption'!M1524","v":0},{"$f":"'Energy Consumption'!M1605","v":0},{"$f":"'Energy Consumption'!M1606","v":0},null,{"$f":"'Relevant Variables'!M39","v":0},{"$f":"'Relevant Variables'!M69","v":0},{"$f":"'Relevant Variables'!M99","v":0},{"$f":"'Relevant Variables'!M129","v":0},{"$f":"'Relevant Variables'!M159","v":0},{"$f":"'Relevant Variables'!M189","v":0},{"$f":"'Relevant Variables'!M219","v":0},{"$f":"'Relevant Variables'!M249","v":0},{"$f":"'Relevant Variables'!M279","v":0},{"$f":"'Relevant Variables'!M309","v":0},{"$f":"'Relevant Variables'!M339","v":0},{"$f":"'Relevant Variables'!M369","v":0},{"$f":"'Relevant Variables'!M399","v":0},{"$f":"'Relevant Variables'!M429","v":0},{"$f":"'Relevant Variables'!M459","v":0},{"$f":"'Relevant Variables'!M489","v":0},{"$f":"'Relevant Variables'!M519","v":0},{"$f":"'Relevant Variables'!M549","v":0},{"$f":"'Relevant Variables'!M579","v":0},{"$f":"'Relevant Variables'!M609","v":0}]
["2021-11-01",null,{"$f":"'Energy Consumption'!N47","v":0},{"$f":"'Energy Consumption'!N48","v":0},{"$f":"'Energy Consumption'!N129","v":0},{"$f":"'Energy Consumption'!N130","v":0},{"$f":"'Energy Consumption'!N211","v":0},{"$f":"'Energy Consumption'!N212","v":0},{"$f":"'Energy Consumption'!N293","v":0},{"$f":"'Energy Consumption'!N294","v":0},{"$f":"'Energy Consumption'!N375","v":0},{"$f":"'Energy Consumption'!N376","v":0},{"$f":"'Energy Consumption'!N457","v":0},{"$f":"'Energy Consumption'!N458","v":0},{"$f":"'Energy Consumption'!N539","v":0},{"$f":"'Energy Consumption'!N540","v":0},{"$f":"'Energy Consumption'!N621","v":0},{"$f":"'Energy Consumption'!N622","v":0},{"$f":"'Energy Consumption'!N703","v":0},{"$f":"'Energy Consumption'!N704","v":0},{"$f":"'Energy Consumption'!N785","v":0},{"$f":"'Energy Consumption'!N786","v":0},{"$f":"'Energy Consumption'!N867","v":0},{"$f":"'Energy Consumption'!N868","v":0},{"$f":"'Energy Consumption'!N949","v":0},{"$f":"'Energy Consumption'!N950","v":0},{"$f":"'Energy Consumption'!N1031","v":0},{"$f":"'Energy Consumption'!N1032","v":0},{"$f":"'Energy Consumption'!N1113","v":0},{"$f":"'Energy Consumption'!N1114","v":0},{"$f":"'Energy Consumption'!N1195","v":0},{"$f":"'Energy Consumption'!N1196","v":0},{"$f":"'Energy Consumption'!N1277","v":0},{"$f":"'Energy Consumption'!N1278","v":0},{"$f":"'Energy Consumption'!N1359","v":0},{"$f":"'Energy Consumption'!N1360","v":0},{"$f":"'Energy Consumption'!N1441","v":0},{"$f":"'Energy Consumption'!N1442","v":0},{"$f":"'Energy Consumption'!N1523","v":0},{"$f":"'Energy Consumption'!N1524","v":0},{"$f":"'Energy Consumption'!N1605","v":0},{"$f":"'Energy Consumption'!N1606","v":0},null,{"$f":"'Relevant Variables'!N39","v":0},{"$f":"'Relevant Variables'!N69","v":0},{"$f":"'Relevant Variables'!N99","v":0},{"$f":"'Relevant Variables'!N129","v":0},{"$f":"'Relevant Variables'!N159","v":0},{"$f":"'Relevant Variables'!N189","v":0},{"$f":"'Relevant Variables'!N219","v":0},{"$f":"'Relevant Variables'!N249","v":0},{"$f":"'Relevant Variables'!N279","v":0},{"$f":"'Relevant Variables'!N309","v":0},{"$f":"'Relevant Variables'!N339","v":0},{"$f":"'Relevant Variables'!N369","v":0},{"$f":"'Relevant Variables'!N399","v":0},{"$f":"'Relevant Variables'!N429","v":0},{"$f":"'Relevant Variables'!N459","v":0},{"$f":"'Relevant Variables'!N489","v":0},{"$f":"'Relevant Variables'!N519","v":0},{"$f":"'Relevant Variables'!N549","v":0},{"$f":"'Relevant Variables'!N579","v":0},{"$f":"'Relevant Variables'!N609","v":0}]
["2021-12-01",null,{"$f":"'Energy Consumption'!O47","v":0},{"$f":"'Energy Consumption'!O48","v":0},{"$f":"'Energy Consumption'!O129","v":0},{"$f":"'Energy Consumption'!O130","v":0},{"$f":"'Energy Consumption'!O211","v":0},{"$f":"'Energy Consumption'!O212","v":0},{"$f":"'Energy Consumption'!O293","v":0},{"$f":"'Energy Consumption'!O294","v":0},{"$f":"'Energy Consumption'!O375","v":0},{"$f":"'Energy Consumption'!O376","v":0},{"$f":"'Energy Consumption'!O457","v":0},{"$f":"'Energy Consumption'!O458","v":0},{"$f":"'Energy Consumption'!O539","v":0},{"$f":"'Energy Consumption'!O540","v":0},{"$f":"'Energy Consumption'!O621","v":0},{"$f":"'Energy Consumption'!O622","v":0},{"$f":"'Energy Consumption'!O703","v":0},{"$f":"'Energy Consumption'!O704","v":0},{"$f":"'Energy Consumption'!O785","v":0},{"$f":"'Energy Consumption'!O786","v":0},{"$f":"'Energy Consumption'!O867","v":0},{"$f":"'Energy Consumption'!O868","v":0},{"$f":"'Energy Consumption'!O949","v":0},{"$f":"'Energy Consumption'!O950","v":0},{"$f":"'Energy Consumption'!O1031","v":0},{"$f":"'Energy Consumption'!O1032","v":0},{"$f":"'Energy Consumption'!O1113","v":0},{"$f":"'Energy Consumption'!O1114","v":0},{"$f":"'Energy Consumption'!O1195","v":0},{"$f":"'Energy Consumption'!O1196","v":0},{"$f":"'Energy Consumption'!O1277","v":0},{"$f":"'Energy Consumption'!O1278","v":0},{"$f":"'Energy Consumption'!O1359","v":0},{"$f":"'Energy Consumption'!O1360","v":0},{"$f":"'Energy Consumption'!O1441","v":0},{"$f":"'Energy Consumption'!O1442","v":0},{"$f":"'Energy Consumption'!O1523","v":0},{"$f":"'Energy Consumption'!O1524","v":0},{"$f":"'Energy Consumption'!O1605","v":0},{"$f":"'Energy Consumption'!O1606","v":0},null,{"$f":"'Relevant Variables'!O39","v":0},{"$f":"'Relevant Variables'!O69","v":0},{"$f":"'Relevant Variables'!O99","v":0},{"$f":"'Relevant Variables'!O129","v":0},{"$f":"'Relevant Variables'!O159","v":0},{"$f":"'Relevant Variables'!O189","v":0},{"$f":"'Relevant Variables'!O219","v":0},{"$f":"'Relevant Variables'!O249","v":0},{"$f":"'Relevant Variables'!O279","v":0},{"$f":"'Relevant Variables'!O309","v":0},{"$f":"'Relevant Variables'!O339","v":0},{"$f":"'Relevant Variables'!O369","v":0},{"$f":"'Relevant Variables'!O399","v":0},{"$f":"'Relevant Variables'!O429","v":0},{"$f":"'Relevant Variables'!O459","v":0},{"$f":"'Relevant Variables'!O489","v":0},{"$f":"'Relevant Variables'!O519","v":0},{"$f":"'Relevant Variables'!O549","v":0},{"$f":"'Relevant Variables'!O579","v":0},{"$f":"'Relevant Variables'!O609","v":0}]
["2022-01-01",null,{"$f":"'Energy Consumption'!D45","v":0},{"$f":"'Energy Consumption'!D46","v":0},{"$f":"'Energy Consumption'!D127","v":0},{"$f":"'Energy Consumption'!D128","v":0},{"$f":"'Energy Consumption'!D209","v":0},{"$f":"'Energy Consumption'!D210","v":0},{"$f":"'Energy Consumption'!D291","v":0},{"$f":"'Energy Consumption'!D292","v":0},{"$f":"'Energy Consumption'!D373","v":0},{"$f":"'Energy Consumption'!D374","v":0},{"$f":"'Energy Consumption'!D455","v":0},{"$f":"'Energy Consumption'!D456","v":0},{"$f":"'Energy Consumption'!D537","v":0},{"$f":"'Energy Consumption'!D538","v":0},{"$f":"'Energy Consumption'!D619","v":0},{"$f":"'Energy Consumption'!D620","v":0},{"$f":"'Energy Consumption'!D701","v":0},{"$f":"'Energy Consumption'!D702","v":0},{"$f":"'Energy Consumption'!D783","v":0},{"$f":"'Energy Consumption'!D784","v":0},{"$f":"'Energy Consumption'!D865","v":0},{"$f":"'Energy Consumption'!D866","v":0},{"$f":"'Energy Consumption'!D947","v":0},{"$f":"'Energy Consumption'!D948","v":0},{"$f":"'Energy Consumption'!D1029","v":0},{"$f":"'Energy Consumption'!D1030","v":0},{"$f":"'Energy Consumption'!D1111","v":0},{"$f":"'Energy Consumption'!D1112","v":0},{"$f":"'Energy Consumption'!D1193","v":0},{"$f":"'Energy Consumption'!D1194","v":0},{"$f":"'Energy Consumption'!D1275","v":0},{"$f":"'Energy Consumption'!D1276","v":0},{"$f":"'Energy Consumption'!D1357","v":0},{"$f":"'Energy Consumption'!D1358","v":0},{"$f":"'Energy Consumption'!D1439","v":0},{"$f":"'Energy Consumption'!D1440","v":0},{"$f":"'Energy Consumption'!D1521","v":0},{"$f":"'Energy Consumption'!D1522","v":0},{"$f":"'Energy Consumption'!D1603","v":0},{"$f":"'Energy Consumption'!D1604","v":0},null,{"$f":"'Relevant Variables'!D38","v":0},{"$f":"'Relevant Variables'!D68","v":0},{"$f":"'Relevant Variables'!D98","v":0},{"$f":"'Relevant Variables'!D128","v":0},{"$f":"'Relevant Variables'!D158","v":0},{"$f":"'Relevant Variables'!D188","v":0},{"$f":"'Relevant Variables'!D218","v":0},{"$f":"'Relevant Variables'!D248","v":0},{"$f":"'Relevant Variables'!D278","v":0},{"$f":"'Relevant Variables'!D308","v":0},{"$f":"'Relevant Variables'!D338","v":0},{"$f":"'Relevant Variables'!D368","v":0},{"$f":"'Relevant Variables'!D398","v":0},{"$f":"'Relevant Variables'!D428","v":0},{"$f":"'Relevant Variables'!D458","v":0},{"$f":"'Relevant Variables'!D488","v":0},{"$f":"'Relevant Variables'!D518","v":0},{"$f":"'Relevant Variables'!D548","v":0},{"$f":"'Relevant Variables'!D578","v":0},{"$f":"'Relevant Variables'!D608","v":0}]
["2022-02-01",null,{"$f":"'Energy Consumption'!E45","v":0},{"$f":"'Energy Consumption'!E46","v":0},{"$f":"'Energy Consumption'!E127","v":0},{"$f":"'Energy Consumption'!E128","v":0},{"$f":"'Energy Consumption'!E209","v":0},{"$f":"'Energy Consumption'!E210","v":0},{"$f":"'Energy Consumption'!E291","v":0},{"$f":"'Energy Consumption'!E292","v":0},{"$f":"'Energy Consumption'!E373","v":0},{"$f":"'Energy Consumption'!E374","v":0},{"$f":"'Energy Consumption'!E455","v":0},{"$f":"'Energy Consumption'!E456","v":0},{"$f":"'Energy Consumption'!E537","v":0},{"$f":"'Energy Consumption'!E538","v":0},{"$f":"'Energy Consumption'!E619","v":0},{"$f":"'Energy Consumption'!E620","v":0},{"$f":"'Energy Consumption'!E701","v":0},{"$f":"'Energy Consumption'!E702","v":0},{"$f":"'Energy Consumption'!E783","v":0},{"$f":"'Energy Consumption'!E784","v":0},{"$f":"'Energy Consumption'!E865","v":0},{"$f":"'Energy Consumption'!E866","v":0},{"$f":"'Energy Consumption'!E947","v":0},{"$f":"'Energy Consumption'!E948","v":0},{"$f":"'Energy Consumption'!E1029","v":0},{"$f":"'Energy Consumption'!E1030","v":0},{"$f":"'Energy Consumption'!E1111","v":0},{"$f":"'Energy Consumption'!E1112","v":0},{"$f":"'Energy Consumption'!E1193","v":0},{"$f":"'Energy Consumption'!E1194","v":0},{"$f":"'Energy Consumption'!E1275","v":0},{"$f":"'Energy Consumption'!E1276","v":0},{"$f":"'Energy Consumption'!E1357","v":0},{"$f":"'Energy Consumption'!E1358","v":0},{"$f":"'Energy Consumption'!E1439","v":0},{"$f":"'Energy Consumption'!E1440","v":0},{"$f":"'Energy Consumption'!E1521","v":0},{"$f":"'Energy Consumption'!E1522","v":0},{"$f":"'Energy Consumption'!E1603","v":0},{"$f":"'Energy Consumption'!E1604","v":0},null,{"$f":"'Relevant Variables'!E38","v":0},{"$f":"'Relevant Variables'!E68","v":0},{"$f":"'Relevant Variables'!E98","v":0},{"$f":"'Relevant Variables'!E128","v":0},{"$f":"'Relevant Variables'!E158","v":0},{"$f":"'Relevant Variables'!E188","v":0},{"$f":"'Relevant Variables'!E218","v":0},{"$f":"'Relevant Variables'!E248","v":0},{"$f":"'Relevant Variables'!E278","v":0},{"$f":"'Relevant Variables'!E308","v":0},{"$f":"'Relevant Variables'!E338","v":0},{"$f":"'Relevant Variables'!E368","v":0},{"$f":"'Relevant Variables'!E398","v":0},{"$f":"'Relevant Variables'!E428","v":0},{"$f":"'Relevant Variables'!E458","v":0},{"$f":"'Relevant Variables'!E488","v":0},{"$f":"'Relevant Variables'!E518","v":0},{"$f":"'Relevant Variables'!E548","v":0},{"$f":"'Relevant Variables'!E578","v":0},{"$f":"'Relevant Variables'!E608","v":0}]
["2022-03-01",null,{"$f":"'Energy Consumption'!F45","v":0},{"$f":"'Energy Consumption'!F46","v":0},{"$f":"'Energy Consumption'!F127","v":0},{"$f":"'Energy Consumption'!F128","v":0},{"$f":"'Energy Consumption'!F209","v":0},{"$f":"'Energy Consumption'!F210","v":0},{"$f":"'Energy Consumption'!F291","v":0},{"$f":"'Energy Consumption'!F292","v":0},{"$f":"'Energy Consumption'!F373","v":0},{"$f":"'Energy Consumption'!F374","v":0},{"$f":"'Energy Consumption'!F455","v":0},{"$f":"'Energy Consumption'!F456","v":0},{"$f":"'Energy Consumption'!F537","v":0},{"$f":"'Energy Consumption'!F538","v":0},{"$f":"'Energy Consumption'!F619","v":0},{"$f":"'Energy Consumption'!F620","v":0},{"$f":"'Energy Consumption'!F701","v":0},{"$f":"'Energy Consumption'!F702","v":0},{"$f":"'Energy Consumption'!F783","v":0},{"$f":"'Energy Consumption'!F784","v":0},{"$f":"'Energy Consumption'!F865","v":0},{"$f":"'Energy Consumption'!F866","v":0},{"$f":"'Energy Consumption'!F947","v":0},{"$f":"'Energy Consumption'!F948","v":0},{"$f":"'Energy Consumption'!F1029","v":0},{"$f":"'Energy Consumption'!F1030","v":0},{"$f":"'Energy Consumption'!F1111","v":0},{"$f":"'Energy Consumption'!F1112","v":0},{"$f":"'Energy Consumption'!F1193","v":0},{"$f":"'Energy Consumption'!F1194","v":0},{"$f":"'Energy Consumption'!F1275","v":0},{"$f":"'Energy Consumption'!F1276","v":0},{"$f":"'Energy Consumption'!F1357","v":0},{"$f":"'Energy Consumption'!F1358","v":0},{"$f":"'Energy Consumption'!F1439","v":0},{"$f":"'Energy Consumption'!F1440","v":0},{"$f":"'Energy Consumption'!F1521","v":0},{"$f":"'Energy Consumption'!F1522","v":0},{"$f":"'Energy Consumption'!F1603","v":0},{"$f":"'Energy Consumption'!F1604","v":0},null,{"$f":"'Relevant Variables'!F38","v":0},{"$f":"'Relevant Variables'!F68","v":0},{"$f":"'Relevant Variables'!F98","v":0},{"$f":"'Relevant Variables'!F128","v":0},{"$f":"'Relevant Variables'!F158","v":0},{"$f":"'Relevant Variables'!F188","v":0},{"$f":"'Relevant Variables'!F218","v":0},{"$f":"'Relevant Variables'!F248","v":0},{"$f":"'Relevant Variables'!F278","v":0},{"$f":"'Relevant Variables'!F308","v":0},{"$f":"'Relevant Variables'!F338","v":0},{"$f":"'Relevant Variables'!F368","v":0},{"$f":"'Relevant Variables'!F398","v":0},{"$f":"'Relevant Variables'!F428","v":0},{"$f":"'Relevant Variables'!F458","v":0},{"$f":"'Relevant Variables'!F488","v":0},{"$f":"'Relevant Variables'!F518","v":0},{"$f":"'Relevant Variables'!F548","v":0},{"$f":"'Relevant Variables'!F578","v":0},{"$f":"'Relevant Variables'!F608","v":0}]
["2022-04-01",null,{"$f":"'Energy Consumption'!G45","v":0},{"$f":"'Energy Consumption'!G46","v":0},{"$f":"'Energy Consumption'!G127","v":0},{"$f":"'Energy Consumption'!G128","v":0},{"$f":"'Energy Consumption'!G209","v":0},{"$f":"'Energy Consumption'!G210","v":0},{"$f":"'Energy Consumption'!G291","v":0},{"$f":"'Energy Consumption'!G292","v":0},{"$f":"'Energy Consumption'!G373","v":0},{"$f":"'Energy Consumption'!G374","v":0},{"$f":"'Energy Consumption'!G455","v":0},{"$f":"'Energy Consumption'!G456","v":0},{"$f":"'Energy Consumption'!G537","v":0},{"$f":"'Energy Consumption'!G538","v":0},{"$f":"'Energy Consumption'!G619","v":0},{"$f":"'Energy Consumption'!G620","v":0},{"$f":"'Energy Consumption'!G701","v":0},{"$f":"'Energy Consumption'!G702","v":0},{"$f":"'Energy Consumption'!G783","v":0},{"$f":"'Energy Consumption'!G784","v":0},{"$f":"'Energy Consumption'!G865","v":0},{"$f":"'Energy Consumption'!G866","v":0},{"$f":"'Energy Consumption'!G947","v":0},{"$f":"'Energy Consumption'!G948","v":0},{"$f":"'Energy Consumption'!G1029","v":0},{"$f":"'Energy Consumption'!G1030","v":0},{"$f":"'Energy Consumption'!G1111","v":0},{"$f":"'Energy Consumption'!G1112","v":0},{"$f":"'Energy Consumption'!G1193","v":0},{"$f":"'Energy Consumption'!G1194","v":0},{"$f":"'Energy Consumption'!G1275","v":0},{"$f":"'Energy Consumption'!G1276","v":0},{"$f":"'Energy Consumption'!G1357","v":0},{"$f":"'Energy Consumption'!G1358","v":0},{"$f":"'Energy Consumption'!G1439","v":0},{"$f":"'Energy Consumption'!G1440","v":0},{"$f":"'Energy Consumption'!G1521","v":0},{"$f":"'Energy Consumption'!G1522","v":0},{"$f":"'Energy Consumption'!G1603","v":0},{"$f":"'Energy Consumption'!G1604","v":0},null,{"$f":"'Relevant Variables'!G38","v":0},{"$f":"'Relevant Variables'!G68","v":0},{"$f":"'Relevant Variables'!G98","v":0},{"$f":"'Relevant Variables'!G128","v":0},{"$f":"'Relevant Variables'!G158","v":0},{"$f":"'Relevant Variables'!G188","v":0},{"$f":"'Relevant Variables'!G218","v":0},{"$f":"'Relevant Variables'!G248","v":0},{"$f":"'Relevant Variables'!G278","v":0},{"$f":"'Relevant Variables'!G308","v":0},{"$f":"'Relevant Variables'!G338","v":0},{"$f":"'Relevant Variables'!G368","v":0},{"$f":"'Relevant Variables'!G398","v":0},{"$f":"'Relevant Variables'!G428","v":0},{"$f":"'Relevant Variables'!G458","v":0},{"$f":"'Relevant Variables'!G488","v":0},{"$f":"'Relevant Variables'!G518","v":0},{"$f":"'Relevant Variables'!G548","v":0},{"$f":"'Relevant Variables'!G578","v":0},{"$f":"'Relevant Variables'!G608","v":0}]
["2022-05-01",null,{"$f":"'Energy Consumption'!H45","v":0},{"$f":"'Energy Consumption'!H46","v":0},{"$f":"'Energy Consumption'!H127","v":0},{"$f":"'Energy Consumption'!H128","v":0},{"$f":"'Energy Consumption'!H209","v":0},{"$f":"'Energy Consumption'!H210","v":0},{"$f":"'Energy Consumption'!H291","v":0},{"$f":"'Energy Consumption'!H292","v":0},{"$f":"'Energy Consumption'!H373","v":0},{"$f":"'Energy Consumption'!H374","v":0},{"$f":"'Energy Consumption'!H455","v":0},{"$f":"'Energy Consumption'!H456","v":0},{"$f":"'Energy Consumption'!H537","v":0},{"$f":"'Energy Consumption'!H538","v":0},{"$f":"'Energy Consumption'!H619","v":0},{"$f":"'Energy Consumption'!H620","v":0},{"$f":"'Energy Consumption'!H701","v":0},{"$f":"'Energy Consumption'!H702","v":0},{"$f":"'Energy Consumption'!H783","v":0},{"$f":"'Energy Consumption'!H784","v":0},{"$f":"'Energy Consumption'!H865","v":0},{"$f":"'Energy Consumption'!H866","v":0},{"$f":"'Energy Consumption'!H947","v":0},{"$f":"'Energy Consumption'!H948","v":0},{"$f":"'Energy Consumption'!H1029","v":0},{"$f":"'Energy Consumption'!H1030","v":0},{"$f":"'Energy Consumption'!H1111","v":0},{"$f":"'Energy Consumption'!H1112","v":0},{"$f":"'Energy Consumption'!H1193","v":0},{"$f":"'Energy Consumption'!H1194","v":0},{"$f":"'Energy Consumption'!H1275","v":0},{"$f":"'Energy Consumption'!H1276","v":0},{"$f":"'Energy Consumption'!H1357","v":0},{"$f":"'Energy Consumption'!H1358","v":0},{"$f":"'Energy Consumption'!H1439","v":0},{"$f":"'Energy Consumption'!H1440","v":0},{"$f":"'Energy Consumption'!H1521","v":0},{"$f":"'Energy Consumption'!H1522","v":0},{"$f":"'Energy Consumption'!H1603","v":0},{"$f":"'Energy Consumption'!H1604","v":0},null,{"$f":"'Relevant Variables'!H38","v":0},{"$f":"'Relevant Variables'!H68","v":0},{"$f":"'Relevant Variables'!H98","v":0},{"$f":"'Relevant Variables'!H128","v":0},{"$f":"'Relevant Variables'!H158","v":0},{"$f":"'Relevant Variables'!H188","v":0},{"$f":"'Relevant Variables'!H218","v":0},{"$f":"'Relevant Variables'!H248","v":0},{"$f":"'Relevant Variables'!H278","v":0},{"$f":"'Relevant Variables'!H308","v":0},{"$f":"'Relevant Variables'!H338","v":0},{"$f":"'Relevant Variables'!H368","v":0},{"$f":"'Relevant Variables'!H398","v":0},{"$f":"'Relevant Variables'!H428","v":0},{"$f":"'Relevant Variables'!H458","v":0},{"$f":"'Relevant Variables'!H488","v":0},{"$f":"'Relevant Variables'!H518","v":0},{"$f":"'Relevant Variables'!H548","v":0},{"$f":"'Relevant Variables'!H578","v":0},{"$f":"'Relevant Variables'!H608","v":0}]
["2022-06-01",null,{"$f":"'Energy Consumption'!I45","v":0},{"$f":"'Energy Consumption'!I46","v":0},{"$f":"'Energy Consumption'!I127","v":0},{"$f":"'Energy Consumption'!I128","v":0},{"$f":"'Energy Consumption'!I209","v":0},{"$f":"'Energy Consumption'!I210","v":0},{"$f":"'Energy Consumption'!I291","v":0},{"$f":"'Energy Consumption'!I292","v":0},{"$f":"'Energy Consumption'!I373","v":0},{"$f":"'Energy Consumption'!I374","v":0},{"$f":"'Energy Consumption'!I455","v":0},{"$f":"'Energy Consumption'!I456","v":0},{"$f":"'Energy Consumption'!I537","v":0},{"$f":"'Energy Consumption'!I538","v":0},{"$f":"'Energy Consumption'!I619","v":0},{"$f":"'Energy Consumption'!I620","v":0},{"$f":"'Energy Consumption'!I701","v":0},{"$f":"'Energy Consumption'!I702","v":0},{"$f":"'Energy Consumption'!I783","v":0},{"$f":"'Energy Consumption'!I784","v":0},{"$f":"'Energy Consumption'!I865","v":0},{"$f":"'Energy Consumption'!I866","v":0},{"$f":"'Energy Consumption'!I947","v":0},{"$f":"'Energy Consumption'!I948","v":0},{"$f":"'Energy Consumption'!I1029","v":0},{"$f":"'Energy Consumption'!I1030","v":0},{"$f":"'Energy Consumption'!I1111","v":0},{"$f":"'Energy Consumption'!I1112","v":0},{"$f":"'Energy Consumption'!I1193","v":0},{"$f":"'Energy Consumption'!I1194","v":0},{"$f":"'Energy Consumption'!I1275","v":0},{"$f":"'Energy Consumption'!I1276","v":0},{"$f":"'Energy Consumption'!I1357","v":0},{"$f":"'Energy Consumption'!I1358","v":0},{"$f":"'Energy Consumption'!I1439","v":0},{"$f":"'Energy Consumption'!I1440","v":0},{"$f":"'Energy Consumption'!I1521","v":0},{"$f":"'Energy Consumption'!I1522","v":0},{"$f":"'Energy Consumption'!I1603","v":0},{"$f":"'Energy Consumption'!I1604","v":0},null,{"$f":"'Relevant Variables'!I38","v":0},{"$f":"'Relevant Variables'!I68","v":0},{"$f":"'Relevant Variables'!I98","v":0},{"$f":"'Relevant Variables'!I128","v":0},{"$f":"'Relevant Variables'!I158","v":0},{"$f":"'Relevant Variables'!I188","v":0},{"$f":"'Relevant Variables'!I218","v":0},{"$f":"'Relevant Variables'!I248","v":0},{"$f":"'Relevant Variables'!I278","v":0},{"$f":"'Relevant Variables'!I308","v":0},{"$f":"'Relevant Variables'!I338","v":0},{"$f":"'Relevant Variables'!I368","v":0},{"$f":"'Relevant Variables'!I398","v":0},{"$f":"'Relevant Variables'!I428","v":0},{"$f":"'Relevant Variables'!I458","v":0},{"$f":"'Relevant Variables'!I488","v":0},{"$f":"'Relevant Variables'!I518","v":0},{"$f":"'Relevant Variables'!I548","v":0},{"$f":"'Relevant Variables'!I578","v":0},{"$f":"'Relevant Variables'!I608","v":0}]
["2022-07-01",null,{"$f":"'Energy Consumption'!J45","v":0},{"$f":"'Energy Consumption'!J46","v":0},{"$f":"'Energy Consumption'!J127","v":0},{"$f":"'Energy Consumption'!J128","v":0},{"$f":"'Energy Consumption'!J209","v":0},{"$f":"'Energy Consumption'!J210","v":0},{"$f":"'Energy Consumption'!J291","v":0},{"$f":"'Energy Consumption'!J292","v":0},{"$f":"'Energy Consumption'!J373","v":0},{"$f":"'Energy Consumption'!J374","v":0},{"$f":"'Energy Consumption'!J455","v":0},{"$f":"'Energy Consumption'!J456","v":0},{"$f":"'Energy Consumption'!J537","v":0},{"$f":"'Energy Consumption'!J538","v":0},{"$f":"'Energy Consumption'!J619","v":0},{"$f":"'Energy Consumption'!J620","v":0},{"$f":"'Energy Consumption'!J701","v":0},{"$f":"'Energy Consumption'!J702","v":0},{"$f":"'Energy Consumption'!J783","v":0},{"$f":"'Energy Consumption'!J784","v":0},{"$f":"'Energy Consumption'!J865","v":0},{"$f":"'Energy Consumption'!J866","v":0},{"$f":"'Energy Consumption'!J947","v":0},{"$f":"'Energy Consumption'!J948","v":0},{"$f":"'Energy Consumption'!J1029","v":0},{"$f":"'Energy Consumption'!J1030","v":0},{"$f":"'Energy Consumption'!J1111","v":0},{"$f":"'Energy Consumption'!J1112","v":0},{"$f":"'Energy Consumption'!J1193","v":0},{"$f":"'Energy Consumption'!J1194","v":0},{"$f":"'Energy Consumption'!J1275","v":0},{"$f":"'Energy Consumption'!J1276","v":0},{"$f":"'Energy Consumption'!J1357","v":0},{"$f":"'Energy Consumption'!J1358","v":0},{"$f":"'Energy Consumption'!J1439","v":0},{"$f":"'Energy Consumption'!J1440","v":0},{"$f":"'Energy Consumption'!J1521","v":0},{"$f":"'Energy Consumption'!J1522","v":0},{"$f":"'Energy Consumption'!J1603","v":0},{"$f":"'Energy Consumption'!J1604","v":0},null,{"$f":"'Relevant Variables'!J38","v":0},{"$f":"'Relevant Variables'!J68","v":0},{"$f":"'Relevant Variables'!J98","v":0},{"$f":"'Relevant Variables'!J128","v":0},{"$f":"'Relevant Variables'!J158","v":0},{"$f":"'Relevant Variables'!J188","v":0},{"$f":"'Relevant Variables'!J218","v":0},{"$f":"'Relevant Variables'!J248","v":0},{"$f":"'Relevant Variables'!J278","v":0},{"$f":"'Relevant Variables'!J308","v":0},{"$f":"'Relevant Variables'!J338","v":0},{"$f":"'Relevant Variables'!J368","v":0},{"$f":"'Relevant Variables'!J398","v":0},{"$f":"'Relevant Variables'!J428","v":0},{"$f":"'Relevant Variables'!J458","v":0},{"$f":"'Relevant Variables'!J488","v":0},{"$f":"'Relevant Variables'!J518","v":0},{"$f":"'Relevant Variables'!J548","v":0},{"$f":"'Relevant Variables'!J578","v":0},{"$f":"'Relevant Variables'!J608","v":0}]
["2022-08-01",null,{"$f":"'Energy Consumption'!K45","v":0},{"$f":"'Energy Consumption'!K46","v":0},{"$f":"'Energy Consumption'!K127","v":0},{"$f":"'Energy Consumption'!K128","v":0},{"$f":"'Energy Consumption'!K209","v":0},{"$f":"'Energy Consumption'!K210","v":0},{"$f":"'Energy Consumption'!K291","v":0},{"$f":"'Energy Consumption'!K292","v":0},{"$f":"'Energy Consumption'!K373","v":0},{"$f":"'Energy Consumption'!K374","v":0},{"$f":"'Energy Consumption'!K455","v":0},{"$f":"'Energy Consumption'!K456","v":0},{"$f":"'Energy Consumption'!K537","v":0},{"$f":"'Energy Consumption'!K538","v":0},{"$f":"'Energy Consumption'!K619","v":0},{"$f":"'Energy Consumption'!K620","v":0},{"$f":"'Energy Consumption'!K701","v":0},{"$f":"'Energy Consumption'!K702","v":0},{"$f":"'Energy Consumption'!K783","v":0},{"$f":"'Energy Consumption'!K784","v":0},{"$f":"'Energy Consumption'!K865","v":0},{"$f":"'Energy Consumption'!K866","v":0},{"$f":"'Energy Consumption'!K947","v":0},{"$f":"'Energy Consumption'!K948","v":0},{"$f":"'Energy Consumption'!K1029","v":0},{"$f":"'Energy Consumption'!K1030","v":0},{"$f":"'Energy Consumption'!K1111","v":0},{"$f":"'Energy Consumption'!K1112","v":0},{"$f":"'Energy Consumption'!K1193","v":0},{"$f":"'Energy Consumption'!K1194","v":0},{"$f":"'Energy Consumption'!K1275","v":0},{"$f":"'Energy Consumption'!K1276","v":0},{"$f":"'Energy Consumption'!K1357","v":0},{"$f":"'Energy Consumption'!K1358","v":0},{"$f":"'Energy Consumption'!K1439","v":0},{"$f":"'Energy Consumption'!K1440","v":0},{"$f":"'Energy Consumption'!K1521","v":0},{"$f":"'Energy Consumption'!K1522","v":0},{"$f":"'Energy Consumption'!K1603","v":0},{"$f":"'Energy Consumption'!K1604","v":0},null,{"$f":"'Relevant Variables'!K38","v":0},{"$f":"'Relevant Variables'!K68","v":0},{"$f":"'Relevant Variables'!K98","v":0},{"$f":"'Relevant Variables'!K128","v":0},{"$f":"'Relevant Variables'!K158","v":0},{"$f":"'Relevant Variables'!K188","v":0},{"$f":"'Relevant Variables'!K218","v":0},{"$f":"'Relevant Variables'!K248","v":0},{"$f":"'Relevant Variables'!K278","v":0},{"$f":"'Relevant Variables'!K308","v":0},{"$f":"'Relevant Variables'!K338","v":0},{"$f":"'Relevant Variables'!K368","v":0},{"$f":"'Relevant Variables'!K398","v":0},{"$f":"'Relevant Variables'!K428","v":0},{"$f":"'Relevant Variables'!K458","v":0},{"$f":"'Relevant Variables'!K488","v":0},{"$f":"'Relevant Variables'!K518","v":0},{"$f":"'Relevant Variables'!K548","v":0},{"$f":"'Relevant Variables'!K578","v":0},{"$f":"'Relevant Variables'!K608","v":0}]
["2022-09-01",null,{"$f":"'Energy Consumption'!L45","v":0},{"$f":"'Energy Consumption'!L46","v":0},{"$f":"'Energy Consumption'!L127","v":0},{"$f":"'Energy Consumption'!L128","v":0},{"$f":"'Energy Consumption'!L209","v":0},{"$f":"'Energy Consumption'!L210","v":0},{"$f":"'Energy Consumption'!L291","v":0},{"$f":"'Energy Consumption'!L292","v":0},{"$f":"'Energy Consumption'!L373","v":0},{"$f":"'Energy Consumption'!L374","v":0},{"$f":"'Energy Consumption'!L455","v":0},{"$f":"'Energy Consumption'!L456","v":0},{"$f":"'Energy Consumption'!L537","v":0},{"$f":"'Energy Consumption'!L538","v":0},{"$f":"'Energy Consumption'!L619","v":0},{"$f":"'Energy Consumption'!L620","v":0},{"$f":"'Energy Consumption'!L701","v":0},{"$f":"'Energy Consumption'!L702","v":0},{"$f":"'Energy Consumption'!L783","v":0},{"$f":"'Energy Consumption'!L784","v":0},{"$f":"'Energy Consumption'!L865","v":0},{"$f":"'Energy Consumption'!L866","v":0},{"$f":"'Energy Consumption'!L947","v":0},{"$f":"'Energy Consumption'!L948","v":0},{"$f":"'Energy Consumption'!L1029","v":0},{"$f":"'Energy Consumption'!L1030","v":0},{"$f":"'Energy Consumption'!L1111","v":0},{"$f":"'Energy Consumption'!L1112","v":0},{"$f":"'Energy Consumption'!L1193","v":0},{"$f":"'Energy Consumption'!L1194","v":0},{"$f":"'Energy Consumption'!L1275","v":0},{"$f":"'Energy Consumption'!L1276","v":0},{"$f":"'Energy Consumption'!L1357","v":0},{"$f":"'Energy Consumption'!L1358","v":0},{"$f":"'Energy Consumption'!L1439","v":0},{"$f":"'Energy Consumption'!L1440","v":0},{"$f":"'Energy Consumption'!L1521","v":0},{"$f":"'Energy Consumption'!L1522","v":0},{"$f":"'Energy Consumption'!L1603","v":0},{"$f":"'Energy Consumption'!L1604","v":0},null,{"$f":"'Relevant Variables'!L38","v":0},{"$f":"'Relevant Variables'!L68","v":0},{"$f":"'Relevant Variables'!L98","v":0},{"$f":"'Relevant Variables'!L128","v":0},{"$f":"'Relevant Variables'!L158","v":0},{"$f":"'Relevant Variables'!L188","v":0},{"$f":"'Relevant Variables'!L218","v":0},{"$f":"'Relevant Variables'!L248","v":0},{"$f":"'Relevant Variables'!L278","v":0},{"$f":"'Relevant Variables'!L308","v":0},{"$f":"'Relevant Variables'!L338","v":0},{"$f":"'Relevant Variables'!L368","v":0},{"$f":"'Relevant Variables'!L398","v":0},{"$f":"'Relevant Variables'!L428","v":0},{"$f":"'Relevant Variables'!L458","v":0},{"$f":"'Relevant Variables'!L488","v":0},{"$f":"'Relevant Variables'!L518","v":0},{"$f":"'Relevant Variables'!L548","v":0},{"$f":"'Relevant Variables'!L578","v":0},{"$f":"'Relevant Variables'!L608","v":0}]
["2022-10-01",null,{"$f":"'Energy Consumption'!M45","v":0},{"$f":"'Energy Consumption'!M46","v":0},{"$f":"'Energy Consumption'!M127","v":0},{"$f":"'Energy Consumption'!M128","v":0},{"$f":"'Energy Consumption'!M209","v":0},{"$f":"'Energy Consumption'!M210","v":0},{"$f":"'Energy Consumption'!M291","v":0},{"$f":"'Energy Consumption'!M292","v":0},{"$f":"'Energy Consumption'!M373","v":0},{"$f":"'Energy Consumption'!M374","v":0},{"$f":"'Energy Consumption'!M455","v":0},{"$f":"'Energy Consumption'!M456","v":0},{"$f":"'Energy Consumption'!M537","v":0},{"$f":"'Energy Consumption'!M538","v":0},{"$f":"'Energy Consumption'!M619","v":0},{"$f":"'Energy Consumption'!M620","v":0},{"$f":"'Energy Consumption'!M701","v":0},{"$f":"'Energy Consumption'!M702","v":0},{"$f":"'Energy Consumption'!M783","v":0},{"$f":"'Energy Consumption'!M784","v":0},{"$f":"'Energy Consumption'!M865","v":0},{"$f":"'Energy Consumption'!M866","v":0},{"$f":"'Energy Consumption'!M947","v":0},{"$f":"'Energy Consumption'!M948","v":0},{"$f":"'Energy Consumption'!M1029","v":0},{"$f":"'Energy Consumption'!M1030","v":0},{"$f":"'Energy Consumption'!M1111","v":0},{"$f":"'Energy Consumption'!M1112","v":0},{"$f":"'Energy Consumption'!M1193","v":0},{"$f":"'Energy Consumption'!M1194","v":0},{"$f":"'Energy Consumption'!M1275","v":0},{"$f":"'Energy Consumption'!M1276","v":0},{"$f":"'Energy Consumption'!M1357","v":0},{"$f":"'Energy Consumption'!M1358","v":0},{"$f":"'Energy Consumption'!M1439","v":0},{"$f":"'Energy Consumption'!M1440","v":0},{"$f":"'Energy Consumption'!M1521","v":0},{"$f":"'Energy Consumption'!M1522","v":0},{"$f":"'Energy Consumption'!M1603","v":0},{"$f":"'Energy Consumption'!M1604","v":0},null,{"$f":"'Relevant Variables'!M38","v":0},{"$f":"'Relevant Variables'!M68","v":0},{"$f":"'Relevant Variables'!M98","v":0},{"$f":"'Relevant Variables'!M128","v":0},{"$f":"'Relevant Variables'!M158","v":0},{"$f":"'Relevant Variables'!M188","v":0},{"$f":"'Relevant Variables'!M218","v":0},{"$f":"'Relevant Variables'!M248","v":0},{"$f":"'Relevant Variables'!M278","v":0},{"$f":"'Relevant Variables'!M308","v":0},{"$f":"'Relevant Variables'!M338","v":0},{"$f":"'Relevant Variables'!M368","v":0},{"$f":"'Relevant Variables'!M398","v":0},{"$f":"'Relevant Variables'!M428","v":0},{"$f":"'Relevant Variables'!M458","v":0},{"$f":"'Relevant Variables'!M488","v":0},{"$f":"'Relevant Variables'!M518","v":0},{"$f":"'Relevant Variables'!M548","v":0},{"$f":"'Relevant Variables'!M578","v":0},{"$f":"'Relevant Variables'!M608","v":0}]
["2022-11-01",null,{"$f":"'Energy Consumption'!N45","v":0},{"$f":"'Energy Consumption'!N46","v":0},{"$f":"'Energy Consumption'!N127","v":0},{"$f":"'Energy Consumption'!N128","v":0},{"$f":"'Energy Consumption'!N209","v":0},{"$f":"'Energy Consumption'!N210","v":0},{"$f":"'Energy Consumption'!N291","v":0},{"$f":"'Energy Consumption'!N292","v":0},{"$f":"'Energy Consumption'!N373","v":0},{"$f":"'Energy Consumption'!N374","v":0},{"$f":"'Energy Consumption'!N455","v":0},{"$f":"'Energy Consumption'!N456","v":0},{"$f":"'Energy Consumption'!N537","v":0},{"$f":"'Energy Consumption'!N538","v":0},{"$f":"'Energy Consumption'!N619","v":0},{"$f":"'Energy Consumption'!N620","v":0},{"$f":"'Energy Consumption'!N701","v":0},{"$f":"'Energy Consumption'!N702","v":0},{"$f":"'Energy Consumption'!N783","v":0},{"$f":"'Energy Consumption'!N784","v":0},{"$f":"'Energy Consumption'!N865","v":0},{"$f":"'Energy Consumption'!N866","v":0},{"$f":"'Energy Consumption'!N947","v":0},{"$f":"'Energy Consumption'!N948","v":0},{"$f":"'Energy Consumption'!N1029","v":0},{"$f":"'Energy Consumption'!N1030","v":0},{"$f":"'Energy Consumption'!N1111","v":0},{"$f":"'Energy Consumption'!N1112","v":0},{"$f":"'Energy Consumption'!N1193","v":0},{"$f":"'Energy Consumption'!N1194","v":0},{"$f":"'Energy Consumption'!N1275","v":0},{"$f":"'Energy Consumption'!N1276","v":0},{"$f":"'Energy Consumption'!N1357","v":0},{"$f":"'Energy Consumption'!N1358","v":0},{"$f":"'Energy Consumption'!N1439","v":0},{"$f":"'Energy Consumption'!N1440","v":0},{"$f":"'Energy Consumption'!N1521","v":0},{"$f":"'Energy Consumption'!N1522","v":0},{"$f":"'Energy Consumption'!N1603","v":0},{"$f":"'Energy Consumption'!N1604","v":0},null,{"$f":"'Relevant Variables'!N38","v":0},{"$f":"'Relevant Variables'!N68","v":0},{"$f":"'Relevant Variables'!N98","v":0},{"$f":"'Relevant Variables'!N128","v":0},{"$f":"'Relevant Variables'!N158","v":0},{"$f":"'Relevant Variables'!N188","v":0},{"$f":"'Relevant Variables'!N218","v":0},{"$f":"'Relevant Variables'!N248","v":0},{"$f":"'Relevant Variables'!N278","v":0},{"$f":"'Relevant Variables'!N308","v":0},{"$f":"'Relevant Variables'!N338","v":0},{"$f":"'Relevant Variables'!N368","v":0},{"$f":"'Relevant Variables'!N398","v":0},{"$f":"'Relevant Variables'!N428","v":0},{"$f":"'Relevant Variables'!N458","v":0},{"$f":"'Relevant Variables'!N488","v":0},{"$f":"'Relevant Variables'!N518","v":0},{"$f":"'Relevant Variables'!N548","v":0},{"$f":"'Relevant Variables'!N578","v":0},{"$f":"'Relevant Variables'!N608","v":0}]
["2022-12-01",null,{"$f":"'Energy Consumption'!O45","v":0},{"$f":"'Energy Consumption'!O46","v":0},{"$f":"'Energy Consumption'!O127","v":0},{"$f":"'Energy Consumption'!O128","v":0},{"$f":"'Energy Consumption'!O209","v":0},{"$f":"'Energy Consumption'!O210","v":0},{"$f":"'Energy Consumption'!O291","v":0},{"$f":"'Energy Consumption'!O292","v":0},{"$f":"'Energy Consumption'!O373","v":0},{"$f":"'Energy Consumption'!O374","v":0},{"$f":"'Energy Consumption'!O455","v":0},{"$f":"'Energy Consumption'!O456","v":0},{"$f":"'Energy Consumption'!O537","v":0},{"$f":"'Energy Consumption'!O538","v":0},{"$f":"'Energy Consumption'!O619","v":0},{"$f":"'Energy Consumption'!O620","v":0},{"$f":"'Energy Consumption'!O701","v":0},{"$f":"'Energy Consumption'!O702","v":0},{"$f":"'Energy Consumption'!O783","v":0},{"$f":"'Energy Consumption'!O784","v":0},{"$f":"'Energy Consumption'!O865","v":0},{"$f":"'Energy Consumption'!O866","v":0},{"$f":"'Energy Consumption'!O947","v":0},{"$f":"'Energy Consumption'!O948","v":0},{"$f":"'Energy Consumption'!O1029","v":0},{"$f":"'Energy Consumption'!O1030","v":0},{"$f":"'Energy Consumption'!O1111","v":0},{"$f":"'Energy Consumption'!O1112","v":0},{"$f":"'Energy Consumption'!O1193","v":0},{"$f":"'Energy Consumption'!O1194","v":0},{"$f":"'Energy Consumption'!O1275","v":0},{"$f":"'Energy Consumption'!O1276","v":0},{"$f":"'Energy Consumption'!O1357","v":0},{"$f":"'Energy Consumption'!O1358","v":0},{"$f":"'Energy Consumption'!O1439","v":0},{"$f":"'Energy Consumption'!O1440","v":0},{"$f":"'Energy Consumption'!O1521","v":0},{"$f":"'Energy Consumption'!O1522","v":0},{"$f":"'Energy Consumption'!O1603","v":0},{"$f":"'Energy Consumption'!O1604","v":0},null,{"$f":"'Relevant Variables'!O38","v":0},{"$f":"'Relevant Variables'!O68","v":0},{"$f":"'Relevant Variables'!O98","v":0},{"$f":"'Relevant Variables'!O128","v":0},{"$f":"'Relevant Variables'!O158","v":0},{"$f":"'Relevant Variables'!O188","v":0},{"$f":"'Relevant Variables'!O218","v":0},{"$f":"'Relevant Variables'!O248","v":0},{"$f":"'Relevant Variables'!O278","v":0},{"$f":"'Relevant Variables'!O308","v":0},{"$f":"'Relevant Variables'!O338","v":0},{"$f":"'Relevant Variables'!O368","v":0},{"$f":"'Relevant Variables'!O398","v":0},{"$f":"'Relevant Variables'!O428","v":0},{"$f":"'Relevant Variables'!O458","v":0},{"$f":"'Relevant Variables'!O488","v":0},{"$f":"'Relevant Variables'!O518","v":0},{"$f":"'Relevant Variables'!O548","v":0},{"$f":"'Relevant Variables'!O578","v":0},{"$f":"'Relevant Variables'!O608","v":0}]
["2023-01-01",null,{"$f":"'Energy Consumption'!D43","v":0},{"$f":"'Energy Consumption'!D44","v":0},{"$f":"'Energy Consumption'!D125","v":0},{"$f":"'Energy Consumption'!D126","v":0},{"$f":"'Energy Consumption'!D207","v":0},{"$f":"'Energy Consumption'!D208","v":0},{"$f":"'Energy Consumption'!D289","v":0},{"$f":"'Energy Consumption'!D290","v":0},{"$f":"'Energy Consumption'!D371","v":0},{"$f":"'Energy Consumption'!D372","v":0},{"$f":"'Energy Consumption'!D453","v":0},{"$f":"'Energy Consumption'!D454","v":0},{"$f":"'Energy Consumption'!D535","v":0},{"$f":"'Energy Consumption'!D536","v":0},{"$f":"'Energy Consumption'!D617","v":0},{"$f":"'Energy Consumption'!D618","v":0},{"$f":"'Energy Consumption'!D699","v":0},{"$f":"'Energy Consumption'!D700","v":0},{"$f":"'Energy Consumption'!D781","v":0},{"$f":"'Energy Consumption'!D782","v":0},{"$f":"'Energy Consumption'!D863","v":0},{"$f":"'Energy Consumption'!D864","v":0},{"$f":"'Energy Consumption'!D945","v":0},{"$f":"'Energy Consumption'!D946","v":0},{"$f":"'Energy Consumption'!D1027","v":0},{"$f":"'Energy Consumption'!D1028","v":0},{"$f":"'Energy Consumption'!D1109","v":0},{"$f":"'Energy Consumption'!D1110","v":0},{"$f":"'Energy Consumption'!D1191","v":0},{"$f":"'Energy Consumption'!D1192","v":0},{"$f":"'Energy Consumption'!D1273","v":0},{"$f":"'Energy Consumption'!D1274","v":0},{"$f":"'Energy Consumption'!D1355","v":0},{"$f":"'Energy Consumption'!D1356","v":0},{"$f":"'Energy Consumption'!D1437","v":0},{"$f":"'Energy Consumption'!D1438","v":0},{"$f":"'Energy Consumption'!D1519","v":0},{"$f":"'Energy Consumption'!D1520","v":0},{"$f":"'Energy Consumption'!D1601","v":0},{"$f":"'Energy Consumption'!D1602","v":0},null,{"$f":"'Relevant Variables'!D37","v":0},{"$f":"'Relevant Variables'!D67","v":0},{"$f":"'Relevant Variables'!D97","v":0},{"$f":"'Relevant Variables'!D127","v":0},{"$f":"'Relevant Variables'!D157","v":0},{"$f":"'Relevant Variables'!D187","v":0},{"$f":"'Relevant Variables'!D217","v":0},{"$f":"'Relevant Variables'!D247","v":0},{"$f":"'Relevant Variables'!D277","v":0},{"$f":"'Relevant Variables'!D307","v":0},{"$f":"'Relevant Variables'!D337","v":0},{"$f":"'Relevant Variables'!D367","v":0},{"$f":"'Relevant Variables'!D397","v":0},{"$f":"'Relevant Variables'!D427","v":0},{"$f":"'Relevant Variables'!D457","v":0},{"$f":"'Relevant Variables'!D487","v":0},{"$f":"'Relevant Variables'!D517","v":0},{"$f":"'Relevant Variables'!D547","v":0},{"$f":"'Relevant Variables'!D577","v":0},{"$f":"'Relevant Variables'!D607","v":0}]
["2023-02-01",null,{"$f":"'Energy Consumption'!E43","v":0},{"$f":"'Energy Consumption'!E44","v":0},{"$f":"'Energy Consumption'!E125","v":0},{"$f":"'Energy Consumption'!E126","v":0},{"$f":"'Energy Consumption'!E207","v":0},{"$f":"'Energy Consumption'!E208","v":0},{"$f":"'Energy Consumption'!E289","v":0},{"$f":"'Energy Consumption'!E290","v":0},{"$f":"'Energy Consumption'!E371","v":0},{"$f":"'Energy Consumption'!E372","v":0},{"$f":"'Energy Consumption'!E453","v":0},{"$f":"'Energy Consumption'!E454","v":0},{"$f":"'Energy Consumption'!E535","v":0},{"$f":"'Energy Consumption'!E536","v":0},{"$f":"'Energy Consumption'!E617","v":0},{"$f":"'Energy Consumption'!E618","v":0},{"$f":"'Energy Consumption'!E699","v":0},{"$f":"'Energy Consumption'!E700","v":0},{"$f":"'Energy Consumption'!E781","v":0},{"$f":"'Energy Consumption'!E782","v":0},{"$f":"'Energy Consumption'!E863","v":0},{"$f":"'Energy Consumption'!E864","v":0},{"$f":"'Energy Consumption'!E945","v":0},{"$f":"'Energy Consumption'!E946","v":0},{"$f":"'Energy Consumption'!E1027","v":0},{"$f":"'Energy Consumption'!E1028","v":0},{"$f":"'Energy Consumption'!E1109","v":0},{"$f":"'Energy Consumption'!E1110","v":0},{"$f":"'Energy Consumption'!E1191","v":0},{"$f":"'Energy Consumption'!E1192","v":0},{"$f":"'Energy Consumption'!E1273","v":0},{"$f":"'Energy Consumption'!E1274","v":0},{"$f":"'Energy Consumption'!E1355","v":0},{"$f":"'Energy Consumption'!E1356","v":0},{"$f":"'Energy Consumption'!E1437","v":0},{"$f":"'Energy Consumption'!E1438","v":0},{"$f":"'Energy Consumption'!E1519","v":0},{"$f":"'Energy Consumption'!E1520","v":0},{"$f":"'Energy Consumption'!E1601","v":0},{"$f":"'Energy Consumption'!E1602","v":0},null,{"$f":"'Relevant Variables'!E37","v":0},{"$f":"'Relevant Variables'!E67","v":0},{"$f":"'Relevant Variables'!E97","v":0},{"$f":"'Relevant Variables'!E127","v":0},{"$f":"'Relevant Variables'!E157","v":0},{"$f":"'Relevant Variables'!E187","v":0},{"$f":"'Relevant Variables'!E217","v":0},{"$f":"'Relevant Variables'!E247","v":0},{"$f":"'Relevant Variables'!E277","v":0},{"$f":"'Relevant Variables'!E307","v":0},{"$f":"'Relevant Variables'!E337","v":0},{"$f":"'Relevant Variables'!E367","v":0},{"$f":"'Relevant Variables'!E397","v":0},{"$f":"'Relevant Variables'!E427","v":0},{"$f":"'Relevant Variables'!E457","v":0},{"$f":"'Relevant Variables'!E487","v":0},{"$f":"'Relevant Variables'!E517","v":0},{"$f":"'Relevant Variables'!E547","v":0},{"$f":"'Relevant Variables'!E577","v":0},{"$f":"'Relevant Variables'!E607","v":0}]
["2023-03-01",null,{"$f":"'Energy Consumption'!F43","v":0},{"$f":"'Energy Consumption'!F44","v":0},{"$f":"'Energy Consumption'!F125","v":0},{"$f":"'Energy Consumption'!F126","v":0},{"$f":"'Energy Consumption'!F207","v":0},{"$f":"'Energy Consumption'!F208","v":0},{"$f":"'Energy Consumption'!F289","v":0},{"$f":"'Energy Consumption'!F290","v":0},{"$f":"'Energy Consumption'!F371","v":0},{"$f":"'Energy Consumption'!F372","v":0},{"$f":"'Energy Consumption'!F453","v":0},{"$f":"'Energy Consumption'!F454","v":0},{"$f":"'Energy Consumption'!F535","v":0},{"$f":"'Energy Consumption'!F536","v":0},{"$f":"'Energy Consumption'!F617","v":0},{"$f":"'Energy Consumption'!F618","v":0},{"$f":"'Energy Consumption'!F699","v":0},{"$f":"'Energy Consumption'!F700","v":0},{"$f":"'Energy Consumption'!F781","v":0},{"$f":"'Energy Consumption'!F782","v":0},{"$f":"'Energy Consumption'!F863","v":0},{"$f":"'Energy Consumption'!F864","v":0},{"$f":"'Energy Consumption'!F945","v":0},{"$f":"'Energy Consumption'!F946","v":0},{"$f":"'Energy Consumption'!F1027","v":0},{"$f":"'Energy Consumption'!F1028","v":0},{"$f":"'Energy Consumption'!F1109","v":0},{"$f":"'Energy Consumption'!F1110","v":0},{"$f":"'Energy Consumption'!F1191","v":0},{"$f":"'Energy Consumption'!F1192","v":0},{"$f":"'Energy Consumption'!F1273","v":0},{"$f":"'Energy Consumption'!F1274","v":0},{"$f":"'Energy Consumption'!F1355","v":0},{"$f":"'Energy Consumption'!F1356","v":0},{"$f":"'Energy Consumption'!F1437","v":0},{"$f":"'Energy Consumption'!F1438","v":0},{"$f":"'Energy Consumption'!F1519","v":0},{"$f":"'Energy Consumption'!F1520","v":0},{"$f":"'Energy Consumption'!F1601","v":0},{"$f":"'Energy Consumption'!F1602","v":0},null,{"$f":"'Relevant Variables'!F37","v":0},{"$f":"'Relevant Variables'!F67","v":0},{"$f":"'Relevant Variables'!F97","v":0},{"$f":"'Relevant Variables'!F127","v":0},{"$f":"'Relevant Variables'!F157","v":0},{"$f":"'Relevant Variables'!F187","v":0},{"$f":"'Relevant Variables'!F217","v":0},{"$f":"'Relevant Variables'!F247","v":0},{"$f":"'Relevant Variables'!F277","v":0},{"$f":"'Relevant Variables'!F307","v":0},{"$f":"'Relevant Variables'!F337","v":0},{"$f":"'Relevant Variables'!F367","v":0},{"$f":"'Relevant Variables'!F397","v":0},{"$f":"'Relevant Variables'!F427","v":0},{"$f":"'Relevant Variables'!F457","v":0},{"$f":"'Relevant Variables'!F487","v":0},{"$f":"'Relevant Variables'!F517","v":0},{"$f":"'Relevant Variables'!F547","v":0},{"$f":"'Relevant Variables'!F577","v":0},{"$f":"'Relevant Variables'!F607","v":0}]
["2023-04-01",null,{"$f":"'Energy Consumption'!G43","v":0},{"$f":"'Energy Consumption'!G44","v":0},{"$f":"'Energy Consumption'!G125","v":0},{"$f":"'Energy Consumption'!G126","v":0},{"$f":"'Energy Consumption'!G207","v":0},{"$f":"'Energy Consumption'!G208","v":0},{"$f":"'Energy Consumption'!G289","v":0},{"$f":"'Energy Consumption'!G290","v":0},{"$f":"'Energy Consumption'!G371","v":0},{"$f":"'Energy Consumption'!G372","v":0},{"$f":"'Energy Consumption'!G453","v":0},{"$f":"'Energy Consumption'!G454","v":0},{"$f":"'Energy Consumption'!G535","v":0},{"$f":"'Energy Consumption'!G536","v":0},{"$f":"'Energy Consumption'!G617","v":0},{"$f":"'Energy Consumption'!G618","v":0},{"$f":"'Energy Consumption'!G699","v":0},{"$f":"'Energy Consumption'!G700","v":0},{"$f":"'Energy Consumption'!G781","v":0},{"$f":"'Energy Consumption'!G782","v":0},{"$f":"'Energy Consumption'!G863","v":0},{"$f":"'Energy Consumption'!G864","v":0},{"$f":"'Energy Consumption'!G945","v":0},{"$f":"'Energy Consumption'!G946","v":0},{"$f":"'Energy Consumption'!G1027","v":0},{"$f":"'Energy Consumption'!G1028","v":0},{"$f":"'Energy Consumption'!G1109","v":0},{"$f":"'Energy Consumption'!G1110","v":0},{"$f":"'Energy Consumption'!G1191","v":0},{"$f":"'Energy Consumption'!G1192","v":0},{"$f":"'Energy Consumption'!G1273","v":0},{"$f":"'Energy Consumption'!G1274","v":0},{"$f":"'Energy Consumption'!G1355","v":0},{"$f":"'Energy Consumption'!G1356","v":0},{"$f":"'Energy Consumption'!G1437","v":0},{"$f":"'Energy Consumption'!G1438","v":0},{"$f":"'Energy Consumption'!G1519","v":0},{"$f":"'Energy Consumption'!G1520","v":0},{"$f":"'Energy Consumption'!G1601","v":0},{"$f":"'Energy Consumption'!G1602","v":0},null,{"$f":"'Relevant Variables'!G37","v":0},{"$f":"'Relevant Variables'!G67","v":0},{"$f":"'Relevant Variables'!G97","v":0},{"$f":"'Relevant Variables'!G127","v":0},{"$f":"'Relevant Variables'!G157","v":0},{"$f":"'Relevant Variables'!G187","v":0},{"$f":"'Relevant Variables'!G217","v":0},{"$f":"'Relevant Variables'!G247","v":0},{"$f":"'Relevant Variables'!G277","v":0},{"$f":"'Relevant Variables'!G307","v":0},{"$f":"'Relevant Variables'!G337","v":0},{"$f":"'Relevant Variables'!G367","v":0},{"$f":"'Relevant Variables'!G397","v":0},{"$f":"'Relevant Variables'!G427","v":0},{"$f":"'Relevant Variables'!G457","v":0},{"$f":"'Relevant Variables'!G487","v":0},{"$f":"'Relevant Variables'!G517","v":0},{"$f":"'Relevant Variables'!G547","v":0},{"$f":"'Relevant Variables'!G577","v":0},{"$f":"'Relevant Variables'!G607","v":0}]
["2023-05-01",null,{"$f":"'Energy Consumption'!H43","v":0},{"$f":"'Energy Consumption'!H44","v":0},{"$f":"'Energy Consumption'!H125","v":0},{"$f":"'Energy Consumption'!H126","v":0},{"$f":"'Energy Consumption'!H207","v":0},{"$f":"'Energy Consumption'!H208","v":0},{"$f":"'Energy Consumption'!H289","v":0},{"$f":"'Energy Consumption'!H290","v":0},{"$f":"'Energy Consumption'!H371","v":0},{"$f":"'Energy Consumption'!H372","v":0},{"$f":"'Energy Consumption'!H453","v":0},{"$f":"'Energy Consumption'!H454","v":0},{"$f":"'Energy Consumption'!H535","v":0},{"$f":"'Energy Consumption'!H536","v":0},{"$f":"'Energy Consumption'!H617","v":0},{"$f":"'Energy Consumption'!H618","v":0},{"$f":"'Energy Consumption'!H699","v":0},{"$f":"'Energy Consumption'!H700","v":0},{"$f":"'Energy Consumption'!H781","v":0},{"$f":"'Energy Consumption'!H782","v":0},{"$f":"'Energy Consumption'!H863","v":0},{"$f":"'Energy Consumption'!H864","v":0},{"$f":"'Energy Consumption'!H945","v":0},{"$f":"'Energy Consumption'!H946","v":0},{"$f":"'Energy Consumption'!H1027","v":0},{"$f":"'Energy Consumption'!H1028","v":0},{"$f":"'Energy Consumption'!H1109","v":0},{"$f":"'Energy Consumption'!H1110","v":0},{"$f":"'Energy Consumption'!H1191","v":0},{"$f":"'Energy Consumption'!H1192","v":0},{"$f":"'Energy Consumption'!H1273","v":0},{"$f":"'Energy Consumption'!H1274","v":0},{"$f":"'Energy Consumption'!H1355","v":0},{"$f":"'Energy Consumption'!H1356","v":0},{"$f":"'Energy Consumption'!H1437","v":0},{"$f":"'Energy Consumption'!H1438","v":0},{"$f":"'Energy Consumption'!H1519","v":0},{"$f":"'Energy Consumption'!H1520","v":0},{"$f":"'Energy Consumption'!H1601","v":0},{"$f":"'Energy Consumption'!H1602","v":0},null,{"$f":"'Relevant Variables'!H37","v":0},{"$f":"'Relevant Variables'!H67","v":0},{"$f":"'Relevant Variables'!H97","v":0},{"$f":"'Relevant Variables'!H127","v":0},{"$f":"'Relevant Variables'!H157","v":0},{"$f":"'Relevant Variables'!H187","v":0},{"$f":"'Relevant Variables'!H217","v":0},{"$f":"'Relevant Variables'!H247","v":0},{"$f":"'Relevant Variables'!H277","v":0},{"$f":"'Relevant Variables'!H307","v":0},{"$f":"'Relevant Variables'!H337","v":0},{"$f":"'Relevant Variables'!H367","v":0},{"$f":"'Relevant Variables'!H397","v":0},{"$f":"'Relevant Variables'!H427","v":0},{"$f":"'Relevant Variables'!H457","v":0},{"$f":"'Relevant Variables'!H487","v":0},{"$f":"'Relevant Variables'!H517","v":0},{"$f":"'Relevant Variables'!H547","v":0},{"$f":"'Relevant Variables'!H577","v":0},{"$f":"'Relevant Variables'!H607","v":0}]
["2023-06-01",null,{"$f":"'Energy Consumption'!I43","v":0},{"$f":"'Energy Consumption'!I44","v":0},{"$f":"'Energy Consumption'!I125","v":0},{"$f":"'Energy Consumption'!I126","v":0},{"$f":"'Energy Consumption'!I207","v":0},{"$f":"'Energy Consumption'!I208","v":0},{"$f":"'Energy Consumption'!I289","v":0},{"$f":"'Energy Consumption'!I290","v":0},{"$f":"'Energy Consumption'!I371","v":0},{"$f":"'Energy Consumption'!I372","v":0},{"$f":"'Energy Consumption'!I453","v":0},{"$f":"'Energy Consumption'!I454","v":0},{"$f":"'Energy Consumption'!I535","v":0},{"$f":"'Energy Consumption'!I536","v":0},{"$f":"'Energy Consumption'!I617","v":0},{"$f":"'Energy Consumption'!I618","v":0},{"$f":"'Energy Consumption'!I699","v":0},{"$f":"'Energy Consumption'!I700","v":0},{"$f":"'Energy Consumption'!I781","v":0},{"$f":"'Energy Consumption'!I782","v":0},{"$f":"'Energy Consumption'!I863","v":0},{"$f":"'Energy Consumption'!I864","v":0},{"$f":"'Energy Consumption'!I945","v":0},{"$f":"'Energy Consumption'!I946","v":0},{"$f":"'Energy Consumption'!I1027","v":0},{"$f":"'Energy Consumption'!I1028","v":0},{"$f":"'Energy Consumption'!I1109","v":0},{"$f":"'Energy Consumption'!I1110","v":0},{"$f":"'Energy Consumption'!I1191","v":0},{"$f":"'Energy Consumption'!I1192","v":0},{"$f":"'Energy Consumption'!I1273","v":0},{"$f":"'Energy Consumption'!I1274","v":0},{"$f":"'Energy Consumption'!I1355","v":0},{"$f":"'Energy Consumption'!I1356","v":0},{"$f":"'Energy Consumption'!I1437","v":0},{"$f":"'Energy Consumption'!I1438","v":0},{"$f":"'Energy Consumption'!I1519","v":0},{"$f":"'Energy Consumption'!I1520","v":0},{"$f":"'Energy Consumption'!I1601","v":0},{"$f":"'Energy Consumption'!I1602","v":0},null,{"$f":"'Relevant Variables'!I37","v":0},{"$f":"'Relevant Variables'!I67","v":0},{"$f":"'Relevant Variables'!I97","v":0},{"$f":"'Relevant Variables'!I127","v":0},{"$f":"'Relevant Variables'!I157","v":0},{"$f":"'Relevant Variables'!I187","v":0},{"$f":"'Relevant Variables'!I217","v":0},{"$f":"'Relevant Variables'!I247","v":0},{"$f":"'Relevant Variables'!I277","v":0},{"$f":"'Relevant Variables'!I307","v":0},{"$f":"'Relevant Variables'!I337","v":0},{"$f":"'Relevant Variables'!I367","v":0},{"$f":"'Relevant Variables'!I397","v":0},{"$f":"'Relevant Variables'!I427","v":0},{"$f":"'Relevant Variables'!I457","v":0},{"$f":"'Relevant Variables'!I487","v":0},{"$f":"'Relevant Variables'!I517","v":0},{"$f":"'Relevant Variables'!I547","v":0},{"$f":"'Relevant Variables'!I577","v":0},{"$f":"'Relevant Variables'!I607","v":0}]
["2023-07-01",null,{"$f":"'Energy Consumption'!J43","v":0},{"$f":"'Energy Consumption'!J44","v":0},{"$f":"'Energy Consumption'!J125","v":0},{"$f":"'Energy Consumption'!J126","v":0},{"$f":"'Energy Consumption'!J207","v":0},{"$f":"'Energy Consumption'!J208","v":0},{"$f":"'Energy Consumption'!J289","v":0},{"$f":"'Energy Consumption'!J290","v":0},{"$f":"'Energy Consumption'!J371","v":0},{"$f":"'Energy Consumption'!J372","v":0},{"$f":"'Energy Consumption'!J453","v":0},{"$f":"'Energy Consumption'!J454","v":0},{"$f":"'Energy Consumption'!J535","v":0},{"$f":"'Energy Consumption'!J536","v":0},{"$f":"'Energy Consumption'!J617","v":0},{"$f":"'Energy Consumption'!J618","v":0},{"$f":"'Energy Consumption'!J699","v":0},{"$f":"'Energy Consumption'!J700","v":0},{"$f":"'Energy Consumption'!J781","v":0},{"$f":"'Energy Consumption'!J782","v":0},{"$f":"'Energy Consumption'!J863","v":0},{"$f":"'Energy Consumption'!J864","v":0},{"$f":"'Energy Consumption'!J945","v":0},{"$f":"'Energy Consumption'!J946","v":0},{"$f":"'Energy Consumption'!J1027","v":0},{"$f":"'Energy Consumption'!J1028","v":0},{"$f":"'Energy Consumption'!J1109","v":0},{"$f":"'Energy Consumption'!J1110","v":0},{"$f":"'Energy Consumption'!J1191","v":0},{"$f":"'Energy Consumption'!J1192","v":0},{"$f":"'Energy Consumption'!J1273","v":0},{"$f":"'Energy Consumption'!J1274","v":0},{"$f":"'Energy Consumption'!J1355","v":0},{"$f":"'Energy Consumption'!J1356","v":0},{"$f":"'Energy Consumption'!J1437","v":0},{"$f":"'Energy Consumption'!J1438","v":0},{"$f":"'Energy Consumption'!J1519","v":0},{"$f":"'Energy Consumption'!J1520","v":0},{"$f":"'Energy Consumption'!J1601","v":0},{"$f":"'Energy Consumption'!J1602","v":0},null,{"$f":"'Relevant Variables'!J37","v":0},{"$f":"'Relevant Variables'!J67","v":0},{"$f":"'Relevant Variables'!J97","v":0},{"$f":"'Relevant Variables'!J127","v":0},{"$f":"'Relevant Variables'!J157","v":0},{"$f":"'Relevant Variables'!J187","v":0},{"$f":"'Relevant Variables'!J217","v":0},{"$f":"'Relevant Variables'!J247","v":0},{"$f":"'Relevant Variables'!J277","v":0},{"$f":"'Relevant Variables'!J307","v":0},{"$f":"'Relevant Variables'!J337","v":0},{"$f":"'Relevant Variables'!J367","v":0},{"$f":"'Relevant Variables'!J397","v":0},{"$f":"'Relevant Variables'!J427","v":0},{"$f":"'Relevant Variables'!J457","v":0},{"$f":"'Relevant Variables'!J487","v":0},{"$f":"'Relevant Variables'!J517","v":0},{"$f":"'Relevant Variables'!J547","v":0},{"$f":"'Relevant Variables'!J577","v":0},{"$f":"'Relevant Variables'!J607","v":0}]
["2023-08-01",null,{"$f":"'Energy Consumption'!K43","v":0},{"$f":"'Energy Consumption'!K44","v":0},{"$f":"'Energy Consumption'!K125","v":0},{"$f":"'Energy Consumption'!K126","v":0},{"$f":"'Energy Consumption'!K207","v":0},{"$f":"'Energy Consumption'!K208","v":0},{"$f":"'Energy Consumption'!K289","v":0},{"$f":"'Energy Consumption'!K290","v":0},{"$f":"'Energy Consumption'!K371","v":0},{"$f":"'Energy Consumption'!K372","v":0},{"$f":"'Energy Consumption'!K453","v":0},{"$f":"'Energy Consumption'!K454","v":0},{"$f":"'Energy Consumption'!K535","v":0},{"$f":"'Energy Consumption'!K536","v":0},{"$f":"'Energy Consumption'!K617","v":0},{"$f":"'Energy Consumption'!K618","v":0},{"$f":"'Energy Consumption'!K699","v":0},{"$f":"'Energy Consumption'!K700","v":0},{"$f":"'Energy Consumption'!K781","v":0},{"$f":"'Energy Consumption'!K782","v":0},{"$f":"'Energy Consumption'!K863","v":0},{"$f":"'Energy Consumption'!K864","v":0},{"$f":"'Energy Consumption'!K945","v":0},{"$f":"'Energy Consumption'!K946","v":0},{"$f":"'Energy Consumption'!K1027","v":0},{"$f":"'Energy Consumption'!K1028","v":0},{"$f":"'Energy Consumption'!K1109","v":0},{"$f":"'Energy Consumption'!K1110","v":0},{"$f":"'Energy Consumption'!K1191","v":0},{"$f":"'Energy Consumption'!K1192","v":0},{"$f":"'Energy Consumption'!K1273","v":0},{"$f":"'Energy Consumption'!K1274","v":0},{"$f":"'Energy Consumption'!K1355","v":0},{"$f":"'Energy Consumption'!K1356","v":0},{"$f":"'Energy Consumption'!K1437","v":0},{"$f":"'Energy Consumption'!K1438","v":0},{"$f":"'Energy Consumption'!K1519","v":0},{"$f":"'Energy Consumption'!K1520","v":0},{"$f":"'Energy Consumption'!K1601","v":0},{"$f":"'Energy Consumption'!K1602","v":0},null,{"$f":"'Relevant Variables'!K37","v":0},{"$f":"'Relevant Variables'!K67","v":0},{"$f":"'Relevant Variables'!K97","v":0},{"$f":"'Relevant Variables'!K127","v":0},{"$f":"'Relevant Variables'!K157","v":0},{"$f":"'Relevant Variables'!K187","v":0},{"$f":"'Relevant Variables'!K217","v":0},{"$f":"'Relevant Variables'!K247","v":0},{"$f":"'Relevant Variables'!K277","v":0},{"$f":"'Relevant Variables'!K307","v":0},{"$f":"'Relevant Variables'!K337","v":0},{"$f":"'Relevant Variables'!K367","v":0},{"$f":"'Relevant Variables'!K397","v":0},{"$f":"'Relevant Variables'!K427","v":0},{"$f":"'Relevant Variables'!K457","v":0},{"$f":"'Relevant Variables'!K487","v":0},{"$f":"'Relevant Variables'!K517","v":0},{"$f":"'Relevant Variables'!K547","v":0},{"$f":"'Relevant Variables'!K577","v":0},{"$f":"'Relevant Variables'!K607","v":0}]
["2023-09-01",null,{"$f":"'Energy Consumption'!L43","v":0},{"$f":"'Energy Consumption'!L44","v":0},{"$f":"'Energy Consumption'!L125","v":0},{"$f":"'Energy Consumption'!L126","v":0},{"$f":"'Energy Consumption'!L207","v":0},{"$f":"'Energy Consumption'!L208","v":0},{"$f":"'Energy Consumption'!L289","v":0},{"$f":"'Energy Consumption'!L290","v":0},{"$f":"'Energy Consumption'!L371","v":0},{"$f":"'Energy Consumption'!L372","v":0},{"$f":"'Energy Consumption'!L453","v":0},{"$f":"'Energy Consumption'!L454","v":0},{"$f":"'Energy Consumption'!L535","v":0},{"$f":"'Energy Consumption'!L536","v":0},{"$f":"'Energy Consumption'!L617","v":0},{"$f":"'Energy Consumption'!L618","v":0},{"$f":"'Energy Consumption'!L699","v":0},{"$f":"'Energy Consumption'!L700","v":0},{"$f":"'Energy Consumption'!L781","v":0},{"$f":"'Energy Consumption'!L782","v":0},{"$f":"'Energy Consumption'!L863","v":0},{"$f":"'Energy Consumption'!L864","v":0},{"$f":"'Energy Consumption'!L945","v":0},{"$f":"'Energy Consumption'!L946","v":0},{"$f":"'Energy Consumption'!L1027","v":0},{"$f":"'Energy Consumption'!L1028","v":0},{"$f":"'Energy Consumption'!L1109","v":0},{"$f":"'Energy Consumption'!L1110","v":0},{"$f":"'Energy Consumption'!L1191","v":0},{"$f":"'Energy Consumption'!L1192","v":0},{"$f":"'Energy Consumption'!L1273","v":0},{"$f":"'Energy Consumption'!L1274","v":0},{"$f":"'Energy Consumption'!L1355","v":0},{"$f":"'Energy Consumption'!L1356","v":0},{"$f":"'Energy Consumption'!L1437","v":0},{"$f":"'Energy Consumption'!L1438","v":0},{"$f":"'Energy Consumption'!L1519","v":0},{"$f":"'Energy Consumption'!L1520","v":0},{"$f":"'Energy Consumption'!L1601","v":0},{"$f":"'Energy Consumption'!L1602","v":0},null,{"$f":"'Relevant Variables'!L37","v":0},{"$f":"'Relevant Variables'!L67","v":0},{"$f":"'Relevant Variables'!L97","v":0},{"$f":"'Relevant Variables'!L127","v":0},{"$f":"'Relevant Variables'!L157","v":0},{"$f":"'Relevant Variables'!L187","v":0},{"$f":"'Relevant Variables'!L217","v":0},{"$f":"'Relevant Variables'!L247","v":0},{"$f":"'Relevant Variables'!L277","v":0},{"$f":"'Relevant Variables'!L307","v":0},{"$f":"'Relevant Variables'!L337","v":0},{"$f":"'Relevant Variables'!L367","v":0},{"$f":"'Relevant Variables'!L397","v":0},{"$f":"'Relevant Variables'!L427","v":0},{"$f":"'Relevant Variables'!L457","v":0},{"$f":"'Relevant Variables'!L487","v":0},{"$f":"'Relevant Variables'!L517","v":0},{"$f":"'Relevant Variables'!L547","v":0},{"$f":"'Relevant Variables'!L577","v":0},{"$f":"'Relevant Variables'!L607","v":0}]
["2023-10-01",null,{"$f":"'Energy Consumption'!M43","v":0},{"$f":"'Energy Consumption'!M44","v":0},{"$f":"'Energy Consumption'!M125","v":0},{"$f":"'Energy Consumption'!M126","v":0},{"$f":"'Energy Consumption'!M207","v":0},{"$f":"'Energy Consumption'!M208","v":0},{"$f":"'Energy Consumption'!M289","v":0},{"$f":"'Energy Consumption'!M290","v":0},{"$f":"'Energy Consumption'!M371","v":0},{"$f":"'Energy Consumption'!M372","v":0},{"$f":"'Energy Consumption'!M453","v":0},{"$f":"'Energy Consumption'!M454","v":0},{"$f":"'Energy Consumption'!M535","v":0},{"$f":"'Energy Consumption'!M536","v":0},{"$f":"'Energy Consumption'!M617","v":0},{"$f":"'Energy Consumption'!M618","v":0},{"$f":"'Energy Consumption'!M699","v":0},{"$f":"'Energy Consumption'!M700","v":0},{"$f":"'Energy Consumption'!M781","v":0},{"$f":"'Energy Consumption'!M782","v":0},{"$f":"'Energy Consumption'!M863","v":0},{"$f":"'Energy Consumption'!M864","v":0},{"$f":"'Energy Consumption'!M945","v":0},{"$f":"'Energy Consumption'!M946","v":0},{"$f":"'Energy Consumption'!M1027","v":0},{"$f":"'Energy Consumption'!M1028","v":0},{"$f":"'Energy Consumption'!M1109","v":0},{"$f":"'Energy Consumption'!M1110","v":0},{"$f":"'Energy Consumption'!M1191","v":0},{"$f":"'Energy Consumption'!M1192","v":0},{"$f":"'Energy Consumption'!M1273","v":0},{"$f":"'Energy Consumption'!M1274","v":0},{"$f":"'Energy Consumption'!M1355","v":0},{"$f":"'Energy Consumption'!M1356","v":0},{"$f":"'Energy Consumption'!M1437","v":0},{"$f":"'Energy Consumption'!M1438","v":0},{"$f":"'Energy Consumption'!M1519","v":0},{"$f":"'Energy Consumption'!M1520","v":0},{"$f":"'Energy Consumption'!M1601","v":0},{"$f":"'Energy Consumption'!M1602","v":0},null,{"$f":"'Relevant Variables'!M37","v":0},{"$f":"'Relevant Variables'!M67","v":0},{"$f":"'Relevant Variables'!M97","v":0},{"$f":"'Relevant Variables'!M127","v":0},{"$f":"'Relevant Variables'!M157","v":0},{"$f":"'Relevant Variables'!M187","v":0},{"$f":"'Relevant Variables'!M217","v":0},{"$f":"'Relevant Variables'!M247","v":0},{"$f":"'Relevant Variables'!M277","v":0},{"$f":"'Relevant Variables'!M307","v":0},{"$f":"'Relevant Variables'!M337","v":0},{"$f":"'Relevant Variables'!M367","v":0},{"$f":"'Relevant Variables'!M397","v":0},{"$f":"'Relevant Variables'!M427","v":0},{"$f":"'Relevant Variables'!M457","v":0},{"$f":"'Relevant Variables'!M487","v":0},{"$f":"'Relevant Variables'!M517","v":0},{"$f":"'Relevant Variables'!M547","v":0},{"$f":"'Relevant Variables'!M577","v":0},{"$f":"'Relevant Variables'!M607","v":0}]
["2023-11-01",null,{"$f":"'Energy Consumption'!N43","v":0},{"$f":"'Energy Consumption'!N44","v":0},{"$f":"'Energy Consumption'!N125","v":0},{"$f":"'Energy Consumption'!N126","v":0},{"$f":"'Energy Consumption'!N207","v":0},{"$f":"'Energy Consumption'!N208","v":0},{"$f":"'Energy Consumption'!N289","v":0},{"$f":"'Energy Consumption'!N290","v":0},{"$f":"'Energy Consumption'!N371","v":0},{"$f":"'Energy Consumption'!N372","v":0},{"$f":"'Energy Consumption'!N453","v":0},{"$f":"'Energy Consumption'!N454","v":0},{"$f":"'Energy Consumption'!N535","v":0},{"$f":"'Energy Consumption'!N536","v":0},{"$f":"'Energy Consumption'!N617","v":0},{"$f":"'Energy Consumption'!N618","v":0},{"$f":"'Energy Consumption'!N699","v":0},{"$f":"'Energy Consumption'!N700","v":0},{"$f":"'Energy Consumption'!N781","v":0},{"$f":"'Energy Consumption'!N782","v":0},{"$f":"'Energy Consumption'!N863","v":0},{"$f":"'Energy Consumption'!N864","v":0},{"$f":"'Energy Consumption'!N945","v":0},{"$f":"'Energy Consumption'!N946","v":0},{"$f":"'Energy Consumption'!N1027","v":0},{"$f":"'Energy Consumption'!N1028","v":0},{"$f":"'Energy Consumption'!N1109","v":0},{"$f":"'Energy Consumption'!N1110","v":0},{"$f":"'Energy Consumption'!N1191","v":0},{"$f":"'Energy Consumption'!N1192","v":0},{"$f":"'Energy Consumption'!N1273","v":0},{"$f":"'Energy Consumption'!N1274","v":0},{"$f":"'Energy Consumption'!N1355","v":0},{"$f":"'Energy Consumption'!N1356","v":0},{"$f":"'Energy Consumption'!N1437","v":0},{"$f":"'Energy Consumption'!N1438","v":0},{"$f":"'Energy Consumption'!N1519","v":0},{"$f":"'Energy Consumption'!N1520","v":0},{"$f":"'Energy Consumption'!N1601","v":0},{"$f":"'Energy Consumption'!N1602","v":0},null,{"$f":"'Relevant Variables'!N37","v":0},{"$f":"'Relevant Variables'!N67","v":0},{"$f":"'Relevant Variables'!N97","v":0},{"$f":"'Relevant Variables'!N127","v":0},{"$f":"'Relevant Variables'!N157","v":0},{"$f":"'Relevant Variables'!N187","v":0},{"$f":"'Relevant Variables'!N217","v":0},{"$f":"'Relevant Variables'!N247","v":0},{"$f":"'Relevant Variables'!N277","v":0},{"$f":"'Relevant Variables'!N307","v":0},{"$f":"'Relevant Variables'!N337","v":0},{"$f":"'Relevant Variables'!N367","v":0},{"$f":"'Relevant Variables'!N397","v":0},{"$f":"'Relevant Variables'!N427","v":0},{"$f":"'Relevant Variables'!N457","v":0},{"$f":"'Relevant Variables'!N487","v":0},{"$f":"'Relevant Variables'!N517","v":0},{"$f":"'Relevant Variables'!N547","v":0},{"$f":"'Relevant Variables'!N577","v":0},{"$f":"'Relevant Variables'!N607","v":0}]
["2023-12-01",null,{"$f":"'Energy Consumption'!O43","v":0},{"$f":"'Energy Consumption'!O44","v":0},{"$f":"'Energy Consumption'!O125","v":0},{"$f":"'Energy Consumption'!O126","v":0},{"$f":"'Energy Consumption'!O207","v":0},{"$f":"'Energy Consumption'!O208","v":0},{"$f":"'Energy Consumption'!O289","v":0},{"$f":"'Energy Consumption'!O290","v":0},{"$f":"'Energy Consumption'!O371","v":0},{"$f":"'Energy Consumption'!O372","v":0},{"$f":"'Energy Consumption'!O453","v":0},{"$f":"'Energy Consumption'!O454","v":0},{"$f":"'Energy Consumption'!O535","v":0},{"$f":"'Energy Consumption'!O536","v":0},{"$f":"'Energy Consumption'!O617","v":0},{"$f":"'Energy Consumption'!O618","v":0},{"$f":"'Energy Consumption'!O699","v":0},{"$f":"'Energy Consumption'!O700","v":0},{"$f":"'Energy Consumption'!O781","v":0},{"$f":"'Energy Consumption'!O782","v":0},{"$f":"'Energy Consumption'!O863","v":0},{"$f":"'Energy Consumption'!O864","v":0},{"$f":"'Energy Consumption'!O945","v":0},{"$f":"'Energy Consumption'!O946","v":0},{"$f":"'Energy Consumption'!O1027","v":0},{"$f":"'Energy Consumption'!O1028","v":0},{"$f":"'Energy Consumption'!O1109","v":0},{"$f":"'Energy Consumption'!O1110","v":0},{"$f":"'Energy Consumption'!O1191","v":0},{"$f":"'Energy Consumption'!O1192","v":0},{"$f":"'Energy Consumption'!O1273","v":0},{"$f":"'Energy Consumption'!O1274","v":0},{"$f":"'Energy Consumption'!O1355","v":0},{"$f":"'Energy Consumption'!O1356","v":0},{"$f":"'Energy Consumption'!O1437","v":0},{"$f":"'Energy Consumption'!O1438","v":0},{"$f":"'Energy Consumption'!O1519","v":0},{"$f":"'Energy Consumption'!O1520","v":0},{"$f":"'Energy Consumption'!O1601","v":0},{"$f":"'Energy Consumption'!O1602","v":0},null,{"$f":"'Relevant Variables'!O37","v":0},{"$f":"'Relevant Variables'!O67","v":0},{"$f":"'Relevant Variables'!O97","v":0},{"$f":"'Relevant Variables'!O127","v":0},{"$f":"'Relevant Variables'!O157","v":0},{"$f":"'Relevant Variables'!O187","v":0},{"$f":"'Relevant Variables'!O217","v":0},{"$f":"'Relevant Variables'!O247","v":0},{"$f":"'Relevant Variables'!O277","v":0},{"$f":"'Relevant Variables'!O307","v":0},{"$f":"'Relevant Variables'!O337","v":0},{"$f":"'Relevant Variables'!O367","v":0},{"$f":"'Relevant Variables'!O397","v":0},{"$f":"'Relevant Variables'!O427","v":0},{"$f":"'Relevant Variables'!O457","v":0},{"$f":"'Relevant Variables'!O487","v":0},{"$f":"'Relevant Variables'!O517","v":0},{"$f":"'Relevant Variables'!O547","v":0},{"$f":"'Relevant Variables'!O577","v":0},{"$f":"'Relevant Variables'!O607","v":0}]
["2024-01-01",null,{"$f":"'Energy Consumption'!D41","v":0},{"$f":"'Energy Consumption'!D42","v":0},{"$f":"'Energy Consumption'!D123","v":0},{"$f":"'Energy Consumption'!D124","v":0},{"$f":"'Energy Consumption'!D205","v":0},{"$f":"'Energy Consumption'!D206","v":0},{"$f":"'Energy Consumption'!D287","v":0},{"$f":"'Energy Consumption'!D288","v":0},{"$f":"'Energy Consumption'!D369","v":0},{"$f":"'Energy Consumption'!D370","v":0},{"$f":"'Energy Consumption'!D451","v":0},{"$f":"'Energy Consumption'!D452","v":0},{"$f":"'Energy Consumption'!D533","v":0},{"$f":"'Energy Consumption'!D534","v":0},{"$f":"'Energy Consumption'!D615","v":0},{"$f":"'Energy Consumption'!D616","v":0},{"$f":"'Energy Consumption'!D697","v":0},{"$f":"'Energy Consumption'!D698","v":0},{"$f":"'Energy Consumption'!D779","v":0},{"$f":"'Energy Consumption'!D780","v":0},{"$f":"'Energy Consumption'!D861","v":0},{"$f":"'Energy Consumption'!D862","v":0},{"$f":"'Energy Consumption'!D943","v":0},{"$f":"'Energy Consumption'!D944","v":0},{"$f":"'Energy Consumption'!D1025","v":0},{"$f":"'Energy Consumption'!D1026","v":0},{"$f":"'Energy Consumption'!D1107","v":0},{"$f":"'Energy Consumption'!D1108","v":0},{"$f":"'Energy Consumption'!D1189","v":0},{"$f":"'Energy Consumption'!D1190","v":0},{"$f":"'Energy Consumption'!D1271","v":0},{"$f":"'Energy Consumption'!D1272","v":0},{"$f":"'Energy Consumption'!D1353","v":0},{"$f":"'Energy Consumption'!D1354","v":0},{"$f":"'Energy Consumption'!D1435","v":0},{"$f":"'Energy Consumption'!D1436","v":0},{"$f":"'Energy Consumption'!D1517","v":0},{"$f":"'Energy Consumption'!D1518","v":0},{"$f":"'Energy Consumption'!D1599","v":0},{"$f":"'Energy Consumption'!D1600","v":0},null,{"$f":"'Relevant Variables'!D36","v":0},{"$f":"'Relevant Variables'!D66","v":0},{"$f":"'Relevant Variables'!D96","v":0},{"$f":"'Relevant Variables'!D126","v":0},{"$f":"'Relevant Variables'!D156","v":0},{"$f":"'Relevant Variables'!D186","v":0},{"$f":"'Relevant Variables'!D216","v":0},{"$f":"'Relevant Variables'!D246","v":0},{"$f":"'Relevant Variables'!D276","v":0},{"$f":"'Relevant Variables'!D306","v":0},{"$f":"'Relevant Variables'!D336","v":0},{"$f":"'Relevant Variables'!D366","v":0},{"$f":"'Relevant Variables'!D396","v":0},{"$f":"'Relevant Variables'!D426","v":0},{"$f":"'Relevant Variables'!D456","v":0},{"$f":"'Relevant Variables'!D486","v":0},{"$f":"'Relevant Variables'!D516","v":0},{"$f":"'Relevant Variables'!D546","v":0},{"$f":"'Relevant Variables'!D576","v":0},{"$f":"'Relevant Variables'!D606","v":0}]
["2024-02-01",null,{"$f":"'Energy Consumption'!E41","v":0},{"$f":"'Energy Consumption'!E42","v":0},{"$f":"'Energy Consumption'!E123","v":0},{"$f":"'Energy Consumption'!E124","v":0},{"$f":"'Energy Consumption'!E205","v":0},{"$f":"'Energy Consumption'!E206","v":0},{"$f":"'Energy Consumption'!E287","v":0},{"$f":"'Energy Consumption'!E288","v":0},{"$f":"'Energy Consumption'!E369","v":0},{"$f":"'Energy Consumption'!E370","v":0},{"$f":"'Energy Consumption'!E451","v":0},{"$f":"'Energy Consumption'!E452","v":0},{"$f":"'Energy Consumption'!E533","v":0},{"$f":"'Energy Consumption'!E534","v":0},{"$f":"'Energy Consumption'!E615","v":0},{"$f":"'Energy Consumption'!E616","v":0},{"$f":"'Energy Consumption'!E697","v":0},{"$f":"'Energy Consumption'!E698","v":0},{"$f":"'Energy Consumption'!E779","v":0},{"$f":"'Energy Consumption'!E780","v":0},{"$f":"'Energy Consumption'!E861","v":0},{"$f":"'Energy Consumption'!E862","v":0},{"$f":"'Energy Consumption'!E943","v":0},{"$f":"'Energy Consumption'!E944","v":0},{"$f":"'Energy Consumption'!E1025","v":0},{"$f":"'Energy Consumption'!E1026","v":0},{"$f":"'Energy Consumption'!E1107","v":0},{"$f":"'Energy Consumption'!E1108","v":0},{"$f":"'Energy Consumption'!E1189","v":0},{"$f":"'Energy Consumption'!E1190","v":0},{"$f":"'Energy Consumption'!E1271","v":0},{"$f":"'Energy Consumption'!E1272","v":0},{"$f":"'Energy Consumption'!E1353","v":0},{"$f":"'Energy Consumption'!E1354","v":0},{"$f":"'Energy Consumption'!E1435","v":0},{"$f":"'Energy Consumption'!E1436","v":0},{"$f":"'Energy Consumption'!E1517","v":0},{"$f":"'Energy Consumption'!E1518","v":0},{"$f":"'Energy Consumption'!E1599","v":0},{"$f":"'Energy Consumption'!E1600","v":0},null,{"$f":"'Relevant Variables'!E36","v":0},{"$f":"'Relevant Variables'!E66","v":0},{"$f":"'Relevant Variables'!E96","v":0},{"$f":"'Relevant Variables'!E126","v":0},{"$f":"'Relevant Variables'!E156","v":0},{"$f":"'Relevant Variables'!E186","v":0},{"$f":"'Relevant Variables'!E216","v":0},{"$f":"'Relevant Variables'!E246","v":0},{"$f":"'Relevant Variables'!E276","v":0},{"$f":"'Relevant Variables'!E306","v":0},{"$f":"'Relevant Variables'!E336","v":0},{"$f":"'Relevant Variables'!E366","v":0},{"$f":"'Relevant Variables'!E396","v":0},{"$f":"'Relevant Variables'!E426","v":0},{"$f":"'Relevant Variables'!E456","v":0},{"$f":"'Relevant Variables'!E486","v":0},{"$f":"'Relevant Variables'!E516","v":0},{"$f":"'Relevant Variables'!E546","v":0},{"$f":"'Relevant Variables'!E576","v":0},{"$f":"'Relevant Variables'!E606","v":0}]
["2024-03-01",null,{"$f":"'Energy Consumption'!F41","v":0},{"$f":"'Energy Consumption'!F42","v":0},{"$f":"'Energy Consumption'!F123","v":0},{"$f":"'Energy Consumption'!F124","v":0},{"$f":"'Energy Consumption'!F205","v":0},{"$f":"'Energy Consumption'!F206","v":0},{"$f":"'Energy Consumption'!F287","v":0},{"$f":"'Energy Consumption'!F288","v":0},{"$f":"'Energy Consumption'!F369","v":0},{"$f":"'Energy Consumption'!F370","v":0},{"$f":"'Energy Consumption'!F451","v":0},{"$f":"'Energy Consumption'!F452","v":0},{"$f":"'Energy Consumption'!F533","v":0},{"$f":"'Energy Consumption'!F534","v":0},{"$f":"'Energy Consumption'!F615","v":0},{"$f":"'Energy Consumption'!F616","v":0},{"$f":"'Energy Consumption'!F697","v":0},{"$f":"'Energy Consumption'!F698","v":0},{"$f":"'Energy Consumption'!F779","v":0},{"$f":"'Energy Consumption'!F780","v":0},{"$f":"'Energy Consumption'!F861","v":0},{"$f":"'Energy Consumption'!F862","v":0},{"$f":"'Energy Consumption'!F943","v":0},{"$f":"'Energy Consumption'!F944","v":0},{"$f":"'Energy Consumption'!F1025","v":0},{"$f":"'Energy Consumption'!F1026","v":0},{"$f":"'Energy Consumption'!F1107","v":0},{"$f":"'Energy Consumption'!F1108","v":0},{"$f":"'Energy Consumption'!F1189","v":0},{"$f":"'Energy Consumption'!F1190","v":0},{"$f":"'Energy Consumption'!F1271","v":0},{"$f":"'Energy Consumption'!F1272","v":0},{"$f":"'Energy Consumption'!F1353","v":0},{"$f":"'Energy Consumption'!F1354","v":0},{"$f":"'Energy Consumption'!F1435","v":0},{"$f":"'Energy Consumption'!F1436","v":0},{"$f":"'Energy Consumption'!F1517","v":0},{"$f":"'Energy Consumption'!F1518","v":0},{"$f":"'Energy Consumption'!F1599","v":0},{"$f":"'Energy Consumption'!F1600","v":0},null,{"$f":"'Relevant Variables'!F36","v":0},{"$f":"'Relevant Variables'!F66","v":0},{"$f":"'Relevant Variables'!F96","v":0},{"$f":"'Relevant Variables'!F126","v":0},{"$f":"'Relevant Variables'!F156","v":0},{"$f":"'Relevant Variables'!F186","v":0},{"$f":"'Relevant Variables'!F216","v":0},{"$f":"'Relevant Variables'!F246","v":0},{"$f":"'Relevant Variables'!F276","v":0},{"$f":"'Relevant Variables'!F306","v":0},{"$f":"'Relevant Variables'!F336","v":0},{"$f":"'Relevant Variables'!F366","v":0},{"$f":"'Relevant Variables'!F396","v":0},{"$f":"'Relevant Variables'!F426","v":0},{"$f":"'Relevant Variables'!F456","v":0},{"$f":"'Relevant Variables'!F486","v":0},{"$f":"'Relevant Variables'!F516","v":0},{"$f":"'Relevant Variables'!F546","v":0},{"$f":"'Relevant Variables'!F576","v":0},{"$f":"'Relevant Variables'!F606","v":0}]
["2024-04-01",null,{"$f":"'Energy Consumption'!G41","v":0},{"$f":"'Energy Consumption'!G42","v":0},{"$f":"'Energy Consumption'!G123","v":0},{"$f":"'Energy Consumption'!G124","v":0},{"$f":"'Energy Consumption'!G205","v":0},{"$f":"'Energy Consumption'!G206","v":0},{"$f":"'Energy Consumption'!G287","v":0},{"$f":"'Energy Consumption'!G288","v":0},{"$f":"'Energy Consumption'!G369","v":0},{"$f":"'Energy Consumption'!G370","v":0},{"$f":"'Energy Consumption'!G451","v":0},{"$f":"'Energy Consumption'!G452","v":0},{"$f":"'Energy Consumption'!G533","v":0},{"$f":"'Energy Consumption'!G534","v":0},{"$f":"'Energy Consumption'!G615","v":0},{"$f":"'Energy Consumption'!G616","v":0},{"$f":"'Energy Consumption'!G697","v":0},{"$f":"'Energy Consumption'!G698","v":0},{"$f":"'Energy Consumption'!G779","v":0},{"$f":"'Energy Consumption'!G780","v":0},{"$f":"'Energy Consumption'!G861","v":0},{"$f":"'Energy Consumption'!G862","v":0},{"$f":"'Energy Consumption'!G943","v":0},{"$f":"'Energy Consumption'!G944","v":0},{"$f":"'Energy Consumption'!G1025","v":0},{"$f":"'Energy Consumption'!G1026","v":0},{"$f":"'Energy Consumption'!G1107","v":0},{"$f":"'Energy Consumption'!G1108","v":0},{"$f":"'Energy Consumption'!G1189","v":0},{"$f":"'Energy Consumption'!G1190","v":0},{"$f":"'Energy Consumption'!G1271","v":0},{"$f":"'Energy Consumption'!G1272","v":0},{"$f":"'Energy Consumption'!G1353","v":0},{"$f":"'Energy Consumption'!G1354","v":0},{"$f":"'Energy Consumption'!G1435","v":0},{"$f":"'Energy Consumption'!G1436","v":0},{"$f":"'Energy Consumption'!G1517","v":0},{"$f":"'Energy Consumption'!G1518","v":0},{"$f":"'Energy Consumption'!G1599","v":0},{"$f":"'Energy Consumption'!G1600","v":0},null,{"$f":"'Relevant Variables'!G36","v":0},{"$f":"'Relevant Variables'!G66","v":0},{"$f":"'Relevant Variables'!G96","v":0},{"$f":"'Relevant Variables'!G126","v":0},{"$f":"'Relevant Variables'!G156","v":0},{"$f":"'Relevant Variables'!G186","v":0},{"$f":"'Relevant Variables'!G216","v":0},{"$f":"'Relevant Variables'!G246","v":0},{"$f":"'Relevant Variables'!G276","v":0},{"$f":"'Relevant Variables'!G306","v":0},{"$f":"'Relevant Variables'!G336","v":0},{"$f":"'Relevant Variables'!G366","v":0},{"$f":"'Relevant Variables'!G396","v":0},{"$f":"'Relevant Variables'!G426","v":0},{"$f":"'Relevant Variables'!G456","v":0},{"$f":"'Relevant Variables'!G486","v":0},{"$f":"'Relevant Variables'!G516","v":0},{"$f":"'Relevant Variables'!G546","v":0},{"$f":"'Relevant Variables'!G576","v":0},{"$f":"'Relevant Variables'!G606","v":0}]
["2024-05-01",null,{"$f":"'Energy Consumption'!H41","v":0},{"$f":"'Energy Consumption'!H42","v":0},{"$f":"'Energy Consumption'!H123","v":0},{"$f":"'Energy Consumption'!H124","v":0},{"$f":"'Energy Consumption'!H205","v":0},{"$f":"'Energy Consumption'!H206","v":0},{"$f":"'Energy Consumption'!H287","v":0},{"$f":"'Energy Consumption'!H288","v":0},{"$f":"'Energy Consumption'!H369","v":0},{"$f":"'Energy Consumption'!H370","v":0},{"$f":"'Energy Consumption'!H451","v":0},{"$f":"'Energy Consumption'!H452","v":0},{"$f":"'Energy Consumption'!H533","v":0},{"$f":"'Energy Consumption'!H534","v":0},{"$f":"'Energy Consumption'!H615","v":0},{"$f":"'Energy Consumption'!H616","v":0},{"$f":"'Energy Consumption'!H697","v":0},{"$f":"'Energy Consumption'!H698","v":0},{"$f":"'Energy Consumption'!H779","v":0},{"$f":"'Energy Consumption'!H780","v":0},{"$f":"'Energy Consumption'!H861","v":0},{"$f":"'Energy Consumption'!H862","v":0},{"$f":"'Energy Consumption'!H943","v":0},{"$f":"'Energy Consumption'!H944","v":0},{"$f":"'Energy Consumption'!H1025","v":0},{"$f":"'Energy Consumption'!H1026","v":0},{"$f":"'Energy Consumption'!H1107","v":0},{"$f":"'Energy Consumption'!H1108","v":0},{"$f":"'Energy Consumption'!H1189","v":0},{"$f":"'Energy Consumption'!H1190","v":0},{"$f":"'Energy Consumption'!H1271","v":0},{"$f":"'Energy Consumption'!H1272","v":0},{"$f":"'Energy Consumption'!H1353","v":0},{"$f":"'Energy Consumption'!H1354","v":0},{"$f":"'Energy Consumption'!H1435","v":0},{"$f":"'Energy Consumption'!H1436","v":0},{"$f":"'Energy Consumption'!H1517","v":0},{"$f":"'Energy Consumption'!H1518","v":0},{"$f":"'Energy Consumption'!H1599","v":0},{"$f":"'Energy Consumption'!H1600","v":0},null,{"$f":"'Relevant Variables'!H36","v":0},{"$f":"'Relevant Variables'!H66","v":0},{"$f":"'Relevant Variables'!H96","v":0},{"$f":"'Relevant Variables'!H126","v":0},{"$f":"'Relevant Variables'!H156","v":0},{"$f":"'Relevant Variables'!H186","v":0},{"$f":"'Relevant Variables'!H216","v":0},{"$f":"'Relevant Variables'!H246","v":0},{"$f":"'Relevant Variables'!H276","v":0},{"$f":"'Relevant Variables'!H306","v":0},{"$f":"'Relevant Variables'!H336","v":0},{"$f":"'Relevant Variables'!H366","v":0},{"$f":"'Relevant Variables'!H396","v":0},{"$f":"'Relevant Variables'!H426","v":0},{"$f":"'Relevant Variables'!H456","v":0},{"$f":"'Relevant Variables'!H486","v":0},{"$f":"'Relevant Variables'!H516","v":0},{"$f":"'Relevant Variables'!H546","v":0},{"$f":"'Relevant Variables'!H576","v":0},{"$f":"'Relevant Variables'!H606","v":0}]
["2024-06-01",null,{"$f":"'Energy Consumption'!I41","v":0},{"$f":"'Energy Consumption'!I42","v":0},{"$f":"'Energy Consumption'!I123","v":0},{"$f":"'Energy Consumption'!I124","v":0},{"$f":"'Energy Consumption'!I205","v":0},{"$f":"'Energy Consumption'!I206","v":0},{"$f":"'Energy Consumption'!I287","v":0},{"$f":"'Energy Consumption'!I288","v":0},{"$f":"'Energy Consumption'!I369","v":0},{"$f":"'Energy Consumption'!I370","v":0},{"$f":"'Energy Consumption'!I451","v":0},{"$f":"'Energy Consumption'!I452","v":0},{"$f":"'Energy Consumption'!I533","v":0},{"$f":"'Energy Consumption'!I534","v":0},{"$f":"'Energy Consumption'!I615","v":0},{"$f":"'Energy Consumption'!I616","v":0},{"$f":"'Energy Consumption'!I697","v":0},{"$f":"'Energy Consumption'!I698","v":0},{"$f":"'Energy Consumption'!I779","v":0},{"$f":"'Energy Consumption'!I780","v":0},{"$f":"'Energy Consumption'!I861","v":0},{"$f":"'Energy Consumption'!I862","v":0},{"$f":"'Energy Consumption'!I943","v":0},{"$f":"'Energy Consumption'!I944","v":0},{"$f":"'Energy Consumption'!I1025","v":0},{"$f":"'Energy Consumption'!I1026","v":0},{"$f":"'Energy Consumption'!I1107","v":0},{"$f":"'Energy Consumption'!I1108","v":0},{"$f":"'Energy Consumption'!I1189","v":0},{"$f":"'Energy Consumption'!I1190","v":0},{"$f":"'Energy Consumption'!I1271","v":0},{"$f":"'Energy Consumption'!I1272","v":0},{"$f":"'Energy Consumption'!I1353","v":0},{"$f":"'Energy Consumption'!I1354","v":0},{"$f":"'Energy Consumption'!I1435","v":0},{"$f":"'Energy Consumption'!I1436","v":0},{"$f":"'Energy Consumption'!I1517","v":0},{"$f":"'Energy Consumption'!I1518","v":0},{"$f":"'Energy Consumption'!I1599","v":0},{"$f":"'Energy Consumption'!I1600","v":0},null,{"$f":"'Relevant Variables'!I36","v":0},{"$f":"'Relevant Variables'!I66","v":0},{"$f":"'Relevant Variables'!I96","v":0},{"$f":"'Relevant Variables'!I126","v":0},{"$f":"'Relevant Variables'!I156","v":0},{"$f":"'Relevant Variables'!I186","v":0},{"$f":"'Relevant Variables'!I216","v":0},{"$f":"'Relevant Variables'!I246","v":0},{"$f":"'Relevant Variables'!I276","v":0},{"$f":"'Relevant Variables'!I306","v":0},{"$f":"'Relevant Variables'!I336","v":0},{"$f":"'Relevant Variables'!I366","v":0},{"$f":"'Relevant Variables'!I396","v":0},{"$f":"'Relevant Variables'!I426","v":0},{"$f":"'Relevant Variables'!I456","v":0},{"$f":"'Relevant Variables'!I486","v":0},{"$f":"'Relevant Variables'!I516","v":0},{"$f":"'Relevant Variables'!I546","v":0},{"$f":"'Relevant Variables'!I576","v":0},{"$f":"'Relevant Variables'!I606","v":0}]
["2024-07-01",null,{"$f":"'Energy Consumption'!J41","v":0},{"$f":"'Energy Consumption'!J42","v":0},{"$f":"'Energy Consumption'!J123","v":0},{"$f":"'Energy Consumption'!J124","v":0},{"$f":"'Energy Consumption'!J205","v":0},{"$f":"'Energy Consumption'!J206","v":0},{"$f":"'Energy Consumption'!J287","v":0},{"$f":"'Energy Consumption'!J288","v":0},{"$f":"'Energy Consumption'!J369","v":0},{"$f":"'Energy Consumption'!J370","v":0},{"$f":"'Energy Consumption'!J451","v":0},{"$f":"'Energy Consumption'!J452","v":0},{"$f":"'Energy Consumption'!J533","v":0},{"$f":"'Energy Consumption'!J534","v":0},{"$f":"'Energy Consumption'!J615","v":0},{"$f":"'Energy Consumption'!J616","v":0},{"$f":"'Energy Consumption'!J697","v":0},{"$f":"'Energy Consumption'!J698","v":0},{"$f":"'Energy Consumption'!J779","v":0},{"$f":"'Energy Consumption'!J780","v":0},{"$f":"'Energy Consumption'!J861","v":0},{"$f":"'Energy Consumption'!J862","v":0},{"$f":"'Energy Consumption'!J943","v":0},{"$f":"'Energy Consumption'!J944","v":0},{"$f":"'Energy Consumption'!J1025","v":0},{"$f":"'Energy Consumption'!J1026","v":0},{"$f":"'Energy Consumption'!J1107","v":0},{"$f":"'Energy Consumption'!J1108","v":0},{"$f":"'Energy Consumption'!J1189","v":0},{"$f":"'Energy Consumption'!J1190","v":0},{"$f":"'Energy Consumption'!J1271","v":0},{"$f":"'Energy Consumption'!J1272","v":0},{"$f":"'Energy Consumption'!J1353","v":0},{"$f":"'Energy Consumption'!J1354","v":0},{"$f":"'Energy Consumption'!J1435","v":0},{"$f":"'Energy Consumption'!J1436","v":0},{"$f":"'Energy Consumption'!J1517","v":0},{"$f":"'Energy Consumption'!J1518","v":0},{"$f":"'Energy Consumption'!J1599","v":0},{"$f":"'Energy Consumption'!J1600","v":0},null,{"$f":"'Relevant Variables'!J36","v":0},{"$f":"'Relevant Variables'!J66","v":0},{"$f":"'Relevant Variables'!J96","v":0},{"$f":"'Relevant Variables'!J126","v":0},{"$f":"'Relevant Variables'!J156","v":0},{"$f":"'Relevant Variables'!J186","v":0},{"$f":"'Relevant Variables'!J216","v":0},{"$f":"'Relevant Variables'!J246","v":0},{"$f":"'Relevant Variables'!J276","v":0},{"$f":"'Relevant Variables'!J306","v":0},{"$f":"'Relevant Variables'!J336","v":0},{"$f":"'Relevant Variables'!J366","v":0},{"$f":"'Relevant Variables'!J396","v":0},{"$f":"'Relevant Variables'!J426","v":0},{"$f":"'Relevant Variables'!J456","v":0},{"$f":"'Relevant Variables'!J486","v":0},{"$f":"'Relevant Variables'!J516","v":0},{"$f":"'Relevant Variables'!J546","v":0},{"$f":"'Relevant Variables'!J576","v":0},{"$f":"'Relevant Variables'!J606","v":0}]
["2024-08-01",null,{"$f":"'Energy Consumption'!K41","v":0},{"$f":"'Energy Consumption'!K42","v":0},{"$f":"'Energy Consumption'!K123","v":0},{"$f":"'Energy Consumption'!K124","v":0},{"$f":"'Energy Consumption'!K205","v":0},{"$f":"'Energy Consumption'!K206","v":0},{"$f":"'Energy Consumption'!K287","v":0},{"$f":"'Energy Consumption'!K288","v":0},{"$f":"'Energy Consumption'!K369","v":0},{"$f":"'Energy Consumption'!K370","v":0},{"$f":"'Energy Consumption'!K451","v":0},{"$f":"'Energy Consumption'!K452","v":0},{"$f":"'Energy Consumption'!K533","v":0},{"$f":"'Energy Consumption'!K534","v":0},{"$f":"'Energy Consumption'!K615","v":0},{"$f":"'Energy Consumption'!K616","v":0},{"$f":"'Energy Consumption'!K697","v":0},{"$f":"'Energy Consumption'!K698","v":0},{"$f":"'Energy Consumption'!K779","v":0},{"$f":"'Energy Consumption'!K780","v":0},{"$f":"'Energy Consumption'!K861","v":0},{"$f":"'Energy Consumption'!K862","v":0},{"$f":"'Energy Consumption'!K943","v":0},{"$f":"'Energy Consumption'!K944","v":0},{"$f":"'Energy Consumption'!K1025","v":0},{"$f":"'Energy Consumption'!K1026","v":0},{"$f":"'Energy Consumption'!K1107","v":0},{"$f":"'Energy Consumption'!K1108","v":0},{"$f":"'Energy Consumption'!K1189","v":0},{"$f":"'Energy Consumption'!K1190","v":0},{"$f":"'Energy Consumption'!K1271","v":0},{"$f":"'Energy Consumption'!K1272","v":0},{"$f":"'Energy Consumption'!K1353","v":0},{"$f":"'Energy Consumption'!K1354","v":0},{"$f":"'Energy Consumption'!K1435","v":0},{"$f":"'Energy Consumption'!K1436","v":0},{"$f":"'Energy Consumption'!K1517","v":0},{"$f":"'Energy Consumption'!K1518","v":0},{"$f":"'Energy Consumption'!K1599","v":0},{"$f":"'Energy Consumption'!K1600","v":0},null,{"$f":"'Relevant Variables'!K36","v":0},{"$f":"'Relevant Variables'!K66","v":0},{"$f":"'Relevant Variables'!K96","v":0},{"$f":"'Relevant Variables'!K126","v":0},{"$f":"'Relevant Variables'!K156","v":0},{"$f":"'Relevant Variables'!K186","v":0},{"$f":"'Relevant Variables'!K216","v":0},{"$f":"'Relevant Variables'!K246","v":0},{"$f":"'Relevant Variables'!K276","v":0},{"$f":"'Relevant Variables'!K306","v":0},{"$f":"'Relevant Variables'!K336","v":0},{"$f":"'Relevant Variables'!K366","v":0},{"$f":"'Relevant Variables'!K396","v":0},{"$f":"'Relevant Variables'!K426","v":0},{"$f":"'Relevant Variables'!K456","v":0},{"$f":"'Relevant Variables'!K486","v":0},{"$f":"'Relevant Variables'!K516","v":0},{"$f":"'Relevant Variables'!K546","v":0},{"$f":"'Relevant Variables'!K576","v":0},{"$f":"'Relevant Variables'!K606","v":0}]
["2024-09-01",null,{"$f":"'Energy Consumption'!L41","v":0},{"$f":"'Energy Consumption'!L42","v":0},{"$f":"'Energy Consumption'!L123","v":0},{"$f":"'Energy Consumption'!L124","v":0},{"$f":"'Energy Consumption'!L205","v":0},{"$f":"'Energy Consumption'!L206","v":0},{"$f":"'Energy Consumption'!L287","v":0},{"$f":"'Energy Consumption'!L288","v":0},{"$f":"'Energy Consumption'!L369","v":0},{"$f":"'Energy Consumption'!L370","v":0},{"$f":"'Energy Consumption'!L451","v":0},{"$f":"'Energy Consumption'!L452","v":0},{"$f":"'Energy Consumption'!L533","v":0},{"$f":"'Energy Consumption'!L534","v":0},{"$f":"'Energy Consumption'!L615","v":0},{"$f":"'Energy Consumption'!L616","v":0},{"$f":"'Energy Consumption'!L697","v":0},{"$f":"'Energy Consumption'!L698","v":0},{"$f":"'Energy Consumption'!L779","v":0},{"$f":"'Energy Consumption'!L780","v":0},{"$f":"'Energy Consumption'!L861","v":0},{"$f":"'Energy Consumption'!L862","v":0},{"$f":"'Energy Consumption'!L943","v":0},{"$f":"'Energy Consumption'!L944","v":0},{"$f":"'Energy Consumption'!L1025","v":0},{"$f":"'Energy Consumption'!L1026","v":0},{"$f":"'Energy Consumption'!L1107","v":0},{"$f":"'Energy Consumption'!L1108","v":0},{"$f":"'Energy Consumption'!L1189","v":0},{"$f":"'Energy Consumption'!L1190","v":0},{"$f":"'Energy Consumption'!L1271","v":0},{"$f":"'Energy Consumption'!L1272","v":0},{"$f":"'Energy Consumption'!L1353","v":0},{"$f":"'Energy Consumption'!L1354","v":0},{"$f":"'Energy Consumption'!L1435","v":0},{"$f":"'Energy Consumption'!L1436","v":0},{"$f":"'Energy Consumption'!L1517","v":0},{"$f":"'Energy Consumption'!L1518","v":0},{"$f":"'Energy Consumption'!L1599","v":0},{"$f":"'Energy Consumption'!L1600","v":0},null,{"$f":"'Relevant Variables'!L36","v":0},{"$f":"'Relevant Variables'!L66","v":0},{"$f":"'Relevant Variables'!L96","v":0},{"$f":"'Relevant Variables'!L126","v":0},{"$f":"'Relevant Variables'!L156","v":0},{"$f":"'Relevant Variables'!L186","v":0},{"$f":"'Relevant Variables'!L216","v":0},{"$f":"'Relevant Variables'!L246","v":0},{"$f":"'Relevant Variables'!L276","v":0},{"$f":"'Relevant Variables'!L306","v":0},{"$f":"'Relevant Variables'!L336","v":0},{"$f":"'Relevant Variables'!L366","v":0},{"$f":"'Relevant Variables'!L396","v":0},{"$f":"'Relevant Variables'!L426","v":0},{"$f":"'Relevant Variables'!L456","v":0},{"$f":"'Relevant Variables'!L486","v":0},{"$f":"'Relevant Variables'!L516","v":0},{"$f":"'Relevant Variables'!L546","v":0},{"$f":"'Relevant Variables'!L576","v":0},{"$f":"'Relevant Variables'!L606","v":0}]
["2024-10-01",null,{"$f":"'Energy Consumption'!M41","v":0},{"$f":"'Energy Consumption'!M42","v":0},{"$f":"'Energy Consumption'!M123","v":0},{"$f":"'Energy Consumption'!M124","v":0},{"$f":"'Energy Consumption'!M205","v":0},{"$f":"'Energy Consumption'!M206","v":0},{"$f":"'Energy Consumption'!M287","v":0},{"$f":"'Energy Consumption'!M288","v":0},{"$f":"'Energy Consumption'!M369","v":0},{"$f":"'Energy Consumption'!M370","v":0},{"$f":"'Energy Consumption'!M451","v":0},{"$f":"'Energy Consumption'!M452","v":0},{"$f":"'Energy Consumption'!M533","v":0},{"$f":"'Energy Consumption'!M534","v":0},{"$f":"'Energy Consumption'!M615","v":0},{"$f":"'Energy Consumption'!M616","v":0},{"$f":"'Energy Consumption'!M697","v":0},{"$f":"'Energy Consumption'!M698","v":0},{"$f":"'Energy Consumption'!M779","v":0},{"$f":"'Energy Consumption'!M780","v":0},{"$f":"'Energy Consumption'!M861","v":0},{"$f":"'Energy Consumption'!M862","v":0},{"$f":"'Energy Consumption'!M943","v":0},{"$f":"'Energy Consumption'!M944","v":0},{"$f":"'Energy Consumption'!M1025","v":0},{"$f":"'Energy Consumption'!M1026","v":0},{"$f":"'Energy Consumption'!M1107","v":0},{"$f":"'Energy Consumption'!M1108","v":0},{"$f":"'Energy Consumption'!M1189","v":0},{"$f":"'Energy Consumption'!M1190","v":0},{"$f":"'Energy Consumption'!M1271","v":0},{"$f":"'Energy Consumption'!M1272","v":0},{"$f":"'Energy Consumption'!M1353","v":0},{"$f":"'Energy Consumption'!M1354","v":0},{"$f":"'Energy Consumption'!M1435","v":0},{"$f":"'Energy Consumption'!M1436","v":0},{"$f":"'Energy Consumption'!M1517","v":0},{"$f":"'Energy Consumption'!M1518","v":0},{"$f":"'Energy Consumption'!M1599","v":0},{"$f":"'Energy Consumption'!M1600","v":0},null,{"$f":"'Relevant Variables'!M36","v":0},{"$f":"'Relevant Variables'!M66","v":0},{"$f":"'Relevant Variables'!M96","v":0},{"$f":"'Relevant Variables'!M126","v":0},{"$f":"'Relevant Variables'!M156","v":0},{"$f":"'Relevant Variables'!M186","v":0},{"$f":"'Relevant Variables'!M216","v":0},{"$f":"'Relevant Variables'!M246","v":0},{"$f":"'Relevant Variables'!M276","v":0},{"$f":"'Relevant Variables'!M306","v":0},{"$f":"'Relevant Variables'!M336","v":0},{"$f":"'Relevant Variables'!M366","v":0},{"$f":"'Relevant Variables'!M396","v":0},{"$f":"'Relevant Variables'!M426","v":0},{"$f":"'Relevant Variables'!M456","v":0},{"$f":"'Relevant Variables'!M486","v":0},{"$f":"'Relevant Variables'!M516","v":0},{"$f":"'Relevant Variables'!M546","v":0},{"$f":"'Relevant Variables'!M576","v":0},{"$f":"'Relevant Variables'!M606","v":0}]
["2024-11-01",null,{"$f":"'Energy Consumption'!N41","v":0},{"$f":"'Energy Consumption'!N42","v":0},{"$f":"'Energy Consumption'!N123","v":0},{"$f":"'Energy Consumption'!N124","v":0},{"$f":"'Energy Consumption'!N205","v":0},{"$f":"'Energy Consumption'!N206","v":0},{"$f":"'Energy Consumption'!N287","v":0},{"$f":"'Energy Consumption'!N288","v":0},{"$f":"'Energy Consumption'!N369","v":0},{"$f":"'Energy Consumption'!N370","v":0},{"$f":"'Energy Consumption'!N451","v":0},{"$f":"'Energy Consumption'!N452","v":0},{"$f":"'Energy Consumption'!N533","v":0},{"$f":"'Energy Consumption'!N534","v":0},{"$f":"'Energy Consumption'!N615","v":0},{"$f":"'Energy Consumption'!N616","v":0},{"$f":"'Energy Consumption'!N697","v":0},{"$f":"'Energy Consumption'!N698","v":0},{"$f":"'Energy Consumption'!N779","v":0},{"$f":"'Energy Consumption'!N780","v":0},{"$f":"'Energy Consumption'!N861","v":0},{"$f":"'Energy Consumption'!N862","v":0},{"$f":"'Energy Consumption'!N943","v":0},{"$f":"'Energy Consumption'!N944","v":0},{"$f":"'Energy Consumption'!N1025","v":0},{"$f":"'Energy Consumption'!N1026","v":0},{"$f":"'Energy Consumption'!N1107","v":0},{"$f":"'Energy Consumption'!N1108","v":0},{"$f":"'Energy Consumption'!N1189","v":0},{"$f":"'Energy Consumption'!N1190","v":0},{"$f":"'Energy Consumption'!N1271","v":0},{"$f":"'Energy Consumption'!N1272","v":0},{"$f":"'Energy Consumption'!N1353","v":0},{"$f":"'Energy Consumption'!N1354","v":0},{"$f":"'Energy Consumption'!N1435","v":0},{"$f":"'Energy Consumption'!N1436","v":0},{"$f":"'Energy Consumption'!N1517","v":0},{"$f":"'Energy Consumption'!N1518","v":0},{"$f":"'Energy Consumption'!N1599","v":0},{"$f":"'Energy Consumption'!N1600","v":0},null,{"$f":"'Relevant Variables'!N36","v":0},{"$f":"'Relevant Variables'!N66","v":0},{"$f":"'Relevant Variables'!N96","v":0},{"$f":"'Relevant Variables'!N126","v":0},{"$f":"'Relevant Variables'!N156","v":0},{"$f":"'Relevant Variables'!N186","v":0},{"$f":"'Relevant Variables'!N216","v":0},{"$f":"'Relevant Variables'!N246","v":0},{"$f":"'Relevant Variables'!N276","v":0},{"$f":"'Relevant Variables'!N306","v":0},{"$f":"'Relevant Variables'!N336","v":0},{"$f":"'Relevant Variables'!N366","v":0},{"$f":"'Relevant Variables'!N396","v":0},{"$f":"'Relevant Variables'!N426","v":0},{"$f":"'Relevant Variables'!N456","v":0},{"$f":"'Relevant Variables'!N486","v":0},{"$f":"'Relevant Variables'!N516","v":0},{"$f":"'Relevant Variables'!N546","v":0},{"$f":"'Relevant Variables'!N576","v":0},{"$f":"'Relevant Variables'!N606","v":0}]
["2024-12-01",null,{"$f":"'Energy Consumption'!O41","v":0},{"$f":"'Energy Consumption'!O42","v":0},{"$f":"'Energy Consumption'!O123","v":0},{"$f":"'Energy Consumption'!O124","v":0},{"$f":"'Energy Consumption'!O205","v":0},{"$f":"'Energy Consumption'!O206","v":0},{"$f":"'Energy Consumption'!O287","v":0},{"$f":"'Energy Consumption'!O288","v":0},{"$f":"'Energy Consumption'!O369","v":0},{"$f":"'Energy Consumption'!O370","v":0},{"$f":"'Energy Consumption'!O451","v":0},{"$f":"'Energy Consumption'!O452","v":0},{"$f":"'Energy Consumption'!O533","v":0},{"$f":"'Energy Consumption'!O534","v":0},{"$f":"'Energy Consumption'!O615","v":0},{"$f":"'Energy Consumption'!O616","v":0},{"$f":"'Energy Consumption'!O697","v":0},{"$f":"'Energy Consumption'!O698","v":0},{"$f":"'Energy Consumption'!O779","v":0},{"$f":"'Energy Consumption'!O780","v":0},{"$f":"'Energy Consumption'!O861","v":0},{"$f":"'Energy Consumption'!O862","v":0},{"$f":"'Energy Consumption'!O943","v":0},{"$f":"'Energy Consumption'!O944","v":0},{"$f":"'Energy Consumption'!O1025","v":0},{"$f":"'Energy Consumption'!O1026","v":0},{"$f":"'Energy Consumption'!O1107","v":0},{"$f":"'Energy Consumption'!O1108","v":0},{"$f":"'Energy Consumption'!O1189","v":0},{"$f":"'Energy Consumption'!O1190","v":0},{"$f":"'Energy Consumption'!O1271","v":0},{"$f":"'Energy Consumption'!O1272","v":0},{"$f":"'Energy Consumption'!O1353","v":0},{"$f":"'Energy Consumption'!O1354","v":0},{"$f":"'Energy Consumption'!O1435","v":0},{"$f":"'Energy Consumption'!O1436","v":0},{"$f":"'Energy Consumption'!O1517","v":0},{"$f":"'Energy Consumption'!O1518","v":0},{"$f":"'Energy Consumption'!O1599","v":0},{"$f":"'Energy Consumption'!O1600","v":0},null,{"$f":"'Relevant Variables'!O36","v":0},{"$f":"'Relevant Variables'!O66","v":0},{"$f":"'Relevant Variables'!O96","v":0},{"$f":"'Relevant Variables'!O126","v":0},{"$f":"'Relevant Variables'!O156","v":0},{"$f":"'Relevant Variables'!O186","v":0},{"$f":"'Relevant Variables'!O216","v":0},{"$f":"'Relevant Variables'!O246","v":0},{"$f":"'Relevant Variables'!O276","v":0},{"$f":"'Relevant Variables'!O306","v":0},{"$f":"'Relevant Variables'!O336","v":0},{"$f":"'Relevant Variables'!O366","v":0},{"$f":"'Relevant Variables'!O396","v":0},{"$f":"'Relevant Variables'!O426","v":0},{"$f":"'Relevant Variables'!O456","v":0},{"$f":"'Relevant Variables'!O486","v":0},{"$f":"'Relevant Variables'!O516","v":0},{"$f":"'Relevant Variables'!O546","v":0},{"$f":"'Relevant Variables'!O576","v":0},{"$f":"'Relevant Variables'!O606","v":0}]
["2025-01-01",null,{"$f":"'Energy Consumption'!D39","v":0},{"$f":"'Energy Consumption'!D40","v":0},{"$f":"'Energy Consumption'!D121","v":0},{"$f":"'Energy Consumption'!D122","v":0},{"$f":"'Energy Consumption'!D203","v":0},{"$f":"'Energy Consumption'!D204","v":0},{"$f":"'Energy Consumption'!D285","v":0},{"$f":"'Energy Consumption'!D286","v":0},{"$f":"'Energy Consumption'!D367","v":0},{"$f":"'Energy Consumption'!D368","v":0},{"$f":"'Energy Consumption'!D449","v":0},{"$f":"'Energy Consumption'!D450","v":0},{"$f":"'Energy Consumption'!D531","v":0},{"$f":"'Energy Consumption'!D532","v":0},{"$f":"'Energy Consumption'!D613","v":0},{"$f":"'Energy Consumption'!D614","v":0},{"$f":"'Energy Consumption'!D695","v":0},{"$f":"'Energy Consumption'!D696","v":0},{"$f":"'Energy Consumption'!D777","v":0},{"$f":"'Energy Consumption'!D778","v":0},{"$f":"'Energy Consumption'!D859","v":0},{"$f":"'Energy Consumption'!D860","v":0},{"$f":"'Energy Consumption'!D941","v":0},{"$f":"'Energy Consumption'!D942","v":0},{"$f":"'Energy Consumption'!D1023","v":0},{"$f":"'Energy Consumption'!D1024","v":0},{"$f":"'Energy Consumption'!D1105","v":0},{"$f":"'Energy Consumption'!D1106","v":0},{"$f":"'Energy Consumption'!D1187","v":0},{"$f":"'Energy Consumption'!D1188","v":0},{"$f":"'Energy Consumption'!D1269","v":0},{"$f":"'Energy Consumption'!D1270","v":0},{"$f":"'Energy Consumption'!D1351","v":0},{"$f":"'Energy Consumption'!D1352","v":0},{"$f":"'Energy Consumption'!D1433","v":0},{"$f":"'Energy Consumption'!D1434","v":0},{"$f":"'Energy Consumption'!D1515","v":0},{"$f":"'Energy Consumption'!D1516","v":0},{"$f":"'Energy Consumption'!D1597","v":0},{"$f":"'Energy Consumption'!D1598","v":0},null,{"$f":"'Relevant Variables'!D35","v":0},{"$f":"'Relevant Variables'!D65","v":0},{"$f":"'Relevant Variables'!D95","v":0},{"$f":"'Relevant Variables'!D125","v":0},{"$f":"'Relevant Variables'!D155","v":0},{"$f":"'Relevant Variables'!D185","v":0},{"$f":"'Relevant Variables'!D215","v":0},{"$f":"'Relevant Variables'!D245","v":0},{"$f":"'Relevant Variables'!D275","v":0},{"$f":"'Relevant Variables'!D305","v":0},{"$f":"'Relevant Variables'!D335","v":0},{"$f":"'Relevant Variables'!D365","v":0},{"$f":"'Relevant Variables'!D395","v":0},{"$f":"'Relevant Variables'!D425","v":0},{"$f":"'Relevant Variables'!D455","v":0},{"$f":"'Relevant Variables'!D485","v":0},{"$f":"'Relevant Variables'!D515","v":0},{"$f":"'Relevant Variables'!D545","v":0},{"$f":"'Relevant Variables'!D575","v":0},{"$f":"'Relevant Variables'!D605","v":0}]
["2025-02-01",null,{"$f":"'Energy Consumption'!E39","v":0},{"$f":"'Energy Consumption'!E40","v":0},{"$f":"'Energy Consumption'!E121","v":0},{"$f":"'Energy Consumption'!E122","v":0},{"$f":"'Energy Consumption'!E203","v":0},{"$f":"'Energy Consumption'!E204","v":0},{"$f":"'Energy Consumption'!E285","v":0},{"$f":"'Energy Consumption'!E286","v":0},{"$f":"'Energy Consumption'!E367","v":0},{"$f":"'Energy Consumption'!E368","v":0},{"$f":"'Energy Consumption'!E449","v":0},{"$f":"'Energy Consumption'!E450","v":0},{"$f":"'Energy Consumption'!E531","v":0},{"$f":"'Energy Consumption'!E532","v":0},{"$f":"'Energy Consumption'!E613","v":0},{"$f":"'Energy Consumption'!E614","v":0},{"$f":"'Energy Consumption'!E695","v":0},{"$f":"'Energy Consumption'!E696","v":0},{"$f":"'Energy Consumption'!E777","v":0},{"$f":"'Energy Consumption'!E778","v":0},{"$f":"'Energy Consumption'!E859","v":0},{"$f":"'Energy Consumption'!E860","v":0},{"$f":"'Energy Consumption'!E941","v":0},{"$f":"'Energy Consumption'!E942","v":0},{"$f":"'Energy Consumption'!E1023","v":0},{"$f":"'Energy Consumption'!E1024","v":0},{"$f":"'Energy Consumption'!E1105","v":0},{"$f":"'Energy Consumption'!E1106","v":0},{"$f":"'Energy Consumption'!E1187","v":0},{"$f":"'Energy Consumption'!E1188","v":0},{"$f":"'Energy Consumption'!E1269","v":0},{"$f":"'Energy Consumption'!E1270","v":0},{"$f":"'Energy Consumption'!E1351","v":0},{"$f":"'Energy Consumption'!E1352","v":0},{"$f":"'Energy Consumption'!E1433","v":0},{"$f":"'Energy Consumption'!E1434","v":0},{"$f":"'Energy Consumption'!E1515","v":0},{"$f":"'Energy Consumption'!E1516","v":0},{"$f":"'Energy Consumption'!E1597","v":0},{"$f":"'Energy Consumption'!E1598","v":0},null,{"$f":"'Relevant Variables'!E35","v":0},{"$f":"'Relevant Variables'!E65","v":0},{"$f":"'Relevant Variables'!E95","v":0},{"$f":"'Relevant Variables'!E125","v":0},{"$f":"'Relevant Variables'!E155","v":0},{"$f":"'Relevant Variables'!E185","v":0},{"$f":"'Relevant Variables'!E215","v":0},{"$f":"'Relevant Variables'!E245","v":0},{"$f":"'Relevant Variables'!E275","v":0},{"$f":"'Relevant Variables'!E305","v":0},{"$f":"'Relevant Variables'!E335","v":0},{"$f":"'Relevant Variables'!E365","v":0},{"$f":"'Relevant Variables'!E395","v":0},{"$f":"'Relevant Variables'!E425","v":0},{"$f":"'Relevant Variables'!E455","v":0},{"$f":"'Relevant Variables'!E485","v":0},{"$f":"'Relevant Variables'!E515","v":0},{"$f":"'Relevant Variables'!E545","v":0},{"$f":"'Relevant Variables'!E575","v":0},{"$f":"'Relevant Variables'!E605","v":0}]
["2025-03-01",null,{"$f":"'Energy Consumption'!F39","v":0},{"$f":"'Energy Consumption'!F40","v":0},{"$f":"'Energy Consumption'!F121","v":0},{"$f":"'Energy Consumption'!F122","v":0},{"$f":"'Energy Consumption'!F203","v":0},{"$f":"'Energy Consumption'!F204","v":0},{"$f":"'Energy Consumption'!F285","v":0},{"$f":"'Energy Consumption'!F286","v":0},{"$f":"'Energy Consumption'!F367","v":0},{"$f":"'Energy Consumption'!F368","v":0},{"$f":"'Energy Consumption'!F449","v":0},{"$f":"'Energy Consumption'!F450","v":0},{"$f":"'Energy Consumption'!F531","v":0},{"$f":"'Energy Consumption'!F532","v":0},{"$f":"'Energy Consumption'!F613","v":0},{"$f":"'Energy Consumption'!F614","v":0},{"$f":"'Energy Consumption'!F695","v":0},{"$f":"'Energy Consumption'!F696","v":0},{"$f":"'Energy Consumption'!F777","v":0},{"$f":"'Energy Consumption'!F778","v":0},{"$f":"'Energy Consumption'!F859","v":0},{"$f":"'Energy Consumption'!F860","v":0},{"$f":"'Energy Consumption'!F941","v":0},{"$f":"'Energy Consumption'!F942","v":0},{"$f":"'Energy Consumption'!F1023","v":0},{"$f":"'Energy Consumption'!F1024","v":0},{"$f":"'Energy Consumption'!F1105","v":0},{"$f":"'Energy Consumption'!F1106","v":0},{"$f":"'Energy Consumption'!F1187","v":0},{"$f":"'Energy Consumption'!F1188","v":0},{"$f":"'Energy Consumption'!F1269","v":0},{"$f":"'Energy Consumption'!F1270","v":0},{"$f":"'Energy Consumption'!F1351","v":0},{"$f":"'Energy Consumption'!F1352","v":0},{"$f":"'Energy Consumption'!F1433","v":0},{"$f":"'Energy Consumption'!F1434","v":0},{"$f":"'Energy Consumption'!F1515","v":0},{"$f":"'Energy Consumption'!F1516","v":0},{"$f":"'Energy Consumption'!F1597","v":0},{"$f":"'Energy Consumption'!F1598","v":0},null,{"$f":"'Relevant Variables'!F35","v":0},{"$f":"'Relevant Variables'!F65","v":0},{"$f":"'Relevant Variables'!F95","v":0},{"$f":"'Relevant Variables'!F125","v":0},{"$f":"'Relevant Variables'!F155","v":0},{"$f":"'Relevant Variables'!F185","v":0},{"$f":"'Relevant Variables'!F215","v":0},{"$f":"'Relevant Variables'!F245","v":0},{"$f":"'Relevant Variables'!F275","v":0},{"$f":"'Relevant Variables'!F305","v":0},{"$f":"'Relevant Variables'!F335","v":0},{"$f":"'Relevant Variables'!F365","v":0},{"$f":"'Relevant Variables'!F395","v":0},{"$f":"'Relevant Variables'!F425","v":0},{"$f":"'Relevant Variables'!F455","v":0},{"$f":"'Relevant Variables'!F485","v":0},{"$f":"'Relevant Variables'!F515","v":0},{"$f":"'Relevant Variables'!F545","v":0},{"$f":"'Relevant Variables'!F575","v":0},{"$f":"'Relevant Variables'!F605","v":0}]
["2025-04-01",null,{"$f":"'Energy Consumption'!G39","v":0},{"$f":"'Energy Consumption'!G40","v":0},{"$f":"'Energy Consumption'!G121","v":0},{"$f":"'Energy Consumption'!G122","v":0},{"$f":"'Energy Consumption'!G203","v":0},{"$f":"'Energy Consumption'!G204","v":0},{"$f":"'Energy Consumption'!G285","v":0},{"$f":"'Energy Consumption'!G286","v":0},{"$f":"'Energy Consumption'!G367","v":0},{"$f":"'Energy Consumption'!G368","v":0},{"$f":"'Energy Consumption'!G449","v":0},{"$f":"'Energy Consumption'!G450","v":0},{"$f":"'Energy Consumption'!G531","v":0},{"$f":"'Energy Consumption'!G532","v":0},{"$f":"'Energy Consumption'!G613","v":0},{"$f":"'Energy Consumption'!G614","v":0},{"$f":"'Energy Consumption'!G695","v":0},{"$f":"'Energy Consumption'!G696","v":0},{"$f":"'Energy Consumption'!G777","v":0},{"$f":"'Energy Consumption'!G778","v":0},{"$f":"'Energy Consumption'!G859","v":0},{"$f":"'Energy Consumption'!G860","v":0},{"$f":"'Energy Consumption'!G941","v":0},{"$f":"'Energy Consumption'!G942","v":0},{"$f":"'Energy Consumption'!G1023","v":0},{"$f":"'Energy Consumption'!G1024","v":0},{"$f":"'Energy Consumption'!G1105","v":0},{"$f":"'Energy Consumption'!G1106","v":0},{"$f":"'Energy Consumption'!G1187","v":0},{"$f":"'Energy Consumption'!G1188","v":0},{"$f":"'Energy Consumption'!G1269","v":0},{"$f":"'Energy Consumption'!G1270","v":0},{"$f":"'Energy Consumption'!G1351","v":0},{"$f":"'Energy Consumption'!G1352","v":0},{"$f":"'Energy Consumption'!G1433","v":0},{"$f":"'Energy Consumption'!G1434","v":0},{"$f":"'Energy Consumption'!G1515","v":0},{"$f":"'Energy Consumption'!G1516","v":0},{"$f":"'Energy Consumption'!G1597","v":0},{"$f":"'Energy Consumption'!G1598","v":0},null,{"$f":"'Relevant Variables'!G35","v":0},{"$f":"'Relevant Variables'!G65","v":0},{"$f":"'Relevant Variables'!G95","v":0},{"$f":"'Relevant Variables'!G125","v":0},{"$f":"'Relevant Variables'!G155","v":0},{"$f":"'Relevant Variables'!G185","v":0},{"$f":"'Relevant Variables'!G215","v":0},{"$f":"'Relevant Variables'!G245","v":0},{"$f":"'Relevant Variables'!G275","v":0},{"$f":"'Relevant Variables'!G305","v":0},{"$f":"'Relevant Variables'!G335","v":0},{"$f":"'Relevant Variables'!G365","v":0},{"$f":"'Relevant Variables'!G395","v":0},{"$f":"'Relevant Variables'!G425","v":0},{"$f":"'Relevant Variables'!G455","v":0},{"$f":"'Relevant Variables'!G485","v":0},{"$f":"'Relevant Variables'!G515","v":0},{"$f":"'Relevant Variables'!G545","v":0},{"$f":"'Relevant Variables'!G575","v":0},{"$f":"'Relevant Variables'!G605","v":0}]
["2025-05-01",null,{"$f":"'Energy Consumption'!H39","v":0},{"$f":"'Energy Consumption'!H40","v":0},{"$f":"'Energy Consumption'!H121","v":0},{"$f":"'Energy Consumption'!H122","v":0},{"$f":"'Energy Consumption'!H203","v":0},{"$f":"'Energy Consumption'!H204","v":0},{"$f":"'Energy Consumption'!H285","v":0},{"$f":"'Energy Consumption'!H286","v":0},{"$f":"'Energy Consumption'!H367","v":0},{"$f":"'Energy Consumption'!H368","v":0},{"$f":"'Energy Consumption'!H449","v":0},{"$f":"'Energy Consumption'!H450","v":0},{"$f":"'Energy Consumption'!H531","v":0},{"$f":"'Energy Consumption'!H532","v":0},{"$f":"'Energy Consumption'!H613","v":0},{"$f":"'Energy Consumption'!H614","v":0},{"$f":"'Energy Consumption'!H695","v":0},{"$f":"'Energy Consumption'!H696","v":0},{"$f":"'Energy Consumption'!H777","v":0},{"$f":"'Energy Consumption'!H778","v":0},{"$f":"'Energy Consumption'!H859","v":0},{"$f":"'Energy Consumption'!H860","v":0},{"$f":"'Energy Consumption'!H941","v":0},{"$f":"'Energy Consumption'!H942","v":0},{"$f":"'Energy Consumption'!H1023","v":0},{"$f":"'Energy Consumption'!H1024","v":0},{"$f":"'Energy Consumption'!H1105","v":0},{"$f":"'Energy Consumption'!H1106","v":0},{"$f":"'Energy Consumption'!H1187","v":0},{"$f":"'Energy Consumption'!H1188","v":0},{"$f":"'Energy Consumption'!H1269","v":0},{"$f":"'Energy Consumption'!H1270","v":0},{"$f":"'Energy Consumption'!H1351","v":0},{"$f":"'Energy Consumption'!H1352","v":0},{"$f":"'Energy Consumption'!H1433","v":0},{"$f":"'Energy Consumption'!H1434","v":0},{"$f":"'Energy Consumption'!H1515","v":0},{"$f":"'Energy Consumption'!H1516","v":0},{"$f":"'Energy Consumption'!H1597","v":0},{"$f":"'Energy Consumption'!H1598","v":0},null,{"$f":"'Relevant Variables'!H35","v":0},{"$f":"'Relevant Variables'!H65","v":0},{"$f":"'Relevant Variables'!H95","v":0},{"$f":"'Relevant Variables'!H125","v":0},{"$f":"'Relevant Variables'!H155","v":0},{"$f":"'Relevant Variables'!H185","v":0},{"$f":"'Relevant Variables'!H215","v":0},{"$f":"'Relevant Variables'!H245","v":0},{"$f":"'Relevant Variables'!H275","v":0},{"$f":"'Relevant Variables'!H305","v":0},{"$f":"'Relevant Variables'!H335","v":0},{"$f":"'Relevant Variables'!H365","v":0},{"$f":"'Relevant Variables'!H395","v":0},{"$f":"'Relevant Variables'!H425","v":0},{"$f":"'Relevant Variables'!H455","v":0},{"$f":"'Relevant Variables'!H485","v":0},{"$f":"'Relevant Variables'!H515","v":0},{"$f":"'Relevant Variables'!H545","v":0},{"$f":"'Relevant Variables'!H575","v":0},{"$f":"'Relevant Variables'!H605","v":0}]
["2025-06-01",null,{"$f":"'Energy Consumption'!I39","v":0},{"$f":"'Energy Consumption'!I40","v":0},{"$f":"'Energy Consumption'!I121","v":0},{"$f":"'Energy Consumption'!I122","v":0},{"$f":"'Energy Consumption'!I203","v":0},{"$f":"'Energy Consumption'!I204","v":0},{"$f":"'Energy Consumption'!I285","v":0},{"$f":"'Energy Consumption'!I286","v":0},{"$f":"'Energy Consumption'!I367","v":0},{"$f":"'Energy Consumption'!I368","v":0},{"$f":"'Energy Consumption'!I449","v":0},{"$f":"'Energy Consumption'!I450","v":0},{"$f":"'Energy Consumption'!I531","v":0},{"$f":"'Energy Consumption'!I532","v":0},{"$f":"'Energy Consumption'!I613","v":0},{"$f":"'Energy Consumption'!I614","v":0},{"$f":"'Energy Consumption'!I695","v":0},{"$f":"'Energy Consumption'!I696","v":0},{"$f":"'Energy Consumption'!I777","v":0},{"$f":"'Energy Consumption'!I778","v":0},{"$f":"'Energy Consumption'!I859","v":0},{"$f":"'Energy Consumption'!I860","v":0},{"$f":"'Energy Consumption'!I941","v":0},{"$f":"'Energy Consumption'!I942","v":0},{"$f":"'Energy Consumption'!I1023","v":0},{"$f":"'Energy Consumption'!I1024","v":0},{"$f":"'Energy Consumption'!I1105","v":0},{"$f":"'Energy Consumption'!I1106","v":0},{"$f":"'Energy Consumption'!I1187","v":0},{"$f":"'Energy Consumption'!I1188","v":0},{"$f":"'Energy Consumption'!I1269","v":0},{"$f":"'Energy Consumption'!I1270","v":0},{"$f":"'Energy Consumption'!I1351","v":0},{"$f":"'Energy Consumption'!I1352","v":0},{"$f":"'Energy Consumption'!I1433","v":0},{"$f":"'Energy Consumption'!I1434","v":0},{"$f":"'Energy Consumption'!I1515","v":0},{"$f":"'Energy Consumption'!I1516","v":0},{"$f":"'Energy Consumption'!I1597","v":0},{"$f":"'Energy Consumption'!I1598","v":0},null,{"$f":"'Relevant Variables'!I35","v":0},{"$f":"'Relevant Variables'!I65","v":0},{"$f":"'Relevant Variables'!I95","v":0},{"$f":"'Relevant Variables'!I125","v":0},{"$f":"'Relevant Variables'!I155","v":0},{"$f":"'Relevant Variables'!I185","v":0},{"$f":"'Relevant Variables'!I215","v":0},{"$f":"'Relevant Variables'!I245","v":0},{"$f":"'Relevant Variables'!I275","v":0},{"$f":"'Relevant Variables'!I305","v":0},{"$f":"'Relevant Variables'!I335","v":0},{"$f":"'Relevant Variables'!I365","v":0},{"$f":"'Relevant Variables'!I395","v":0},{"$f":"'Relevant Variables'!I425","v":0},{"$f":"'Relevant Variables'!I455","v":0},{"$f":"'Relevant Variables'!I485","v":0},{"$f":"'Relevant Variables'!I515","v":0},{"$f":"'Relevant Variables'!I545","v":0},{"$f":"'Relevant Variables'!I575","v":0},{"$f":"'Relevant Variables'!I605","v":0}]
["2025-07-01",null,{"$f":"'Energy Consumption'!J39","v":0},{"$f":"'Energy Consumption'!J40","v":0},{"$f":"'Energy Consumption'!J121","v":0},{"$f":"'Energy Consumption'!J122","v":0},{"$f":"'Energy Consumption'!J203","v":0},{"$f":"'Energy Consumption'!J204","v":0},{"$f":"'Energy Consumption'!J285","v":0},{"$f":"'Energy Consumption'!J286","v":0},{"$f":"'Energy Consumption'!J367","v":0},{"$f":"'Energy Consumption'!J368","v":0},{"$f":"'Energy Consumption'!J449","v":0},{"$f":"'Energy Consumption'!J450","v":0},{"$f":"'Energy Consumption'!J531","v":0},{"$f":"'Energy Consumption'!J532","v":0},{"$f":"'Energy Consumption'!J613","v":0},{"$f":"'Energy Consumption'!J614","v":0},{"$f":"'Energy Consumption'!J695","v":0},{"$f":"'Energy Consumption'!J696","v":0},{"$f":"'Energy Consumption'!J777","v":0},{"$f":"'Energy Consumption'!J778","v":0},{"$f":"'Energy Consumption'!J859","v":0},{"$f":"'Energy Consumption'!J860","v":0},{"$f":"'Energy Consumption'!J941","v":0},{"$f":"'Energy Consumption'!J942","v":0},{"$f":"'Energy Consumption'!J1023","v":0},{"$f":"'Energy Consumption'!J1024","v":0},{"$f":"'Energy Consumption'!J1105","v":0},{"$f":"'Energy Consumption'!J1106","v":0},{"$f":"'Energy Consumption'!J1187","v":0},{"$f":"'Energy Consumption'!J1188","v":0},{"$f":"'Energy Consumption'!J1269","v":0},{"$f":"'Energy Consumption'!J1270","v":0},{"$f":"'Energy Consumption'!J1351","v":0},{"$f":"'Energy Consumption'!J1352","v":0},{"$f":"'Energy Consumption'!J1433","v":0},{"$f":"'Energy Consumption'!J1434","v":0},{"$f":"'Energy Consumption'!J1515","v":0},{"$f":"'Energy Consumption'!J1516","v":0},{"$f":"'Energy Consumption'!J1597","v":0},{"$f":"'Energy Consumption'!J1598","v":0},null,{"$f":"'Relevant Variables'!J35","v":0},{"$f":"'Relevant Variables'!J65","v":0},{"$f":"'Relevant Variables'!J95","v":0},{"$f":"'Relevant Variables'!J125","v":0},{"$f":"'Relevant Variables'!J155","v":0},{"$f":"'Relevant Variables'!J185","v":0},{"$f":"'Relevant Variables'!J215","v":0},{"$f":"'Relevant Variables'!J245","v":0},{"$f":"'Relevant Variables'!J275","v":0},{"$f":"'Relevant Variables'!J305","v":0},{"$f":"'Relevant Variables'!J335","v":0},{"$f":"'Relevant Variables'!J365","v":0},{"$f":"'Relevant Variables'!J395","v":0},{"$f":"'Relevant Variables'!J425","v":0},{"$f":"'Relevant Variables'!J455","v":0},{"$f":"'Relevant Variables'!J485","v":0},{"$f":"'Relevant Variables'!J515","v":0},{"$f":"'Relevant Variables'!J545","v":0},{"$f":"'Relevant Variables'!J575","v":0},{"$f":"'Relevant Variables'!J605","v":0}]
["2025-08-01",null,{"$f":"'Energy Consumption'!K39","v":0},{"$f":"'Energy Consumption'!K40","v":0},{"$f":"'Energy Consumption'!K121","v":0},{"$f":"'Energy Consumption'!K122","v":0},{"$f":"'Energy Consumption'!K203","v":0},{"$f":"'Energy Consumption'!K204","v":0},{"$f":"'Energy Consumption'!K285","v":0},{"$f":"'Energy Consumption'!K286","v":0},{"$f":"'Energy Consumption'!K367","v":0},{"$f":"'Energy Consumption'!K368","v":0},{"$f":"'Energy Consumption'!K449","v":0},{"$f":"'Energy Consumption'!K450","v":0},{"$f":"'Energy Consumption'!K531","v":0},{"$f":"'Energy Consumption'!K532","v":0},{"$f":"'Energy Consumption'!K613","v":0},{"$f":"'Energy Consumption'!K614","v":0},{"$f":"'Energy Consumption'!K695","v":0},{"$f":"'Energy Consumption'!K696","v":0},{"$f":"'Energy Consumption'!K777","v":0},{"$f":"'Energy Consumption'!K778","v":0},{"$f":"'Energy Consumption'!K859","v":0},{"$f":"'Energy Consumption'!K860","v":0},{"$f":"'Energy Consumption'!K941","v":0},{"$f":"'Energy Consumption'!K942","v":0},{"$f":"'Energy Consumption'!K1023","v":0},{"$f":"'Energy Consumption'!K1024","v":0},{"$f":"'Energy Consumption'!K1105","v":0},{"$f":"'Energy Consumption'!K1106","v":0},{"$f":"'Energy Consumption'!K1187","v":0},{"$f":"'Energy Consumption'!K1188","v":0},{"$f":"'Energy Consumption'!K1269","v":0},{"$f":"'Energy Consumption'!K1270","v":0},{"$f":"'Energy Consumption'!K1351","v":0},{"$f":"'Energy Consumption'!K1352","v":0},{"$f":"'Energy Consumption'!K1433","v":0},{"$f":"'Energy Consumption'!K1434","v":0},{"$f":"'Energy Consumption'!K1515","v":0},{"$f":"'Energy Consumption'!K1516","v":0},{"$f":"'Energy Consumption'!K1597","v":0},{"$f":"'Energy Consumption'!K1598","v":0},null,{"$f":"'Relevant Variables'!K35","v":0},{"$f":"'Relevant Variables'!K65","v":0},{"$f":"'Relevant Variables'!K95","v":0},{"$f":"'Relevant Variables'!K125","v":0},{"$f":"'Relevant Variables'!K155","v":0},{"$f":"'Relevant Variables'!K185","v":0},{"$f":"'Relevant Variables'!K215","v":0},{"$f":"'Relevant Variables'!K245","v":0},{"$f":"'Relevant Variables'!K275","v":0},{"$f":"'Relevant Variables'!K305","v":0},{"$f":"'Relevant Variables'!K335","v":0},{"$f":"'Relevant Variables'!K365","v":0},{"$f":"'Relevant Variables'!K395","v":0},{"$f":"'Relevant Variables'!K425","v":0},{"$f":"'Relevant Variables'!K455","v":0},{"$f":"'Relevant Variables'!K485","v":0},{"$f":"'Relevant Variables'!K515","v":0},{"$f":"'Relevant Variables'!K545","v":0},{"$f":"'Relevant Variables'!K575","v":0},{"$f":"'Relevant Variables'!K605","v":0}]
["2025-09-01",null,{"$f":"'Energy Consumption'!L39","v":0},{"$f":"'Energy Consumption'!L40","v":0},{"$f":"'Energy Consumption'!L121","v":0},{"$f":"'Energy Consumption'!L122","v":0},{"$f":"'Energy Consumption'!L203","v":0},{"$f":"'Energy Consumption'!L204","v":0},{"$f":"'Energy Consumption'!L285","v":0},{"$f":"'Energy Consumption'!L286","v":0},{"$f":"'Energy Consumption'!L367","v":0},{"$f":"'Energy Consumption'!L368","v":0},{"$f":"'Energy Consumption'!L449","v":0},{"$f":"'Energy Consumption'!L450","v":0},{"$f":"'Energy Consumption'!L531","v":0},{"$f":"'Energy Consumption'!L532","v":0},{"$f":"'Energy Consumption'!L613","v":0},{"$f":"'Energy Consumption'!L614","v":0},{"$f":"'Energy Consumption'!L695","v":0},{"$f":"'Energy Consumption'!L696","v":0},{"$f":"'Energy Consumption'!L777","v":0},{"$f":"'Energy Consumption'!L778","v":0},{"$f":"'Energy Consumption'!L859","v":0},{"$f":"'Energy Consumption'!L860","v":0},{"$f":"'Energy Consumption'!L941","v":0},{"$f":"'Energy Consumption'!L942","v":0},{"$f":"'Energy Consumption'!L1023","v":0},{"$f":"'Energy Consumption'!L1024","v":0},{"$f":"'Energy Consumption'!L1105","v":0},{"$f":"'Energy Consumption'!L1106","v":0},{"$f":"'Energy Consumption'!L1187","v":0},{"$f":"'Energy Consumption'!L1188","v":0},{"$f":"'Energy Consumption'!L1269","v":0},{"$f":"'Energy Consumption'!L1270","v":0},{"$f":"'Energy Consumption'!L1351","v":0},{"$f":"'Energy Consumption'!L1352","v":0},{"$f":"'Energy Consumption'!L1433","v":0},{"$f":"'Energy Consumption'!L1434","v":0},{"$f":"'Energy Consumption'!L1515","v":0},{"$f":"'Energy Consumption'!L1516","v":0},{"$f":"'Energy Consumption'!L1597","v":0},{"$f":"'Energy Consumption'!L1598","v":0},null,{"$f":"'Relevant Variables'!L35","v":0},{"$f":"'Relevant Variables'!L65","v":0},{"$f":"'Relevant Variables'!L95","v":0},{"$f":"'Relevant Variables'!L125","v":0},{"$f":"'Relevant Variables'!L155","v":0},{"$f":"'Relevant Variables'!L185","v":0},{"$f":"'Relevant Variables'!L215","v":0},{"$f":"'Relevant Variables'!L245","v":0},{"$f":"'Relevant Variables'!L275","v":0},{"$f":"'Relevant Variables'!L305","v":0},{"$f":"'Relevant Variables'!L335","v":0},{"$f":"'Relevant Variables'!L365","v":0},{"$f":"'Relevant Variables'!L395","v":0},{"$f":"'Relevant Variables'!L425","v":0},{"$f":"'Relevant Variables'!L455","v":0},{"$f":"'Relevant Variables'!L485","v":0},{"$f":"'Relevant Variables'!L515","v":0},{"$f":"'Relevant Variables'!L545","v":0},{"$f":"'Relevant Variables'!L575","v":0},{"$f":"'Relevant Variables'!L605","v":0}]
["2025-10-01",null,{"$f":"'Energy Consumption'!M39","v":0},{"$f":"'Energy Consumption'!M40","v":0},{"$f":"'Energy Consumption'!M121","v":0},{"$f":"'Energy Consumption'!M122","v":0},{"$f":"'Energy Consumption'!M203","v":0},{"$f":"'Energy Consumption'!M204","v":0},{"$f":"'Energy Consumption'!M285","v":0},{"$f":"'Energy Consumption'!M286","v":0},{"$f":"'Energy Consumption'!M367","v":0},{"$f":"'Energy Consumption'!M368","v":0},{"$f":"'Energy Consumption'!M449","v":0},{"$f":"'Energy Consumption'!M450","v":0},{"$f":"'Energy Consumption'!M531","v":0},{"$f":"'Energy Consumption'!M532","v":0},{"$f":"'Energy Consumption'!M613","v":0},{"$f":"'Energy Consumption'!M614","v":0},{"$f":"'Energy Consumption'!M695","v":0},{"$f":"'Energy Consumption'!M696","v":0},{"$f":"'Energy Consumption'!M777","v":0},{"$f":"'Energy Consumption'!M778","v":0},{"$f":"'Energy Consumption'!M859","v":0},{"$f":"'Energy Consumption'!M860","v":0},{"$f":"'Energy Consumption'!M941","v":0},{"$f":"'Energy Consumption'!M942","v":0},{"$f":"'Energy Consumption'!M1023","v":0},{"$f":"'Energy Consumption'!M1024","v":0},{"$f":"'Energy Consumption'!M1105","v":0},{"$f":"'Energy Consumption'!M1106","v":0},{"$f":"'Energy Consumption'!M1187","v":0},{"$f":"'Energy Consumption'!M1188","v":0},{"$f":"'Energy Consumption'!M1269","v":0},{"$f":"'Energy Consumption'!M1270","v":0},{"$f":"'Energy Consumption'!M1351","v":0},{"$f":"'Energy Consumption'!M1352","v":0},{"$f":"'Energy Consumption'!M1433","v":0},{"$f":"'Energy Consumption'!M1434","v":0},{"$f":"'Energy Consumption'!M1515","v":0},{"$f":"'Energy Consumption'!M1516","v":0},{"$f":"'Energy Consumption'!M1597","v":0},{"$f":"'Energy Consumption'!M1598","v":0},null,{"$f":"'Relevant Variables'!M35","v":0},{"$f":"'Relevant Variables'!M65","v":0},{"$f":"'Relevant Variables'!M95","v":0},{"$f":"'Relevant Variables'!M125","v":0},{"$f":"'Relevant Variables'!M155","v":0},{"$f":"'Relevant Variables'!M185","v":0},{"$f":"'Relevant Variables'!M215","v":0},{"$f":"'Relevant Variables'!M245","v":0},{"$f":"'Relevant Variables'!M275","v":0},{"$f":"'Relevant Variables'!M305","v":0},{"$f":"'Relevant Variables'!M335","v":0},{"$f":"'Relevant Variables'!M365","v":0},{"$f":"'Relevant Variables'!M395","v":0},{"$f":"'Relevant Variables'!M425","v":0},{"$f":"'Relevant Variables'!M455","v":0},{"$f":"'Relevant Variables'!M485","v":0},{"$f":"'Relevant Variables'!M515","v":0},{"$f":"'Relevant Variables'!M545","v":0},{"$f":"'Relevant Variables'!M575","v":0},{"$f":"'Relevant Variables'!M605","v":0}]
["2025-11-01",null,{"$f":"'Energy Consumption'!N39","v":0},{"$f":"'Energy Consumption'!N40","v":0},{"$f":"'Energy Consumption'!N121","v":0},{"$f":"'Energy Consumption'!N122","v":0},{"$f":"'Energy Consumption'!N203","v":0},{"$f":"'Energy Consumption'!N204","v":0},{"$f":"'Energy Consumption'!N285","v":0},{"$f":"'Energy Consumption'!N286","v":0},{"$f":"'Energy Consumption'!N367","v":0},{"$f":"'Energy Consumption'!N368","v":0},{"$f":"'Energy Consumption'!N449","v":0},{"$f":"'Energy Consumption'!N450","v":0},{"$f":"'Energy Consumption'!N531","v":0},{"$f":"'Energy Consumption'!N532","v":0},{"$f":"'Energy Consumption'!N613","v":0},{"$f":"'Energy Consumption'!N614","v":0},{"$f":"'Energy Consumption'!N695","v":0},{"$f":"'Energy Consumption'!N696","v":0},{"$f":"'Energy Consumption'!N777","v":0},{"$f":"'Energy Consumption'!N778","v":0},{"$f":"'Energy Consumption'!N859","v":0},{"$f":"'Energy Consumption'!N860","v":0},{"$f":"'Energy Consumption'!N941","v":0},{"$f":"'Energy Consumption'!N942","v":0},{"$f":"'Energy Consumption'!N1023","v":0},{"$f":"'Energy Consumption'!N1024","v":0},{"$f":"'Energy Consumption'!N1105","v":0},{"$f":"'Energy Consumption'!N1106","v":0},{"$f":"'Energy Consumption'!N1187","v":0},{"$f":"'Energy Consumption'!N1188","v":0},{"$f":"'Energy Consumption'!N1269","v":0},{"$f":"'Energy Consumption'!N1270","v":0},{"$f":"'Energy Consumption'!N1351","v":0},{"$f":"'Energy Consumption'!N1352","v":0},{"$f":"'Energy Consumption'!N1433","v":0},{"$f":"'Energy Consumption'!N1434","v":0},{"$f":"'Energy Consumption'!N1515","v":0},{"$f":"'Energy Consumption'!N1516","v":0},{"$f":"'Energy Consumption'!N1597","v":0},{"$f":"'Energy Consumption'!N1598","v":0},null,{"$f":"'Relevant Variables'!N35","v":0},{"$f":"'Relevant Variables'!N65","v":0},{"$f":"'Relevant Variables'!N95","v":0},{"$f":"'Relevant Variables'!N125","v":0},{"$f":"'Relevant Variables'!N155","v":0},{"$f":"'Relevant Variables'!N185","v":0},{"$f":"'Relevant Variables'!N215","v":0},{"$f":"'Relevant Variables'!N245","v":0},{"$f":"'Relevant Variables'!N275","v":0},{"$f":"'Relevant Variables'!N305","v":0},{"$f":"'Relevant Variables'!N335","v":0},{"$f":"'Relevant Variables'!N365","v":0},{"$f":"'Relevant Variables'!N395","v":0},{"$f":"'Relevant Variables'!N425","v":0},{"$f":"'Relevant Variables'!N455","v":0},{"$f":"'Relevant Variables'!N485","v":0},{"$f":"'Relevant Variables'!N515","v":0},{"$f":"'Relevant Variables'!N545","v":0},{"$f":"'Relevant Variables'!N575","v":0},{"$f":"'Relevant Variables'!N605","v":0}]
["2025-12-01",null,{"$f":"'Energy Consumption'!O39","v":0},{"$f":"'Energy Consumption'!O40","v":0},{"$f":"'Energy Consumption'!O121","v":0},{"$f":"'Energy Consumption'!O122","v":0},{"$f":"'Energy Consumption'!O203","v":0},{"$f":"'Energy Consumption'!O204","v":0},{"$f":"'Energy Consumption'!O285","v":0},{"$f":"'Energy Consumption'!O286","v":0},{"$f":"'Energy Consumption'!O367","v":0},{"$f":"'Energy Consumption'!O368","v":0},{"$f":"'Energy Consumption'!O449","v":0},{"$f":"'Energy Consumption'!O450","v":0},{"$f":"'Energy Consumption'!O531","v":0},{"$f":"'Energy Consumption'!O532","v":0},{"$f":"'Energy Consumption'!O613","v":0},{"$f":"'Energy Consumption'!O614","v":0},{"$f":"'Energy Consumption'!O695","v":0},{"$f":"'Energy Consumption'!O696","v":0},{"$f":"'Energy Consumption'!O777","v":0},{"$f":"'Energy Consumption'!O778","v":0},{"$f":"'Energy Consumption'!O859","v":0},{"$f":"'Energy Consumption'!O860","v":0},{"$f":"'Energy Consumption'!O941","v":0},{"$f":"'Energy Consumption'!O942","v":0},{"$f":"'Energy Consumption'!O1023","v":0},{"$f":"'Energy Consumption'!O1024","v":0},{"$f":"'Energy Consumption'!O1105","v":0},{"$f":"'Energy Consumption'!O1106","v":0},{"$f":"'Energy Consumption'!O1187","v":0},{"$f":"'Energy Consumption'!O1188","v":0},{"$f":"'Energy Consumption'!O1269","v":0},{"$f":"'Energy Consumption'!O1270","v":0},{"$f":"'Energy Consumption'!O1351","v":0},{"$f":"'Energy Consumption'!O1352","v":0},{"$f":"'Energy Consumption'!O1433","v":0},{"$f":"'Energy Consumption'!O1434","v":0},{"$f":"'Energy Consumption'!O1515","v":0},{"$f":"'Energy Consumption'!O1516","v":0},{"$f":"'Energy Consumption'!O1597","v":0},{"$f":"'Energy Consumption'!O1598","v":0},null,{"$f":"'Relevant Variables'!O35","v":0},{"$f":"'Relevant Variables'!O65","v":0},{"$f":"'Relevant Variables'!O95","v":0},{"$f":"'Relevant Variables'!O125","v":0},{"$f":"'Relevant Variables'!O155","v":0},{"$f":"'Relevant Variables'!O185","v":0},{"$f":"'Relevant Variables'!O215","v":0},{"$f":"'Relevant Variables'!O245","v":0},{"$f":"'Relevant Variables'!O275","v":0},{"$f":"'Relevant Variables'!O305","v":0},{"$f":"'Relevant Variables'!O335","v":0},{"$f":"'Relevant Variables'!O365","v":0},{"$f":"'Relevant Variables'!O395","v":0},{"$f":"'Relevant Variables'!O425","v":0},{"$f":"'Relevant Variables'!O455","v":0},{"$f":"'Relevant Variables'!O485","v":0},{"$f":"'Relevant Variables'!O515","v":0},{"$f":"'Relevant Variables'!O545","v":0},{"$f":"'Relevant Variables'!O575","v":0},{"$f":"'Relevant Variables'!O605","v":0}]
["2026-01-01",null,{"$f":"'Energy Consumption'!D37","v":0},{"$f":"'Energy Consumption'!D38","v":0},{"$f":"'Energy Consumption'!D119","v":0},{"$f":"'Energy Consumption'!D120","v":0},{"$f":"'Energy Consumption'!D201","v":0},{"$f":"'Energy Consumption'!D202","v":0},{"$f":"'Energy Consumption'!D283","v":0},{"$f":"'Energy Consumption'!D284","v":0},{"$f":"'Energy Consumption'!D365","v":0},{"$f":"'Energy Consumption'!D366","v":0},{"$f":"'Energy Consumption'!D447","v":0},{"$f":"'Energy Consumption'!D448","v":0},{"$f":"'Energy Consumption'!D529","v":0},{"$f":"'Energy Consumption'!D530","v":0},{"$f":"'Energy Consumption'!D611","v":0},{"$f":"'Energy Consumption'!D612","v":0},{"$f":"'Energy Consumption'!D693","v":0},{"$f":"'Energy Consumption'!D694","v":0},{"$f":"'Energy Consumption'!D775","v":0},{"$f":"'Energy Consumption'!D776","v":0},{"$f":"'Energy Consumption'!D857","v":0},{"$f":"'Energy Consumption'!D858","v":0},{"$f":"'Energy Consumption'!D939","v":0},{"$f":"'Energy Consumption'!D940","v":0},{"$f":"'Energy Consumption'!D1021","v":0},{"$f":"'Energy Consumption'!D1022","v":0},{"$f":"'Energy Consumption'!D1103","v":0},{"$f":"'Energy Consumption'!D1104","v":0},{"$f":"'Energy Consumption'!D1185","v":0},{"$f":"'Energy Consumption'!D1186","v":0},{"$f":"'Energy Consumption'!D1267","v":0},{"$f":"'Energy Consumption'!D1268","v":0},{"$f":"'Energy Consumption'!D1349","v":0},{"$f":"'Energy Consumption'!D1350","v":0},{"$f":"'Energy Consumption'!D1431","v":0},{"$f":"'Energy Consumption'!D1432","v":0},{"$f":"'Energy Consumption'!D1513","v":0},{"$f":"'Energy Consumption'!D1514","v":0},{"$f":"'Energy Consumption'!D1595","v":0},{"$f":"'Energy Consumption'!D1596","v":0},null,{"$f":"'Relevant Variables'!D34","v":0},{"$f":"'Relevant Variables'!D64","v":0},{"$f":"'Relevant Variables'!D94","v":0},{"$f":"'Relevant Variables'!D124","v":0},{"$f":"'Relevant Variables'!D154","v":0},{"$f":"'Relevant Variables'!D184","v":0},{"$f":"'Relevant Variables'!D214","v":0},{"$f":"'Relevant Variables'!D244","v":0},{"$f":"'Relevant Variables'!D274","v":0},{"$f":"'Relevant Variables'!D304","v":0},{"$f":"'Relevant Variables'!D334","v":0},{"$f":"'Relevant Variables'!D364","v":0},{"$f":"'Relevant Variables'!D394","v":0},{"$f":"'Relevant Variables'!D424","v":0},{"$f":"'Relevant Variables'!D454","v":0},{"$f":"'Relevant Variables'!D484","v":0},{"$f":"'Relevant Variables'!D514","v":0},{"$f":"'Relevant Variables'!D544","v":0},{"$f":"'Relevant Variables'!D574","v":0},{"$f":"'Relevant Variables'!D604","v":0}]
["2026-02-01",null,{"$f":"'Energy Consumption'!E37","v":0},{"$f":"'Energy Consumption'!E38","v":0},{"$f":"'Energy Consumption'!E119","v":0},{"$f":"'Energy Consumption'!E120","v":0},{"$f":"'Energy Consumption'!E201","v":0},{"$f":"'Energy Consumption'!E202","v":0},{"$f":"'Energy Consumption'!E283","v":0},{"$f":"'Energy Consumption'!E284","v":0},{"$f":"'Energy Consumption'!E365","v":0},{"$f":"'Energy Consumption'!E366","v":0},{"$f":"'Energy Consumption'!E447","v":0},{"$f":"'Energy Consumption'!E448","v":0},{"$f":"'Energy Consumption'!E529","v":0},{"$f":"'Energy Consumption'!E530","v":0},{"$f":"'Energy Consumption'!E611","v":0},{"$f":"'Energy Consumption'!E612","v":0},{"$f":"'Energy Consumption'!E693","v":0},{"$f":"'Energy Consumption'!E694","v":0},{"$f":"'Energy Consumption'!E775","v":0},{"$f":"'Energy Consumption'!E776","v":0},{"$f":"'Energy Consumption'!E857","v":0},{"$f":"'Energy Consumption'!E858","v":0},{"$f":"'Energy Consumption'!E939","v":0},{"$f":"'Energy Consumption'!E940","v":0},{"$f":"'Energy Consumption'!E1021","v":0},{"$f":"'Energy Consumption'!E1022","v":0},{"$f":"'Energy Consumption'!E1103","v":0},{"$f":"'Energy Consumption'!E1104","v":0},{"$f":"'Energy Consumption'!E1185","v":0},{"$f":"'Energy Consumption'!E1186","v":0},{"$f":"'Energy Consumption'!E1267","v":0},{"$f":"'Energy Consumption'!E1268","v":0},{"$f":"'Energy Consumption'!E1349","v":0},{"$f":"'Energy Consumption'!E1350","v":0},{"$f":"'Energy Consumption'!E1431","v":0},{"$f":"'Energy Consumption'!E1432","v":0},{"$f":"'Energy Consumption'!E1513","v":0},{"$f":"'Energy Consumption'!E1514","v":0},{"$f":"'Energy Consumption'!E1595","v":0},{"$f":"'Energy Consumption'!E1596","v":0},null,{"$f":"'Relevant Variables'!E34","v":0},{"$f":"'Relevant Variables'!E64","v":0},{"$f":"'Relevant Variables'!E94","v":0},{"$f":"'Relevant Variables'!E124","v":0},{"$f":"'Relevant Variables'!E154","v":0},{"$f":"'Relevant Variables'!E184","v":0},{"$f":"'Relevant Variables'!E214","v":0},{"$f":"'Relevant Variables'!E244","v":0},{"$f":"'Relevant Variables'!E274","v":0},{"$f":"'Relevant Variables'!E304","v":0},{"$f":"'Relevant Variables'!E334","v":0},{"$f":"'Relevant Variables'!E364","v":0},{"$f":"'Relevant Variables'!E394","v":0},{"$f":"'Relevant Variables'!E424","v":0},{"$f":"'Relevant Variables'!E454","v":0},{"$f":"'Relevant Variables'!E484","v":0},{"$f":"'Relevant Variables'!E514","v":0},{"$f":"'Relevant Variables'!E544","v":0},{"$f":"'Relevant Variables'!E574","v":0},{"$f":"'Relevant Variables'!E604","v":0}]
["2026-03-01",null,{"$f":"'Energy Consumption'!F37","v":0},{"$f":"'Energy Consumption'!F38","v":0},{"$f":"'Energy Consumption'!F119","v":0},{"$f":"'Energy Consumption'!F120","v":0},{"$f":"'Energy Consumption'!F201","v":0},{"$f":"'Energy Consumption'!F202","v":0},{"$f":"'Energy Consumption'!F283","v":0},{"$f":"'Energy Consumption'!F284","v":0},{"$f":"'Energy Consumption'!F365","v":0},{"$f":"'Energy Consumption'!F366","v":0},{"$f":"'Energy Consumption'!F447","v":0},{"$f":"'Energy Consumption'!F448","v":0},{"$f":"'Energy Consumption'!F529","v":0},{"$f":"'Energy Consumption'!F530","v":0},{"$f":"'Energy Consumption'!F611","v":0},{"$f":"'Energy Consumption'!F612","v":0},{"$f":"'Energy Consumption'!F693","v":0},{"$f":"'Energy Consumption'!F694","v":0},{"$f":"'Energy Consumption'!F775","v":0},{"$f":"'Energy Consumption'!F776","v":0},{"$f":"'Energy Consumption'!F857","v":0},{"$f":"'Energy Consumption'!F858","v":0},{"$f":"'Energy Consumption'!F939","v":0},{"$f":"'Energy Consumption'!F940","v":0},{"$f":"'Energy Consumption'!F1021","v":0},{"$f":"'Energy Consumption'!F1022","v":0},{"$f":"'Energy Consumption'!F1103","v":0},{"$f":"'Energy Consumption'!F1104","v":0},{"$f":"'Energy Consumption'!F1185","v":0},{"$f":"'Energy Consumption'!F1186","v":0},{"$f":"'Energy Consumption'!F1267","v":0},{"$f":"'Energy Consumption'!F1268","v":0},{"$f":"'Energy Consumption'!F1349","v":0},{"$f":"'Energy Consumption'!F1350","v":0},{"$f":"'Energy Consumption'!F1431","v":0},{"$f":"'Energy Consumption'!F1432","v":0},{"$f":"'Energy Consumption'!F1513","v":0},{"$f":"'Energy Consumption'!F1514","v":0},{"$f":"'Energy Consumption'!F1595","v":0},{"$f":"'Energy Consumption'!F1596","v":0},null,{"$f":"'Relevant Variables'!F34","v":0},{"$f":"'Relevant Variables'!F64","v":0},{"$f":"'Relevant Variables'!F94","v":0},{"$f":"'Relevant Variables'!F124","v":0},{"$f":"'Relevant Variables'!F154","v":0},{"$f":"'Relevant Variables'!F184","v":0},{"$f":"'Relevant Variables'!F214","v":0},{"$f":"'Relevant Variables'!F244","v":0},{"$f":"'Relevant Variables'!F274","v":0},{"$f":"'Relevant Variables'!F304","v":0},{"$f":"'Relevant Variables'!F334","v":0},{"$f":"'Relevant Variables'!F364","v":0},{"$f":"'Relevant Variables'!F394","v":0},{"$f":"'Relevant Variables'!F424","v":0},{"$f":"'Relevant Variables'!F454","v":0},{"$f":"'Relevant Variables'!F484","v":0},{"$f":"'Relevant Variables'!F514","v":0},{"$f":"'Relevant Variables'!F544","v":0},{"$f":"'Relevant Variables'!F574","v":0},{"$f":"'Relevant Variables'!F604","v":0}]
["2026-04-01",null,{"$f":"'Energy Consumption'!G37","v":0},{"$f":"'Energy Consumption'!G38","v":0},{"$f":"'Energy Consumption'!G119","v":0},{"$f":"'Energy Consumption'!G120","v":0},{"$f":"'Energy Consumption'!G201","v":0},{"$f":"'Energy Consumption'!G202","v":0},{"$f":"'Energy Consumption'!G283","v":0},{"$f":"'Energy Consumption'!G284","v":0},{"$f":"'Energy Consumption'!G365","v":0},{"$f":"'Energy Consumption'!G366","v":0},{"$f":"'Energy Consumption'!G447","v":0},{"$f":"'Energy Consumption'!G448","v":0},{"$f":"'Energy Consumption'!G529","v":0},{"$f":"'Energy Consumption'!G530","v":0},{"$f":"'Energy Consumption'!G611","v":0},{"$f":"'Energy Consumption'!G612","v":0},{"$f":"'Energy Consumption'!G693","v":0},{"$f":"'Energy Consumption'!G694","v":0},{"$f":"'Energy Consumption'!G775","v":0},{"$f":"'Energy Consumption'!G776","v":0},{"$f":"'Energy Consumption'!G857","v":0},{"$f":"'Energy Consumption'!G858","v":0},{"$f":"'Energy Consumption'!G939","v":0},{"$f":"'Energy Consumption'!G940","v":0},{"$f":"'Energy Consumption'!G1021","v":0},{"$f":"'Energy Consumption'!G1022","v":0},{"$f":"'Energy Consumption'!G1103","v":0},{"$f":"'Energy Consumption'!G1104","v":0},{"$f":"'Energy Consumption'!G1185","v":0},{"$f":"'Energy Consumption'!G1186","v":0},{"$f":"'Energy Consumption'!G1267","v":0},{"$f":"'Energy Consumption'!G1268","v":0},{"$f":"'Energy Consumption'!G1349","v":0},{"$f":"'Energy Consumption'!G1350","v":0},{"$f":"'Energy Consumption'!G1431","v":0},{"$f":"'Energy Consumption'!G1432","v":0},{"$f":"'Energy Consumption'!G1513","v":0},{"$f":"'Energy Consumption'!G1514","v":0},{"$f":"'Energy Consumption'!G1595","v":0},{"$f":"'Energy Consumption'!G1596","v":0},null,{"$f":"'Relevant Variables'!G34","v":0},{"$f":"'Relevant Variables'!G64","v":0},{"$f":"'Relevant Variables'!G94","v":0},{"$f":"'Relevant Variables'!G124","v":0},{"$f":"'Relevant Variables'!G154","v":0},{"$f":"'Relevant Variables'!G184","v":0},{"$f":"'Relevant Variables'!G214","v":0},{"$f":"'Relevant Variables'!G244","v":0},{"$f":"'Relevant Variables'!G274","v":0},{"$f":"'Relevant Variables'!G304","v":0},{"$f":"'Relevant Variables'!G334","v":0},{"$f":"'Relevant Variables'!G364","v":0},{"$f":"'Relevant Variables'!G394","v":0},{"$f":"'Relevant Variables'!G424","v":0},{"$f":"'Relevant Variables'!G454","v":0},{"$f":"'Relevant Variables'!G484","v":0},{"$f":"'Relevant Variables'!G514","v":0},{"$f":"'Relevant Variables'!G544","v":0},{"$f":"'Relevant Variables'!G574","v":0},{"$f":"'Relevant Variables'!G604","v":0}]
["2026-05-01",null,{"$f":"'Energy Consumption'!H37","v":0},{"$f":"'Energy Consumption'!H38","v":0},{"$f":"'Energy Consumption'!H119","v":0},{"$f":"'Energy Consumption'!H120","v":0},{"$f":"'Energy Consumption'!H201","v":0},{"$f":"'Energy Consumption'!H202","v":0},{"$f":"'Energy Consumption'!H283","v":0},{"$f":"'Energy Consumption'!H284","v":0},{"$f":"'Energy Consumption'!H365","v":0},{"$f":"'Energy Consumption'!H366","v":0},{"$f":"'Energy Consumption'!H447","v":0},{"$f":"'Energy Consumption'!H448","v":0},{"$f":"'Energy Consumption'!H529","v":0},{"$f":"'Energy Consumption'!H530","v":0},{"$f":"'Energy Consumption'!H611","v":0},{"$f":"'Energy Consumption'!H612","v":0},{"$f":"'Energy Consumption'!H693","v":0},{"$f":"'Energy Consumption'!H694","v":0},{"$f":"'Energy Consumption'!H775","v":0},{"$f":"'Energy Consumption'!H776","v":0},{"$f":"'Energy Consumption'!H857","v":0},{"$f":"'Energy Consumption'!H858","v":0},{"$f":"'Energy Consumption'!H939","v":0},{"$f":"'Energy Consumption'!H940","v":0},{"$f":"'Energy Consumption'!H1021","v":0},{"$f":"'Energy Consumption'!H1022","v":0},{"$f":"'Energy Consumption'!H1103","v":0},{"$f":"'Energy Consumption'!H1104","v":0},{"$f":"'Energy Consumption'!H1185","v":0},{"$f":"'Energy Consumption'!H1186","v":0},{"$f":"'Energy Consumption'!H1267","v":0},{"$f":"'Energy Consumption'!H1268","v":0},{"$f":"'Energy Consumption'!H1349","v":0},{"$f":"'Energy Consumption'!H1350","v":0},{"$f":"'Energy Consumption'!H1431","v":0},{"$f":"'Energy Consumption'!H1432","v":0},{"$f":"'Energy Consumption'!H1513","v":0},{"$f":"'Energy Consumption'!H1514","v":0},{"$f":"'Energy Consumption'!H1595","v":0},{"$f":"'Energy Consumption'!H1596","v":0},null,{"$f":"'Relevant Variables'!H34","v":0},{"$f":"'Relevant Variables'!H64","v":0},{"$f":"'Relevant Variables'!H94","v":0},{"$f":"'Relevant Variables'!H124","v":0},{"$f":"'Relevant Variables'!H154","v":0},{"$f":"'Relevant Variables'!H184","v":0},{"$f":"'Relevant Variables'!H214","v":0},{"$f":"'Relevant Variables'!H244","v":0},{"$f":"'Relevant Variables'!H274","v":0},{"$f":"'Relevant Variables'!H304","v":0},{"$f":"'Relevant Variables'!H334","v":0},{"$f":"'Relevant Variables'!H364","v":0},{"$f":"'Relevant Variables'!H394","v":0},{"$f":"'Relevant Variables'!H424","v":0},{"$f":"'Relevant Variables'!H454","v":0},{"$f":"'Relevant Variables'!H484","v":0},{"$f":"'Relevant Variables'!H514","v":0},{"$f":"'Relevant Variables'!H544","v":0},{"$f":"'Relevant Variables'!H574","v":0},{"$f":"'Relevant Variables'!H604","v":0}]
["2026-06-01",null,{"$f":"'Energy Consumption'!I37","v":0},{"$f":"'Energy Consumption'!I38","v":0},{"$f":"'Energy Consumption'!I119","v":0},{"$f":"'Energy Consumption'!I120","v":0},{"$f":"'Energy Consumption'!I201","v":0},{"$f":"'Energy Consumption'!I202","v":0},{"$f":"'Energy Consumption'!I283","v":0},{"$f":"'Energy Consumption'!I284","v":0},{"$f":"'Energy Consumption'!I365","v":0},{"$f":"'Energy Consumption'!I366","v":0},{"$f":"'Energy Consumption'!I447","v":0},{"$f":"'Energy Consumption'!I448","v":0},{"$f":"'Energy Consumption'!I529","v":0},{"$f":"'Energy Consumption'!I530","v":0},{"$f":"'Energy Consumption'!I611","v":0},{"$f":"'Energy Consumption'!I612","v":0},{"$f":"'Energy Consumption'!I693","v":0},{"$f":"'Energy Consumption'!I694","v":0},{"$f":"'Energy Consumption'!I775","v":0},{"$f":"'Energy Consumption'!I776","v":0},{"$f":"'Energy Consumption'!I857","v":0},{"$f":"'Energy Consumption'!I858","v":0},{"$f":"'Energy Consumption'!I939","v":0},{"$f":"'Energy Consumption'!I940","v":0},{"$f":"'Energy Consumption'!I1021","v":0},{"$f":"'Energy Consumption'!I1022","v":0},{"$f":"'Energy Consumption'!I1103","v":0},{"$f":"'Energy Consumption'!I1104","v":0},{"$f":"'Energy Consumption'!I1185","v":0},{"$f":"'Energy Consumption'!I1186","v":0},{"$f":"'Energy Consumption'!I1267","v":0},{"$f":"'Energy Consumption'!I1268","v":0},{"$f":"'Energy Consumption'!I1349","v":0},{"$f":"'Energy Consumption'!I1350","v":0},{"$f":"'Energy Consumption'!I1431","v":0},{"$f":"'Energy Consumption'!I1432","v":0},{"$f":"'Energy Consumption'!I1513","v":0},{"$f":"'Energy Consumption'!I1514","v":0},{"$f":"'Energy Consumption'!I1595","v":0},{"$f":"'Energy Consumption'!I1596","v":0},null,{"$f":"'Relevant Variables'!I34","v":0},{"$f":"'Relevant Variables'!I64","v":0},{"$f":"'Relevant Variables'!I94","v":0},{"$f":"'Relevant Variables'!I124","v":0},{"$f":"'Relevant Variables'!I154","v":0},{"$f":"'Relevant Variables'!I184","v":0},{"$f":"'Relevant Variables'!I214","v":0},{"$f":"'Relevant Variables'!I244","v":0},{"$f":"'Relevant Variables'!I274","v":0},{"$f":"'Relevant Variables'!I304","v":0},{"$f":"'Relevant Variables'!I334","v":0},{"$f":"'Relevant Variables'!I364","v":0},{"$f":"'Relevant Variables'!I394","v":0},{"$f":"'Relevant Variables'!I424","v":0},{"$f":"'Relevant Variables'!I454","v":0},{"$f":"'Relevant Variables'!I484","v":0},{"$f":"'Relevant Variables'!I514","v":0},{"$f":"'Relevant Variables'!I544","v":0},{"$f":"'Relevant Variables'!I574","v":0},{"$f":"'Relevant Variables'!I604","v":0}]
[{"$f":"DATE(YEAR(A269),MONTH(A269)+1,1)","v":"2026-07-01"},null,{"$f":"'Energy Consumption'!J37","v":0},{"$f":"'Energy Consumption'!J38","v":0},{"$f":"'Energy Consumption'!J119","v":0},{"$f":"'Energy Consumption'!J120","v":0},{"$f":"'Energy Consumption'!J201","v":0},{"$f":"'Energy Consumption'!J202","v":0},{"$f":"'Energy Consumption'!J283","v":0},{"$f":"'Energy Consumption'!J284","v":0},{"$f":"'Energy Consumption'!J365","v":0},{"$f":"'Energy Consumption'!J366","v":0},{"$f":"'Energy Consumption'!J447","v":0},{"$f":"'Energy Consumption'!J448","v":0},{"$f":"'Energy Consumption'!J529","v":0},{"$f":"'Energy Consumption'!J530","v":0},{"$f":"'Energy Consumption'!J611","v":0},{"$f":"'Energy Consumption'!J612","v":0},{"$f":"'Energy Consumption'!J693","v":0},{"$f":"'Energy Consumption'!J694","v":0},{"$f":"'Energy Consumption'!J775","v":0},{"$f":"'Energy Consumption'!J776","v":0},{"$f":"'Energy Consumption'!J857","v":0},{"$f":"'Energy Consumption'!J858","v":0},{"$f":"'Energy Consumption'!J939","v":0},{"$f":"'Energy Consumption'!J940","v":0},{"$f":"'Energy Consumption'!J1021","v":0},{"$f":"'Energy Consumption'!J1022","v":0},{"$f":"'Energy Consumption'!J1103","v":0},{"$f":"'Energy Consumption'!J1104","v":0},{"$f":"'Energy Consumption'!J1185","v":0},{"$f":"'Energy Consumption'!J1186","v":0},{"$f":"'Energy Consumption'!J1267","v":0},{"$f":"'Energy Consumption'!J1268","v":0},{"$f":"'Energy Consumption'!J1349","v":0},{"$f":"'Energy Consumption'!J1350","v":0},{"$f":"'Energy Consumption'!J1431","v":0},{"$f":"'Energy Consumption'!J1432","v":0},{"$f":"'Energy Consumption'!J1513","v":0},{"$f":"'Energy Consumption'!J1514","v":0},{"$f":"'Energy Consumption'!J1595","v":0},{"$f":"'Energy Consumption'!J1596","v":0},null,{"$f":"'Relevant Variables'!J34","v":0},{"$f":"'Relevant Variables'!J64","v":0},{"$f":"'Relevant Variables'!J94","v":0},{"$f":"'Relevant Variables'!J124","v":0},{"$f":"'Relevant Variables'!J154","v":0},{"$f":"'Relevant Variables'!J184","v":0},{"$f":"'Relevant Variables'!J214","v":0},{"$f":"'Relevant Variables'!J244","v":0},{"$f":"'Relevant Variables'!J274","v":0},{"$f":"'Relevant Variables'!J304","v":0},{"$f":"'Relevant Variables'!J334","v":0},{"$f":"'Relevant Variables'!J364","v":0},{"$f":"'Relevant Variables'!J394","v":0},{"$f":"'Relevant Variables'!J424","v":0},{"$f":"'Relevant Variables'!J454","v":0},{"$f":"'Relevant Variables'!J484","v":0},{"$f":"'Relevant Variables'!J514","v":0},{"$f":"'Relevant Variables'!J544","v":0},{"$f":"'Relevant Variables'!J574","v":0},{"$f":"'Relevant Variables'!J604","v":0}]
["2026-08-01",null,{"$f":"'Energy Consumption'!K37","v":0},{"$f":"'Energy Consumption'!K38","v":0},{"$f":"'Energy Consumption'!K119","v":0},{"$f":"'Energy Consumption'!K120","v":0},{"$f":"'Energy Consumption'!K201","v":0},{"$f":"'Energy Consumption'!K202","v":0},{"$f":"'Energy Consumption'!K283","v":0},{"$f":"'Energy Consumption'!K284","v":0},{"$f":"'Energy Consumption'!K365","v":0},{"$f":"'Energy Consumption'!K366","v":0},{"$f":"'Energy Consumption'!K447","v":0},{"$f":"'Energy Consumption'!K448","v":0},{"$f":"'Energy Consumption'!K529","v":0},{"$f":"'Energy Consumption'!K530","v":0},{"$f":"'Energy Consumption'!K611","v":0},{"$f":"'Energy Consumption'!K612","v":0},{"$f":"'Energy Consumption'!K693","v":0},{"$f":"'Energy Consumption'!K694","v":0},{"$f":"'Energy Consumption'!K775","v":0},{"$f":"'Energy Consumption'!K776","v":0},{"$f":"'Energy Consumption'!K857","v":0},{"$f":"'Energy Consumption'!K858","v":0},{"$f":"'Energy Consumption'!K939","v":0},{"$f":"'Energy Consumption'!K940","v":0},{"$f":"'Energy Consumption'!K1021","v":0},{"$f":"'Energy Consumption'!K1022","v":0},{"$f":"'Energy Consumption'!K1103","v":0},{"$f":"'Energy Consumption'!K1104","v":0},{"$f":"'Energy Consumption'!K1185","v":0},{"$f":"'Energy Consumption'!K1186","v":0},{"$f":"'Energy Consumption'!K1267","v":0},{"$f":"'Energy Consumption'!K1268","v":0},{"$f":"'Energy Consumption'!K1349","v":0},{"$f":"'Energy Consumption'!K1350","v":0},{"$f":"'Energy Consumption'!K1431","v":0},{"$f":"'Energy Consumption'!K1432","v":0},{"$f":"'Energy Consumption'!K1513","v":0},{"$f":"'Energy Consumption'!K1514","v":0},{"$f":"'Energy Consumption'!K1595","v":0},{"$f":"'Energy Consumption'!K1596","v":0},null,{"$f":"'Relevant Variables'!K34","v":0},{"$f":"'Relevant Variables'!K64","v":0},{"$f":"'Relevant Variables'!K94","v":0},{"$f":"'Relevant Variables'!K124","v":0},{"$f":"'Relevant Variables'!K154","v":0},{"$f":"'Relevant Variables'!K184","v":0},{"$f":"'Relevant Variables'!K214","v":0},{"$f":"'Relevant Variables'!K244","v":0},{"$f":"'Relevant Variables'!K274","v":0},{"$f":"'Relevant Variables'!K304","v":0},{"$f":"'Relevant Variables'!K334","v":0},{"$f":"'Relevant Variables'!K364","v":0},{"$f":"'Relevant Variables'!K394","v":0},{"$f":"'Relevant Variables'!K424","v":0},{"$f":"'Relevant Variables'!K454","v":0},{"$f":"'Relevant Variables'!K484","v":0},{"$f":"'Relevant Variables'!K514","v":0},{"$f":"'Relevant Variables'!K544","v":0},{"$f":"'Relevant Variables'!K574","v":0},{"$f":"'Relevant Variables'!K604","v":0}]
["2026-09-01",null,{"$f":"'Energy Consumption'!L37","v":0},{"$f":"'Energy Consumption'!L38","v":0},{"$f":"'Energy Consumption'!L119","v":0},{"$f":"'Energy Consumption'!L120","v":0},{"$f":"'Energy Consumption'!L201","v":0},{"$f":"'Energy Consumption'!L202","v":0},{"$f":"'Energy Consumption'!L283","v":0},{"$f":"'Energy Consumption'!L284","v":0},{"$f":"'Energy Consumption'!L365","v":0},{"$f":"'Energy Consumption'!L366","v":0},{"$f":"'Energy Consumption'!L447","v":0},{"$f":"'Energy Consumption'!L448","v":0},{"$f":"'Energy Consumption'!L529","v":0},{"$f":"'Energy Consumption'!L530","v":0},{"$f":"'Energy Consumption'!L611","v":0},{"$f":"'Energy Consumption'!L612","v":0},{"$f":"'Energy Consumption'!L693","v":0},{"$f":"'Energy Consumption'!L694","v":0},{"$f":"'Energy Consumption'!L775","v":0},{"$f":"'Energy Consumption'!L776","v":0},{"$f":"'Energy Consumption'!L857","v":0},{"$f":"'Energy Consumption'!L858","v":0},{"$f":"'Energy Consumption'!L939","v":0},{"$f":"'Energy Consumption'!L940","v":0},{"$f":"'Energy Consumption'!L1021","v":0},{"$f":"'Energy Consumption'!L1022","v":0},{"$f":"'Energy Consumption'!L1103","v":0},{"$f":"'Energy Consumption'!L1104","v":0},{"$f":"'Energy Consumption'!L1185","v":0},{"$f":"'Energy Consumption'!L1186","v":0},{"$f":"'Energy Consumption'!L1267","v":0},{"$f":"'Energy Consumption'!L1268","v":0},{"$f":"'Energy Consumption'!L1349","v":0},{"$f":"'Energy Consumption'!L1350","v":0},{"$f":"'Energy Consumption'!L1431","v":0},{"$f":"'Energy Consumption'!L1432","v":0},{"$f":"'Energy Consumption'!L1513","v":0},{"$f":"'Energy Consumption'!L1514","v":0},{"$f":"'Energy Consumption'!L1595","v":0},{"$f":"'Energy Consumption'!L1596","v":0},null,{"$f":"'Relevant Variables'!L34","v":0},{"$f":"'Relevant Variables'!L64","v":0},{"$f":"'Relevant Variables'!L94","v":0},{"$f":"'Relevant Variables'!L124","v":0},{"$f":"'Relevant Variables'!L154","v":0},{"$f":"'Relevant Variables'!L184","v":0},{"$f":"'Relevant Variables'!L214","v":0},{"$f":"'Relevant Variables'!L244","v":0},{"$f":"'Relevant Variables'!L274","v":0},{"$f":"'Relevant Variables'!L304","v":0},{"$f":"'Relevant Variables'!L334","v":0},{"$f":"'Relevant Variables'!L364","v":0},{"$f":"'Relevant Variables'!L394","v":0},{"$f":"'Relevant Variables'!L424","v":0},{"$f":"'Relevant Variables'!L454","v":0},{"$f":"'Relevant Variables'!L484","v":0},{"$f":"'Relevant Variables'!L514","v":0},{"$f":"'Relevant Variables'!L544","v":0},{"$f":"'Relevant Variables'!L574","v":0},{"$f":"'Relevant Variables'!L604","v":0}]
["2026-10-01",null,{"$f":"'Energy Consumption'!M37","v":0},{"$f":"'Energy Consumption'!M38","v":0},{"$f":"'Energy Consumption'!M119","v":0},{"$f":"'Energy Consumption'!M120","v":0},{"$f":"'Energy Consumption'!M201","v":0},{"$f":"'Energy Consumption'!M202","v":0},{"$f":"'Energy Consumption'!M283","v":0},{"$f":"'Energy Consumption'!M284","v":0},{"$f":"'Energy Consumption'!M365","v":0},{"$f":"'Energy Consumption'!M366","v":0},{"$f":"'Energy Consumption'!M447","v":0},{"$f":"'Energy Consumption'!M448","v":0},{"$f":"'Energy Consumption'!M529","v":0},{"$f":"'Energy Consumption'!M530","v":0},{"$f":"'Energy Consumption'!M611","v":0},{"$f":"'Energy Consumption'!M612","v":0},{"$f":"'Energy Consumption'!M693","v":0},{"$f":"'Energy Consumption'!M694","v":0},{"$f":"'Energy Consumption'!M775","v":0},{"$f":"'Energy Consumption'!M776","v":0},{"$f":"'Energy Consumption'!M857","v":0},{"$f":"'Energy Consumption'!M858","v":0},{"$f":"'Energy Consumption'!M939","v":0},{"$f":"'Energy Consumption'!M940","v":0},{"$f":"'Energy Consumption'!M1021","v":0},{"$f":"'Energy Consumption'!M1022","v":0},{"$f":"'Energy Consumption'!M1103","v":0},{"$f":"'Energy Consumption'!M1104","v":0},{"$f":"'Energy Consumption'!M1185","v":0},{"$f":"'Energy Consumption'!M1186","v":0},{"$f":"'Energy Consumption'!M1267","v":0},{"$f":"'Energy Consumption'!M1268","v":0},{"$f":"'Energy Consumption'!M1349","v":0},{"$f":"'Energy Consumption'!M1350","v":0},{"$f":"'Energy Consumption'!M1431","v":0},{"$f":"'Energy Consumption'!M1432","v":0},{"$f":"'Energy Consumption'!M1513","v":0},{"$f":"'Energy Consumption'!M1514","v":0},{"$f":"'Energy Consumption'!M1595","v":0},{"$f":"'Energy Consumption'!M1596","v":0},null,{"$f":"'Relevant Variables'!M34","v":0},{"$f":"'Relevant Variables'!M64","v":0},{"$f":"'Relevant Variables'!M94","v":0},{"$f":"'Relevant Variables'!M124","v":0},{"$f":"'Relevant Variables'!M154","v":0},{"$f":"'Relevant Variables'!M184","v":0},{"$f":"'Relevant Variables'!M214","v":0},{"$f":"'Relevant Variables'!M244","v":0},{"$f":"'Relevant Variables'!M274","v":0},{"$f":"'Relevant Variables'!M304","v":0},{"$f":"'Relevant Variables'!M334","v":0},{"$f":"'Relevant Variables'!M364","v":0},{"$f":"'Relevant Variables'!M394","v":0},{"$f":"'Relevant Variables'!M424","v":0},{"$f":"'Relevant Variables'!M454","v":0},{"$f":"'Relevant Variables'!M484","v":0},{"$f":"'Relevant Variables'!M514","v":0},{"$f":"'Relevant Variables'!M544","v":0},{"$f":"'Relevant Variables'!M574","v":0},{"$f":"'Relevant Variables'!M604","v":0}]
["2026-11-01",null,{"$f":"'Energy Consumption'!N37","v":0},{"$f":"'Energy Consumption'!N38","v":0},{"$f":"'Energy Consumption'!N119","v":0},{"$f":"'Energy Consumption'!N120","v":0},{"$f":"'Energy Consumption'!N201","v":0},{"$f":"'Energy Consumption'!N202","v":0},{"$f":"'Energy Consumption'!N283","v":0},{"$f":"'Energy Consumption'!N284","v":0},{"$f":"'Energy Consumption'!N365","v":0},{"$f":"'Energy Consumption'!N366","v":0},{"$f":"'Energy Consumption'!N447","v":0},{"$f":"'Energy Consumption'!N448","v":0},{"$f":"'Energy Consumption'!N529","v":0},{"$f":"'Energy Consumption'!N530","v":0},{"$f":"'Energy Consumption'!N611","v":0},{"$f":"'Energy Consumption'!N612","v":0},{"$f":"'Energy Consumption'!N693","v":0},{"$f":"'Energy Consumption'!N694","v":0},{"$f":"'Energy Consumption'!N775","v":0},{"$f":"'Energy Consumption'!N776","v":0},{"$f":"'Energy Consumption'!N857","v":0},{"$f":"'Energy Consumption'!N858","v":0},{"$f":"'Energy Consumption'!N939","v":0},{"$f":"'Energy Consumption'!N940","v":0},{"$f":"'Energy Consumption'!N1021","v":0},{"$f":"'Energy Consumption'!N1022","v":0},{"$f":"'Energy Consumption'!N1103","v":0},{"$f":"'Energy Consumption'!N1104","v":0},{"$f":"'Energy Consumption'!N1185","v":0},{"$f":"'Energy Consumption'!N1186","v":0},{"$f":"'Energy Consumption'!N1267","v":0},{"$f":"'Energy Consumption'!N1268","v":0},{"$f":"'Energy Consumption'!N1349","v":0},{"$f":"'Energy Consumption'!N1350","v":0},{"$f":"'Energy Consumption'!N1431","v":0},{"$f":"'Energy Consumption'!N1432","v":0},{"$f":"'Energy Consumption'!N1513","v":0},{"$f":"'Energy Consumption'!N1514","v":0},{"$f":"'Energy Consumption'!N1595","v":0},{"$f":"'Energy Consumption'!N1596","v":0},null,{"$f":"'Relevant Variables'!N34","v":0},{"$f":"'Relevant Variables'!N64","v":0},{"$f":"'Relevant Variables'!N94","v":0},{"$f":"'Relevant Variables'!N124","v":0},{"$f":"'Relevant Variables'!N154","v":0},{"$f":"'Relevant Variables'!N184","v":0},{"$f":"'Relevant Variables'!N214","v":0},{"$f":"'Relevant Variables'!N244","v":0},{"$f":"'Relevant Variables'!N274","v":0},{"$f":"'Relevant Variables'!N304","v":0},{"$f":"'Relevant Variables'!N334","v":0},{"$f":"'Relevant Variables'!N364","v":0},{"$f":"'Relevant Variables'!N394","v":0},{"$f":"'Relevant Variables'!N424","v":0},{"$f":"'Relevant Variables'!N454","v":0},{"$f":"'Relevant Variables'!N484","v":0},{"$f":"'Relevant Variables'!N514","v":0},{"$f":"'Relevant Variables'!N544","v":0},{"$f":"'Relevant Variables'!N574","v":0},{"$f":"'Relevant Variables'!N604","v":0}]
["2026-12-01",null,{"$f":"'Energy Consumption'!O37","v":0},{"$f":"'Energy Consumption'!O38","v":0},{"$f":"'Energy Consumption'!O119","v":0},{"$f":"'Energy Consumption'!O120","v":0},{"$f":"'Energy Consumption'!O201","v":0},{"$f":"'Energy Consumption'!O202","v":0},{"$f":"'Energy Consumption'!O283","v":0},{"$f":"'Energy Consumption'!O284","v":0},{"$f":"'Energy Consumption'!O365","v":0},{"$f":"'Energy Consumption'!O366","v":0},{"$f":"'Energy Consumption'!O447","v":0},{"$f":"'Energy Consumption'!O448","v":0},{"$f":"'Energy Consumption'!O529","v":0},{"$f":"'Energy Consumption'!O530","v":0},{"$f":"'Energy Consumption'!O611","v":0},{"$f":"'Energy Consumption'!O612","v":0},{"$f":"'Energy Consumption'!O693","v":0},{"$f":"'Energy Consumption'!O694","v":0},{"$f":"'Energy Consumption'!O775","v":0},{"$f":"'Energy Consumption'!O776","v":0},{"$f":"'Energy Consumption'!O857","v":0},{"$f":"'Energy Consumption'!O858","v":0},{"$f":"'Energy Consumption'!O939","v":0},{"$f":"'Energy Consumption'!O940","v":0},{"$f":"'Energy Consumption'!O1021","v":0},{"$f":"'Energy Consumption'!O1022","v":0},{"$f":"'Energy Consumption'!O1103","v":0},{"$f":"'Energy Consumption'!O1104","v":0},{"$f":"'Energy Consumption'!O1185","v":0},{"$f":"'Energy Consumption'!O1186","v":0},{"$f":"'Energy Consumption'!O1267","v":0},{"$f":"'Energy Consumption'!O1268","v":0},{"$f":"'Energy Consumption'!O1349","v":0},{"$f":"'Energy Consumption'!O1350","v":0},{"$f":"'Energy Consumption'!O1431","v":0},{"$f":"'Energy Consumption'!O1432","v":0},{"$f":"'Energy Consumption'!O1513","v":0},{"$f":"'Energy Consumption'!O1514","v":0},{"$f":"'Energy Consumption'!O1595","v":0},{"$f":"'Energy Consumption'!O1596","v":0},null,{"$f":"'Relevant Variables'!O34","v":0},{"$f":"'Relevant Variables'!O64","v":0},{"$f":"'Relevant Variables'!O94","v":0},{"$f":"'Relevant Variables'!O124","v":0},{"$f":"'Relevant Variables'!O154","v":0},{"$f":"'Relevant Variables'!O184","v":0},{"$f":"'Relevant Variables'!O214","v":0},{"$f":"'Relevant Variables'!O244","v":0},{"$f":"'Relevant Variables'!O274","v":0},{"$f":"'Relevant Variables'!O304","v":0},{"$f":"'Relevant Variables'!O334","v":0},{"$f":"'Relevant Variables'!O364","v":0},{"$f":"'Relevant Variables'!O394","v":0},{"$f":"'Relevant Variables'!O424","v":0},{"$f":"'Relevant Variables'!O454","v":0},{"$f":"'Relevant Variables'!O484","v":0},{"$f":"'Relevant Variables'!O514","v":0},{"$f":"'Relevant Variables'!O544","v":0},{"$f":"'Relevant Variables'!O574","v":0},{"$f":"'Relevant Variables'!O604","v":0}]
["2027-01-01",null,{"$f":"'Energy Consumption'!D35","v":0},{"$f":"'Energy Consumption'!D36","v":0},{"$f":"'Energy Consumption'!D117","v":0},{"$f":"'Energy Consumption'!D118","v":0},{"$f":"'Energy Consumption'!D199","v":0},{"$f":"'Energy Consumption'!D200","v":0},{"$f":"'Energy Consumption'!D281","v":0},{"$f":"'Energy Consumption'!D282","v":0},{"$f":"'Energy Consumption'!D363","v":0},{"$f":"'Energy Consumption'!D364","v":0},{"$f":"'Energy Consumption'!D445","v":0},{"$f":"'Energy Consumption'!D446","v":0},{"$f":"'Energy Consumption'!D527","v":0},{"$f":"'Energy Consumption'!D528","v":0},{"$f":"'Energy Consumption'!D609","v":0},{"$f":"'Energy Consumption'!D610","v":0},{"$f":"'Energy Consumption'!D691","v":0},{"$f":"'Energy Consumption'!D692","v":0},{"$f":"'Energy Consumption'!D773","v":0},{"$f":"'Energy Consumption'!D774","v":0},{"$f":"'Energy Consumption'!D855","v":0},{"$f":"'Energy Consumption'!D856","v":0},{"$f":"'Energy Consumption'!D937","v":0},{"$f":"'Energy Consumption'!D938","v":0},{"$f":"'Energy Consumption'!D1019","v":0},{"$f":"'Energy Consumption'!D1020","v":0},{"$f":"'Energy Consumption'!D1101","v":0},{"$f":"'Energy Consumption'!D1102","v":0},{"$f":"'Energy Consumption'!D1183","v":0},{"$f":"'Energy Consumption'!D1184","v":0},{"$f":"'Energy Consumption'!D1265","v":0},{"$f":"'Energy Consumption'!D1266","v":0},{"$f":"'Energy Consumption'!D1347","v":0},{"$f":"'Energy Consumption'!D1348","v":0},{"$f":"'Energy Consumption'!D1429","v":0},{"$f":"'Energy Consumption'!D1430","v":0},{"$f":"'Energy Consumption'!D1511","v":0},{"$f":"'Energy Consumption'!D1512","v":0},{"$f":"'Energy Consumption'!D1593","v":0},{"$f":"'Energy Consumption'!D1594","v":0},null,{"$f":"'Relevant Variables'!D33","v":0},{"$f":"'Relevant Variables'!D63","v":0},{"$f":"'Relevant Variables'!D93","v":0},{"$f":"'Relevant Variables'!D123","v":0},{"$f":"'Relevant Variables'!D153","v":0},{"$f":"'Relevant Variables'!D183","v":0},{"$f":"'Relevant Variables'!D213","v":0},{"$f":"'Relevant Variables'!D243","v":0},{"$f":"'Relevant Variables'!D273","v":0},{"$f":"'Relevant Variables'!D303","v":0},{"$f":"'Relevant Variables'!D333","v":0},{"$f":"'Relevant Variables'!D363","v":0},{"$f":"'Relevant Variables'!D393","v":0},{"$f":"'Relevant Variables'!D423","v":0},{"$f":"'Relevant Variables'!D453","v":0},{"$f":"'Relevant Variables'!D483","v":0},{"$f":"'Relevant Variables'!D513","v":0},{"$f":"'Relevant Variables'!D543","v":0},{"$f":"'Relevant Variables'!D573","v":0},{"$f":"'Relevant Variables'!D603","v":0}]
["2027-02-01",null,{"$f":"'Energy Consumption'!E35","v":0},{"$f":"'Energy Consumption'!E36","v":0},{"$f":"'Energy Consumption'!E117","v":0},{"$f":"'Energy Consumption'!E118","v":0},{"$f":"'Energy Consumption'!E199","v":0},{"$f":"'Energy Consumption'!E200","v":0},{"$f":"'Energy Consumption'!E281","v":0},{"$f":"'Energy Consumption'!E282","v":0},{"$f":"'Energy Consumption'!E363","v":0},{"$f":"'Energy Consumption'!E364","v":0},{"$f":"'Energy Consumption'!E445","v":0},{"$f":"'Energy Consumption'!E446","v":0},{"$f":"'Energy Consumption'!E527","v":0},{"$f":"'Energy Consumption'!E528","v":0},{"$f":"'Energy Consumption'!E609","v":0},{"$f":"'Energy Consumption'!E610","v":0},{"$f":"'Energy Consumption'!E691","v":0},{"$f":"'Energy Consumption'!E692","v":0},{"$f":"'Energy Consumption'!E773","v":0},{"$f":"'Energy Consumption'!E774","v":0},{"$f":"'Energy Consumption'!E855","v":0},{"$f":"'Energy Consumption'!E856","v":0},{"$f":"'Energy Consumption'!E937","v":0},{"$f":"'Energy Consumption'!E938","v":0},{"$f":"'Energy Consumption'!E1019","v":0},{"$f":"'Energy Consumption'!E1020","v":0},{"$f":"'Energy Consumption'!E1101","v":0},{"$f":"'Energy Consumption'!E1102","v":0},{"$f":"'Energy Consumption'!E1183","v":0},{"$f":"'Energy Consumption'!E1184","v":0},{"$f":"'Energy Consumption'!E1265","v":0},{"$f":"'Energy Consumption'!E1266","v":0},{"$f":"'Energy Consumption'!E1347","v":0},{"$f":"'Energy Consumption'!E1348","v":0},{"$f":"'Energy Consumption'!E1429","v":0},{"$f":"'Energy Consumption'!E1430","v":0},{"$f":"'Energy Consumption'!E1511","v":0},{"$f":"'Energy Consumption'!E1512","v":0},{"$f":"'Energy Consumption'!E1593","v":0},{"$f":"'Energy Consumption'!E1594","v":0},null,{"$f":"'Relevant Variables'!E33","v":0},{"$f":"'Relevant Variables'!E63","v":0},{"$f":"'Relevant Variables'!E93","v":0},{"$f":"'Relevant Variables'!E123","v":0},{"$f":"'Relevant Variables'!E153","v":0},{"$f":"'Relevant Variables'!E183","v":0},{"$f":"'Relevant Variables'!E213","v":0},{"$f":"'Relevant Variables'!E243","v":0},{"$f":"'Relevant Variables'!E273","v":0},{"$f":"'Relevant Variables'!E303","v":0},{"$f":"'Relevant Variables'!E333","v":0},{"$f":"'Relevant Variables'!E363","v":0},{"$f":"'Relevant Variables'!E393","v":0},{"$f":"'Relevant Variables'!E423","v":0},{"$f":"'Relevant Variables'!E453","v":0},{"$f":"'Relevant Variables'!E483","v":0},{"$f":"'Relevant Variables'!E513","v":0},{"$f":"'Relevant Variables'!E543","v":0},{"$f":"'Relevant Variables'!E573","v":0},{"$f":"'Relevant Variables'!E603","v":0}]
["2027-03-01",null,{"$f":"'Energy Consumption'!F35","v":0},{"$f":"'Energy Consumption'!F36","v":0},{"$f":"'Energy Consumption'!F117","v":0},{"$f":"'Energy Consumption'!F118","v":0},{"$f":"'Energy Consumption'!F199","v":0},{"$f":"'Energy Consumption'!F200","v":0},{"$f":"'Energy Consumption'!F281","v":0},{"$f":"'Energy Consumption'!F282","v":0},{"$f":"'Energy Consumption'!F363","v":0},{"$f":"'Energy Consumption'!F364","v":0},{"$f":"'Energy Consumption'!F445","v":0},{"$f":"'Energy Consumption'!F446","v":0},{"$f":"'Energy Consumption'!F527","v":0},{"$f":"'Energy Consumption'!F528","v":0},{"$f":"'Energy Consumption'!F609","v":0},{"$f":"'Energy Consumption'!F610","v":0},{"$f":"'Energy Consumption'!F691","v":0},{"$f":"'Energy Consumption'!F692","v":0},{"$f":"'Energy Consumption'!F773","v":0},{"$f":"'Energy Consumption'!F774","v":0},{"$f":"'Energy Consumption'!F855","v":0},{"$f":"'Energy Consumption'!F856","v":0},{"$f":"'Energy Consumption'!F937","v":0},{"$f":"'Energy Consumption'!F938","v":0},{"$f":"'Energy Consumption'!F1019","v":0},{"$f":"'Energy Consumption'!F1020","v":0},{"$f":"'Energy Consumption'!F1101","v":0},{"$f":"'Energy Consumption'!F1102","v":0},{"$f":"'Energy Consumption'!F1183","v":0},{"$f":"'Energy Consumption'!F1184","v":0},{"$f":"'Energy Consumption'!F1265","v":0},{"$f":"'Energy Consumption'!F1266","v":0},{"$f":"'Energy Consumption'!F1347","v":0},{"$f":"'Energy Consumption'!F1348","v":0},{"$f":"'Energy Consumption'!F1429","v":0},{"$f":"'Energy Consumption'!F1430","v":0},{"$f":"'Energy Consumption'!F1511","v":0},{"$f":"'Energy Consumption'!F1512","v":0},{"$f":"'Energy Consumption'!F1593","v":0},{"$f":"'Energy Consumption'!F1594","v":0},null,{"$f":"'Relevant Variables'!F33","v":0},{"$f":"'Relevant Variables'!F63","v":0},{"$f":"'Relevant Variables'!F93","v":0},{"$f":"'Relevant Variables'!F123","v":0},{"$f":"'Relevant Variables'!F153","v":0},{"$f":"'Relevant Variables'!F183","v":0},{"$f":"'Relevant Variables'!F213","v":0},{"$f":"'Relevant Variables'!F243","v":0},{"$f":"'Relevant Variables'!F273","v":0},{"$f":"'Relevant Variables'!F303","v":0},{"$f":"'Relevant Variables'!F333","v":0},{"$f":"'Relevant Variables'!F363","v":0},{"$f":"'Relevant Variables'!F393","v":0},{"$f":"'Relevant Variables'!F423","v":0},{"$f":"'Relevant Variables'!F453","v":0},{"$f":"'Relevant Variables'!F483","v":0},{"$f":"'Relevant Variables'!F513","v":0},{"$f":"'Relevant Variables'!F543","v":0},{"$f":"'Relevant Variables'!F573","v":0},{"$f":"'Relevant Variables'!F603","v":0}]
["2027-04-01",null,{"$f":"'Energy Consumption'!G35","v":0},{"$f":"'Energy Consumption'!G36","v":0},{"$f":"'Energy Consumption'!G117","v":0},{"$f":"'Energy Consumption'!G118","v":0},{"$f":"'Energy Consumption'!G199","v":0},{"$f":"'Energy Consumption'!G200","v":0},{"$f":"'Energy Consumption'!G281","v":0},{"$f":"'Energy Consumption'!G282","v":0},{"$f":"'Energy Consumption'!G363","v":0},{"$f":"'Energy Consumption'!G364","v":0},{"$f":"'Energy Consumption'!G445","v":0},{"$f":"'Energy Consumption'!G446","v":0},{"$f":"'Energy Consumption'!G527","v":0},{"$f":"'Energy Consumption'!G528","v":0},{"$f":"'Energy Consumption'!G609","v":0},{"$f":"'Energy Consumption'!G610","v":0},{"$f":"'Energy Consumption'!G691","v":0},{"$f":"'Energy Consumption'!G692","v":0},{"$f":"'Energy Consumption'!G773","v":0},{"$f":"'Energy Consumption'!G774","v":0},{"$f":"'Energy Consumption'!G855","v":0},{"$f":"'Energy Consumption'!G856","v":0},{"$f":"'Energy Consumption'!G937","v":0},{"$f":"'Energy Consumption'!G938","v":0},{"$f":"'Energy Consumption'!G1019","v":0},{"$f":"'Energy Consumption'!G1020","v":0},{"$f":"'Energy Consumption'!G1101","v":0},{"$f":"'Energy Consumption'!G1102","v":0},{"$f":"'Energy Consumption'!G1183","v":0},{"$f":"'Energy Consumption'!G1184","v":0},{"$f":"'Energy Consumption'!G1265","v":0},{"$f":"'Energy Consumption'!G1266","v":0},{"$f":"'Energy Consumption'!G1347","v":0},{"$f":"'Energy Consumption'!G1348","v":0},{"$f":"'Energy Consumption'!G1429","v":0},{"$f":"'Energy Consumption'!G1430","v":0},{"$f":"'Energy Consumption'!G1511","v":0},{"$f":"'Energy Consumption'!G1512","v":0},{"$f":"'Energy Consumption'!G1593","v":0},{"$f":"'Energy Consumption'!G1594","v":0},null,{"$f":"'Relevant Variables'!G33","v":0},{"$f":"'Relevant Variables'!G63","v":0},{"$f":"'Relevant Variables'!G93","v":0},{"$f":"'Relevant Variables'!G123","v":0},{"$f":"'Relevant Variables'!G153","v":0},{"$f":"'Relevant Variables'!G183","v":0},{"$f":"'Relevant Variables'!G213","v":0},{"$f":"'Relevant Variables'!G243","v":0},{"$f":"'Relevant Variables'!G273","v":0},{"$f":"'Relevant Variables'!G303","v":0},{"$f":"'Relevant Variables'!G333","v":0},{"$f":"'Relevant Variables'!G363","v":0},{"$f":"'Relevant Variables'!G393","v":0},{"$f":"'Relevant Variables'!G423","v":0},{"$f":"'Relevant Variables'!G453","v":0},{"$f":"'Relevant Variables'!G483","v":0},{"$f":"'Relevant Variables'!G513","v":0},{"$f":"'Relevant Variables'!G543","v":0},{"$f":"'Relevant Variables'!G573","v":0},{"$f":"'Relevant Variables'!G603","v":0}]
["2027-05-01",null,{"$f":"'Energy Consumption'!H35","v":0},{"$f":"'Energy Consumption'!H36","v":0},{"$f":"'Energy Consumption'!H117","v":0},{"$f":"'Energy Consumption'!H118","v":0},{"$f":"'Energy Consumption'!H199","v":0},{"$f":"'Energy Consumption'!H200","v":0},{"$f":"'Energy Consumption'!H281","v":0},{"$f":"'Energy Consumption'!H282","v":0},{"$f":"'Energy Consumption'!H363","v":0},{"$f":"'Energy Consumption'!H364","v":0},{"$f":"'Energy Consumption'!H445","v":0},{"$f":"'Energy Consumption'!H446","v":0},{"$f":"'Energy Consumption'!H527","v":0},{"$f":"'Energy Consumption'!H528","v":0},{"$f":"'Energy Consumption'!H609","v":0},{"$f":"'Energy Consumption'!H610","v":0},{"$f":"'Energy Consumption'!H691","v":0},{"$f":"'Energy Consumption'!H692","v":0},{"$f":"'Energy Consumption'!H773","v":0},{"$f":"'Energy Consumption'!H774","v":0},{"$f":"'Energy Consumption'!H855","v":0},{"$f":"'Energy Consumption'!H856","v":0},{"$f":"'Energy Consumption'!H937","v":0},{"$f":"'Energy Consumption'!H938","v":0},{"$f":"'Energy Consumption'!H1019","v":0},{"$f":"'Energy Consumption'!H1020","v":0},{"$f":"'Energy Consumption'!H1101","v":0},{"$f":"'Energy Consumption'!H1102","v":0},{"$f":"'Energy Consumption'!H1183","v":0},{"$f":"'Energy Consumption'!H1184","v":0},{"$f":"'Energy Consumption'!H1265","v":0},{"$f":"'Energy Consumption'!H1266","v":0},{"$f":"'Energy Consumption'!H1347","v":0},{"$f":"'Energy Consumption'!H1348","v":0},{"$f":"'Energy Consumption'!H1429","v":0},{"$f":"'Energy Consumption'!H1430","v":0},{"$f":"'Energy Consumption'!H1511","v":0},{"$f":"'Energy Consumption'!H1512","v":0},{"$f":"'Energy Consumption'!H1593","v":0},{"$f":"'Energy Consumption'!H1594","v":0},null,{"$f":"'Relevant Variables'!H33","v":0},{"$f":"'Relevant Variables'!H63","v":0},{"$f":"'Relevant Variables'!H93","v":0},{"$f":"'Relevant Variables'!H123","v":0},{"$f":"'Relevant Variables'!H153","v":0},{"$f":"'Relevant Variables'!H183","v":0},{"$f":"'Relevant Variables'!H213","v":0},{"$f":"'Relevant Variables'!H243","v":0},{"$f":"'Relevant Variables'!H273","v":0},{"$f":"'Relevant Variables'!H303","v":0},{"$f":"'Relevant Variables'!H333","v":0},{"$f":"'Relevant Variables'!H363","v":0},{"$f":"'Relevant Variables'!H393","v":0},{"$f":"'Relevant Variables'!H423","v":0},{"$f":"'Relevant Variables'!H453","v":0},{"$f":"'Relevant Variables'!H483","v":0},{"$f":"'Relevant Variables'!H513","v":0},{"$f":"'Relevant Variables'!H543","v":0},{"$f":"'Relevant Variables'!H573","v":0},{"$f":"'Relevant Variables'!H603","v":0}]
["2027-06-01",null,{"$f":"'Energy Consumption'!I35","v":0},{"$f":"'Energy Consumption'!I36","v":0},{"$f":"'Energy Consumption'!I117","v":0},{"$f":"'Energy Consumption'!I118","v":0},{"$f":"'Energy Consumption'!I199","v":0},{"$f":"'Energy Consumption'!I200","v":0},{"$f":"'Energy Consumption'!I281","v":0},{"$f":"'Energy Consumption'!I282","v":0},{"$f":"'Energy Consumption'!I363","v":0},{"$f":"'Energy Consumption'!I364","v":0},{"$f":"'Energy Consumption'!I445","v":0},{"$f":"'Energy Consumption'!I446","v":0},{"$f":"'Energy Consumption'!I527","v":0},{"$f":"'Energy Consumption'!I528","v":0},{"$f":"'Energy Consumption'!I609","v":0},{"$f":"'Energy Consumption'!I610","v":0},{"$f":"'Energy Consumption'!I691","v":0},{"$f":"'Energy Consumption'!I692","v":0},{"$f":"'Energy Consumption'!I773","v":0},{"$f":"'Energy Consumption'!I774","v":0},{"$f":"'Energy Consumption'!I855","v":0},{"$f":"'Energy Consumption'!I856","v":0},{"$f":"'Energy Consumption'!I937","v":0},{"$f":"'Energy Consumption'!I938","v":0},{"$f":"'Energy Consumption'!I1019","v":0},{"$f":"'Energy Consumption'!I1020","v":0},{"$f":"'Energy Consumption'!I1101","v":0},{"$f":"'Energy Consumption'!I1102","v":0},{"$f":"'Energy Consumption'!I1183","v":0},{"$f":"'Energy Consumption'!I1184","v":0},{"$f":"'Energy Consumption'!I1265","v":0},{"$f":"'Energy Consumption'!I1266","v":0},{"$f":"'Energy Consumption'!I1347","v":0},{"$f":"'Energy Consumption'!I1348","v":0},{"$f":"'Energy Consumption'!I1429","v":0},{"$f":"'Energy Consumption'!I1430","v":0},{"$f":"'Energy Consumption'!I1511","v":0},{"$f":"'Energy Consumption'!I1512","v":0},{"$f":"'Energy Consumption'!I1593","v":0},{"$f":"'Energy Consumption'!I1594","v":0},null,{"$f":"'Relevant Variables'!I33","v":0},{"$f":"'Relevant Variables'!I63","v":0},{"$f":"'Relevant Variables'!I93","v":0},{"$f":"'Relevant Variables'!I123","v":0},{"$f":"'Relevant Variables'!I153","v":0},{"$f":"'Relevant Variables'!I183","v":0},{"$f":"'Relevant Variables'!I213","v":0},{"$f":"'Relevant Variables'!I243","v":0},{"$f":"'Relevant Variables'!I273","v":0},{"$f":"'Relevant Variables'!I303","v":0},{"$f":"'Relevant Variables'!I333","v":0},{"$f":"'Relevant Variables'!I363","v":0},{"$f":"'Relevant Variables'!I393","v":0},{"$f":"'Relevant Variables'!I423","v":0},{"$f":"'Relevant Variables'!I453","v":0},{"$f":"'Relevant Variables'!I483","v":0},{"$f":"'Relevant Variables'!I513","v":0},{"$f":"'Relevant Variables'!I543","v":0},{"$f":"'Relevant Variables'!I573","v":0},{"$f":"'Relevant Variables'!I603","v":0}]
["2027-07-01",null,{"$f":"'Energy Consumption'!J35","v":0},{"$f":"'Energy Consumption'!J36","v":0},{"$f":"'Energy Consumption'!J117","v":0},{"$f":"'Energy Consumption'!J118","v":0},{"$f":"'Energy Consumption'!J199","v":0},{"$f":"'Energy Consumption'!J200","v":0},{"$f":"'Energy Consumption'!J281","v":0},{"$f":"'Energy Consumption'!J282","v":0},{"$f":"'Energy Consumption'!J363","v":0},{"$f":"'Energy Consumption'!J364","v":0},{"$f":"'Energy Consumption'!J445","v":0},{"$f":"'Energy Consumption'!J446","v":0},{"$f":"'Energy Consumption'!J527","v":0},{"$f":"'Energy Consumption'!J528","v":0},{"$f":"'Energy Consumption'!J609","v":0},{"$f":"'Energy Consumption'!J610","v":0},{"$f":"'Energy Consumption'!J691","v":0},{"$f":"'Energy Consumption'!J692","v":0},{"$f":"'Energy Consumption'!J773","v":0},{"$f":"'Energy Consumption'!J774","v":0},{"$f":"'Energy Consumption'!J855","v":0},{"$f":"'Energy Consumption'!J856","v":0},{"$f":"'Energy Consumption'!J937","v":0},{"$f":"'Energy Consumption'!J938","v":0},{"$f":"'Energy Consumption'!J1019","v":0},{"$f":"'Energy Consumption'!J1020","v":0},{"$f":"'Energy Consumption'!J1101","v":0},{"$f":"'Energy Consumption'!J1102","v":0},{"$f":"'Energy Consumption'!J1183","v":0},{"$f":"'Energy Consumption'!J1184","v":0},{"$f":"'Energy Consumption'!J1265","v":0},{"$f":"'Energy Consumption'!J1266","v":0},{"$f":"'Energy Consumption'!J1347","v":0},{"$f":"'Energy Consumption'!J1348","v":0},{"$f":"'Energy Consumption'!J1429","v":0},{"$f":"'Energy Consumption'!J1430","v":0},{"$f":"'Energy Consumption'!J1511","v":0},{"$f":"'Energy Consumption'!J1512","v":0},{"$f":"'Energy Consumption'!J1593","v":0},{"$f":"'Energy Consumption'!J1594","v":0},null,{"$f":"'Relevant Variables'!J33","v":0},{"$f":"'Relevant Variables'!J63","v":0},{"$f":"'Relevant Variables'!J93","v":0},{"$f":"'Relevant Variables'!J123","v":0},{"$f":"'Relevant Variables'!J153","v":0},{"$f":"'Relevant Variables'!J183","v":0},{"$f":"'Relevant Variables'!J213","v":0},{"$f":"'Relevant Variables'!J243","v":0},{"$f":"'Relevant Variables'!J273","v":0},{"$f":"'Relevant Variables'!J303","v":0},{"$f":"'Relevant Variables'!J333","v":0},{"$f":"'Relevant Variables'!J363","v":0},{"$f":"'Relevant Variables'!J393","v":0},{"$f":"'Relevant Variables'!J423","v":0},{"$f":"'Relevant Variables'!J453","v":0},{"$f":"'Relevant Variables'!J483","v":0},{"$f":"'Relevant Variables'!J513","v":0},{"$f":"'Relevant Variables'!J543","v":0},{"$f":"'Relevant Variables'!J573","v":0},{"$f":"'Relevant Variables'!J603","v":0}]
["2027-08-01",null,{"$f":"'Energy Consumption'!K35","v":0},{"$f":"'Energy Consumption'!K36","v":0},{"$f":"'Energy Consumption'!K117","v":0},{"$f":"'Energy Consumption'!K118","v":0},{"$f":"'Energy Consumption'!K199","v":0},{"$f":"'Energy Consumption'!K200","v":0},{"$f":"'Energy Consumption'!K281","v":0},{"$f":"'Energy Consumption'!K282","v":0},{"$f":"'Energy Consumption'!K363","v":0},{"$f":"'Energy Consumption'!K364","v":0},{"$f":"'Energy Consumption'!K445","v":0},{"$f":"'Energy Consumption'!K446","v":0},{"$f":"'Energy Consumption'!K527","v":0},{"$f":"'Energy Consumption'!K528","v":0},{"$f":"'Energy Consumption'!K609","v":0},{"$f":"'Energy Consumption'!K610","v":0},{"$f":"'Energy Consumption'!K691","v":0},{"$f":"'Energy Consumption'!K692","v":0},{"$f":"'Energy Consumption'!K773","v":0},{"$f":"'Energy Consumption'!K774","v":0},{"$f":"'Energy Consumption'!K855","v":0},{"$f":"'Energy Consumption'!K856","v":0},{"$f":"'Energy Consumption'!K937","v":0},{"$f":"'Energy Consumption'!K938","v":0},{"$f":"'Energy Consumption'!K1019","v":0},{"$f":"'Energy Consumption'!K1020","v":0},{"$f":"'Energy Consumption'!K1101","v":0},{"$f":"'Energy Consumption'!K1102","v":0},{"$f":"'Energy Consumption'!K1183","v":0},{"$f":"'Energy Consumption'!K1184","v":0},{"$f":"'Energy Consumption'!K1265","v":0},{"$f":"'Energy Consumption'!K1266","v":0},{"$f":"'Energy Consumption'!K1347","v":0},{"$f":"'Energy Consumption'!K1348","v":0},{"$f":"'Energy Consumption'!K1429","v":0},{"$f":"'Energy Consumption'!K1430","v":0},{"$f":"'Energy Consumption'!K1511","v":0},{"$f":"'Energy Consumption'!K1512","v":0},{"$f":"'Energy Consumption'!K1593","v":0},{"$f":"'Energy Consumption'!K1594","v":0},null,{"$f":"'Relevant Variables'!K33","v":0},{"$f":"'Relevant Variables'!K63","v":0},{"$f":"'Relevant Variables'!K93","v":0},{"$f":"'Relevant Variables'!K123","v":0},{"$f":"'Relevant Variables'!K153","v":0},{"$f":"'Relevant Variables'!K183","v":0},{"$f":"'Relevant Variables'!K213","v":0},{"$f":"'Relevant Variables'!K243","v":0},{"$f":"'Relevant Variables'!K273","v":0},{"$f":"'Relevant Variables'!K303","v":0},{"$f":"'Relevant Variables'!K333","v":0},{"$f":"'Relevant Variables'!K363","v":0},{"$f":"'Relevant Variables'!K393","v":0},{"$f":"'Relevant Variables'!K423","v":0},{"$f":"'Relevant Variables'!K453","v":0},{"$f":"'Relevant Variables'!K483","v":0},{"$f":"'Relevant Variables'!K513","v":0},{"$f":"'Relevant Variables'!K543","v":0},{"$f":"'Relevant Variables'!K573","v":0},{"$f":"'Relevant Variables'!K603","v":0}]
["2027-09-01",null,{"$f":"'Energy Consumption'!L35","v":0},{"$f":"'Energy Consumption'!L36","v":0},{"$f":"'Energy Consumption'!L117","v":0},{"$f":"'Energy Consumption'!L118","v":0},{"$f":"'Energy Consumption'!L199","v":0},{"$f":"'Energy Consumption'!L200","v":0},{"$f":"'Energy Consumption'!L281","v":0},{"$f":"'Energy Consumption'!L282","v":0},{"$f":"'Energy Consumption'!L363","v":0},{"$f":"'Energy Consumption'!L364","v":0},{"$f":"'Energy Consumption'!L445","v":0},{"$f":"'Energy Consumption'!L446","v":0},{"$f":"'Energy Consumption'!L527","v":0},{"$f":"'Energy Consumption'!L528","v":0},{"$f":"'Energy Consumption'!L609","v":0},{"$f":"'Energy Consumption'!L610","v":0},{"$f":"'Energy Consumption'!L691","v":0},{"$f":"'Energy Consumption'!L692","v":0},{"$f":"'Energy Consumption'!L773","v":0},{"$f":"'Energy Consumption'!L774","v":0},{"$f":"'Energy Consumption'!L855","v":0},{"$f":"'Energy Consumption'!L856","v":0},{"$f":"'Energy Consumption'!L937","v":0},{"$f":"'Energy Consumption'!L938","v":0},{"$f":"'Energy Consumption'!L1019","v":0},{"$f":"'Energy Consumption'!L1020","v":0},{"$f":"'Energy Consumption'!L1101","v":0},{"$f":"'Energy Consumption'!L1102","v":0},{"$f":"'Energy Consumption'!L1183","v":0},{"$f":"'Energy Consumption'!L1184","v":0},{"$f":"'Energy Consumption'!L1265","v":0},{"$f":"'Energy Consumption'!L1266","v":0},{"$f":"'Energy Consumption'!L1347","v":0},{"$f":"'Energy Consumption'!L1348","v":0},{"$f":"'Energy Consumption'!L1429","v":0},{"$f":"'Energy Consumption'!L1430","v":0},{"$f":"'Energy Consumption'!L1511","v":0},{"$f":"'Energy Consumption'!L1512","v":0},{"$f":"'Energy Consumption'!L1593","v":0},{"$f":"'Energy Consumption'!L1594","v":0},null,{"$f":"'Relevant Variables'!L33","v":0},{"$f":"'Relevant Variables'!L63","v":0},{"$f":"'Relevant Variables'!L93","v":0},{"$f":"'Relevant Variables'!L123","v":0},{"$f":"'Relevant Variables'!L153","v":0},{"$f":"'Relevant Variables'!L183","v":0},{"$f":"'Relevant Variables'!L213","v":0},{"$f":"'Relevant Variables'!L243","v":0},{"$f":"'Relevant Variables'!L273","v":0},{"$f":"'Relevant Variables'!L303","v":0},{"$f":"'Relevant Variables'!L333","v":0},{"$f":"'Relevant Variables'!L363","v":0},{"$f":"'Relevant Variables'!L393","v":0},{"$f":"'Relevant Variables'!L423","v":0},{"$f":"'Relevant Variables'!L453","v":0},{"$f":"'Relevant Variables'!L483","v":0},{"$f":"'Relevant Variables'!L513","v":0},{"$f":"'Relevant Variables'!L543","v":0},{"$f":"'Relevant Variables'!L573","v":0},{"$f":"'Relevant Variables'!L603","v":0}]
["2027-10-01",null,{"$f":"'Energy Consumption'!M35","v":0},{"$f":"'Energy Consumption'!M36","v":0},{"$f":"'Energy Consumption'!M117","v":0},{"$f":"'Energy Consumption'!M118","v":0},{"$f":"'Energy Consumption'!M199","v":0},{"$f":"'Energy Consumption'!M200","v":0},{"$f":"'Energy Consumption'!M281","v":0},{"$f":"'Energy Consumption'!M282","v":0},{"$f":"'Energy Consumption'!M363","v":0},{"$f":"'Energy Consumption'!M364","v":0},{"$f":"'Energy Consumption'!M445","v":0},{"$f":"'Energy Consumption'!M446","v":0},{"$f":"'Energy Consumption'!M527","v":0},{"$f":"'Energy Consumption'!M528","v":0},{"$f":"'Energy Consumption'!M609","v":0},{"$f":"'Energy Consumption'!M610","v":0},{"$f":"'Energy Consumption'!M691","v":0},{"$f":"'Energy Consumption'!M692","v":0},{"$f":"'Energy Consumption'!M773","v":0},{"$f":"'Energy Consumption'!M774","v":0},{"$f":"'Energy Consumption'!M855","v":0},{"$f":"'Energy Consumption'!M856","v":0},{"$f":"'Energy Consumption'!M937","v":0},{"$f":"'Energy Consumption'!M938","v":0},{"$f":"'Energy Consumption'!M1019","v":0},{"$f":"'Energy Consumption'!M1020","v":0},{"$f":"'Energy Consumption'!M1101","v":0},{"$f":"'Energy Consumption'!M1102","v":0},{"$f":"'Energy Consumption'!M1183","v":0},{"$f":"'Energy Consumption'!M1184","v":0},{"$f":"'Energy Consumption'!M1265","v":0},{"$f":"'Energy Consumption'!M1266","v":0},{"$f":"'Energy Consumption'!M1347","v":0},{"$f":"'Energy Consumption'!M1348","v":0},{"$f":"'Energy Consumption'!M1429","v":0},{"$f":"'Energy Consumption'!M1430","v":0},{"$f":"'Energy Consumption'!M1511","v":0},{"$f":"'Energy Consumption'!M1512","v":0},{"$f":"'Energy Consumption'!M1593","v":0},{"$f":"'Energy Consumption'!M1594","v":0},null,{"$f":"'Relevant Variables'!M33","v":0},{"$f":"'Relevant Variables'!M63","v":0},{"$f":"'Relevant Variables'!M93","v":0},{"$f":"'Relevant Variables'!M123","v":0},{"$f":"'Relevant Variables'!M153","v":0},{"$f":"'Relevant Variables'!M183","v":0},{"$f":"'Relevant Variables'!M213","v":0},{"$f":"'Relevant Variables'!M243","v":0},{"$f":"'Relevant Variables'!M273","v":0},{"$f":"'Relevant Variables'!M303","v":0},{"$f":"'Relevant Variables'!M333","v":0},{"$f":"'Relevant Variables'!M363","v":0},{"$f":"'Relevant Variables'!M393","v":0},{"$f":"'Relevant Variables'!M423","v":0},{"$f":"'Relevant Variables'!M453","v":0},{"$f":"'Relevant Variables'!M483","v":0},{"$f":"'Relevant Variables'!M513","v":0},{"$f":"'Relevant Variables'!M543","v":0},{"$f":"'Relevant Variables'!M573","v":0},{"$f":"'Relevant Variables'!M603","v":0}]
["2027-11-01",null,{"$f":"'Energy Consumption'!N35","v":0},{"$f":"'Energy Consumption'!N36","v":0},{"$f":"'Energy Consumption'!N117","v":0},{"$f":"'Energy Consumption'!N118","v":0},{"$f":"'Energy Consumption'!N199","v":0},{"$f":"'Energy Consumption'!N200","v":0},{"$f":"'Energy Consumption'!N281","v":0},{"$f":"'Energy Consumption'!N282","v":0},{"$f":"'Energy Consumption'!N363","v":0},{"$f":"'Energy Consumption'!N364","v":0},{"$f":"'Energy Consumption'!N445","v":0},{"$f":"'Energy Consumption'!N446","v":0},{"$f":"'Energy Consumption'!N527","v":0},{"$f":"'Energy Consumption'!N528","v":0},{"$f":"'Energy Consumption'!N609","v":0},{"$f":"'Energy Consumption'!N610","v":0},{"$f":"'Energy Consumption'!N691","v":0},{"$f":"'Energy Consumption'!N692","v":0},{"$f":"'Energy Consumption'!N773","v":0},{"$f":"'Energy Consumption'!N774","v":0},{"$f":"'Energy Consumption'!N855","v":0},{"$f":"'Energy Consumption'!N856","v":0},{"$f":"'Energy Consumption'!N937","v":0},{"$f":"'Energy Consumption'!N938","v":0},{"$f":"'Energy Consumption'!N1019","v":0},{"$f":"'Energy Consumption'!N1020","v":0},{"$f":"'Energy Consumption'!N1101","v":0},{"$f":"'Energy Consumption'!N1102","v":0},{"$f":"'Energy Consumption'!N1183","v":0},{"$f":"'Energy Consumption'!N1184","v":0},{"$f":"'Energy Consumption'!N1265","v":0},{"$f":"'Energy Consumption'!N1266","v":0},{"$f":"'Energy Consumption'!N1347","v":0},{"$f":"'Energy Consumption'!N1348","v":0},{"$f":"'Energy Consumption'!N1429","v":0},{"$f":"'Energy Consumption'!N1430","v":0},{"$f":"'Energy Consumption'!N1511","v":0},{"$f":"'Energy Consumption'!N1512","v":0},{"$f":"'Energy Consumption'!N1593","v":0},{"$f":"'Energy Consumption'!N1594","v":0},null,{"$f":"'Relevant Variables'!N33","v":0},{"$f":"'Relevant Variables'!N63","v":0},{"$f":"'Relevant Variables'!N93","v":0},{"$f":"'Relevant Variables'!N123","v":0},{"$f":"'Relevant Variables'!N153","v":0},{"$f":"'Relevant Variables'!N183","v":0},{"$f":"'Relevant Variables'!N213","v":0},{"$f":"'Relevant Variables'!N243","v":0},{"$f":"'Relevant Variables'!N273","v":0},{"$f":"'Relevant Variables'!N303","v":0},{"$f":"'Relevant Variables'!N333","v":0},{"$f":"'Relevant Variables'!N363","v":0},{"$f":"'Relevant Variables'!N393","v":0},{"$f":"'Relevant Variables'!N423","v":0},{"$f":"'Relevant Variables'!N453","v":0},{"$f":"'Relevant Variables'!N483","v":0},{"$f":"'Relevant Variables'!N513","v":0},{"$f":"'Relevant Variables'!N543","v":0},{"$f":"'Relevant Variables'!N573","v":0},{"$f":"'Relevant Variables'!N603","v":0}]
["2027-12-01",null,{"$f":"'Energy Consumption'!O35","v":0},{"$f":"'Energy Consumption'!O36","v":0},{"$f":"'Energy Consumption'!O117","v":0},{"$f":"'Energy Consumption'!O118","v":0},{"$f":"'Energy Consumption'!O199","v":0},{"$f":"'Energy Consumption'!O200","v":0},{"$f":"'Energy Consumption'!O281","v":0},{"$f":"'Energy Consumption'!O282","v":0},{"$f":"'Energy Consumption'!O363","v":0},{"$f":"'Energy Consumption'!O364","v":0},{"$f":"'Energy Consumption'!O445","v":0},{"$f":"'Energy Consumption'!O446","v":0},{"$f":"'Energy Consumption'!O527","v":0},{"$f":"'Energy Consumption'!O528","v":0},{"$f":"'Energy Consumption'!O609","v":0},{"$f":"'Energy Consumption'!O610","v":0},{"$f":"'Energy Consumption'!O691","v":0},{"$f":"'Energy Consumption'!O692","v":0},{"$f":"'Energy Consumption'!O773","v":0},{"$f":"'Energy Consumption'!O774","v":0},{"$f":"'Energy Consumption'!O855","v":0},{"$f":"'Energy Consumption'!O856","v":0},{"$f":"'Energy Consumption'!O937","v":0},{"$f":"'Energy Consumption'!O938","v":0},{"$f":"'Energy Consumption'!O1019","v":0},{"$f":"'Energy Consumption'!O1020","v":0},{"$f":"'Energy Consumption'!O1101","v":0},{"$f":"'Energy Consumption'!O1102","v":0},{"$f":"'Energy Consumption'!O1183","v":0},{"$f":"'Energy Consumption'!O1184","v":0},{"$f":"'Energy Consumption'!O1265","v":0},{"$f":"'Energy Consumption'!O1266","v":0},{"$f":"'Energy Consumption'!O1347","v":0},{"$f":"'Energy Consumption'!O1348","v":0},{"$f":"'Energy Consumption'!O1429","v":0},{"$f":"'Energy Consumption'!O1430","v":0},{"$f":"'Energy Consumption'!O1511","v":0},{"$f":"'Energy Consumption'!O1512","v":0},{"$f":"'Energy Consumption'!O1593","v":0},{"$f":"'Energy Consumption'!O1594","v":0},null,{"$f":"'Relevant Variables'!O33","v":0},{"$f":"'Relevant Variables'!O63","v":0},{"$f":"'Relevant Variables'!O93","v":0},{"$f":"'Relevant Variables'!O123","v":0},{"$f":"'Relevant Variables'!O153","v":0},{"$f":"'Relevant Variables'!O183","v":0},{"$f":"'Relevant Variables'!O213","v":0},{"$f":"'Relevant Variables'!O243","v":0},{"$f":"'Relevant Variables'!O273","v":0},{"$f":"'Relevant Variables'!O303","v":0},{"$f":"'Relevant Variables'!O333","v":0},{"$f":"'Relevant Variables'!O363","v":0},{"$f":"'Relevant Variables'!O393","v":0},{"$f":"'Relevant Variables'!O423","v":0},{"$f":"'Relevant Variables'!O453","v":0},{"$f":"'Relevant Variables'!O483","v":0},{"$f":"'Relevant Variables'!O513","v":0},{"$f":"'Relevant Variables'!O543","v":0},{"$f":"'Relevant Variables'!O573","v":0},{"$f":"'Relevant Variables'!O603","v":0}]
["2028-01-01",null,{"$f":"'Energy Consumption'!D33","v":0},{"$f":"'Energy Consumption'!D34","v":0},{"$f":"'Energy Consumption'!D115","v":0},{"$f":"'Energy Consumption'!D116","v":0},{"$f":"'Energy Consumption'!D197","v":0},{"$f":"'Energy Consumption'!D198","v":0},{"$f":"'Energy Consumption'!D279","v":0},{"$f":"'Energy Consumption'!D280","v":0},{"$f":"'Energy Consumption'!D361","v":0},{"$f":"'Energy Consumption'!D362","v":0},{"$f":"'Energy Consumption'!D443","v":0},{"$f":"'Energy Consumption'!D444","v":0},{"$f":"'Energy Consumption'!D525","v":0},{"$f":"'Energy Consumption'!D526","v":0},{"$f":"'Energy Consumption'!D607","v":0},{"$f":"'Energy Consumption'!D608","v":0},{"$f":"'Energy Consumption'!D689","v":0},{"$f":"'Energy Consumption'!D690","v":0},{"$f":"'Energy Consumption'!D771","v":0},{"$f":"'Energy Consumption'!D772","v":0},{"$f":"'Energy Consumption'!D853","v":0},{"$f":"'Energy Consumption'!D854","v":0},{"$f":"'Energy Consumption'!D935","v":0},{"$f":"'Energy Consumption'!D936","v":0},{"$f":"'Energy Consumption'!D1017","v":0},{"$f":"'Energy Consumption'!D1018","v":0},{"$f":"'Energy Consumption'!D1099","v":0},{"$f":"'Energy Consumption'!D1100","v":0},{"$f":"'Energy Consumption'!D1181","v":0},{"$f":"'Energy Consumption'!D1182","v":0},{"$f":"'Energy Consumption'!D1263","v":0},{"$f":"'Energy Consumption'!D1264","v":0},{"$f":"'Energy Consumption'!D1345","v":0},{"$f":"'Energy Consumption'!D1346","v":0},{"$f":"'Energy Consumption'!D1427","v":0},{"$f":"'Energy Consumption'!D1428","v":0},{"$f":"'Energy Consumption'!D1509","v":0},{"$f":"'Energy Consumption'!D1510","v":0},{"$f":"'Energy Consumption'!D1591","v":0},{"$f":"'Energy Consumption'!D1592","v":0},null,{"$f":"'Relevant Variables'!D32","v":0},{"$f":"'Relevant Variables'!D62","v":0},{"$f":"'Relevant Variables'!D92","v":0},{"$f":"'Relevant Variables'!D122","v":0},{"$f":"'Relevant Variables'!D152","v":0},{"$f":"'Relevant Variables'!D182","v":0},{"$f":"'Relevant Variables'!D212","v":0},{"$f":"'Relevant Variables'!D242","v":0},{"$f":"'Relevant Variables'!D272","v":0},{"$f":"'Relevant Variables'!D302","v":0},{"$f":"'Relevant Variables'!D332","v":0},{"$f":"'Relevant Variables'!D362","v":0},{"$f":"'Relevant Variables'!D392","v":0},{"$f":"'Relevant Variables'!D422","v":0},{"$f":"'Relevant Variables'!D452","v":0},{"$f":"'Relevant Variables'!D482","v":0},{"$f":"'Relevant Variables'!D512","v":0},{"$f":"'Relevant Variables'!D542","v":0},{"$f":"'Relevant Variables'!D572","v":0},{"$f":"'Relevant Variables'!D602","v":0}]
["2028-02-01",null,{"$f":"'Energy Consumption'!E33","v":0},{"$f":"'Energy Consumption'!E34","v":0},{"$f":"'Energy Consumption'!E115","v":0},{"$f":"'Energy Consumption'!E116","v":0},{"$f":"'Energy Consumption'!E197","v":0},{"$f":"'Energy Consumption'!E198","v":0},{"$f":"'Energy Consumption'!E279","v":0},{"$f":"'Energy Consumption'!E280","v":0},{"$f":"'Energy Consumption'!E361","v":0},{"$f":"'Energy Consumption'!E362","v":0},{"$f":"'Energy Consumption'!E443","v":0},{"$f":"'Energy Consumption'!E444","v":0},{"$f":"'Energy Consumption'!E525","v":0},{"$f":"'Energy Consumption'!E526","v":0},{"$f":"'Energy Consumption'!E607","v":0},{"$f":"'Energy Consumption'!E608","v":0},{"$f":"'Energy Consumption'!E689","v":0},{"$f":"'Energy Consumption'!E690","v":0},{"$f":"'Energy Consumption'!E771","v":0},{"$f":"'Energy Consumption'!E772","v":0},{"$f":"'Energy Consumption'!E853","v":0},{"$f":"'Energy Consumption'!E854","v":0},{"$f":"'Energy Consumption'!E935","v":0},{"$f":"'Energy Consumption'!E936","v":0},{"$f":"'Energy Consumption'!E1017","v":0},{"$f":"'Energy Consumption'!E1018","v":0},{"$f":"'Energy Consumption'!E1099","v":0},{"$f":"'Energy Consumption'!E1100","v":0},{"$f":"'Energy Consumption'!E1181","v":0},{"$f":"'Energy Consumption'!E1182","v":0},{"$f":"'Energy Consumption'!E1263","v":0},{"$f":"'Energy Consumption'!E1264","v":0},{"$f":"'Energy Consumption'!E1345","v":0},{"$f":"'Energy Consumption'!E1346","v":0},{"$f":"'Energy Consumption'!E1427","v":0},{"$f":"'Energy Consumption'!E1428","v":0},{"$f":"'Energy Consumption'!E1509","v":0},{"$f":"'Energy Consumption'!E1510","v":0},{"$f":"'Energy Consumption'!E1591","v":0},{"$f":"'Energy Consumption'!E1592","v":0},null,{"$f":"'Relevant Variables'!E32","v":0},{"$f":"'Relevant Variables'!E62","v":0},{"$f":"'Relevant Variables'!E92","v":0},{"$f":"'Relevant Variables'!E122","v":0},{"$f":"'Relevant Variables'!E152","v":0},{"$f":"'Relevant Variables'!E182","v":0},{"$f":"'Relevant Variables'!E212","v":0},{"$f":"'Relevant Variables'!E242","v":0},{"$f":"'Relevant Variables'!E272","v":0},{"$f":"'Relevant Variables'!E302","v":0},{"$f":"'Relevant Variables'!E332","v":0},{"$f":"'Relevant Variables'!E362","v":0},{"$f":"'Relevant Variables'!E392","v":0},{"$f":"'Relevant Variables'!E422","v":0},{"$f":"'Relevant Variables'!E452","v":0},{"$f":"'Relevant Variables'!E482","v":0},{"$f":"'Relevant Variables'!E512","v":0},{"$f":"'Relevant Variables'!E542","v":0},{"$f":"'Relevant Variables'!E572","v":0},{"$f":"'Relevant Variables'!E602","v":0}]
["2028-03-01",null,{"$f":"'Energy Consumption'!F33","v":0},{"$f":"'Energy Consumption'!F34","v":0},{"$f":"'Energy Consumption'!F115","v":0},{"$f":"'Energy Consumption'!F116","v":0},{"$f":"'Energy Consumption'!F197","v":0},{"$f":"'Energy Consumption'!F198","v":0},{"$f":"'Energy Consumption'!F279","v":0},{"$f":"'Energy Consumption'!F280","v":0},{"$f":"'Energy Consumption'!F361","v":0},{"$f":"'Energy Consumption'!F362","v":0},{"$f":"'Energy Consumption'!F443","v":0},{"$f":"'Energy Consumption'!F444","v":0},{"$f":"'Energy Consumption'!F525","v":0},{"$f":"'Energy Consumption'!F526","v":0},{"$f":"'Energy Consumption'!F607","v":0},{"$f":"'Energy Consumption'!F608","v":0},{"$f":"'Energy Consumption'!F689","v":0},{"$f":"'Energy Consumption'!F690","v":0},{"$f":"'Energy Consumption'!F771","v":0},{"$f":"'Energy Consumption'!F772","v":0},{"$f":"'Energy Consumption'!F853","v":0},{"$f":"'Energy Consumption'!F854","v":0},{"$f":"'Energy Consumption'!F935","v":0},{"$f":"'Energy Consumption'!F936","v":0},{"$f":"'Energy Consumption'!F1017","v":0},{"$f":"'Energy Consumption'!F1018","v":0},{"$f":"'Energy Consumption'!F1099","v":0},{"$f":"'Energy Consumption'!F1100","v":0},{"$f":"'Energy Consumption'!F1181","v":0},{"$f":"'Energy Consumption'!F1182","v":0},{"$f":"'Energy Consumption'!F1263","v":0},{"$f":"'Energy Consumption'!F1264","v":0},{"$f":"'Energy Consumption'!F1345","v":0},{"$f":"'Energy Consumption'!F1346","v":0},{"$f":"'Energy Consumption'!F1427","v":0},{"$f":"'Energy Consumption'!F1428","v":0},{"$f":"'Energy Consumption'!F1509","v":0},{"$f":"'Energy Consumption'!F1510","v":0},{"$f":"'Energy Consumption'!F1591","v":0},{"$f":"'Energy Consumption'!F1592","v":0},null,{"$f":"'Relevant Variables'!F32","v":0},{"$f":"'Relevant Variables'!F62","v":0},{"$f":"'Relevant Variables'!F92","v":0},{"$f":"'Relevant Variables'!F122","v":0},{"$f":"'Relevant Variables'!F152","v":0},{"$f":"'Relevant Variables'!F182","v":0},{"$f":"'Relevant Variables'!F212","v":0},{"$f":"'Relevant Variables'!F242","v":0},{"$f":"'Relevant Variables'!F272","v":0},{"$f":"'Relevant Variables'!F302","v":0},{"$f":"'Relevant Variables'!F332","v":0},{"$f":"'Relevant Variables'!F362","v":0},{"$f":"'Relevant Variables'!F392","v":0},{"$f":"'Relevant Variables'!F422","v":0},{"$f":"'Relevant Variables'!F452","v":0},{"$f":"'Relevant Variables'!F482","v":0},{"$f":"'Relevant Variables'!F512","v":0},{"$f":"'Relevant Variables'!F542","v":0},{"$f":"'Relevant Variables'!F572","v":0},{"$f":"'Relevant Variables'!F602","v":0}]
["2028-04-01",null,{"$f":"'Energy Consumption'!G33","v":0},{"$f":"'Energy Consumption'!G34","v":0},{"$f":"'Energy Consumption'!G115","v":0},{"$f":"'Energy Consumption'!G116","v":0},{"$f":"'Energy Consumption'!G197","v":0},{"$f":"'Energy Consumption'!G198","v":0},{"$f":"'Energy Consumption'!G279","v":0},{"$f":"'Energy Consumption'!G280","v":0},{"$f":"'Energy Consumption'!G361","v":0},{"$f":"'Energy Consumption'!G362","v":0},{"$f":"'Energy Consumption'!G443","v":0},{"$f":"'Energy Consumption'!G444","v":0},{"$f":"'Energy Consumption'!G525","v":0},{"$f":"'Energy Consumption'!G526","v":0},{"$f":"'Energy Consumption'!G607","v":0},{"$f":"'Energy Consumption'!G608","v":0},{"$f":"'Energy Consumption'!G689","v":0},{"$f":"'Energy Consumption'!G690","v":0},{"$f":"'Energy Consumption'!G771","v":0},{"$f":"'Energy Consumption'!G772","v":0},{"$f":"'Energy Consumption'!G853","v":0},{"$f":"'Energy Consumption'!G854","v":0},{"$f":"'Energy Consumption'!G935","v":0},{"$f":"'Energy Consumption'!G936","v":0},{"$f":"'Energy Consumption'!G1017","v":0},{"$f":"'Energy Consumption'!G1018","v":0},{"$f":"'Energy Consumption'!G1099","v":0},{"$f":"'Energy Consumption'!G1100","v":0},{"$f":"'Energy Consumption'!G1181","v":0},{"$f":"'Energy Consumption'!G1182","v":0},{"$f":"'Energy Consumption'!G1263","v":0},{"$f":"'Energy Consumption'!G1264","v":0},{"$f":"'Energy Consumption'!G1345","v":0},{"$f":"'Energy Consumption'!G1346","v":0},{"$f":"'Energy Consumption'!G1427","v":0},{"$f":"'Energy Consumption'!G1428","v":0},{"$f":"'Energy Consumption'!G1509","v":0},{"$f":"'Energy Consumption'!G1510","v":0},{"$f":"'Energy Consumption'!G1591","v":0},{"$f":"'Energy Consumption'!G1592","v":0},null,{"$f":"'Relevant Variables'!G32","v":0},{"$f":"'Relevant Variables'!G62","v":0},{"$f":"'Relevant Variables'!G92","v":0},{"$f":"'Relevant Variables'!G122","v":0},{"$f":"'Relevant Variables'!G152","v":0},{"$f":"'Relevant Variables'!G182","v":0},{"$f":"'Relevant Variables'!G212","v":0},{"$f":"'Relevant Variables'!G242","v":0},{"$f":"'Relevant Variables'!G272","v":0},{"$f":"'Relevant Variables'!G302","v":0},{"$f":"'Relevant Variables'!G332","v":0},{"$f":"'Relevant Variables'!G362","v":0},{"$f":"'Relevant Variables'!G392","v":0},{"$f":"'Relevant Variables'!G422","v":0},{"$f":"'Relevant Variables'!G452","v":0},{"$f":"'Relevant Variables'!G482","v":0},{"$f":"'Relevant Variables'!G512","v":0},{"$f":"'Relevant Variables'!G542","v":0},{"$f":"'Relevant Variables'!G572","v":0},{"$f":"'Relevant Variables'!G602","v":0}]
["2028-05-01",null,{"$f":"'Energy Consumption'!H33","v":0},{"$f":"'Energy Consumption'!H34","v":0},{"$f":"'Energy Consumption'!H115","v":0},{"$f":"'Energy Consumption'!H116","v":0},{"$f":"'Energy Consumption'!H197","v":0},{"$f":"'Energy Consumption'!H198","v":0},{"$f":"'Energy Consumption'!H279","v":0},{"$f":"'Energy Consumption'!H280","v":0},{"$f":"'Energy Consumption'!H361","v":0},{"$f":"'Energy Consumption'!H362","v":0},{"$f":"'Energy Consumption'!H443","v":0},{"$f":"'Energy Consumption'!H444","v":0},{"$f":"'Energy Consumption'!H525","v":0},{"$f":"'Energy Consumption'!H526","v":0},{"$f":"'Energy Consumption'!H607","v":0},{"$f":"'Energy Consumption'!H608","v":0},{"$f":"'Energy Consumption'!H689","v":0},{"$f":"'Energy Consumption'!H690","v":0},{"$f":"'Energy Consumption'!H771","v":0},{"$f":"'Energy Consumption'!H772","v":0},{"$f":"'Energy Consumption'!H853","v":0},{"$f":"'Energy Consumption'!H854","v":0},{"$f":"'Energy Consumption'!H935","v":0},{"$f":"'Energy Consumption'!H936","v":0},{"$f":"'Energy Consumption'!H1017","v":0},{"$f":"'Energy Consumption'!H1018","v":0},{"$f":"'Energy Consumption'!H1099","v":0},{"$f":"'Energy Consumption'!H1100","v":0},{"$f":"'Energy Consumption'!H1181","v":0},{"$f":"'Energy Consumption'!H1182","v":0},{"$f":"'Energy Consumption'!H1263","v":0},{"$f":"'Energy Consumption'!H1264","v":0},{"$f":"'Energy Consumption'!H1345","v":0},{"$f":"'Energy Consumption'!H1346","v":0},{"$f":"'Energy Consumption'!H1427","v":0},{"$f":"'Energy Consumption'!H1428","v":0},{"$f":"'Energy Consumption'!H1509","v":0},{"$f":"'Energy Consumption'!H1510","v":0},{"$f":"'Energy Consumption'!H1591","v":0},{"$f":"'Energy Consumption'!H1592","v":0},null,{"$f":"'Relevant Variables'!H32","v":0},{"$f":"'Relevant Variables'!H62","v":0},{"$f":"'Relevant Variables'!H92","v":0},{"$f":"'Relevant Variables'!H122","v":0},{"$f":"'Relevant Variables'!H152","v":0},{"$f":"'Relevant Variables'!H182","v":0},{"$f":"'Relevant Variables'!H212","v":0},{"$f":"'Relevant Variables'!H242","v":0},{"$f":"'Relevant Variables'!H272","v":0},{"$f":"'Relevant Variables'!H302","v":0},{"$f":"'Relevant Variables'!H332","v":0},{"$f":"'Relevant Variables'!H362","v":0},{"$f":"'Relevant Variables'!H392","v":0},{"$f":"'Relevant Variables'!H422","v":0},{"$f":"'Relevant Variables'!H452","v":0},{"$f":"'Relevant Variables'!H482","v":0},{"$f":"'Relevant Variables'!H512","v":0},{"$f":"'Relevant Variables'!H542","v":0},{"$f":"'Relevant Variables'!H572","v":0},{"$f":"'Relevant Variables'!H602","v":0}]
["2028-06-01",null,{"$f":"'Energy Consumption'!I33","v":0},{"$f":"'Energy Consumption'!I34","v":0},{"$f":"'Energy Consumption'!I115","v":0},{"$f":"'Energy Consumption'!I116","v":0},{"$f":"'Energy Consumption'!I197","v":0},{"$f":"'Energy Consumption'!I198","v":0},{"$f":"'Energy Consumption'!I279","v":0},{"$f":"'Energy Consumption'!I280","v":0},{"$f":"'Energy Consumption'!I361","v":0},{"$f":"'Energy Consumption'!I362","v":0},{"$f":"'Energy Consumption'!I443","v":0},{"$f":"'Energy Consumption'!I444","v":0},{"$f":"'Energy Consumption'!I525","v":0},{"$f":"'Energy Consumption'!I526","v":0},{"$f":"'Energy Consumption'!I607","v":0},{"$f":"'Energy Consumption'!I608","v":0},{"$f":"'Energy Consumption'!I689","v":0},{"$f":"'Energy Consumption'!I690","v":0},{"$f":"'Energy Consumption'!I771","v":0},{"$f":"'Energy Consumption'!I772","v":0},{"$f":"'Energy Consumption'!I853","v":0},{"$f":"'Energy Consumption'!I854","v":0},{"$f":"'Energy Consumption'!I935","v":0},{"$f":"'Energy Consumption'!I936","v":0},{"$f":"'Energy Consumption'!I1017","v":0},{"$f":"'Energy Consumption'!I1018","v":0},{"$f":"'Energy Consumption'!I1099","v":0},{"$f":"'Energy Consumption'!I1100","v":0},{"$f":"'Energy Consumption'!I1181","v":0},{"$f":"'Energy Consumption'!I1182","v":0},{"$f":"'Energy Consumption'!I1263","v":0},{"$f":"'Energy Consumption'!I1264","v":0},{"$f":"'Energy Consumption'!I1345","v":0},{"$f":"'Energy Consumption'!I1346","v":0},{"$f":"'Energy Consumption'!I1427","v":0},{"$f":"'Energy Consumption'!I1428","v":0},{"$f":"'Energy Consumption'!I1509","v":0},{"$f":"'Energy Consumption'!I1510","v":0},{"$f":"'Energy Consumption'!I1591","v":0},{"$f":"'Energy Consumption'!I1592","v":0},null,{"$f":"'Relevant Variables'!I32","v":0},{"$f":"'Relevant Variables'!I62","v":0},{"$f":"'Relevant Variables'!I92","v":0},{"$f":"'Relevant Variables'!I122","v":0},{"$f":"'Relevant Variables'!I152","v":0},{"$f":"'Relevant Variables'!I182","v":0},{"$f":"'Relevant Variables'!I212","v":0},{"$f":"'Relevant Variables'!I242","v":0},{"$f":"'Relevant Variables'!I272","v":0},{"$f":"'Relevant Variables'!I302","v":0},{"$f":"'Relevant Variables'!I332","v":0},{"$f":"'Relevant Variables'!I362","v":0},{"$f":"'Relevant Variables'!I392","v":0},{"$f":"'Relevant Variables'!I422","v":0},{"$f":"'Relevant Variables'!I452","v":0},{"$f":"'Relevant Variables'!I482","v":0},{"$f":"'Relevant Variables'!I512","v":0},{"$f":"'Relevant Variables'!I542","v":0},{"$f":"'Relevant Variables'!I572","v":0},{"$f":"'Relevant Variables'!I602","v":0}]
["2028-07-01",null,{"$f":"'Energy Consumption'!J33","v":0},{"$f":"'Energy Consumption'!J34","v":0},{"$f":"'Energy Consumption'!J115","v":0},{"$f":"'Energy Consumption'!J116","v":0},{"$f":"'Energy Consumption'!J197","v":0},{"$f":"'Energy Consumption'!J198","v":0},{"$f":"'Energy Consumption'!J279","v":0},{"$f":"'Energy Consumption'!J280","v":0},{"$f":"'Energy Consumption'!J361","v":0},{"$f":"'Energy Consumption'!J362","v":0},{"$f":"'Energy Consumption'!J443","v":0},{"$f":"'Energy Consumption'!J444","v":0},{"$f":"'Energy Consumption'!J525","v":0},{"$f":"'Energy Consumption'!J526","v":0},{"$f":"'Energy Consumption'!J607","v":0},{"$f":"'Energy Consumption'!J608","v":0},{"$f":"'Energy Consumption'!J689","v":0},{"$f":"'Energy Consumption'!J690","v":0},{"$f":"'Energy Consumption'!J771","v":0},{"$f":"'Energy Consumption'!J772","v":0},{"$f":"'Energy Consumption'!J853","v":0},{"$f":"'Energy Consumption'!J854","v":0},{"$f":"'Energy Consumption'!J935","v":0},{"$f":"'Energy Consumption'!J936","v":0},{"$f":"'Energy Consumption'!J1017","v":0},{"$f":"'Energy Consumption'!J1018","v":0},{"$f":"'Energy Consumption'!J1099","v":0},{"$f":"'Energy Consumption'!J1100","v":0},{"$f":"'Energy Consumption'!J1181","v":0},{"$f":"'Energy Consumption'!J1182","v":0},{"$f":"'Energy Consumption'!J1263","v":0},{"$f":"'Energy Consumption'!J1264","v":0},{"$f":"'Energy Consumption'!J1345","v":0},{"$f":"'Energy Consumption'!J1346","v":0},{"$f":"'Energy Consumption'!J1427","v":0},{"$f":"'Energy Consumption'!J1428","v":0},{"$f":"'Energy Consumption'!J1509","v":0},{"$f":"'Energy Consumption'!J1510","v":0},{"$f":"'Energy Consumption'!J1591","v":0},{"$f":"'Energy Consumption'!J1592","v":0},null,{"$f":"'Relevant Variables'!J32","v":0},{"$f":"'Relevant Variables'!J62","v":0},{"$f":"'Relevant Variables'!J92","v":0},{"$f":"'Relevant Variables'!J122","v":0},{"$f":"'Relevant Variables'!J152","v":0},{"$f":"'Relevant Variables'!J182","v":0},{"$f":"'Relevant Variables'!J212","v":0},{"$f":"'Relevant Variables'!J242","v":0},{"$f":"'Relevant Variables'!J272","v":0},{"$f":"'Relevant Variables'!J302","v":0},{"$f":"'Relevant Variables'!J332","v":0},{"$f":"'Relevant Variables'!J362","v":0},{"$f":"'Relevant Variables'!J392","v":0},{"$f":"'Relevant Variables'!J422","v":0},{"$f":"'Relevant Variables'!J452","v":0},{"$f":"'Relevant Variables'!J482","v":0},{"$f":"'Relevant Variables'!J512","v":0},{"$f":"'Relevant Variables'!J542","v":0},{"$f":"'Relevant Variables'!J572","v":0},{"$f":"'Relevant Variables'!J602","v":0}]
["2028-08-01",null,{"$f":"'Energy Consumption'!K33","v":0},{"$f":"'Energy Consumption'!K34","v":0},{"$f":"'Energy Consumption'!K115","v":0},{"$f":"'Energy Consumption'!K116","v":0},{"$f":"'Energy Consumption'!K197","v":0},{"$f":"'Energy Consumption'!K198","v":0},{"$f":"'Energy Consumption'!K279","v":0},{"$f":"'Energy Consumption'!K280","v":0},{"$f":"'Energy Consumption'!K361","v":0},{"$f":"'Energy Consumption'!K362","v":0},{"$f":"'Energy Consumption'!K443","v":0},{"$f":"'Energy Consumption'!K444","v":0},{"$f":"'Energy Consumption'!K525","v":0},{"$f":"'Energy Consumption'!K526","v":0},{"$f":"'Energy Consumption'!K607","v":0},{"$f":"'Energy Consumption'!K608","v":0},{"$f":"'Energy Consumption'!K689","v":0},{"$f":"'Energy Consumption'!K690","v":0},{"$f":"'Energy Consumption'!K771","v":0},{"$f":"'Energy Consumption'!K772","v":0},{"$f":"'Energy Consumption'!K853","v":0},{"$f":"'Energy Consumption'!K854","v":0},{"$f":"'Energy Consumption'!K935","v":0},{"$f":"'Energy Consumption'!K936","v":0},{"$f":"'Energy Consumption'!K1017","v":0},{"$f":"'Energy Consumption'!K1018","v":0},{"$f":"'Energy Consumption'!K1099","v":0},{"$f":"'Energy Consumption'!K1100","v":0},{"$f":"'Energy Consumption'!K1181","v":0},{"$f":"'Energy Consumption'!K1182","v":0},{"$f":"'Energy Consumption'!K1263","v":0},{"$f":"'Energy Consumption'!K1264","v":0},{"$f":"'Energy Consumption'!K1345","v":0},{"$f":"'Energy Consumption'!K1346","v":0},{"$f":"'Energy Consumption'!K1427","v":0},{"$f":"'Energy Consumption'!K1428","v":0},{"$f":"'Energy Consumption'!K1509","v":0},{"$f":"'Energy Consumption'!K1510","v":0},{"$f":"'Energy Consumption'!K1591","v":0},{"$f":"'Energy Consumption'!K1592","v":0},null,{"$f":"'Relevant Variables'!K32","v":0},{"$f":"'Relevant Variables'!K62","v":0},{"$f":"'Relevant Variables'!K92","v":0},{"$f":"'Relevant Variables'!K122","v":0},{"$f":"'Relevant Variables'!K152","v":0},{"$f":"'Relevant Variables'!K182","v":0},{"$f":"'Relevant Variables'!K212","v":0},{"$f":"'Relevant Variables'!K242","v":0},{"$f":"'Relevant Variables'!K272","v":0},{"$f":"'Relevant Variables'!K302","v":0},{"$f":"'Relevant Variables'!K332","v":0},{"$f":"'Relevant Variables'!K362","v":0},{"$f":"'Relevant Variables'!K392","v":0},{"$f":"'Relevant Variables'!K422","v":0},{"$f":"'Relevant Variables'!K452","v":0},{"$f":"'Relevant Variables'!K482","v":0},{"$f":"'Relevant Variables'!K512","v":0},{"$f":"'Relevant Variables'!K542","v":0},{"$f":"'Relevant Variables'!K572","v":0},{"$f":"'Relevant Variables'!K602","v":0}]
["2028-09-01",null,{"$f":"'Energy Consumption'!L33","v":0},{"$f":"'Energy Consumption'!L34","v":0},{"$f":"'Energy Consumption'!L115","v":0},{"$f":"'Energy Consumption'!L116","v":0},{"$f":"'Energy Consumption'!L197","v":0},{"$f":"'Energy Consumption'!L198","v":0},{"$f":"'Energy Consumption'!L279","v":0},{"$f":"'Energy Consumption'!L280","v":0},{"$f":"'Energy Consumption'!L361","v":0},{"$f":"'Energy Consumption'!L362","v":0},{"$f":"'Energy Consumption'!L443","v":0},{"$f":"'Energy Consumption'!L444","v":0},{"$f":"'Energy Consumption'!L525","v":0},{"$f":"'Energy Consumption'!L526","v":0},{"$f":"'Energy Consumption'!L607","v":0},{"$f":"'Energy Consumption'!L608","v":0},{"$f":"'Energy Consumption'!L689","v":0},{"$f":"'Energy Consumption'!L690","v":0},{"$f":"'Energy Consumption'!L771","v":0},{"$f":"'Energy Consumption'!L772","v":0},{"$f":"'Energy Consumption'!L853","v":0},{"$f":"'Energy Consumption'!L854","v":0},{"$f":"'Energy Consumption'!L935","v":0},{"$f":"'Energy Consumption'!L936","v":0},{"$f":"'Energy Consumption'!L1017","v":0},{"$f":"'Energy Consumption'!L1018","v":0},{"$f":"'Energy Consumption'!L1099","v":0},{"$f":"'Energy Consumption'!L1100","v":0},{"$f":"'Energy Consumption'!L1181","v":0},{"$f":"'Energy Consumption'!L1182","v":0},{"$f":"'Energy Consumption'!L1263","v":0},{"$f":"'Energy Consumption'!L1264","v":0},{"$f":"'Energy Consumption'!L1345","v":0},{"$f":"'Energy Consumption'!L1346","v":0},{"$f":"'Energy Consumption'!L1427","v":0},{"$f":"'Energy Consumption'!L1428","v":0},{"$f":"'Energy Consumption'!L1509","v":0},{"$f":"'Energy Consumption'!L1510","v":0},{"$f":"'Energy Consumption'!L1591","v":0},{"$f":"'Energy Consumption'!L1592","v":0},null,{"$f":"'Relevant Variables'!L32","v":0},{"$f":"'Relevant Variables'!L62","v":0},{"$f":"'Relevant Variables'!L92","v":0},{"$f":"'Relevant Variables'!L122","v":0},{"$f":"'Relevant Variables'!L152","v":0},{"$f":"'Relevant Variables'!L182","v":0},{"$f":"'Relevant Variables'!L212","v":0},{"$f":"'Relevant Variables'!L242","v":0},{"$f":"'Relevant Variables'!L272","v":0},{"$f":"'Relevant Variables'!L302","v":0},{"$f":"'Relevant Variables'!L332","v":0},{"$f":"'Relevant Variables'!L362","v":0},{"$f":"'Relevant Variables'!L392","v":0},{"$f":"'Relevant Variables'!L422","v":0},{"$f":"'Relevant Variables'!L452","v":0},{"$f":"'Relevant Variables'!L482","v":0},{"$f":"'Relevant Variables'!L512","v":0},{"$f":"'Relevant Variables'!L542","v":0},{"$f":"'Relevant Variables'!L572","v":0},{"$f":"'Relevant Variables'!L602","v":0}]
["2028-10-01",null,{"$f":"'Energy Consumption'!M33","v":0},{"$f":"'Energy Consumption'!M34","v":0},{"$f":"'Energy Consumption'!M115","v":0},{"$f":"'Energy Consumption'!M116","v":0},{"$f":"'Energy Consumption'!M197","v":0},{"$f":"'Energy Consumption'!M198","v":0},{"$f":"'Energy Consumption'!M279","v":0},{"$f":"'Energy Consumption'!M280","v":0},{"$f":"'Energy Consumption'!M361","v":0},{"$f":"'Energy Consumption'!M362","v":0},{"$f":"'Energy Consumption'!M443","v":0},{"$f":"'Energy Consumption'!M444","v":0},{"$f":"'Energy Consumption'!M525","v":0},{"$f":"'Energy Consumption'!M526","v":0},{"$f":"'Energy Consumption'!M607","v":0},{"$f":"'Energy Consumption'!M608","v":0},{"$f":"'Energy Consumption'!M689","v":0},{"$f":"'Energy Consumption'!M690","v":0},{"$f":"'Energy Consumption'!M771","v":0},{"$f":"'Energy Consumption'!M772","v":0},{"$f":"'Energy Consumption'!M853","v":0},{"$f":"'Energy Consumption'!M854","v":0},{"$f":"'Energy Consumption'!M935","v":0},{"$f":"'Energy Consumption'!M936","v":0},{"$f":"'Energy Consumption'!M1017","v":0},{"$f":"'Energy Consumption'!M1018","v":0},{"$f":"'Energy Consumption'!M1099","v":0},{"$f":"'Energy Consumption'!M1100","v":0},{"$f":"'Energy Consumption'!M1181","v":0},{"$f":"'Energy Consumption'!M1182","v":0},{"$f":"'Energy Consumption'!M1263","v":0},{"$f":"'Energy Consumption'!M1264","v":0},{"$f":"'Energy Consumption'!M1345","v":0},{"$f":"'Energy Consumption'!M1346","v":0},{"$f":"'Energy Consumption'!M1427","v":0},{"$f":"'Energy Consumption'!M1428","v":0},{"$f":"'Energy Consumption'!M1509","v":0},{"$f":"'Energy Consumption'!M1510","v":0},{"$f":"'Energy Consumption'!M1591","v":0},{"$f":"'Energy Consumption'!M1592","v":0},null,{"$f":"'Relevant Variables'!M32","v":0},{"$f":"'Relevant Variables'!M62","v":0},{"$f":"'Relevant Variables'!M92","v":0},{"$f":"'Relevant Variables'!M122","v":0},{"$f":"'Relevant Variables'!M152","v":0},{"$f":"'Relevant Variables'!M182","v":0},{"$f":"'Relevant Variables'!M212","v":0},{"$f":"'Relevant Variables'!M242","v":0},{"$f":"'Relevant Variables'!M272","v":0},{"$f":"'Relevant Variables'!M302","v":0},{"$f":"'Relevant Variables'!M332","v":0},{"$f":"'Relevant Variables'!M362","v":0},{"$f":"'Relevant Variables'!M392","v":0},{"$f":"'Relevant Variables'!M422","v":0},{"$f":"'Relevant Variables'!M452","v":0},{"$f":"'Relevant Variables'!M482","v":0},{"$f":"'Relevant Variables'!M512","v":0},{"$f":"'Relevant Variables'!M542","v":0},{"$f":"'Relevant Variables'!M572","v":0},{"$f":"'Relevant Variables'!M602","v":0}]
["2028-11-01",null,{"$f":"'Energy Consumption'!N33","v":0},{"$f":"'Energy Consumption'!N34","v":0},{"$f":"'Energy Consumption'!N115","v":0},{"$f":"'Energy Consumption'!N116","v":0},{"$f":"'Energy Consumption'!N197","v":0},{"$f":"'Energy Consumption'!N198","v":0},{"$f":"'Energy Consumption'!N279","v":0},{"$f":"'Energy Consumption'!N280","v":0},{"$f":"'Energy Consumption'!N361","v":0},{"$f":"'Energy Consumption'!N362","v":0},{"$f":"'Energy Consumption'!N443","v":0},{"$f":"'Energy Consumption'!N444","v":0},{"$f":"'Energy Consumption'!N525","v":0},{"$f":"'Energy Consumption'!N526","v":0},{"$f":"'Energy Consumption'!N607","v":0},{"$f":"'Energy Consumption'!N608","v":0},{"$f":"'Energy Consumption'!N689","v":0},{"$f":"'Energy Consumption'!N690","v":0},{"$f":"'Energy Consumption'!N771","v":0},{"$f":"'Energy Consumption'!N772","v":0},{"$f":"'Energy Consumption'!N853","v":0},{"$f":"'Energy Consumption'!N854","v":0},{"$f":"'Energy Consumption'!N935","v":0},{"$f":"'Energy Consumption'!N936","v":0},{"$f":"'Energy Consumption'!N1017","v":0},{"$f":"'Energy Consumption'!N1018","v":0},{"$f":"'Energy Consumption'!N1099","v":0},{"$f":"'Energy Consumption'!N1100","v":0},{"$f":"'Energy Consumption'!N1181","v":0},{"$f":"'Energy Consumption'!N1182","v":0},{"$f":"'Energy Consumption'!N1263","v":0},{"$f":"'Energy Consumption'!N1264","v":0},{"$f":"'Energy Consumption'!N1345","v":0},{"$f":"'Energy Consumption'!N1346","v":0},{"$f":"'Energy Consumption'!N1427","v":0},{"$f":"'Energy Consumption'!N1428","v":0},{"$f":"'Energy Consumption'!N1509","v":0},{"$f":"'Energy Consumption'!N1510","v":0},{"$f":"'Energy Consumption'!N1591","v":0},{"$f":"'Energy Consumption'!N1592","v":0},null,{"$f":"'Relevant Variables'!N32","v":0},{"$f":"'Relevant Variables'!N62","v":0},{"$f":"'Relevant Variables'!N92","v":0},{"$f":"'Relevant Variables'!N122","v":0},{"$f":"'Relevant Variables'!N152","v":0},{"$f":"'Relevant Variables'!N182","v":0},{"$f":"'Relevant Variables'!N212","v":0},{"$f":"'Relevant Variables'!N242","v":0},{"$f":"'Relevant Variables'!N272","v":0},{"$f":"'Relevant Variables'!N302","v":0},{"$f":"'Relevant Variables'!N332","v":0},{"$f":"'Relevant Variables'!N362","v":0},{"$f":"'Relevant Variables'!N392","v":0},{"$f":"'Relevant Variables'!N422","v":0},{"$f":"'Relevant Variables'!N452","v":0},{"$f":"'Relevant Variables'!N482","v":0},{"$f":"'Relevant Variables'!N512","v":0},{"$f":"'Relevant Variables'!N542","v":0},{"$f":"'Relevant Variables'!N572","v":0},{"$f":"'Relevant Variables'!N602","v":0}]
["2028-12-01",null,{"$f":"'Energy Consumption'!O33","v":0},{"$f":"'Energy Consumption'!O34","v":0},{"$f":"'Energy Consumption'!O115","v":0},{"$f":"'Energy Consumption'!O116","v":0},{"$f":"'Energy Consumption'!O197","v":0},{"$f":"'Energy Consumption'!O198","v":0},{"$f":"'Energy Consumption'!O279","v":0},{"$f":"'Energy Consumption'!O280","v":0},{"$f":"'Energy Consumption'!O361","v":0},{"$f":"'Energy Consumption'!O362","v":0},{"$f":"'Energy Consumption'!O443","v":0},{"$f":"'Energy Consumption'!O444","v":0},{"$f":"'Energy Consumption'!O525","v":0},{"$f":"'Energy Consumption'!O526","v":0},{"$f":"'Energy Consumption'!O607","v":0},{"$f":"'Energy Consumption'!O608","v":0},{"$f":"'Energy Consumption'!O689","v":0},{"$f":"'Energy Consumption'!O690","v":0},{"$f":"'Energy Consumption'!O771","v":0},{"$f":"'Energy Consumption'!O772","v":0},{"$f":"'Energy Consumption'!O853","v":0},{"$f":"'Energy Consumption'!O854","v":0},{"$f":"'Energy Consumption'!O935","v":0},{"$f":"'Energy Consumption'!O936","v":0},{"$f":"'Energy Consumption'!O1017","v":0},{"$f":"'Energy Consumption'!O1018","v":0},{"$f":"'Energy Consumption'!O1099","v":0},{"$f":"'Energy Consumption'!O1100","v":0},{"$f":"'Energy Consumption'!O1181","v":0},{"$f":"'Energy Consumption'!O1182","v":0},{"$f":"'Energy Consumption'!O1263","v":0},{"$f":"'Energy Consumption'!O1264","v":0},{"$f":"'Energy Consumption'!O1345","v":0},{"$f":"'Energy Consumption'!O1346","v":0},{"$f":"'Energy Consumption'!O1427","v":0},{"$f":"'Energy Consumption'!O1428","v":0},{"$f":"'Energy Consumption'!O1509","v":0},{"$f":"'Energy Consumption'!O1510","v":0},{"$f":"'Energy Consumption'!O1591","v":0},{"$f":"'Energy Consumption'!O1592","v":0},null,{"$f":"'Relevant Variables'!O32","v":0},{"$f":"'Relevant Variables'!O62","v":0},{"$f":"'Relevant Variables'!O92","v":0},{"$f":"'Relevant Variables'!O122","v":0},{"$f":"'Relevant Variables'!O152","v":0},{"$f":"'Relevant Variables'!O182","v":0},{"$f":"'Relevant Variables'!O212","v":0},{"$f":"'Relevant Variables'!O242","v":0},{"$f":"'Relevant Variables'!O272","v":0},{"$f":"'Relevant Variables'!O302","v":0},{"$f":"'Relevant Variables'!O332","v":0},{"$f":"'Relevant Variables'!O362","v":0},{"$f":"'Relevant Variables'!O392","v":0},{"$f":"'Relevant Variables'!O422","v":0},{"$f":"'Relevant Variables'!O452","v":0},{"$f":"'Relevant Variables'!O482","v":0},{"$f":"'Relevant Variables'!O512","v":0},{"$f":"'Relevant Variables'!O542","v":0},{"$f":"'Relevant Variables'!O572","v":0},{"$f":"'Relevant Variables'!O602","v":0}]
["2029-01-01",null,{"$f":"'Energy Consumption'!D31","v":0},{"$f":"'Energy Consumption'!D32","v":0},{"$f":"'Energy Consumption'!D113","v":0},{"$f":"'Energy Consumption'!D114","v":0},{"$f":"'Energy Consumption'!D195","v":0},{"$f":"'Energy Consumption'!D196","v":0},{"$f":"'Energy Consumption'!D277","v":0},{"$f":"'Energy Consumption'!D278","v":0},{"$f":"'Energy Consumption'!D359","v":0},{"$f":"'Energy Consumption'!D360","v":0},{"$f":"'Energy Consumption'!D441","v":0},{"$f":"'Energy Consumption'!D442","v":0},{"$f":"'Energy Consumption'!D523","v":0},{"$f":"'Energy Consumption'!D524","v":0},{"$f":"'Energy Consumption'!D605","v":0},{"$f":"'Energy Consumption'!D606","v":0},{"$f":"'Energy Consumption'!D687","v":0},{"$f":"'Energy Consumption'!D688","v":0},{"$f":"'Energy Consumption'!D769","v":0},{"$f":"'Energy Consumption'!D770","v":0},{"$f":"'Energy Consumption'!D851","v":0},{"$f":"'Energy Consumption'!D852","v":0},{"$f":"'Energy Consumption'!D933","v":0},{"$f":"'Energy Consumption'!D934","v":0},{"$f":"'Energy Consumption'!D1015","v":0},{"$f":"'Energy Consumption'!D1016","v":0},{"$f":"'Energy Consumption'!D1097","v":0},{"$f":"'Energy Consumption'!D1098","v":0},{"$f":"'Energy Consumption'!D1179","v":0},{"$f":"'Energy Consumption'!D1180","v":0},{"$f":"'Energy Consumption'!D1261","v":0},{"$f":"'Energy Consumption'!D1262","v":0},{"$f":"'Energy Consumption'!D1343","v":0},{"$f":"'Energy Consumption'!D1344","v":0},{"$f":"'Energy Consumption'!D1425","v":0},{"$f":"'Energy Consumption'!D1426","v":0},{"$f":"'Energy Consumption'!D1507","v":0},{"$f":"'Energy Consumption'!D1508","v":0},{"$f":"'Energy Consumption'!D1589","v":0},{"$f":"'Energy Consumption'!D1590","v":0},null,{"$f":"'Relevant Variables'!D31","v":0},{"$f":"'Relevant Variables'!D61","v":0},{"$f":"'Relevant Variables'!D91","v":0},{"$f":"'Relevant Variables'!D121","v":0},{"$f":"'Relevant Variables'!D151","v":0},{"$f":"'Relevant Variables'!D181","v":0},{"$f":"'Relevant Variables'!D211","v":0},{"$f":"'Relevant Variables'!D241","v":0},{"$f":"'Relevant Variables'!D271","v":0},{"$f":"'Relevant Variables'!D301","v":0},{"$f":"'Relevant Variables'!D331","v":0},{"$f":"'Relevant Variables'!D361","v":0},{"$f":"'Relevant Variables'!D391","v":0},{"$f":"'Relevant Variables'!D421","v":0},{"$f":"'Relevant Variables'!D451","v":0},{"$f":"'Relevant Variables'!D481","v":0},{"$f":"'Relevant Variables'!D511","v":0},{"$f":"'Relevant Variables'!D541","v":0},{"$f":"'Relevant Variables'!D571","v":0},{"$f":"'Relevant Variables'!D601","v":0}]
["2029-02-01",null,{"$f":"'Energy Consumption'!E31","v":0},{"$f":"'Energy Consumption'!E32","v":0},{"$f":"'Energy Consumption'!E113","v":0},{"$f":"'Energy Consumption'!E114","v":0},{"$f":"'Energy Consumption'!E195","v":0},{"$f":"'Energy Consumption'!E196","v":0},{"$f":"'Energy Consumption'!E277","v":0},{"$f":"'Energy Consumption'!E278","v":0},{"$f":"'Energy Consumption'!E359","v":0},{"$f":"'Energy Consumption'!E360","v":0},{"$f":"'Energy Consumption'!E441","v":0},{"$f":"'Energy Consumption'!E442","v":0},{"$f":"'Energy Consumption'!E523","v":0},{"$f":"'Energy Consumption'!E524","v":0},{"$f":"'Energy Consumption'!E605","v":0},{"$f":"'Energy Consumption'!E606","v":0},{"$f":"'Energy Consumption'!E687","v":0},{"$f":"'Energy Consumption'!E688","v":0},{"$f":"'Energy Consumption'!E769","v":0},{"$f":"'Energy Consumption'!E770","v":0},{"$f":"'Energy Consumption'!E851","v":0},{"$f":"'Energy Consumption'!E852","v":0},{"$f":"'Energy Consumption'!E933","v":0},{"$f":"'Energy Consumption'!E934","v":0},{"$f":"'Energy Consumption'!E1015","v":0},{"$f":"'Energy Consumption'!E1016","v":0},{"$f":"'Energy Consumption'!E1097","v":0},{"$f":"'Energy Consumption'!E1098","v":0},{"$f":"'Energy Consumption'!E1179","v":0},{"$f":"'Energy Consumption'!E1180","v":0},{"$f":"'Energy Consumption'!E1261","v":0},{"$f":"'Energy Consumption'!E1262","v":0},{"$f":"'Energy Consumption'!E1343","v":0},{"$f":"'Energy Consumption'!E1344","v":0},{"$f":"'Energy Consumption'!E1425","v":0},{"$f":"'Energy Consumption'!E1426","v":0},{"$f":"'Energy Consumption'!E1507","v":0},{"$f":"'Energy Consumption'!E1508","v":0},{"$f":"'Energy Consumption'!E1589","v":0},{"$f":"'Energy Consumption'!E1590","v":0},null,{"$f":"'Relevant Variables'!E31","v":0},{"$f":"'Relevant Variables'!E61","v":0},{"$f":"'Relevant Variables'!E91","v":0},{"$f":"'Relevant Variables'!E121","v":0},{"$f":"'Relevant Variables'!E151","v":0},{"$f":"'Relevant Variables'!E181","v":0},{"$f":"'Relevant Variables'!E211","v":0},{"$f":"'Relevant Variables'!E241","v":0},{"$f":"'Relevant Variables'!E271","v":0},{"$f":"'Relevant Variables'!E301","v":0},{"$f":"'Relevant Variables'!E331","v":0},{"$f":"'Relevant Variables'!E361","v":0},{"$f":"'Relevant Variables'!E391","v":0},{"$f":"'Relevant Variables'!E421","v":0},{"$f":"'Relevant Variables'!E451","v":0},{"$f":"'Relevant Variables'!E481","v":0},{"$f":"'Relevant Variables'!E511","v":0},{"$f":"'Relevant Variables'!E541","v":0},{"$f":"'Relevant Variables'!E571","v":0},{"$f":"'Relevant Variables'!E601","v":0}]
["2029-03-01",null,{"$f":"'Energy Consumption'!F31","v":0},{"$f":"'Energy Consumption'!F32","v":0},{"$f":"'Energy Consumption'!F113","v":0},{"$f":"'Energy Consumption'!F114","v":0},{"$f":"'Energy Consumption'!F195","v":0},{"$f":"'Energy Consumption'!F196","v":0},{"$f":"'Energy Consumption'!F277","v":0},{"$f":"'Energy Consumption'!F278","v":0},{"$f":"'Energy Consumption'!F359","v":0},{"$f":"'Energy Consumption'!F360","v":0},{"$f":"'Energy Consumption'!F441","v":0},{"$f":"'Energy Consumption'!F442","v":0},{"$f":"'Energy Consumption'!F523","v":0},{"$f":"'Energy Consumption'!F524","v":0},{"$f":"'Energy Consumption'!F605","v":0},{"$f":"'Energy Consumption'!F606","v":0},{"$f":"'Energy Consumption'!F687","v":0},{"$f":"'Energy Consumption'!F688","v":0},{"$f":"'Energy Consumption'!F769","v":0},{"$f":"'Energy Consumption'!F770","v":0},{"$f":"'Energy Consumption'!F851","v":0},{"$f":"'Energy Consumption'!F852","v":0},{"$f":"'Energy Consumption'!F933","v":0},{"$f":"'Energy Consumption'!F934","v":0},{"$f":"'Energy Consumption'!F1015","v":0},{"$f":"'Energy Consumption'!F1016","v":0},{"$f":"'Energy Consumption'!F1097","v":0},{"$f":"'Energy Consumption'!F1098","v":0},{"$f":"'Energy Consumption'!F1179","v":0},{"$f":"'Energy Consumption'!F1180","v":0},{"$f":"'Energy Consumption'!F1261","v":0},{"$f":"'Energy Consumption'!F1262","v":0},{"$f":"'Energy Consumption'!F1343","v":0},{"$f":"'Energy Consumption'!F1344","v":0},{"$f":"'Energy Consumption'!F1425","v":0},{"$f":"'Energy Consumption'!F1426","v":0},{"$f":"'Energy Consumption'!F1507","v":0},{"$f":"'Energy Consumption'!F1508","v":0},{"$f":"'Energy Consumption'!F1589","v":0},{"$f":"'Energy Consumption'!F1590","v":0},null,{"$f":"'Relevant Variables'!F31","v":0},{"$f":"'Relevant Variables'!F61","v":0},{"$f":"'Relevant Variables'!F91","v":0},{"$f":"'Relevant Variables'!F121","v":0},{"$f":"'Relevant Variables'!F151","v":0},{"$f":"'Relevant Variables'!F181","v":0},{"$f":"'Relevant Variables'!F211","v":0},{"$f":"'Relevant Variables'!F241","v":0},{"$f":"'Relevant Variables'!F271","v":0},{"$f":"'Relevant Variables'!F301","v":0},{"$f":"'Relevant Variables'!F331","v":0},{"$f":"'Relevant Variables'!F361","v":0},{"$f":"'Relevant Variables'!F391","v":0},{"$f":"'Relevant Variables'!F421","v":0},{"$f":"'Relevant Variables'!F451","v":0},{"$f":"'Relevant Variables'!F481","v":0},{"$f":"'Relevant Variables'!F511","v":0},{"$f":"'Relevant Variables'!F541","v":0},{"$f":"'Relevant Variables'!F571","v":0},{"$f":"'Relevant Variables'!F601","v":0}]
["2029-04-01",null,{"$f":"'Energy Consumption'!G31","v":0},{"$f":"'Energy Consumption'!G32","v":0},{"$f":"'Energy Consumption'!G113","v":0},{"$f":"'Energy Consumption'!G114","v":0},{"$f":"'Energy Consumption'!G195","v":0},{"$f":"'Energy Consumption'!G196","v":0},{"$f":"'Energy Consumption'!G277","v":0},{"$f":"'Energy Consumption'!G278","v":0},{"$f":"'Energy Consumption'!G359","v":0},{"$f":"'Energy Consumption'!G360","v":0},{"$f":"'Energy Consumption'!G441","v":0},{"$f":"'Energy Consumption'!G442","v":0},{"$f":"'Energy Consumption'!G523","v":0},{"$f":"'Energy Consumption'!G524","v":0},{"$f":"'Energy Consumption'!G605","v":0},{"$f":"'Energy Consumption'!G606","v":0},{"$f":"'Energy Consumption'!G687","v":0},{"$f":"'Energy Consumption'!G688","v":0},{"$f":"'Energy Consumption'!G769","v":0},{"$f":"'Energy Consumption'!G770","v":0},{"$f":"'Energy Consumption'!G851","v":0},{"$f":"'Energy Consumption'!G852","v":0},{"$f":"'Energy Consumption'!G933","v":0},{"$f":"'Energy Consumption'!G934","v":0},{"$f":"'Energy Consumption'!G1015","v":0},{"$f":"'Energy Consumption'!G1016","v":0},{"$f":"'Energy Consumption'!G1097","v":0},{"$f":"'Energy Consumption'!G1098","v":0},{"$f":"'Energy Consumption'!G1179","v":0},{"$f":"'Energy Consumption'!G1180","v":0},{"$f":"'Energy Consumption'!G1261","v":0},{"$f":"'Energy Consumption'!G1262","v":0},{"$f":"'Energy Consumption'!G1343","v":0},{"$f":"'Energy Consumption'!G1344","v":0},{"$f":"'Energy Consumption'!G1425","v":0},{"$f":"'Energy Consumption'!G1426","v":0},{"$f":"'Energy Consumption'!G1507","v":0},{"$f":"'Energy Consumption'!G1508","v":0},{"$f":"'Energy Consumption'!G1589","v":0},{"$f":"'Energy Consumption'!G1590","v":0},null,{"$f":"'Relevant Variables'!G31","v":0},{"$f":"'Relevant Variables'!G61","v":0},{"$f":"'Relevant Variables'!G91","v":0},{"$f":"'Relevant Variables'!G121","v":0},{"$f":"'Relevant Variables'!G151","v":0},{"$f":"'Relevant Variables'!G181","v":0},{"$f":"'Relevant Variables'!G211","v":0},{"$f":"'Relevant Variables'!G241","v":0},{"$f":"'Relevant Variables'!G271","v":0},{"$f":"'Relevant Variables'!G301","v":0},{"$f":"'Relevant Variables'!G331","v":0},{"$f":"'Relevant Variables'!G361","v":0},{"$f":"'Relevant Variables'!G391","v":0},{"$f":"'Relevant Variables'!G421","v":0},{"$f":"'Relevant Variables'!G451","v":0},{"$f":"'Relevant Variables'!G481","v":0},{"$f":"'Relevant Variables'!G511","v":0},{"$f":"'Relevant Variables'!G541","v":0},{"$f":"'Relevant Variables'!G571","v":0},{"$f":"'Relevant Variables'!G601","v":0}]
["2029-05-01",null,{"$f":"'Energy Consumption'!H31","v":0},{"$f":"'Energy Consumption'!H32","v":0},{"$f":"'Energy Consumption'!H113","v":0},{"$f":"'Energy Consumption'!H114","v":0},{"$f":"'Energy Consumption'!H195","v":0},{"$f":"'Energy Consumption'!H196","v":0},{"$f":"'Energy Consumption'!H277","v":0},{"$f":"'Energy Consumption'!H278","v":0},{"$f":"'Energy Consumption'!H359","v":0},{"$f":"'Energy Consumption'!H360","v":0},{"$f":"'Energy Consumption'!H441","v":0},{"$f":"'Energy Consumption'!H442","v":0},{"$f":"'Energy Consumption'!H523","v":0},{"$f":"'Energy Consumption'!H524","v":0},{"$f":"'Energy Consumption'!H605","v":0},{"$f":"'Energy Consumption'!H606","v":0},{"$f":"'Energy Consumption'!H687","v":0},{"$f":"'Energy Consumption'!H688","v":0},{"$f":"'Energy Consumption'!H769","v":0},{"$f":"'Energy Consumption'!H770","v":0},{"$f":"'Energy Consumption'!H851","v":0},{"$f":"'Energy Consumption'!H852","v":0},{"$f":"'Energy Consumption'!H933","v":0},{"$f":"'Energy Consumption'!H934","v":0},{"$f":"'Energy Consumption'!H1015","v":0},{"$f":"'Energy Consumption'!H1016","v":0},{"$f":"'Energy Consumption'!H1097","v":0},{"$f":"'Energy Consumption'!H1098","v":0},{"$f":"'Energy Consumption'!H1179","v":0},{"$f":"'Energy Consumption'!H1180","v":0},{"$f":"'Energy Consumption'!H1261","v":0},{"$f":"'Energy Consumption'!H1262","v":0},{"$f":"'Energy Consumption'!H1343","v":0},{"$f":"'Energy Consumption'!H1344","v":0},{"$f":"'Energy Consumption'!H1425","v":0},{"$f":"'Energy Consumption'!H1426","v":0},{"$f":"'Energy Consumption'!H1507","v":0},{"$f":"'Energy Consumption'!H1508","v":0},{"$f":"'Energy Consumption'!H1589","v":0},{"$f":"'Energy Consumption'!H1590","v":0},null,{"$f":"'Relevant Variables'!H31","v":0},{"$f":"'Relevant Variables'!H61","v":0},{"$f":"'Relevant Variables'!H91","v":0},{"$f":"'Relevant Variables'!H121","v":0},{"$f":"'Relevant Variables'!H151","v":0},{"$f":"'Relevant Variables'!H181","v":0},{"$f":"'Relevant Variables'!H211","v":0},{"$f":"'Relevant Variables'!H241","v":0},{"$f":"'Relevant Variables'!H271","v":0},{"$f":"'Relevant Variables'!H301","v":0},{"$f":"'Relevant Variables'!H331","v":0},{"$f":"'Relevant Variables'!H361","v":0},{"$f":"'Relevant Variables'!H391","v":0},{"$f":"'Relevant Variables'!H421","v":0},{"$f":"'Relevant Variables'!H451","v":0},{"$f":"'Relevant Variables'!H481","v":0},{"$f":"'Relevant Variables'!H511","v":0},{"$f":"'Relevant Variables'!H541","v":0},{"$f":"'Relevant Variables'!H571","v":0},{"$f":"'Relevant Variables'!H601","v":0}]
["2029-06-01",null,{"$f":"'Energy Consumption'!I31","v":0},{"$f":"'Energy Consumption'!I32","v":0},{"$f":"'Energy Consumption'!I113","v":0},{"$f":"'Energy Consumption'!I114","v":0},{"$f":"'Energy Consumption'!I195","v":0},{"$f":"'Energy Consumption'!I196","v":0},{"$f":"'Energy Consumption'!I277","v":0},{"$f":"'Energy Consumption'!I278","v":0},{"$f":"'Energy Consumption'!I359","v":0},{"$f":"'Energy Consumption'!I360","v":0},{"$f":"'Energy Consumption'!I441","v":0},{"$f":"'Energy Consumption'!I442","v":0},{"$f":"'Energy Consumption'!I523","v":0},{"$f":"'Energy Consumption'!I524","v":0},{"$f":"'Energy Consumption'!I605","v":0},{"$f":"'Energy Consumption'!I606","v":0},{"$f":"'Energy Consumption'!I687","v":0},{"$f":"'Energy Consumption'!I688","v":0},{"$f":"'Energy Consumption'!I769","v":0},{"$f":"'Energy Consumption'!I770","v":0},{"$f":"'Energy Consumption'!I851","v":0},{"$f":"'Energy Consumption'!I852","v":0},{"$f":"'Energy Consumption'!I933","v":0},{"$f":"'Energy Consumption'!I934","v":0},{"$f":"'Energy Consumption'!I1015","v":0},{"$f":"'Energy Consumption'!I1016","v":0},{"$f":"'Energy Consumption'!I1097","v":0},{"$f":"'Energy Consumption'!I1098","v":0},{"$f":"'Energy Consumption'!I1179","v":0},{"$f":"'Energy Consumption'!I1180","v":0},{"$f":"'Energy Consumption'!I1261","v":0},{"$f":"'Energy Consumption'!I1262","v":0},{"$f":"'Energy Consumption'!I1343","v":0},{"$f":"'Energy Consumption'!I1344","v":0},{"$f":"'Energy Consumption'!I1425","v":0},{"$f":"'Energy Consumption'!I1426","v":0},{"$f":"'Energy Consumption'!I1507","v":0},{"$f":"'Energy Consumption'!I1508","v":0},{"$f":"'Energy Consumption'!I1589","v":0},{"$f":"'Energy Consumption'!I1590","v":0},null,{"$f":"'Relevant Variables'!I31","v":0},{"$f":"'Relevant Variables'!I61","v":0},{"$f":"'Relevant Variables'!I91","v":0},{"$f":"'Relevant Variables'!I121","v":0},{"$f":"'Relevant Variables'!I151","v":0},{"$f":"'Relevant Variables'!I181","v":0},{"$f":"'Relevant Variables'!I211","v":0},{"$f":"'Relevant Variables'!I241","v":0},{"$f":"'Relevant Variables'!I271","v":0},{"$f":"'Relevant Variables'!I301","v":0},{"$f":"'Relevant Variables'!I331","v":0},{"$f":"'Relevant Variables'!I361","v":0},{"$f":"'Relevant Variables'!I391","v":0},{"$f":"'Relevant Variables'!I421","v":0},{"$f":"'Relevant Variables'!I451","v":0},{"$f":"'Relevant Variables'!I481","v":0},{"$f":"'Relevant Variables'!I511","v":0},{"$f":"'Relevant Variables'!I541","v":0},{"$f":"'Relevant Variables'!I571","v":0},{"$f":"'Relevant Variables'!I601","v":0}]
["2029-07-01",null,{"$f":"'Energy Consumption'!J31","v":0},{"$f":"'Energy Consumption'!J32","v":0},{"$f":"'Energy Consumption'!J113","v":0},{"$f":"'Energy Consumption'!J114","v":0},{"$f":"'Energy Consumption'!J195","v":0},{"$f":"'Energy Consumption'!J196","v":0},{"$f":"'Energy Consumption'!J277","v":0},{"$f":"'Energy Consumption'!J278","v":0},{"$f":"'Energy Consumption'!J359","v":0},{"$f":"'Energy Consumption'!J360","v":0},{"$f":"'Energy Consumption'!J441","v":0},{"$f":"'Energy Consumption'!J442","v":0},{"$f":"'Energy Consumption'!J523","v":0},{"$f":"'Energy Consumption'!J524","v":0},{"$f":"'Energy Consumption'!J605","v":0},{"$f":"'Energy Consumption'!J606","v":0},{"$f":"'Energy Consumption'!J687","v":0},{"$f":"'Energy Consumption'!J688","v":0},{"$f":"'Energy Consumption'!J769","v":0},{"$f":"'Energy Consumption'!J770","v":0},{"$f":"'Energy Consumption'!J851","v":0},{"$f":"'Energy Consumption'!J852","v":0},{"$f":"'Energy Consumption'!J933","v":0},{"$f":"'Energy Consumption'!J934","v":0},{"$f":"'Energy Consumption'!J1015","v":0},{"$f":"'Energy Consumption'!J1016","v":0},{"$f":"'Energy Consumption'!J1097","v":0},{"$f":"'Energy Consumption'!J1098","v":0},{"$f":"'Energy Consumption'!J1179","v":0},{"$f":"'Energy Consumption'!J1180","v":0},{"$f":"'Energy Consumption'!J1261","v":0},{"$f":"'Energy Consumption'!J1262","v":0},{"$f":"'Energy Consumption'!J1343","v":0},{"$f":"'Energy Consumption'!J1344","v":0},{"$f":"'Energy Consumption'!J1425","v":0},{"$f":"'Energy Consumption'!J1426","v":0},{"$f":"'Energy Consumption'!J1507","v":0},{"$f":"'Energy Consumption'!J1508","v":0},{"$f":"'Energy Consumption'!J1589","v":0},{"$f":"'Energy Consumption'!J1590","v":0},null,{"$f":"'Relevant Variables'!J31","v":0},{"$f":"'Relevant Variables'!J61","v":0},{"$f":"'Relevant Variables'!J91","v":0},{"$f":"'Relevant Variables'!J121","v":0},{"$f":"'Relevant Variables'!J151","v":0},{"$f":"'Relevant Variables'!J181","v":0},{"$f":"'Relevant Variables'!J211","v":0},{"$f":"'Relevant Variables'!J241","v":0},{"$f":"'Relevant Variables'!J271","v":0},{"$f":"'Relevant Variables'!J301","v":0},{"$f":"'Relevant Variables'!J331","v":0},{"$f":"'Relevant Variables'!J361","v":0},{"$f":"'Relevant Variables'!J391","v":0},{"$f":"'Relevant Variables'!J421","v":0},{"$f":"'Relevant Variables'!J451","v":0},{"$f":"'Relevant Variables'!J481","v":0},{"$f":"'Relevant Variables'!J511","v":0},{"$f":"'Relevant Variables'!J541","v":0},{"$f":"'Relevant Variables'!J571","v":0},{"$f":"'Relevant Variables'!J601","v":0}]
["2029-08-01",null,{"$f":"'Energy Consumption'!K31","v":0},{"$f":"'Energy Consumption'!K32","v":0},{"$f":"'Energy Consumption'!K113","v":0},{"$f":"'Energy Consumption'!K114","v":0},{"$f":"'Energy Consumption'!K195","v":0},{"$f":"'Energy Consumption'!K196","v":0},{"$f":"'Energy Consumption'!K277","v":0},{"$f":"'Energy Consumption'!K278","v":0},{"$f":"'Energy Consumption'!K359","v":0},{"$f":"'Energy Consumption'!K360","v":0},{"$f":"'Energy Consumption'!K441","v":0},{"$f":"'Energy Consumption'!K442","v":0},{"$f":"'Energy Consumption'!K523","v":0},{"$f":"'Energy Consumption'!K524","v":0},{"$f":"'Energy Consumption'!K605","v":0},{"$f":"'Energy Consumption'!K606","v":0},{"$f":"'Energy Consumption'!K687","v":0},{"$f":"'Energy Consumption'!K688","v":0},{"$f":"'Energy Consumption'!K769","v":0},{"$f":"'Energy Consumption'!K770","v":0},{"$f":"'Energy Consumption'!K851","v":0},{"$f":"'Energy Consumption'!K852","v":0},{"$f":"'Energy Consumption'!K933","v":0},{"$f":"'Energy Consumption'!K934","v":0},{"$f":"'Energy Consumption'!K1015","v":0},{"$f":"'Energy Consumption'!K1016","v":0},{"$f":"'Energy Consumption'!K1097","v":0},{"$f":"'Energy Consumption'!K1098","v":0},{"$f":"'Energy Consumption'!K1179","v":0},{"$f":"'Energy Consumption'!K1180","v":0},{"$f":"'Energy Consumption'!K1261","v":0},{"$f":"'Energy Consumption'!K1262","v":0},{"$f":"'Energy Consumption'!K1343","v":0},{"$f":"'Energy Consumption'!K1344","v":0},{"$f":"'Energy Consumption'!K1425","v":0},{"$f":"'Energy Consumption'!K1426","v":0},{"$f":"'Energy Consumption'!K1507","v":0},{"$f":"'Energy Consumption'!K1508","v":0},{"$f":"'Energy Consumption'!K1589","v":0},{"$f":"'Energy Consumption'!K1590","v":0},null,{"$f":"'Relevant Variables'!K31","v":0},{"$f":"'Relevant Variables'!K61","v":0},{"$f":"'Relevant Variables'!K91","v":0},{"$f":"'Relevant Variables'!K121","v":0},{"$f":"'Relevant Variables'!K151","v":0},{"$f":"'Relevant Variables'!K181","v":0},{"$f":"'Relevant Variables'!K211","v":0},{"$f":"'Relevant Variables'!K241","v":0},{"$f":"'Relevant Variables'!K271","v":0},{"$f":"'Relevant Variables'!K301","v":0},{"$f":"'Relevant Variables'!K331","v":0},{"$f":"'Relevant Variables'!K361","v":0},{"$f":"'Relevant Variables'!K391","v":0},{"$f":"'Relevant Variables'!K421","v":0},{"$f":"'Relevant Variables'!K451","v":0},{"$f":"'Relevant Variables'!K481","v":0},{"$f":"'Relevant Variables'!K511","v":0},{"$f":"'Relevant Variables'!K541","v":0},{"$f":"'Relevant Variables'!K571","v":0},{"$f":"'Relevant Variables'!K601","v":0}]
["2029-09-01",null,{"$f":"'Energy Consumption'!L31","v":0},{"$f":"'Energy Consumption'!L32","v":0},{"$f":"'Energy Consumption'!L113","v":0},{"$f":"'Energy Consumption'!L114","v":0},{"$f":"'Energy Consumption'!L195","v":0},{"$f":"'Energy Consumption'!L196","v":0},{"$f":"'Energy Consumption'!L277","v":0},{"$f":"'Energy Consumption'!L278","v":0},{"$f":"'Energy Consumption'!L359","v":0},{"$f":"'Energy Consumption'!L360","v":0},{"$f":"'Energy Consumption'!L441","v":0},{"$f":"'Energy Consumption'!L442","v":0},{"$f":"'Energy Consumption'!L523","v":0},{"$f":"'Energy Consumption'!L524","v":0},{"$f":"'Energy Consumption'!L605","v":0},{"$f":"'Energy Consumption'!L606","v":0},{"$f":"'Energy Consumption'!L687","v":0},{"$f":"'Energy Consumption'!L688","v":0},{"$f":"'Energy Consumption'!L769","v":0},{"$f":"'Energy Consumption'!L770","v":0},{"$f":"'Energy Consumption'!L851","v":0},{"$f":"'Energy Consumption'!L852","v":0},{"$f":"'Energy Consumption'!L933","v":0},{"$f":"'Energy Consumption'!L934","v":0},{"$f":"'Energy Consumption'!L1015","v":0},{"$f":"'Energy Consumption'!L1016","v":0},{"$f":"'Energy Consumption'!L1097","v":0},{"$f":"'Energy Consumption'!L1098","v":0},{"$f":"'Energy Consumption'!L1179","v":0},{"$f":"'Energy Consumption'!L1180","v":0},{"$f":"'Energy Consumption'!L1261","v":0},{"$f":"'Energy Consumption'!L1262","v":0},{"$f":"'Energy Consumption'!L1343","v":0},{"$f":"'Energy Consumption'!L1344","v":0},{"$f":"'Energy Consumption'!L1425","v":0},{"$f":"'Energy Consumption'!L1426","v":0},{"$f":"'Energy Consumption'!L1507","v":0},{"$f":"'Energy Consumption'!L1508","v":0},{"$f":"'Energy Consumption'!L1589","v":0},{"$f":"'Energy Consumption'!L1590","v":0},null,{"$f":"'Relevant Variables'!L31","v":0},{"$f":"'Relevant Variables'!L61","v":0},{"$f":"'Relevant Variables'!L91","v":0},{"$f":"'Relevant Variables'!L121","v":0},{"$f":"'Relevant Variables'!L151","v":0},{"$f":"'Relevant Variables'!L181","v":0},{"$f":"'Relevant Variables'!L211","v":0},{"$f":"'Relevant Variables'!L241","v":0},{"$f":"'Relevant Variables'!L271","v":0},{"$f":"'Relevant Variables'!L301","v":0},{"$f":"'Relevant Variables'!L331","v":0},{"$f":"'Relevant Variables'!L361","v":0},{"$f":"'Relevant Variables'!L391","v":0},{"$f":"'Relevant Variables'!L421","v":0},{"$f":"'Relevant Variables'!L451","v":0},{"$f":"'Relevant Variables'!L481","v":0},{"$f":"'Relevant Variables'!L511","v":0},{"$f":"'Relevant Variables'!L541","v":0},{"$f":"'Relevant Variables'!L571","v":0},{"$f":"'Relevant Variables'!L601","v":0}]
["2029-10-01",null,{"$f":"'Energy Consumption'!M31","v":0},{"$f":"'Energy Consumption'!M32","v":0},{"$f":"'Energy Consumption'!M113","v":0},{"$f":"'Energy Consumption'!M114","v":0},{"$f":"'Energy Consumption'!M195","v":0},{"$f":"'Energy Consumption'!M196","v":0},{"$f":"'Energy Consumption'!M277","v":0},{"$f":"'Energy Consumption'!M278","v":0},{"$f":"'Energy Consumption'!M359","v":0},{"$f":"'Energy Consumption'!M360","v":0},{"$f":"'Energy Consumption'!M441","v":0},{"$f":"'Energy Consumption'!M442","v":0},{"$f":"'Energy Consumption'!M523","v":0},{"$f":"'Energy Consumption'!M524","v":0},{"$f":"'Energy Consumption'!M605","v":0},{"$f":"'Energy Consumption'!M606","v":0},{"$f":"'Energy Consumption'!M687","v":0},{"$f":"'Energy Consumption'!M688","v":0},{"$f":"'Energy Consumption'!M769","v":0},{"$f":"'Energy Consumption'!M770","v":0},{"$f":"'Energy Consumption'!M851","v":0},{"$f":"'Energy Consumption'!M852","v":0},{"$f":"'Energy Consumption'!M933","v":0},{"$f":"'Energy Consumption'!M934","v":0},{"$f":"'Energy Consumption'!M1015","v":0},{"$f":"'Energy Consumption'!M1016","v":0},{"$f":"'Energy Consumption'!M1097","v":0},{"$f":"'Energy Consumption'!M1098","v":0},{"$f":"'Energy Consumption'!M1179","v":0},{"$f":"'Energy Consumption'!M1180","v":0},{"$f":"'Energy Consumption'!M1261","v":0},{"$f":"'Energy Consumption'!M1262","v":0},{"$f":"'Energy Consumption'!M1343","v":0},{"$f":"'Energy Consumption'!M1344","v":0},{"$f":"'Energy Consumption'!M1425","v":0},{"$f":"'Energy Consumption'!M1426","v":0},{"$f":"'Energy Consumption'!M1507","v":0},{"$f":"'Energy Consumption'!M1508","v":0},{"$f":"'Energy Consumption'!M1589","v":0},{"$f":"'Energy Consumption'!M1590","v":0},null,{"$f":"'Relevant Variables'!M31","v":0},{"$f":"'Relevant Variables'!M61","v":0},{"$f":"'Relevant Variables'!M91","v":0},{"$f":"'Relevant Variables'!M121","v":0},{"$f":"'Relevant Variables'!M151","v":0},{"$f":"'Relevant Variables'!M181","v":0},{"$f":"'Relevant Variables'!M211","v":0},{"$f":"'Relevant Variables'!M241","v":0},{"$f":"'Relevant Variables'!M271","v":0},{"$f":"'Relevant Variables'!M301","v":0},{"$f":"'Relevant Variables'!M331","v":0},{"$f":"'Relevant Variables'!M361","v":0},{"$f":"'Relevant Variables'!M391","v":0},{"$f":"'Relevant Variables'!M421","v":0},{"$f":"'Relevant Variables'!M451","v":0},{"$f":"'Relevant Variables'!M481","v":0},{"$f":"'Relevant Variables'!M511","v":0},{"$f":"'Relevant Variables'!M541","v":0},{"$f":"'Relevant Variables'!M571","v":0},{"$f":"'Relevant Variables'!M601","v":0}]
["2029-11-01",null,{"$f":"'Energy Consumption'!N31","v":0},{"$f":"'Energy Consumption'!N32","v":0},{"$f":"'Energy Consumption'!N113","v":0},{"$f":"'Energy Consumption'!N114","v":0},{"$f":"'Energy Consumption'!N195","v":0},{"$f":"'Energy Consumption'!N196","v":0},{"$f":"'Energy Consumption'!N277","v":0},{"$f":"'Energy Consumption'!N278","v":0},{"$f":"'Energy Consumption'!N359","v":0},{"$f":"'Energy Consumption'!N360","v":0},{"$f":"'Energy Consumption'!N441","v":0},{"$f":"'Energy Consumption'!N442","v":0},{"$f":"'Energy Consumption'!N523","v":0},{"$f":"'Energy Consumption'!N524","v":0},{"$f":"'Energy Consumption'!N605","v":0},{"$f":"'Energy Consumption'!N606","v":0},{"$f":"'Energy Consumption'!N687","v":0},{"$f":"'Energy Consumption'!N688","v":0},{"$f":"'Energy Consumption'!N769","v":0},{"$f":"'Energy Consumption'!N770","v":0},{"$f":"'Energy Consumption'!N851","v":0},{"$f":"'Energy Consumption'!N852","v":0},{"$f":"'Energy Consumption'!N933","v":0},{"$f":"'Energy Consumption'!N934","v":0},{"$f":"'Energy Consumption'!N1015","v":0},{"$f":"'Energy Consumption'!N1016","v":0},{"$f":"'Energy Consumption'!N1097","v":0},{"$f":"'Energy Consumption'!N1098","v":0},{"$f":"'Energy Consumption'!N1179","v":0},{"$f":"'Energy Consumption'!N1180","v":0},{"$f":"'Energy Consumption'!N1261","v":0},{"$f":"'Energy Consumption'!N1262","v":0},{"$f":"'Energy Consumption'!N1343","v":0},{"$f":"'Energy Consumption'!N1344","v":0},{"$f":"'Energy Consumption'!N1425","v":0},{"$f":"'Energy Consumption'!N1426","v":0},{"$f":"'Energy Consumption'!N1507","v":0},{"$f":"'Energy Consumption'!N1508","v":0},{"$f":"'Energy Consumption'!N1589","v":0},{"$f":"'Energy Consumption'!N1590","v":0},null,{"$f":"'Relevant Variables'!N31","v":0},{"$f":"'Relevant Variables'!N61","v":0},{"$f":"'Relevant Variables'!N91","v":0},{"$f":"'Relevant Variables'!N121","v":0},{"$f":"'Relevant Variables'!N151","v":0},{"$f":"'Relevant Variables'!N181","v":0},{"$f":"'Relevant Variables'!N211","v":0},{"$f":"'Relevant Variables'!N241","v":0},{"$f":"'Relevant Variables'!N271","v":0},{"$f":"'Relevant Variables'!N301","v":0},{"$f":"'Relevant Variables'!N331","v":0},{"$f":"'Relevant Variables'!N361","v":0},{"$f":"'Relevant Variables'!N391","v":0},{"$f":"'Relevant Variables'!N421","v":0},{"$f":"'Relevant Variables'!N451","v":0},{"$f":"'Relevant Variables'!N481","v":0},{"$f":"'Relevant Variables'!N511","v":0},{"$f":"'Relevant Variables'!N541","v":0},{"$f":"'Relevant Variables'!N571","v":0},{"$f":"'Relevant Variables'!N601","v":0}]
["2029-12-01",null,{"$f":"'Energy Consumption'!O31","v":0},{"$f":"'Energy Consumption'!O32","v":0},{"$f":"'Energy Consumption'!O113","v":0},{"$f":"'Energy Consumption'!O114","v":0},{"$f":"'Energy Consumption'!O195","v":0},{"$f":"'Energy Consumption'!O196","v":0},{"$f":"'Energy Consumption'!O277","v":0},{"$f":"'Energy Consumption'!O278","v":0},{"$f":"'Energy Consumption'!O359","v":0},{"$f":"'Energy Consumption'!O360","v":0},{"$f":"'Energy Consumption'!O441","v":0},{"$f":"'Energy Consumption'!O442","v":0},{"$f":"'Energy Consumption'!O523","v":0},{"$f":"'Energy Consumption'!O524","v":0},{"$f":"'Energy Consumption'!O605","v":0},{"$f":"'Energy Consumption'!O606","v":0},{"$f":"'Energy Consumption'!O687","v":0},{"$f":"'Energy Consumption'!O688","v":0},{"$f":"'Energy Consumption'!O769","v":0},{"$f":"'Energy Consumption'!O770","v":0},{"$f":"'Energy Consumption'!O851","v":0},{"$f":"'Energy Consumption'!O852","v":0},{"$f":"'Energy Consumption'!O933","v":0},{"$f":"'Energy Consumption'!O934","v":0},{"$f":"'Energy Consumption'!O1015","v":0},{"$f":"'Energy Consumption'!O1016","v":0},{"$f":"'Energy Consumption'!O1097","v":0},{"$f":"'Energy Consumption'!O1098","v":0},{"$f":"'Energy Consumption'!O1179","v":0},{"$f":"'Energy Consumption'!O1180","v":0},{"$f":"'Energy Consumption'!O1261","v":0},{"$f":"'Energy Consumption'!O1262","v":0},{"$f":"'Energy Consumption'!O1343","v":0},{"$f":"'Energy Consumption'!O1344","v":0},{"$f":"'Energy Consumption'!O1425","v":0},{"$f":"'Energy Consumption'!O1426","v":0},{"$f":"'Energy Consumption'!O1507","v":0},{"$f":"'Energy Consumption'!O1508","v":0},{"$f":"'Energy Consumption'!O1589","v":0},{"$f":"'Energy Consumption'!O1590","v":0},null,{"$f":"'Relevant Variables'!O31","v":0},{"$f":"'Relevant Variables'!O61","v":0},{"$f":"'Relevant Variables'!O91","v":0},{"$f":"'Relevant Variables'!O121","v":0},{"$f":"'Relevant Variables'!O151","v":0},{"$f":"'Relevant Variables'!O181","v":0},{"$f":"'Relevant Variables'!O211","v":0},{"$f":"'Relevant Variables'!O241","v":0},{"$f":"'Relevant Variables'!O271","v":0},{"$f":"'Relevant Variables'!O301","v":0},{"$f":"'Relevant Variables'!O331","v":0},{"$f":"'Relevant Variables'!O361","v":0},{"$f":"'Relevant Variables'!O391","v":0},{"$f":"'Relevant Variables'!O421","v":0},{"$f":"'Relevant Variables'!O451","v":0},{"$f":"'Relevant Variables'!O481","v":0},{"$f":"'Relevant Variables'!O511","v":0},{"$f":"'Relevant Variables'!O541","v":0},{"$f":"'Relevant Variables'!O571","v":0},{"$f":"'Relevant Variables'!O601","v":0}]
[null,null,{"$f":"Customization!E8","v":"not set"},null,{"$f":"Customization!E9","v":"not set"},null,{"$f":"Customization!E10","v":"not set"},null,{"$f":"Customization!E11","v":"not set"},null,{"$f":"Customization!E12","v":"not set"},null,{"$f":"Customization!E13","v":"not set"},null,{"$f":"Customization!E14","v":"not set"},null,{"$f":"Customization!E15","v":"not set"},null,{"$f":"Customization!E16","v":"not set"},null,{"$f":"Customization!E17","v":"not set"},null,{"$f":"Customization!E18","v":"not set"},null,{"$f":"Customization!E19","v":"not set"},null,{"$f":"Customization!E20","v":"not set"},null,{"$f":"Customization!E21","v":"not set"},null,{"$f":"Customization!E22","v":"not set"},null,{"$f":"Customization!E23","v":"not set"},null,{"$f":"Customization!E24","v":"not set"},null,{"$f":"Customization!E25","v":"not set"},null,{"$f":"Customization!E26","v":"not set"},null,{"$f":"Customization!E27","v":"not set"}]
[null,null,{"$f":"Customization!F8","v":"not set"},null,{"$f":"Customization!F9","v":"not set"},null,{"$f":"Customization!F10","v":"not set"},null,{"$f":"Customization!F11","v":"not set"},null,{"$f":"Customization!F12","v":"not set"},null,{"$f":"Customization!F13","v":"not set"},null,{"$f":"Customization!F14","v":"not set"},null,{"$f":"Customization!F15","v":"not set"},null,{"$f":"Customization!F16","v":"not set"},null,{"$f":"Customization!F17","v":"not set"},null,{"$f":"Customization!F18","v":"not set"},null,{"$f":"Customization!F19","v":"not set"},null,{"$f":"Customization!F20","v":"not set"},null,{"$f":"Customization!F21","v":"not set"},null,{"$f":"Customization!F22","v":"not set"},null,{"$f":"Customization!F23","v":"not set"},null,{"$f":"Customization!F24","v":"not set"},null,{"$f":"Customization!F25","v":"not set"},null,{"$f":"Customization!F26","v":"not set"},null,{"$f":"Customization!F27","v":"not set"}]
[null,null,{"$f":"Customization!G8","v":"not set"},null,{"$f":"Customization!G9","v":"not set"},null,{"$f":"Customization!G10","v":"not set"},null,{"$f":"Customization!G11","v":"not set"},null,{"$f":"Customization!G12","v":"not set"},null,{"$f":"Customization!G13","v":"not set"},null,{"$f":"Customization!G14","v":"not set"},null,{"$f":"Customization!G15","v":"not set"},null,{"$f":"Customization!G16","v":"not set"},null,{"$f":"Customization!G17","v":"not set"},null,{"$f":"Customization!G18","v":"not set"},null,{"$f":"Customization!G19","v":"not set"},null,{"$f":"Customization!G20","v":"not set"},null,{"$f":"Customization!G21","v":"not set"},null,{"$f":"Customization!G22","v":"not set"},null,{"$f":"Customization!G23","v":"not set"},null,{"$f":"Customization!G24","v":"not set"},null,{"$f":"Customization!G25","v":"not set"},null,{"$f":"Customization!G26","v":"not set"},null,{"$f":"Customization!G27","v":"not set"}]
[null,null,{"$f":"Customization!H8","v":0},null,{"$f":"Customization!H9","v":0},null,{"$f":"Customization!H10","v":0},null,{"$f":"Customization!H11","v":0},null,{"$f":"Customization!H12","v":0},null,{"$f":"Customization!H13","v":0},null,{"$f":"Customization!H14","v":0},null,{"$f":"Customization!H15","v":0},null,{"$f":"Customization!H16","v":0},null,{"$f":"Customization!H17","v":0},null,{"$f":"Customization!H18","v":0},null,{"$f":"Customization!H19","v":0},null,{"$f":"Customization!H20","v":0},null,{"$f":"Customization!H21","v":0},null,{"$f":"Customization!H22","v":0},null,{"$f":"Customization!H23","v":0},null,{"$f":"Customization!H24","v":0},null,{"$f":"Customization!H25","v":0},null,{"$f":"Customization!H26","v":0},null,{"$f":"Customization!H27","v":0}]
[null,null,{"$f":"Customization!B30","v":0},null,{"$f":"Customization!B31","v":0},null,{"$f":"Customization!B32","v":0},null,{"$f":"Customization!B33","v":0},null,{"$f":"Customization!B34","v":0},null,{"$f":"Customization!B35","v":0},null,{"$f":"Customization!B36","v":0},null,{"$f":"Customization!B37","v":0},null,{"$f":"Customization!B38","v":0},null,{"$f":"Customization!B39","v":0},null,{"$f":"Customization!B40","v":0},null,{"$f":"Customization!B41","v":0},null,{"$f":"Customization!B42","v":0},null,{"$f":"Customization!B43","v":0},null,{"$f":"Customization!B44","v":0},null,{"$f":"Customization!B45","v":0},null,{"$f":"Customization!B46","v":0},null,{"$f":"Customization!B47","v":0},null,{"$f":"Customization!B48","v":0},null,{"$f":"Customization!B49","v":0}]
[null,null,{"$f":"Customization!D30","v":"not set"},null,{"$f":"Customization!D31","v":"not set"},null,{"$f":"Customization!D32","v":"not set"},null,{"$f":"Customization!D33","v":"not set"},null,{"$f":"Customization!D34","v":"not set"},null,{"$f":"Customization!D35","v":"not set"},null,{"$f":"Customization!D36","v":"not set"},null,{"$f":"Customization!D37","v":"not set"},null,{"$f":"Customization!D38","v":"not set"},null,{"$f":"Customization!D39","v":"not set"},null,{"$f":"Customization!D40","v":"not set"},null,{"$f":"Customization!D41","v":"not set"},null,{"$f":"Customization!D42","v":"not set"},null,{"$f":"Customization!D43","v":"not set"},null,{"$f":"Customization!D44","v":"not set"},null,{"$f":"Customization!D45","v":"not set"},null,{"$f":"Customization!D46","v":"not set"},null,{"$f":"Customization!D47","v":"not set"},null,{"$f":"Customization!D48","v":"not set"},null,{"$f":"Customization!D49","v":"not set"}]
[null,null,{"$f":"Customization!E30","v":"not set"},null,{"$f":"Customization!E31","v":"not set"},null,{"$f":"Customization!E32","v":"not set"},null,{"$f":"Customization!E33","v":"not set"},null,{"$f":"Customization!E34","v":"not set"},null,{"$f":"Customization!E35","v":"not set"},null,{"$f":"Customization!E36","v":"not set"},null,{"$f":"Customization!E37","v":"not set"},null,{"$f":"Customization!E38","v":"not set"},null,{"$f":"Customization!E39","v":"not set"},null,{"$f":"Customization!E40","v":"not set"},null,{"$f":"Customization!E41","v":"not set"},null,{"$f":"Customization!E42","v":"not set"},null,{"$f":"Customization!E43","v":"not set"},null,{"$f":"Customization!E44","v":"not set"},null,{"$f":"Customization!E45","v":"not set"},null,{"$f":"Customization!E46","v":"not set"},null,{"$f":"Customization!E47","v":"not set"},null,{"$f":"Customization!E48","v":"not set"},null,{"$f":"Customization!E49","v":"not set"}]
[null,null,{"$f":"Customization!F30","v":"not set"},null,{"$f":"Customization!F31","v":"not set"},null,{"$f":"Customization!F32","v":"not set"},null,{"$f":"Customization!F33","v":"not set"},null,{"$f":"Customization!F34","v":"not set"},null,{"$f":"Customization!F35","v":"not set"},null,{"$f":"Customization!F36","v":"not set"},null,{"$f":"Customization!F37","v":"not set"},null,{"$f":"Customization!F38","v":"not set"},null,{"$f":"Customization!F39","v":"not set"},null,{"$f":"Customization!F40","v":"not set"},null,{"$f":"Customization!F41","v":"not set"},null,{"$f":"Customization!F42","v":"not set"},null,{"$f":"Customization!F43","v":"not set"},null,{"$f":"Customization!F44","v":"not set"},null,{"$f":"Customization!F45","v":"not set"},null,{"$f":"Customization!F46","v":"not set"},null,{"$f":"Customization!F47","v":"not set"},null,{"$f":"Customization!F48","v":"not set"},null,{"$f":"Customization!F49","v":"not set"}]

{"sheet":"Customization","index":4,"n_rows":50,"n_cols":10,"rows_kept":50,"cut":false,"hidden":false,"merged":[[3,4,4,7],[42,1,42,2],[48,1,48,2],[43,1,43,2],[44,1,44,2],[45,1,45,2],[46,1,46,2],[47,1,47,2],[37,1,37,2],[38,1,38,2],[39,1,39,2],[40,1,40,2],[41,1,41,2],[32,1,32,2],[33,1,33,2],[34,1,34,2],[35,1,35,2],[36,1,36,2],[8,1,8,2],[28,1,28,2],[29,1,29,2],[30,1,30,2],[31,1,31,2],[26,1,26,2],[21,1,21,2],[22,1,22,2],[23,1,23,2],[18,1,18,2],[19,1,19,2],[20,1,20,2],[3,1,3,2],[4,1,4,2],[24,1,24,2],[25,1,25,2],[15,1,15,2],[16,1,16,2],[17,1,17,2],[12,1,12,2],[13,1,13,2],[14,1,14,2],[9,1,9,2],[10,1,10,2],[11,1,11,2],[6,1,6,2],[7,1,7,2]]}
["       DOE Advanced Manufacturing Office",null,null,null,null,null,null,null,null,1]
["   Energy Footprint - Customization",null,null,null,null,null,null,null,null,1]
[null,null,null,null,null,null,null,null,null,1]
[null,"Model Type",null,"not set","THESE VALUES SHOULD ONLY BE CHANGED IF LOADED INTO ENPI LITE TOOL, NOT HERE",null,null,null,null,1]
[null,"Unit Used for Totals",null,"not set",null,null,null,null,null,1]
[null,null,null,null,null,null,null,null,null,1]
[null,"Tracked Energy Sources",null,"Units","MMBtu Per Unit","CO2 kgs Per Unit","Site to Primary","Group",null,1]
[null,{"$f":"Main!C15","v":"Electricity"},null,{"$f":"Main!D15","v":"kWh site"},"not set","not set","not set",{"$f":"Main!H15","v":0},null,{"$f":"Main!K15","v":true}]
[null,{"$f":"Main!C16","v":0},null,{"$f":"Main!D16","v":0},"not set","not set","not set",{"$f":"Main!H16","v":0},null,{"$f":"Main!K16","v":false}]
[null,{"$f":"Main!C17","v":0},null,{"$f":"Main!D17","v":0},"not set","not set","not set",{"$f":"Main!H17","v":0},null,{"$f":"Main!K17","v":false}]
[null,{"$f":"Main!C18","v":0},null,{"$f":"Main!D18","v":0},"not set","not set","not set",{"$f":"Main!H18","v":0},null,{"$f":"Main!K18","v":false}]
[null,{"$f":"Main!C19","v":0},null,{"$f":"Main!D19","v":0},"not set","not set","not set",{"$f":"Main!H19","v":0},null,{"$f":"Main!K19","v":false}]
[null,{"$f":"Main!C20","v":0},null,{"$f":"Main!D20","v":0},"not set","not set","not set",{"$f":"Main!H20","v":0},null,{"$f":"Main!K20","v":false}]
[null,{"$f":"Main!C21","v":0},null,{"$f":"Main!D21","v":0},"not set","not set","not set",{"$f":"Main!H21","v":0},null,{"$f":"Main!K21","v":false}]
[null,{"$f":"Main!C22","v":0},null,{"$f":"Main!D22","v":0},"not set","not set","not set",{"$f":"Main!H22","v":0},null,{"$f":"Main!K22","v":false}]
[null,{"$f":"Main!C23","v":0},null,{"$f":"Main!D23","v":0},"not set","not set","not set",{"$f":"Main!H23","v":0},null,{"$f":"Main!K23","v":false}]
[null,{"$f":"Main!C24","v":0},null,{"$f":"Main!D24","v":0},"not set","not set","not set",{"$f":"Main!H24","v":0},null,{"$f":"Main!K24","v":false}]
[null,{"$f":"Main!C25","v":0},null,{"$f":"Main!D25","v":0},"not set","not set","not set",{"$f":"Main!H25","v":0},null,{"$f":"Main!K25","v":false}]
[null,{"$f":"Main!C26","v":0},null,{"$f":"Main!D26","v":0},"not set","not set","not set",{"$f":"Main!H26","v":0},null,{"$f":"Main!K26","v":false}]
[null,{"$f":"Main!C27","v":0},null,{"$f":"Main!D27","v":0},"not set","not set","not set",{"$f":"Main!H27","v":0},null,{"$f":"Main!K27","v":false}]
[null,{"$f":"Main!C28","v":0},null,{"$f":"Main!D28","v":0},"not set","not set","not set",{"$f":"Main!H28","v":0},null,{"$f":"Main!K28","v":false}]
[null,{"$f":"Main!C29","v":0},null,{"$f":"Main!D29","v":0},"not set","not set","not set",{"$f":"Main!H29","v":0},null,{"$f":"Main!K29","v":false}]
[null,{"$f":"Main!C30","v":0},null,{"$f":"Main!D30","v":0},"not set","not set","not set",{"$f":"Main!H30","v":0},null,{"$f":"Main!K30","v":false}]
[null,{"$f":"Main!C31","v":0},null,{"$f":"Main!D31","v":0},"not set","not set","not set",{"$f":"Main!H31","v":0},null,{"$f":"Main!K31","v":false}]
[null,{"$f":"Main!C32","v":0},null,{"$f":"Main!D32","v":0},"not set","not set","not set",{"$f":"Main!H32","v":0},null,{"$f":"Main!K32","v":false}]
[null,{"$f":"Main!C33","v":0},null,{"$f":"Main!D33","v":0},"not set","not set","not set",{"$f":"Main!H33","v":0},null,{"$f":"Main!K33","v":false}]
[null,{"$f":"Main!C34","v":0},null,{"$f":"Main!D34","v":0},"not set","not set","not set",{"$f":"Main!H34","v":0},null,{"$f":"Main!K34","v":false}]
[null,null,null,null,null,null,null,null,null,1]
[null,"Sources/Groups",null,"Ignore","Tested Variables","Selected Model",null,null,null,true]
[null,null,null,"not set","not set","not set",null,null,null,{"$f":"COUNTA(B30)","v":0}]
[null,null,null,"not set","not set","not set",null,null,null,{"$f":"COUNTA(B31)","v":0}]
[null,null,null,"not set","not set","not set",null,null,null,0]
[null,null,null,"not set","not set","not set",null,null,null,0]
[null,null,null,"not set","not set","not set",null,null,null,0]
[null,null,null,"not set","not set","not set",null,null,null,0]
[null,null,null,"not set","not set","not set",null,null,null,0]
[null,null,null,"not set","not set","not set",null,null,null,0]
[null,null,null,"not set","not set","not set",null,null,null,0]
[null,null,null,"not set","not set","not set",null,null,null,0]
[null,null,null,"not set","not set","not set",null,null,null,0]
[null,null,null,"not set","not set","not set",null,null,null,0]
[null,null,null,"not set","not set","not set",null,null,null,0]
[null,null,null,"not set","not set","not set",null,null,null,0]
[null,null,null,"not set","not set","not set",null,null,null,0]
[null,null,null,"not set","not set","not set",null,null,null,0]
[null,null,null,"not set","not set","not set",null,null,null,0]
[null,null,null,"not set","not set","not set",null,null,null,0]
[null,null,null,"not set","not set","not set",null,null,null,0]
[null,null,null,"not set","not set","not set",null,null,null,0]
[null,null,null,null,null,null,null,null,null,true]

{"sheet":"Model Results","index":5,"n_rows":69,"n_cols":9,"rows_kept":69,"cut":false,"hidden":true,"merged":[[16,3,16,6],[8,2,8,3],[9,2,9,3],[11,1,11,3],[14,2,14,3],[15,3,15,5],[7,2,7,3],[3,1,3,3],[3,5,3,6],[4,2,4,3],[5,2,5,3],[6,2,6,3]]}
["       DOE Advanced Manufacturing Office"]
["   Model - Results",null,null,null,null,null,null,null,true]
[null,null,null,null,null,null,null,null,true]
[null,"Identifying Information:",null,null,null,"Facility contact:",null,null,true]
[null,"Company Name","<enter company name>",null,null,"First Name","<enter first name>",null,true]
[null,"Unique Facility Name","<enter facility name>",null,null,"Last Name","<enter last name>",null,true]
[null,"Facility zip code","<enter zip code>",null,null,"Email","<enter email>",null,true]
[null,"Facility square footage (ft2)","<enter sq ft>",null,null,"Phone","<enter phone>",null,true]
[null,"Facility boundaries","<enter boundaries>",null,null,null,null,null,true]
[null,"Date report generated",null,null,null,null,null,null,true]
[null,null,null,null,null,null,null,null,true]
[null,"Energy Performance Information:",null,null,null,null,null,null,true]
[null,"Baseline Period ",null,null,null,null,null,null,true]
[null,"Reporting Period",null,null,null,null,null,null,true]
[null,"Evaluating",null,null,null,null,null,null,true]
[null,"Reporting Period Modeled Primary Energy Performance Improvement %",0,"NOTE: This value will be recognized by DOE and is based on modeled primary energy data",null,null,null,null,true]
[null,"Reporting Period Modeled Site Energy Performance Improvement %",0,"NOTE: This value is provided for informational purposes only and is not recognized through DOE. DOE will recognize the Reporting Period Modeled Primary Energy Performance Improvement %",null,null,null,null,true]
[null,"Primary energy model(s) as generated meets the requirements of the 50001 Ready Measurement & Verification (M&V) Protocol?","YES",null,null,null,null,null,true]
[null,"Which adjustment model method (forecast or backcast) was used as described in the 50001 Ready M&V Protocol?","n/a",null,null,null,null,null,true]
[null,null,null,null,null,null,null,null,true]
[null,null,null,null,null,null,null,null,true]
[null,"Energy Sources","Projected","Actual","Savings","%","unit",null,true]
[null,"Primary TOTAL",null,null,{"$f":"C23-D23","v":0},{"$f":"E23/C23","v":{"$error":"#DIV/0!"}},null,null,true]
[null,"Site TOTAL",null,null,{"$f":"C24-D24","v":0},{"$f":"E24/C24","v":{"$error":"#DIV/0!"}},null,null,true]
[null,null,null,null,0,{"$error":"#DIV/0!"},null,null,{"$f":"IF(COUNTA(B25),TRUE,FALSE)","v":false}]
[null,null,null,null,0,{"$error":"#DIV/0!"},null,null,{"$f":"IF(COUNTA(B26),TRUE,FALSE)","v":false}]
[null,null,null,null,0,{"$error":"#DIV/0!"},null,null,false]
[null,null,null,null,0,{"$error":"#DIV/0!"},null,null,false]
[null,null,null,null,0,{"$error":"#DIV/0!"},null,null,false]
[null,null,null,null,0,{"$error":"#DIV/0!"},null,null,false]
[null,null,null,null,0,{"$error":"#DIV/0!"},null,null,false]
[null,null,null,null,0,{"$error":"#DIV/0!"},null,null,false]
[null,null,null,null,0,{"$error":"#DIV/0!"},null,null,false]
[null,null,null,null,0,{"$error":"#DIV/0!"},null,null,false]
[null,null,null,null,0,{"$error":"#DIV/0!"},null,null,false]
[null,null,null,null,0,{"$error":"#DIV/0!"},null,null,false]
[null,null,null,null,0,{"$error":"#DIV/0!"},null,null,false]
[null,null,null,null,0,{"$error":"#DIV/0!"},null,null,false]
[null,null,null,null,0,{"$error":"#DIV/0!"},null,null,false]
[null,null,null,null,0,{"$error":"#DIV/0!"},null,null,false]
[null,null,null,null,0,{"$error":"#DIV/0!"},null,null,false]
[null,null,null,null,0,{"$error":"#DIV/0!"},null,null,false]
[null,null,null,null,0,{"$error":"#DIV/0!"},null,null,false]
[null,null,null,null,0,{"$error":"#DIV/0!"},null,null,false]
[null,null,null,null,null,null,null,null,true]
[null,"Energy Sources","Actual","Actual","Savings","%","unit",null,true]
[null,"Primary TOTAL",null,null,{"$f":"C47-D47","v":0},{"$f":"E47/C47","v":{"$error":"#DIV/0!"}},null,null,true]
[null,"Site TOTAL",null,null,{"$f":"C48-D48","v":0},{"$f":"E48/C48","v":{"$error":"#DIV/0!"}},null,null,true]
[null,null,null,null,0,{"$error":"#DIV/0!"},null,null,{"$f":"IF(COUNTA(B49),TRUE,FALSE)","v":false}]
[null,null,null,null,0,{"$error":"#DIV/0!"},null,null,{"$f":"IF(COUNTA(B50),TRUE,FALSE)","v":false}]
[null,null,null,null,0,{"$error":"#DIV/0!"},null,null,false]
[null,null,null,null,0,{"$error":"#DIV/0!"},null,null,false]
[null,null,null,null,0,{"$error":"#DIV/0!"},null,null,false]
[null,null,null,null,0,{"$error":"#DIV/0!"},null,null,false]
[null,null,null,null,0,{"$error":"#DIV/0!"},null,null,false]
[null,null,null,null,0,{"$error":"#DIV/0!"},null,null,false]
[null,null,null,null,0,{"$error":"#DIV/0!"},null,null,false]
[null,null,null,null,0,{"$error":"#DIV/0!"},null,null,false]
[null,null,null,null,0,{"$error":"#DIV/0!"},null,null,false]
[null,null,null,null,0,{"$error":"#DIV/0!"},null,null,false]
[null,null,null,null,0,{"$error":"#DIV/0!"},null,null,false]
[null,null,null,null,0,{"$error":"#DIV/0!"},null,null,false]
[null,null,null,null,0,{"$error":"#DIV/0!"},null,null,false]
[null,null,null,null,0,{"$error":"#DIV/0!"},null,null,false]
[null,null,null,null,0,{"$error":"#DIV/0!"},null,null,false]
[null,null,null,null,0,{"$error":"#DIV/0!"},null,null,false]
[null,null,null,null,0,{"$error":"#DIV/0!"},null,null,false]
[null,null,null,null,0,{"$error":"#DIV/0!"},null,null,false]
[null,null,null,null,null,null,null,null,true]

{"sheet":"Model Details","index":6,"n_rows":263,"n_cols":11,"rows_kept":263,"cut":false,"hidden":true,"merged":[]}
["       DOE Advanced Manufacturing Office"]
["   Model - Details",null,null,null,null,null,null,null,true,null,true]
[null,null,null,null,null,null,null,null,true,null,true]
[1,"Energy Source","Electricity",null,"Relevant Variables","\"Unit\" per unit","P-Value",null,true,{"$f":"IF(COUNTA(C4),TRUE,FALSE)","v":true},{"$f":"AND(I4:J4)","v":true}]
[null,"R2",null,null,"Baseline Usage",null,null,null,true,{"$f":"J4","v":true},{"$f":"AND(I5:J5)","v":true}]
[null,"Adjusted R2",null,null,null,null,null,null,true,{"$f":"J5","v":true},true]
[null,"F-Stat",null,null,null,null,null,null,true,true,true]
[null,null,null,null,null,null,null,null,{"$f":"IF(COUNTA(E8),TRUE,FALSE)","v":false},true,false]
[null,null,null,null,null,null,null,null,{"$f":"IF(COUNTA(E9),TRUE,FALSE)","v":false},true,false]
[null,null,null,null,null,null,null,null,false,true,false]
[null,null,null,null,null,null,null,null,false,true,false]
[null,null,null,null,null,null,null,null,false,true,false]
[null,null,null,null,null,null,null,null,false,true,false]
[null,null,null,null,null,null,null,null,false,true,false]
[null,null,null,null,null,null,null,null,false,true,false]
[null,null,null,null,null,null,null,null,true,true,true]
[{"$f":"A4+1","v":2},"Energy Source",null,null,"Relevant Variables","\"Unit\" per unit","P-Value",null,true,{"$f":"IF(COUNTA(C17),TRUE,FALSE)","v":false},{"$f":"AND(I17:J17)","v":false}]
[null,"R2",null,null,"Baseline Usage",null,null,null,true,{"$f":"J17","v":false},{"$f":"AND(I18:J18)","v":false}]
[null,"Adjusted R2",null,null,null,null,null,null,true,{"$f":"J18","v":false},false]
[null,"F-Stat",null,null,null,null,null,null,true,false,false]
[null,null,null,null,null,null,null,null,{"$f":"IF(COUNTA(E21),TRUE,FALSE)","v":false},false,false]
[null,null,null,null,null,null,null,null,{"$f":"IF(COUNTA(E22),TRUE,FALSE)","v":false},false,false]
[null,null,null,null,null,null,null,null,false,false,false]
[null,null,null,null,null,null,null,null,false,false,false]
[null,null,null,null,null,null,null,null,false,false,false]
[null,null,null,null,null,null,null,null,false,false,false]
[null,null,null,null,null,null,null,null,false,false,false]
[null,null,null,null,null,null,null,null,false,false,false]
[null,null,null,null,null,null,null,null,true,false,false]
[{"$f":"A17+1","v":3},"Energy Source",null,null,"Relevant Variables","\"Unit\" per unit","P-Value",null,true,{"$f":"IF(COUNTA(C30),TRUE,FALSE)","v":false},{"$f":"AND(I30:J30)","v":false}]
[null,"R2",null,null,"Baseline Usage",null,null,null,true,{"$f":"J30","v":false},{"$f":"AND(I31:J31)","v":false}]
[null,"Adjusted R2",null,null,null,null,null,null,true,{"$f":"J31","v":false},false]
[null,"F-Stat",null,null,null,null,null,null,true,false,false]
[null,null,null,null,null,null,null,null,{"$f":"IF(COUNTA(E34),TRUE,FALSE)","v":false},false,false]
[null,null,null,null,null,null,null,null,{"$f":"IF(COUNTA(E35),TRUE,FALSE)","v":false},false,false]
[null,null,null,null,null,null,null,null,false,false,false]
[null,null,null,null,null,null,null,null,false,false,false]
[null,null,null,null,null,null,null,null,false,false,false]
[null,null,null,null,null,null,null,null,false,false,false]
[null,null,null,null,null,null,null,null,false,false,false]
[null,null,null,null,null,null,null,null,false,false,false]
[null,null,null,null,null,null,null,null,true,false,false]
[{"$f":"A30+1","v":4},"Energy Source",null,null,"Relevant Variables","\"Unit\" per unit","P-Value",null,true,{"$f":"IF(COUNTA(C43),TRUE,FALSE)","v":false},{"$f":"AND(I43:J43)","v":false}]
[null,"R2",null,null,"Baseline Usage",null,null,null,true,{"$f":"J43","v":false},{"$f":"AND(I44:J44)","v":false}]
[null,"Adjusted R2",null,null,null,null,null,null,true,{"$f":"J44","v":false},false]
[null,"F-Stat",null,null,null,null,null,null,true,false,false]
[null,null,null,null,null,null,null,null,{"$f":"IF(COUNTA(E47),TRUE,FALSE)","v":false},false,false]
[null,null,null,null,null,null,null,null,{"$f":"IF(COUNTA(E48),TRUE,FALSE)","v":false},false,false]
[null,null,null,null,null,null,null,null,false,false,false]
[null,null,null,null,null,null,null,null,false,false,false]
[null,null,null,null,null,null,null,null,false,false,false]
[null,null,null,null,null,null,null,null,false,false,false]
[null,null,null,null,null,null,null,null,false,false,false]
[null,null,null,null,null,null,null,null,false,false,false]
[null,null,null,null,null,null,null,null,true,false,false]
[{"$f":"A43+1","v":5},"Energy Source",null,null,"Relevant Variables","\"Unit\" per unit","P-Value",null,true,{"$f":"IF(COUNTA(C56),TRUE,FALSE)","v":false},{"$f":"AND(I56:J56)","v":false}]
[null,"R2",null,null,"Baseline Usage",null,null,null,true,{"$f":"J56","v":false},{"$f":"AND(I57:J57)","v":false}]
[null,"Adjusted R2",null,null,null,null,null,null,true,{"$f":"J57","v":false},false]
[null,"F-Stat",null,null,null,null,null,null,true,false,false]
[null,null,null,null,null,null,null,null,{"$f":"IF(COUNTA(E60),TRUE,FALSE)","v":false},false,false]
[null,null,null,null,null,null,null,null,{"$f":"IF(COUNTA(E61),TRUE,FALSE)","v":false},false,false]
[null,null,null,null,null,null,null,null,false,false,false]
[null,null,null,null,null,null,null,null,false,false,false]
[null,null,null,null,null,null,null,null,false,false,false]
[null,null,null,null,null,null,null,null,false,false,false]
[null,null,null,null,null,null,null,null,false,false,false]
[null,null,null,null,null,null,null,null,false,false,false]
[null,null,null,null,null,null,null,null,true,false,false]
[{"$f":"A56+1","v":6},"Energy Source",null,null,"Relevant Variables","\"Unit\" per unit","P-Value",null,true,{"$f":"IF(COUNTA(C69),TRUE,FALSE)","v":false},{"$f":"AND(I69:J69)","v":false}]
[null,"R2",null,null,"Baseline Usage",null,null,null,true,{"$f":"J69","v":false},{"$f":"AND(I70:J70)","v":false}]
[null,"Adjusted R2",null,null,null,null,null,null,true,{"$f":"J70","v":false},false]
[null,"F-Stat",null,null,null,null,null,null,true,false,false]
[null,null,null,null,null,null,null,null,{"$f":"IF(COUNTA(E73),TRUE,FALSE)","v":false},false,false]
[null,null,null,null,null,null,null,null,{"$f":"IF(COUNTA(E74),TRUE,FALSE)","v":false},false,false]
[null,null,null,null,null,null,null,null,false,false,false]
[null,null,null,null,null,null,null,null,false,false,false]
[null,null,null,null,null,null,null,null,false,false,false]
[null,null,null,null,null,null,null,null,false,false,false]
[null,null,null,null,null,null,null,null,false,false,false]
[null,null,null,null,null,null,null,null,false,false,false]
[null,null,null,null,null,null,null,null,true,false,false]
[{"$f":"A69+1","v":7},"Energy Source",null,null,"Relevant Variables","\"Unit\" per unit","P-Value",null,true,{"$f":"IF(COUNTA(C82),TRUE,FALSE)","v":false},{"$f":"AND(I82:J82)","v":false}]
[null,"R2",null,null,"Baseline Usage",null,null,null,true,{"$f":"J82","v":false},{"$f":"AND(I83:J83)","v":false}]
[null,"Adjusted R2",null,null,null,null,null,null,true,{"$f":"J83","v":false},false]
[null,"F-Stat",null,null,null,null,null,null,true,false,false]
[null,null,null,null,null,null,null,null,{"$f":"IF(COUNTA(E86),TRUE,FALSE)","v":false},false,false]
[null,null,null,null,null,null,null,null,{"$f":"IF(COUNTA(E87),TRUE,FALSE)","v":false},false,false]
[null,null,null,null,null,null,null,null,false,false,false]
[null,null,null,null,null,null,null,null,false,false,false]
[null,null,null,null,null,null,null,null,false,false,false]
[null,null,null,null,null,null,null,null,false,false,false]
[null,null,null,null,null,null,null,null,false,false,false]
[null,null,null,null,null,null,null,null,false,false,false]
[null,null,null,null,null,null,null,null,true,false,false]
[{"$f":"A82+1","v":8},"Energy Source",null,null,"Relevant Variables","\"Unit\" per unit","P-Value",null,true,{"$f":"IF(COUNTA(C95),TRUE,FALSE)","v":false},{"$f":"AND(I95:J95)","v":false}]
[null,"R2",null,null,"Baseline Usage",null,null,null,true,{"$f":"J95","v":false},{"$f":"AND(I96:J96)","v":false}]
[null,"Adjusted R2",null,null,null,null,null,null,true,{"$f":"J96","v":false},false]
[null,"F-Stat",null,null,null,null,null,null,true,false,false]
[null,null,null,null,null,null,null,null,{"$f":"IF(COUNTA(E99),TRUE,FALSE)","v":false},false,false]
[null,null,null,null,null,null,null,null,{"$f":"IF(COUNTA(E100),TRUE,FALSE)","v":false},false,false]
[null,null,null,null,null,null,null,null,false,false,false]
[null,null,null,null,null,null,null,null,false,false,false]
[null,null,null,null,null,null,null,null,false,false,false]
[null,null,null,null,null,null,null,null,false,false,false]
[null,null,null,null,null,null,null,null,false,false,false]
[null,null,null,null,null,null,null,null,false,false,false]
[null,null,null,null,null,null,null,null,true,false,false]
[{"$f":"A95+1","v":9},"Energy Source",null,null,"Relevant Variables","\"Unit\" per unit","P-Value",null,true,{"$f":"IF(COUNTA(C108),TRUE,FALSE)","v":false},{"$f":"AND(I108:J108)","v":false}]
[null,"R2",null,null,"Baseline Usage",null,null,null,true,{"$f":"J108","v":false},{"$f":"AND(I109:J109)","v":false}]
[null,"Adjusted R2",null,null,null,null,null,null,true,{"$f":"J109","v":false},false]
[null,"F-Stat",null,null,null,null,null,null,true,false,false]
[null,null,null,null,null,null,null,null,{"$f":"IF(COUNTA(E112),TRUE,FALSE)","v":false},false,false]
[null,null,null,null,null,null,null,null,{"$f":"IF(COUNTA(E113),TRUE,FALSE)","v":false},false,false]
[null,null,null,null,null,null,null,null,false,false,false]
[null,null,null,null,null,null,null,null,false,false,false]
[null,null,null,null,null,null,null,null,false,false,false]
[null,null,null,null,null,null,null,null,false,false,false]
[null,null,null,null,null,null,null,null,false,false,false]
[null,null,null,null,null,null,null,null,false,false,false]
[null,null,null,null,null,null,null,null,true,false,false]
[{"$f":"A108+1","v":10},"Energy Source",null,null,"Relevant Variables","\"Unit\" per unit","P-Value",null,true,{"$f":"IF(COUNTA(C121),TRUE,FALSE)","v":false},{"$f":"AND(I121:J121)","v":false}]
[null,"R2",null,null,"Baseline Usage",null,null,null,true,{"$f":"J121","v":false},{"$f":"AND(I122:J122)","v":false}]
[null,"Adjusted R2",null,null,null,null,null,null,true,{"$f":"J122","v":false},false]
[null,"F-Stat",null,null,null,null,null,null,true,false,false]
[null,null,null,null,null,null,null,null,{"$f":"IF(COUNTA(E125),TRUE,FALSE)","v":false},false,false]
[null,null,null,null,null,null,null,null,{"$f":"IF(COUNTA(E126),TRUE,FALSE)","v":false},false,false]
[null,null,null,null,null,null,null,null,false,false,false]
[null,null,null,null,null,null,null,null,false,false,false]
[null,null,null,null,null,null,null,null,false,false,false]
[null,null,null,null,null,null,null,null,false,false,false]
[null,null,null,null,null,null,null,null,false,false,false]
[null,null,null,null,null,null,null,null,false,false,false]
[null,null,null,null,null,null,null,null,true,false,false]
[{"$f":"A121+1","v":11},"Energy Source",null,null,"Relevant Variables","\"Unit\" per unit","P-Value",null,true,{"$f":"IF(COUNTA(C134),TRUE,FALSE)","v":false},{"$f":"AND(I134:J134)","v":false}]
[null,"R2",null,null,"Baseline Usage",null,null,null,true,{"$f":"J134","v":false},{"$f":"AND(I135:J135)","v":false}]
[null,"Adjusted R2",null,null,null,null,null,null,true,{"$f":"J135","v":false},false]
[null,"F-Stat",null,null,null,null,null,null,true,false,false]
[null,null,null,null,null,null,null,null,{"$f":"IF(COUNTA(E138),TRUE,FALSE)","v":false},false,false]
[null,null,null,null,null,null,null,null,{"$f":"IF(COUNTA(E139),TRUE,FALSE)","v":false},false,false]
[null,null,null,null,null,null,null,null,false,false,false]
[null,null,null,null,null,null,null,null,false,false,false]
[null,null,null,null,null,null,null,null,false,false,false]
[null,null,null,null,null,null,null,null,false,false,false]
[null,null,null,null,null,null,null,null,false,false,false]
[null,null,null,null,null,null,null,null,false,false,false]
[null,null,null,null,null,null,null,null,true,false,false]
[{"$f":"A134+1","v":12},"Energy Source",null,null,"Relevant Variables","\"Unit\" per unit","P-Value",null,true,{"$f":"IF(COUNTA(C147),TRUE,FALSE)","v":false},{"$f":"AND(I147:J147)","v":false}]
[null,"R2",null,null,"Baseline Usage",null,null,null,true,{"$f":"J147","v":false},{"$f":"AND(I148:J148)","v":false}]
[null,"Adjusted R2",null,null,null,null,null,null,true,{"$f":"J148","v":false},false]
[null,"F-Stat",null,null,null,null,null,null,true,false,false]
[null,null,null,null,null,null,null,null,{"$f":"IF(COUNTA(E151),TRUE,FALSE)","v":false},false,false]
[null,null,null,null,null,null,null,null,{"$f":"IF(COUNTA(E152),TRUE,FALSE)","v":false},false,false]
[null,null,null,null,null,null,null,null,false,false,false]
[null,null,null,null,null,null,null,null,false,false,false]
[null,null,null,null,null,null,null,null,false,false,false]
[null,null,null,null,null,null,null,null,false,false,false]
[null,null,null,null,null,null,null,null,false,false,false]
[null,null,null,null,null,null,null,null,false,false,false]
[null,null,null,null,null,null,null,null,true,false,false]
[{"$f":"A147+1","v":13},"Energy Source",null,null,"Relevant Variables","\"Unit\" per unit","P-Value",null,true,{"$f":"IF(COUNTA(C160),TRUE,FALSE)","v":false},{"$f":"AND(I160:J160)","v":false}]
[null,"R2",null,null,"Baseline Usage",null,null,null,true,{"$f":"J160","v":false},{"$f":"AND(I161:J161)","v":false}]
[null,"Adjusted R2",null,null,null,null,null,null,true,{"$f":"J161","v":false},false]
[null,"F-Stat",null,null,null,null,null,null,true,false,false]
[null,null,null,null,null,null,null,null,{"$f":"IF(COUNTA(E164),TRUE,FALSE)","v":false},false,false]
[null,null,null,null,null,null,null,null,{"$f":"IF(COUNTA(E165),TRUE,FALSE)","v":false},false,false]
[null,null,null,null,null,null,null,null,false,false,false]
[null,null,null,null,null,null,null,null,false,false,false]
[null,null,null,null,null,null,null,null,false,false,false]
[null,null,null,null,null,null,null,null,false,false,false]
[null,null,null,null,null,null,null,null,false,false,false]
[null,null,null,null,null,null,null,null,false,false,false]
[null,null,null,null,null,null,null,null,true,false,false]
[{"$f":"A160+1","v":14},"Energy Source",null,null,"Relevant Variables","\"Unit\" per unit","P-Value",null,true,{"$f":"IF(COUNTA(C173),TRUE,FALSE)","v":false},{"$f":"AND(I173:J173)","v":false}]
[null,"R2",null,null,"Baseline Usage",null,null,null,true,{"$f":"J173","v":false},{"$f":"AND(I174:J174)","v":false}]
[null,"Adjusted R2",null,null,null,null,null,null,true,{"$f":"J174","v":false},false]
[null,"F-Stat",null,null,null,null,null,null,true,false,false]
[null,null,null,null,null,null,null,null,{"$f":"IF(COUNTA(E177),TRUE,FALSE)","v":false},false,false]
[null,null,null,null,null,null,null,null,{"$f":"IF(COUNTA(E178),TRUE,FALSE)","v":false},false,false]
[null,null,null,null,null,null,null,null,false,false,false]
[null,null,null,null,null,null,null,null,false,false,false]
[null,null,null,null,null,null,null,null,false,false,false]
[null,null,null,null,null,null,null,null,false,false,false]
[null,null,null,null,null,null,null,null,false,false,false]
[null,null,null,null,null,null,null,null,false,false,false]
[null,null,null,null,null,null,null,null,true,false,false]
[{"$f":"A173+1","v":15},"Energy Source",null,null,"Relevant Variables","\"Unit\" per unit","P-Value",null,true,{"$f":"IF(COUNTA(C186),TRUE,FALSE)","v":false},{"$f":"AND(I186:J186)","v":false}]
[null,"R2",null,null,"Baseline Usage",null,null,null,true,{"$f":"J186","v":false},{"$f":"AND(I187:J187)","v":false}]
[null,"Adjusted R2",null,null,null,null,null,null,true,{"$f":"J187","v":false},false]
[null,"F-Stat",null,null,null,null,null,null,true,false,false]
[null,null,null,null,null,null,null,null,{"$f":"IF(COUNTA(E190),TRUE,FALSE)","v":false},false,false]
[null,null,null,null,null,null,null,null,{"$f":"IF(COUNTA(E191),TRUE,FALSE)","v":false},false,false]
[null,null,null,null,null,null,null,null,false,false,false]
[null,null,null,null,null,null,null,null,false,false,false]
[null,null,null,null,null,null,null,null,false,false,false]
[null,null,null,null,null,null,null,null,false,false,false]
[null,null,null,null,null,null,null,null,false,false,false]
[null,null,null,null,null,null,null,null,false,false,false]
[null,null,null,null,null,null,null,null,true,false,false]
[{"$f":"A186+1","v":16},"Energy Source",null,null,"Relevant Variables","\"Unit\" per unit","P-Value",null,true,{"$f":"IF(COUNTA(C199),TRUE,FALSE)","v":false},{"$f":"AND(I199:J199)","v":false}]
[null,"R2",null,null,"Baseline Usage",null,null,null,true,{"$f":"J199","v":false},{"$f":"AND(I200:J200)","v":false}]
[null,"Adjusted R2",null,null,null,null,null,null,true,{"$f":"J200","v":false},false]
[null,"F-Stat",null,null,null,null,null,null,true,false,false]
[null,null,null,null,null,null,null,null,{"$f":"IF(COUNTA(E203),TRUE,FALSE)","v":false},false,false]
[null,null,null,null,null,null,null,null,{"$f":"IF(COUNTA(E204),TRUE,FALSE)","v":false},false,false]
[null,null,null,null,null,null,null,null,false,false,false]
[null,null,null,null,null,null,null,null,false,false,false]
[null,null,null,null,null,null,null,null,false,false,false]
[null,null,null,null,null,null,null,null,false,false,false]
[null,null,null,null,null,null,null,null,false,false,false]
[null,null,null,null,null,null,null,null,false,false,false]
[null,null,null,null,null,null,null,null,true,false,false]
[{"$f":"A199+1","v":17},"Energy Source",null,null,"Relevant Variables","\"Unit\" per unit","P-Value",null,true,{"$f":"IF(COUNTA(C212),TRUE,FALSE)","v":false},{"$f":"AND(I212:J212)","v":false}]
[null,"R2",null,null,"Baseline Usage",null,null,null,true,{"$f":"J212","v":false},{"$f":"AND(I213:J213)","v":false}]
[null,"Adjusted R2",null,null,null,null,null,null,true,{"$f":"J213","v":false},false]
[null,"F-Stat",null,null,null,null,null,null,true,false,false]
[null,null,null,null,null,null,null,null,{"$f":"IF(COUNTA(E216),TRUE,FALSE)","v":false},false,false]
[null,null,null,null,null,null,null,null,{"$f":"IF(COUNTA(E217),TRUE,FALSE)","v":false},false,false]
[null,null,null,null,null,null,null,null,false,false,false]
[null,null,null,null,null,null,null,null,false,false,false]
[null,null,null,null,null,null,null,null,false,false,false]
[null,null,null,null,null,null,null,null,false,false,false]
[null,null,null,null,null,null,null,null,false,false,false]
[null,null,null,null,null,null,null,null,false,false,false]
[null,null,null,null,null,null,null,null,true,false,false]
[{"$f":"A212+1","v":18},"Energy Source",null,null,"Relevant Variables","\"Unit\" per unit","P-Value",null,true,{"$f":"IF(COUNTA(C225),TRUE,FALSE)","v":false},{"$f":"AND(I225:J225)","v":false}]
[null,"R2",null,null,"Baseline Usage",null,null,null,true,{"$f":"J225","v":false},{"$f":"AND(I226:J226)","v":false}]
[null,"Adjusted R2",null,null,null,null,null,null,true,{"$f":"J226","v":false},false]
[null,"F-Stat",null,null,null,null,null,null,true,false,false]
[null,null,null,null,null,null,null,null,{"$f":"IF(COUNTA(E229),TRUE,FALSE)","v":false},false,false]
[null,null,null,null,null,null,null,null,{"$f":"IF(COUNTA(E230),TRUE,FALSE)","v":false},false,false]
[null,null,null,null,null,null,null,null,false,false,false]
[null,null,null,null,null,null,null,null,false,false,false]
[null,null,null,null,null,null,null,null,false,false,false]
[null,null,null,null,null,null,null,null,false,false,false]
[null,null,null,null,null,null,null,null,false,false,false]
[null,null,null,null,null,null,null,null,false,false,false]
[null,null,null,null,null,null,null,null,true,false,false]
[{"$f":"A225+1","v":19},"Energy Source",null,null,"Relevant Variables","\"Unit\" per unit","P-Value",null,true,{"$f":"IF(COUNTA(C238),TRUE,FALSE)","v":false},{"$f":"AND(I238:J238)","v":false}]
[null,"R2",null,null,"Baseline Usage",null,null,null,true,{"$f":"J238","v":false},{"$f":"AND(I239:J239)","v":false}]
[null,"Adjusted R2",null,null,null,null,null,null,true,{"$f":"J239","v":false},false]
[null,"F-Stat",null,null,null,null,null,null,true,false,false]
[null,null,null,null,null,null,null,null,{"$f":"IF(COUNTA(E242),TRUE,FALSE)","v":false},false,false]
[null,null,null,null,null,null,null,null,{"$f":"IF(COUNTA(E243),TRUE,FALSE)","v":false},false,false]
[null,null,null,null,null,null,null,null,false,false,false]
[null,null,null,null,null,null,null,null,false,false,false]
[null,null,null,null,null,null,null,null,false,false,false]
[null,null,null,null,null,null,null,null,false,false,false]
[null,null,null,null,null,null,null,null,false,false,false]
[null,null,null,null,null,null,null,null,false,false,false]
[null,null,null,null,null,null,null,null,true,false,false]
[{"$f":"A238+1","v":20},"Energy Source",null,null,"Relevant Variables","\"Unit\" per unit","P-Value",null,true,{"$f":"IF(COUNTA(C251),TRUE,FALSE)","v":false},{"$f":"AND(I251:J251)","v":false}]
[null,"R2",null,null,"Baseline Usage",null,null,null,true,{"$f":"J251","v":false},{"$f":"AND(I252:J252)","v":false}]
[null,"Adjusted R2",null,null,null,null,null,null,true,{"$f":"J252","v":false},false]
[null,"F-Stat",null,null,null,null,null,null,true,false,false]
[null,null,null,null,null,null,null,null,{"$f":"IF(COUNTA(E255),TRUE,FALSE)","v":false},false,false]
[null,null,null,null,null,null,null,null,{"$f":"IF(COUNTA(E256),TRUE,FALSE)","v":false},false,false]
[null,null,null,null,null,null,null,null,false,false,false]
[null,null,null,null,null,null,null,null,false,false,false]
[null,null,null,null,null,null,null,null,false,false,false]
[null,null,null,null,null,null,null,null,false,false,false]
[null,null,null,null,null,null,null,null,false,false,false]
[null,null,null,null,null,null,null,null,false,false,false]
[null,null,null,null,null,null,null,null,true,false,false]

{"sheet":"Emissions","index":7,"n_rows":28,"n_cols":12,"rows_kept":28,"cut":false,"hidden":true,"merged":[[23,4,23,5],[24,4,24,5],[25,4,25,5],[22,1,22,2],[15,4,15,5],[16,4,16,5],[17,4,17,5],[18,4,18,5],[19,4,19,5],[21,4,21,5],[22,4,22,5],[17,1,17,2],[20,4,20,5],[24,1,24,2],[25,1,25,2],[20,1,20,2],[7,4,7,5],[8,4,8,5],[9,4,9,5],[10,4,10,5],[11,4,11,5],[12,4,12,5],[13,4,13,5],[14,4,14,5],[18,1,18,2],[19,1,19,2],[16,1,16,2],[26,1,26,5],[21,1,21,2],[5,1,5,2],[5,4,5,5],[6,1,6,2],[6,4,6,5],[7,1,7,2],[8,1,8,2],[9,1,9,2],[10,1,10,2],[11,1,11,2],[23,1,23,2],[12,1,12,2],[13,1,13,2],[14,1,14,2],[15,1,15,2]]}
["       DOE Advanced Manufacturing Office",null,null,null,null,null,null,null,null,null,null,true]
["   Energy Footprint - Greenhouse Gas Emissions",null,null,null,null,null,null,null,null,null,null,1]
[null,null,null,null,null,null,null,null,null,null,null,true]
[null,null,null,null,null,null,null,null,null,null,null,false]
[null,null,null,null,null,null,null,null,null,null,null,true]
[null,"Tracked Energy Sources",null,"Units","CO2 kg per Unit",null,{"$f":"BaselineYear","v":2020},{"$f":"ReportingYear","v":2021},"CHANGE",null,null,true]
[null,{"$f":"Main!C15","v":"Electricity"},null,{"$f":"Main!D15","v":"kWh site"},{"$f":"Customization!F8","v":"not set"},null,null,null,{"$f":"H7-G7","v":0},"Metric Tons",null,{"$f":"IF(AND(B7<>0,B7<>\"\"),TRUE)","v":true}]
[null,{"$f":"Main!C16","v":0},null,{"$f":"Main!D16","v":0},{"$f":"Customization!F9","v":"not set"},null,null,null,{"$f":"H8-G8","v":0},"Metric Tons",null,{"$f":"IF(AND(B8<>0,B8<>\"\"),TRUE)","v":false}]
[null,{"$f":"Main!C17","v":0},null,{"$f":"Main!D17","v":0},{"$f":"Customization!F10","v":"not set"},null,null,null,0,"Metric Tons",null,{"$f":"IF(AND(B9<>0,B9<>\"\"),TRUE)","v":false}]
[null,{"$f":"Main!C18","v":0},null,{"$f":"Main!D18","v":0},{"$f":"Customization!F11","v":"not set"},null,null,null,0,"Metric Tons",null,false]
[null,{"$f":"Main!C19","v":0},null,{"$f":"Main!D19","v":0},{"$f":"Customization!F12","v":"not set"},null,null,null,0,"Metric Tons",null,false]
[null,{"$f":"Main!C20","v":0},null,{"$f":"Main!D20","v":0},{"$f":"Customization!F13","v":"not set"},null,null,null,0,"Metric Tons",null,false]
[null,{"$f":"Main!C21","v":0},null,{"$f":"Main!D21","v":0},{"$f":"Customization!F14","v":"not set"},null,null,null,0,"Metric Tons",null,false]
[null,{"$f":"Main!C22","v":0},null,{"$f":"Main!D22","v":0},{"$f":"Customization!F15","v":"not set"},null,null,null,0,"Metric Tons",null,false]
[null,{"$f":"Main!C23","v":0},null,{"$f":"Main!D23","v":0},{"$f":"Customization!F16","v":"not set"},null,null,null,0,"Metric Tons",null,false]
[null,{"$f":"Main!C24","v":0},null,{"$f":"Main!D24","v":0},{"$f":"Customization!F17","v":"not set"},null,null,null,0,"Metric Tons",null,false]
[null,{"$f":"Main!C25","v":0},null,{"$f":"Main!D25","v":0},{"$f":"Customization!F18","v":"not set"},null,null,null,0,"Metric Tons",null,false]
[null,{"$f":"Main!C26","v":0},null,{"$f":"Main!D26","v":0},{"$f":"Customization!F19","v":"not set"},null,null,null,0,"Metric Tons",null,false]
[null,{"$f":"Main!C27","v":0},null,{"$f":"Main!D27","v":0},{"$f":"Customization!F20","v":"not set"},null,null,null,0,"Metric Tons",null,false]
[null,{"$f":"Main!C28","v":0},null,{"$f":"Main!D28","v":0},{"$f":"Customization!F21","v":"not set"},null,null,null,0,"Metric Tons",null,false]
[null,{"$f":"Main!C29","v":0},null,{"$f":"Main!D29","v":0},{"$f":"Customization!F22","v":"not set"},null,null,null,0,"Metric Tons",null,false]
[null,{"$f":"Main!C30","v":0},null,{"$f":"Main!D30","v":0},{"$f":"Customization!F23","v":"not set"},null,null,null,0,"Metric Tons",null,false]
[null,{"$f":"Main!C31","v":0},null,{"$f":"Main!D31","v":0},{"$f":"Customization!F24","v":"not set"},null,null,null,0,"Metric Tons",null,false]
[null,{"$f":"Main!C32","v":0},null,{"$f":"Main!D32","v":0},{"$f":"Customization!F25","v":"not set"},null,null,null,0,"Metric Tons",null,false]
[null,{"$f":"Main!C33","v":0},null,{"$f":"Main!D33","v":0},{"$f":"Customization!F26","v":"not set"},null,null,null,0,"Metric Tons",null,false]
[null,{"$f":"Main!C34","v":0},null,{"$f":"Main!D34","v":0},{"$f":"Customization!F27","v":"not set"},null,null,null,0,"Metric Tons",null,false]
[null,"TOTALS:",null,null,null,null,{"$f":"SUM(G7:G26)","v":0},{"$f":"SUM(H7:H26)","v":0},{"$f":"H27-G27","v":0},"Metric Tons",null,true]
[null,null,null,null,null,null,null,null,null,null,null,true]

{"sheet":"Support","index":8,"n_rows":27,"n_cols":19,"rows_kept":27,"cut":false,"hidden":true,"merged":[]}
[]
[null,"List of Years",null,"Months",null,"Year Months"]
[null,2029,null,"Jan",1,{"$f":"VLOOKUP(Main!E10,Support!D3:E14,2,)","v":1},null,{"$f":"TEXT(DATE(2000,F3,1),\"mmm\")","v":"Jan"},{"$f":"TEXT(DATE(2000,F4,1),\"mmm\")","v":"Feb"},{"$f":"TEXT(DATE(2000,F5,1),\"mmm\")","v":"Mar"},{"$f":"TEXT(DATE(2000,F6,1),\"mmm\")","v":"Apr"},{"$f":"TEXT(DATE(2000,F7,1),\"mmm\")","v":"May"},{"$f":"TEXT(DATE(2000,F8,1),\"mmm\")","v":"Jun"},{"$f":"TEXT(DATE(2000,F9,1),\"mmm\")","v":"Jul"},{"$f":"TEXT(DATE(2000,F10,1),\"mmm\")","v":"Aug"},{"$f":"TEXT(DATE(2000,F11,1),\"mmm\")","v":"Sep"},{"$f":"TEXT(DATE(2000,F12,1),\"mmm\")","v":"Oct"},{"$f":"TEXT(DATE(2000,F13,1),\"mmm\")","v":"Nov"},{"$f":"TEXT(DATE(2000,F14,1),\"mmm\")","v":"Dec"}]
[null,{"$f":"B3-1","v":2028},null,"Feb",2,{"$f":"IF(F3+1>12,1,F3+1)","v":2}]
[null,{"$f":"B4-1","v":2027},null,"Mar",3,{"$f":"IF(F4+1>12,1,F4+1)","v":3}]
[null,2026,null,"Apr",4,4]
[null,2025,null,"May",5,5]
[null,2024,null,"Jun",6,6]
[null,2023,null,"Jul",7,7]
[null,2022,null,"Aug",8,8]
[null,2021,null,"Sep",9,9]
[null,2020,null,"Oct",10,10]
[null,2019,null,"Nov",11,11]
[null,2018,null,"Dec",12,12]
[null,2017]
[null,2016]
[null,2015]
[null,2014]
[null,2013]
[null,2012]
[null,2011]
[null,2010]
[null,2009]
[null,2008]
[null,2007]
[null,2006]
[null,2005]